{"text_format":"1","workbook":"xlsx","n_sheets":15,"sheets":["Notes","Configuration","Setup","Declarations","Athletes","DataV9","ScorngTable","UKA Awards","EVENT - SPRNT","EVENT - RUN","EVENT - JUMP","EVENT - THROW","EVENT-RELAY","InclusiveScorngTable","_template"],"not_rendered":{"charts":0,"images":3,"macros":1,"external_links":0,"defined_names":67,"comments":0,"pivot_tables":0},"unopened":[],"bounds":{"document_bytes":16777216,"sheet_cells":100000,"rows_first":2000,"rows_last":500,"rows_between":2000,"halvings":0,"cell_chars":16384,"cell_head_chars":4096},"cells_cut":0,"cells_raw":0,"read":"whole","date_system":"1900"}

{"sheet":"Notes","index":0,"n_rows":52,"n_cols":2,"rows_kept":52,"cut":false,"hidden":false,"merged":[]}
[]
[]
[]
[]
[]
[]
[]
[]
[]
[null,"USING THE SPREADSHEET - INSTRUCTIONS FOR SETTING UP \nAND SCORING A QUADKIDS EVENT"]
[]
[null,"To ensure you can use the Spreadsheet properly you will need to make sure that your Excel program trusts Macros. \n\nTo enable Macros you must click on “trust content from this site/enable macros\" when prompted by your computer.\n\nIf using Excel 2007 please ensure the spreadsheet is saved as an Excel 97-2003 workbook (.XLS)."]
[]
[]
[]
[null,"Before the Event"]
[null,"1. Click on the CONFIGURATION tab at the bottom of the Spreadsheet and by clicking on the relevant cells enter:"]
[null,"Ø Event Name e.g. Swindon SSP"]
[null,"Ø Event Date"]
[null,"Ø Competition Type - Select the Competition Type from the drop down menu e.g. QuadKids Primary"]
[null,"Ø Number of Teams - Enter the number of teams competing in the event"]
[null,"Ø Relay - If you are not having a relay or the relay is non-scoring ensure that the relay box is changed to NO (you will need to click on the box to be able to do this)"]
[null,"Ø Secure Names – by selecting yes against secure names the athlete’s spreadsheet will only display Christian names and the first two letters of the surname."]
[]
[]
[null,"2. Click on the DECLARATION tab at the bottom of the Spreadsheet and enter:"]
[null,"Ø Number – you need to assign each athlete a unique number (this is the number that they will be given to wear on the day) and then enter it in the number column"]
[null,"Ø Name – enter the athlete’s name"]
[null,"Ø Athlete’s Team – enter the name of the team/school/club"]
[null,"Ø Sex – enter the athlete’s gender (M or F) – without this information the row of cells will remain red"]
[null,"Ø Date of Birth – enter if provided"]
[null,"Ø Age Group – use this field to set the age group of the athlete if it is different from the age group of the competition"]
[null,"Ø Disability Group – QuadKids is now fully inclusive allowing disabled athletes to compete alongside non-disabled athetes. For more information on the England Athletics Disability Groups please look in the QuadKids manual or go to the QuadKids website."]
[]
[null,"3. Click on the ATHLETES tab at the bottom of the Spreadsheet and in the number column enter the unique athlete’s numbers that you assigned to each athlete on the declaration sheet. The spreadsheet will automatically fill the athlete’s name and team. You need to ensure that all athletes’ numbers in each school/club team are inserted in the same team e.g. team 1"]
[]
[null,"4. Click on the TEAMSCORES tab and check that all declared teams appear in the table."]
[]
[null,"On Competition Day"]
[null,"Ø Results only need to be entered on the relevant event sheet; the times and distances and allocated points will automatically feed through to the Athlete Sheet"]
[]
[null,"Ø Enter only the athlete’s number and the time/distance that has been achieved. The spreadsheet automatically calculates the number of points. "]
[]
[null,"Ø If any cells in the Duplicate Count column turn red you need to check that you have not duplicated an athlete’s number."]
[]
[null,"Ø If PLEASE CHECK appears in the Checkpoint column you need to check the time/distance inputted. An athlete will always score a minimum of 10 points if they record a time/distance even if their time/distance is below the lower end of the points scale."]
[]
[null,"Ø For the Sprint times need to be entered in seconds and tenths of seconds e.g. 12.3 For the Run times need to be entered in minutes and seconds e.g. 2.36"]
[]
[null,"Ø Team Scores are automatically calculated by the Spreadsheet. Once all the results have been inputted click on the Team Scoresheet tab and the cumulative team points will be displayed plus the ranking of each team."]
[]
[null,"Version: 9.0  (15-March-2016)"]

{"sheet":"Configuration","index":1,"n_rows":52,"n_cols":9,"rows_kept":52,"cut":false,"hidden":false,"merged":[[37,4,37,5],[30,8,30,11],[32,0,32,7],[32,8,32,12],[16,2,16,5],[12,2,12,7],[14,2,14,3],[20,7,24,7],[30,0,30,7],[28,0,28,11],[18,2,18,7]]}
[null,null,null,null,null,null,null,null,"OPEN"]
[]
[]
[]
[]
[]
[]
[]
[]
[]
[]
[]
["Event Name:",null,"Brewer Memorial Games"]
[]
["Event Date:",null,"2023-05-06"]
[]
["Competition Type:",null,"QuadKids Primary",null,null,null,null,{"$f":"+TypeMessage","v":"<-- Please select the type of QuadKids competition. If you do not then the default option is 'QuadKids Primary'"}]
[]
["Venue:",null,"Prince of Wales Stadium, Cheltenham"]
[null,null,{"$f":"IF(ISBLANK(conftype),\"*** The default option of  \"&DefaultComp&\" has been selected! ***\",\"\")","v":""}]
["Number of Teams:",null,null,null,null,null,null,{"$f":"+SelectMessage","v":"QuadKids Start = Years 3/4\nQuadKids Primary = Years 5/6\nQuadKids Secondary = Year 7/8\nQuadKids Club U9   - Under 9s\nQuadKids Club        - Under 11s\nQuadKids Club U13 - Under 13s"}]
[]
["Relay?",null,"NO"]
[]
["Secure Names?",null,"NO"]
[]
[]
[]
["Please take a few moments to properly configure the scoring spreadsheet. If you do not select any of the parameters the spreadsheet will assume some defaults. There is no \"CONFIGURE\" button anymore!"]
[]
["For more information on Quadkids please visit the QuadKids website at",null,null,null,null,null,null,null," http://www.quadkids.org"]
[]
["UKA Awards information can be found here",null,null,null,null,null,null,null,"http://www.quadkids.org/awards"]
[]
[]
[]
["Statistics"]
["Athletes Declared",null,{"$f":"+TotalAthletes","v":36},null,"Results Entered"]
["Disabled Athletes",null,{"$f":"+Declarations!L1","v":0},null,{"$f":"+'EVENT - SPRNT'!C1","v":"SPRINT"},{"$f":"+'EVENT - SPRNT'!F1","v":0.88888888888888884}]
[null,null,null,null,{"$f":"+'EVENT - RUN'!C1","v":"RUN"},{"$f":"+'EVENT - RUN'!F1","v":0.83333333333333337}]
[null,null,null,null,{"$f":"+'EVENT - JUMP'!C1","v":"JUMP"},{"$f":"+'EVENT - JUMP'!F1","v":0.80555555555555558}]
[null,null,null,null,{"$f":"+'EVENT - THROW'!C1","v":"THROW"},{"$f":"+'EVENT - THROW'!F1","v":0.86111111111111116}]
[null,null,null,null,"Relay",{"$f":"+'EVENT-RELAY'!F1","v":0}]
[]
[]
[]
[]
[]
[]
[]
[]
["Flexing Trigger",null,0.75]

{"sheet":"Setup","index":2,"n_rows":116,"n_cols":29,"rows_kept":116,"cut":false,"hidden":true,"merged":[[75,0,76,0],[75,1,75,3],[75,4,75,6],[75,7,75,9],[75,10,75,12],[61,0,62,0],[68,0,69,0],[68,1,68,3],[68,10,68,12],[61,1,61,3],[61,7,61,9],[68,4,68,6],[68,7,68,9],[61,10,61,12],[49,23,49,25],[49,26,49,28],[47,1,47,7],[47,8,47,14],[47,15,47,21],[47,22,47,28],[49,2,49,4],[49,5,49,7],[49,9,49,11],[49,12,49,14],[2,0,3,0],[2,17,3,17],[2,18,3,18],[2,16,3,16],[2,1,2,3],[2,13,2,15],[2,4,2,6],[99,1,99,4],[2,7,2,9],[2,10,2,12],[49,16,49,18],[49,19,49,21],[26,1,26,4],[61,4,61,6],[62,14,65,14],[66,14,69,14],[62,21,65,21],[66,21,69,21],[2,19,3,19]]}
["Setup"]
[]
["EventName","SPRINT",null,null,"RUN",null,null,"JUMP",null,null,"THROW",null,null,"RELAY",null,null,"Max Scorers","Min Points","Max Points","Inclusive Type"]
[null,"Name","Min","Inc","Name","Min","Inc","Name","Min","Inc","Name","Min","Inc","Name","Min","Inc"]
["Wessex League","75m",16,0.1,"600m",3,0.01,"Long_Jump",2.2000000000000002,0.03,"Howler",5,0.5,"Relay",94,0.5,4,10,100,1]
["Wessex League (U13)","70/75mH",20,0.1,"800m",3.5,0.01,"Long_Jump",2,0.04,"Shot",2,0.1,"Relay",94,0.5,4,10,100,2]
["QuadKids Secondary","100m",19.5,0.1,"800m",3.5,0.01,"Long_Jump",2,0.05,"Howler",6,0.6,"Relay",94,0.5,4,10,100,2]
["QuadKids Primary","75m",16,0.1,"600m",3,0.01,"SLJ",1.02,0.02,"Howler",5,0.5,"Relay",94,0.5,4,10,100,2]
["QuadKids Start","50m",12,0.1,"400m",2.0499999999999998,0.01,"SLJ",0.75,2.5000000000000001E-2,"Howler",2.5,0.5,"Relay",94,0.5,4,10,100,1]
["QuadKids Club","75m",16,0.1,"600m",3,0.01,"Long_Jump",2.2000000000000002,0.03,"Howler",5,0.5,"Relay",94,0.5,4,10,100,2]
["QuadKids Club U13","100m",19.5,0.1,"800m",3.5,0.01,"Long_Jump",2,0.05,"Howler",6,0.6,"Relay",94,0.5,4,10,100,2]
["QuadKids Club U9","50m",12,0.1,"400m",2.1,0.01,"SLJ",0.9,0.02,"Howler",0,0.5,"Relay",94,0.5,4,10,100,1]
["QuadKids Pre-Start","50m",13,0.1,"300m",2.15,0.01,"SLJ",0.5,0.03,"Howler",0,0.5,"Relay",99,0.5,4,10,100,1]
[]
[]
[]
[]
[]
[]
[]
[]
[]
[]
[]
[]
[]
["MatchType",{"$f":"IF(ISBLANK(+Configuration!C17),DefaultComp,Configuration!C17)","v":"QuadKids Primary"}]
["EventIndex",{"$f":"MATCH(B27,MatchNames,0)","v":4}]
[]
["Scoring Table",{"$f":"INDEX(MatchScoreTable,EventIndex,2)","v":"75m"},{"$f":"INDEX(MatchScoreTable,EventIndex,5)","v":"600m"},{"$f":"INDEX(MatchScoreTable,EventIndex,8)","v":"SLJ"},{"$f":"INDEX(MatchScoreTable,EventIndex,11)","v":"Howler"},{"$f":"INDEX(MatchScoreTable,EventIndex,14)","v":"Relay"},null,null,"MINS","Sprint","Run","Jump","Throw",null,"INC","Sprint","Run","Jump","Throw"]
["Min",{"$f":"INDEX(MatchScoreTable,EventIndex,3)","v":16},{"$f":"INDEX(MatchScoreTable,EventIndex,6)","v":3},{"$f":"INDEX(MatchScoreTable,EventIndex,9)","v":1.02},{"$f":"INDEX(MatchScoreTable,EventIndex,12)","v":5},{"$f":"INDEX(MatchScoreTable,EventIndex,15)","v":94},null,null,{"$f":"+A5","v":"Wessex League"},{"$f":"+C5","v":16},{"$f":"+F5","v":3},{"$f":"+I5","v":2.2000000000000002},{"$f":"+L5","v":5},null,{"$f":"+A5","v":"Wessex League"},{"$f":"+D5","v":0.1},{"$f":"+G5","v":0.01},{"$f":"+J5","v":0.03},{"$f":"+M5","v":0.5}]
["Max",{"$f":"+ScorngTable!B97","v":7.000000000000032},{"$f":"+ScorngTable!E97","v":1.3000000000000123},{"$f":"+ScorngTable!F97","v":2.8200000000000016},{"$f":"+ScorngTable!G97","v":50},{"$f":"+ScorngTable!H97","v":49},null,null,{"$f":"+A6","v":"Wessex League (U13)"},{"$f":"+C6","v":20},{"$f":"+F6","v":3.5},{"$f":"+I6","v":2},{"$f":"+L6","v":2},null,{"$f":"+A6","v":"Wessex League (U13)"},{"$f":"+D6","v":0.1},{"$f":"+G6","v":0.01},{"$f":"+J6","v":0.04},{"$f":"+M6","v":0.1}]
["Increments",{"$f":"INDEX(MatchScoreTable,EventIndex,4)","v":0.1},{"$f":"INDEX(MatchScoreTable,EventIndex,7)","v":0.01},{"$f":"INDEX(MatchScoreTable,EventIndex,10)","v":0.02},{"$f":"INDEX(MatchScoreTable,EventIndex,13)","v":0.5},{"$f":"INDEX(MatchScoreTable,EventIndex,16)","v":0.5},null,null,"QuadKids Secondary",19.5,3.5,2,6,null,"QuadKids Secondary",0.1,0.01,0.05,0.6]
[null,null,null,null,null,null,null,null,"QuadKids Primary",16,3,1.02,5,null,"QuadKids Primary",0.1,0.01,0.02,0.5]
["Num of Scorers",{"$f":"INDEX(MatchScoreTable,EventIndex,17)","v":4},null,"Flex %",45,null,null,null,"QuadKids Start",12,2.0499999999999998,0.75,2.5,null,"QuadKids Start",0.1,0.01,2.5000000000000001E-2,0.5]
["Minimum Points",{"$f":"INDEX(MatchScoreTable,EventIndex,18)","v":10},null,"Flexing?",{"$f":"IF(G36>=FlexTrigger,TRUE,FALSE)","v":true},null,{"$f":"SUM(Configuration!F39:F42)/4","v":0.84722222222222221},null,"QuadKids Club",16,3,2.2000000000000002,5,null,"QuadKids Club",0.1,0.01,0.03,0.5]
["Maximum Points",{"$f":"INDEX(MatchScoreTable,EventIndex,19)","v":100},null,null,null,null,null,null,"QuadKids Club U13",19.5,3.5,2,6,null,"QuadKids Club U13",0.1,0.01,0.05,0.6]
["Number of Teams",10,null,null,null,null,null,null,"QuadKids Club U9",12,2.1,0.9,0,null,"QuadKids Club U9",0.1,0.01,0.02,0.5]
[null,null,null,null,null,null,null,null,"QuadKids Pre-Start",13,2.15,0.5,0,null,"QuadKids Pre-Start",0.1,0.01,0.03,0.5]
["Score Multiplier",null,null,null,null,null,null,null,0,0,0,0,0,null,0,0,0,0,0]
["Disability Group",{"$f":"+B30","v":"75m"},{"$f":"+C30","v":"600m"},{"$f":"+D30","v":"SLJ"},{"$f":"+E30","v":"Howler"},null,null,null,0,0,0,0,0,null,0,0,0,0,0]
[0,1,1,1,1,null,null,null,0,0,0,0,0,null,0,0,0,0,0]
[1,0.5,0.5,2,2]
[2,0.6,0.6,1.9,1.9]
[3,0.75,0.75,1.6,1.6]
[4,0.9,0.9,1.25,1.25]
[]
[null,"Event #1",null,null,null,null,null,null,"Event #2",null,null,null,null,null,null,"Event #3",null,null,null,null,null,null,"Event #4"]
[null,null,"G2","G3","G4","G2","G3","G4",null,"G2","G3","G4","G2","G3","G4",null,"G2","G3","G4","G2","G3","G4",null,"G2","G3","G4","G2","G3","G4"]
[null,"Name","Minimums",null,null,"Increments",null,null,"Name","Minimums",null,null,"Increments",null,null,"Name","Minimums",null,null,"Increments",null,null,"Name","Minimums",null,null,"Increments"]
["Year 3/4","50m",60,37,34,0.5,0.3,0.3,"400m",480,450,480,2,3,4,"Jump",0,0.2,0.2,0,0.02,0.02,"Vortex",2,2,2,0.2,0.3,0.2]
["Year 5/6","75m",60,55,34,0.5,0.5,0.3,"600m",480,450,480,2,3,4,"Jump",0,0.2,0.2,0,0.03,0.03,"Vortex",2,2,2,0.2,0.3,0.4]
[]
[]
[]
[]
[]
[null,{"$f":"INDEX(IncScoreTable,IncMatchIdx,2+(7*(1-1)))","v":"75m"},{"$f":"INDEX(IncScoreTable,IncMatchIdx,2+(7*(1-1))+1)","v":60},{"$f":"INDEX(IncScoreTable,IncMatchIdx,2+(7*(1-1))+2)","v":55},{"$f":"INDEX(IncScoreTable,IncMatchIdx,2+(7*(1-1))+3)","v":34},{"$f":"INDEX(IncScoreTable,IncMatchIdx,2+(7*(1-1))+4)","v":0.5},{"$f":"INDEX(IncScoreTable,IncMatchIdx,2+(7*(1-1))+5)","v":0.5},{"$f":"INDEX(IncScoreTable,IncMatchIdx,2+(7*(1-1))+6)","v":0.3},{"$f":"INDEX(IncScoreTable,IncMatchIdx,2+(7*(2-1)))","v":"600m"},{"$f":"INDEX(IncScoreTable,IncMatchIdx,2+(7*(2-1))+1)","v":480},{"$f":"INDEX(IncScoreTable,IncMatchIdx,2+(7*(2-1))+2)","v":450},{"$f":"INDEX(IncScoreTable,IncMatchIdx,2+(7*(2-1))+3)","v":480},{"$f":"INDEX(IncScoreTable,IncMatchIdx,2+(7*(2-1))+4)","v":2},{"$f":"INDEX(IncScoreTable,IncMatchIdx,2+(7*(2-1))+5)","v":3},{"$f":"INDEX(IncScoreTable,IncMatchIdx,2+(7*(2-1))+6)","v":4},{"$f":"INDEX(IncScoreTable,IncMatchIdx,2+(7*(3-1)))","v":"Jump"},{"$f":"INDEX(IncScoreTable,IncMatchIdx,2+(7*(3-1))+1)","v":0},{"$f":"INDEX(IncScoreTable,IncMatchIdx,2+(7*(3-1))+2)","v":0.2},{"$f":"INDEX(IncScoreTable,IncMatchIdx,2+(7*(3-1))+3)","v":0.2},{"$f":"INDEX(IncScoreTable,IncMatchIdx,2+(7*(3-1))+4)","v":0},{"$f":"INDEX(IncScoreTable,IncMatchIdx,2+(7*(3-1))+5)","v":0.03},{"$f":"INDEX(IncScoreTable,IncMatchIdx,2+(7*(3-1))+6)","v":0.03},{"$f":"INDEX(IncScoreTable,IncMatchIdx,2+(7*(4-1)))","v":"Vortex"},{"$f":"INDEX(IncScoreTable,IncMatchIdx,2+(7*(4-1))+1)","v":2},{"$f":"INDEX(IncScoreTable,IncMatchIdx,2+(7*(4-1))+2)","v":2},{"$f":"INDEX(IncScoreTable,IncMatchIdx,2+(7*(4-1))+3)","v":2},{"$f":"INDEX(IncScoreTable,IncMatchIdx,2+(7*(4-1))+4)","v":0.2},{"$f":"INDEX(IncScoreTable,IncMatchIdx,2+(7*(4-1))+5)","v":0.3},{"$f":"INDEX(IncScoreTable,IncMatchIdx,2+(7*(4-1))+6)","v":0.4}]
[]
["IncMatchIdx",{"$f":"INDEX(MatchScoreTable,EventIndex,20)","v":2}]
[]
["Year 3/4","Sprint",null,null,"Run",null,null,"Jump",null,null,"Throw",null,null,null,null,"MINS","Sprint","Run","Jump","Throw",null,null,"MINS","Sprint","Run","Jump","Throw"]
[null,"Name","Min","Inc","Name","Min","Inc","Name","Min","Inc","Name","Min","Inc",null,"Younger","G1",{"$f":"+C64","v":0},{"$f":"+F64","v":0},{"$f":"+I64","v":0},{"$f":"+L64","v":2},null,"Younger","G1",{"$f":"+D64","v":0},{"$f":"+G64","v":0},{"$f":"+J64","v":0},{"$f":"+M64","v":0.02}]
["G1","50m",0,0,"400m",0,0,"Jump",0,0,"Throw",2,0.02,null,null,"G2",{"$f":"+C65","v":60},{"$f":"+F65","v":480},{"$f":"+I65","v":0},{"$f":"+L65","v":2},null,null,"G2",{"$f":"+D65","v":0.5},{"$f":"+G65","v":2},{"$f":"+J65","v":0},{"$f":"+M65","v":0.02}]
["G2",{"$f":"+B64","v":"50m"},60,0.5,{"$f":"+E64","v":"400m"},480,2,{"$f":"+H64","v":"Jump"},0,0,{"$f":"+K64","v":"Throw"},2,0.02,null,null,"G3",{"$f":"+C66","v":37},{"$f":"+F66","v":450},{"$f":"+I66","v":0.2},{"$f":"+L66","v":2},null,null,"G3",{"$f":"+D66","v":0.3},{"$f":"+G66","v":3},{"$f":"+J66","v":0.02},{"$f":"+M66","v":0.03}]
["G3",{"$f":"+B65","v":"50m"},37,0.3,{"$f":"+E65","v":"400m"},450,3,{"$f":"+H65","v":"Jump"},0.2,0.02,{"$f":"+K65","v":"Throw"},2,0.03,null,null,"G4",{"$f":"+C67","v":34},{"$f":"+F67","v":480},{"$f":"+I67","v":0.2},{"$f":"+L67","v":2.5},null,null,"G4",{"$f":"+D67","v":0.3},{"$f":"+G67","v":4},{"$f":"+J67","v":0.02},{"$f":"+M67","v":0.5}]
["G4",{"$f":"+B66","v":"50m"},34,0.3,{"$f":"+E66","v":"400m"},480,4,{"$f":"+H66","v":"Jump"},0.2,0.02,{"$f":"+K66","v":"Throw"},2.5,0.5,null,"Older","G1",{"$f":"+C71","v":0},{"$f":"+F71","v":0},{"$f":"+I71","v":0},{"$f":"+L71","v":2},null,"Older","G1",{"$f":"+D71","v":0},{"$f":"+G71","v":0},{"$f":"+J71","v":0},{"$f":"+M71","v":0.02}]
[null,null,null,null,null,null,null,null,null,null,null,null,null,null,null,"G2",{"$f":"+C72","v":60},{"$f":"+F72","v":480},{"$f":"+I72","v":0},{"$f":"+L72","v":2},null,null,"G2",{"$f":"+D72","v":0.5},{"$f":"+G72","v":2},{"$f":"+J72","v":0},{"$f":"+M72","v":0.02}]
["Year 5/6","Sprint",null,null,"Run",null,null,"Jump",null,null,"Throw",null,null,null,null,"G3",{"$f":"+C73","v":55},{"$f":"+F73","v":450},{"$f":"+I73","v":0.2},{"$f":"+L73","v":2},null,null,"G3",{"$f":"+D73","v":0.5},{"$f":"+G73","v":3},{"$f":"+J73","v":0.03},{"$f":"+M73","v":0.03}]
[null,"Name","Min","Inc","Name","Min","Inc","Name","Min","Inc","Name","Min","Inc",null,null,"G4",{"$f":"+C74","v":34},{"$f":"+F74","v":480},{"$f":"+I74","v":0.2},{"$f":"+L74","v":5},null,null,"G4",{"$f":"+D74","v":0.3},{"$f":"+G74","v":4},{"$f":"+J74","v":0.03},{"$f":"+M74","v":0.5}]
["G1","75m",0,0,"600m",0,0,"Jump",0,0,"Throw",2,0.02]
["G2",{"$f":"+B71","v":"75m"},60,0.5,{"$f":"+E71","v":"600m"},480,2,{"$f":"+H71","v":"Jump"},0,0,{"$f":"+K71","v":"Throw"},2,0.02]
["G3",{"$f":"+B72","v":"75m"},55,0.5,{"$f":"+E72","v":"600m"},450,3,{"$f":"+H72","v":"Jump"},0.2,0.03,{"$f":"+K72","v":"Throw"},2,0.03]
["G4",{"$f":"+B73","v":"75m"},34,0.3,{"$f":"+E73","v":"600m"},480,4,{"$f":"+H73","v":"Jump"},0.2,0.03,{"$f":"+K73","v":"Throw"},5,0.5]
[]
["Year 5/6","Sprint",null,null,"Run",null,null,"Jump",null,null,"Throw"]
[null,"Name","Min","Inc","Name","Min","Inc","Name","Min","Inc","Name","Min","Inc"]
["G1",{"$f":"IF(IncMatchIdx=1,B64,B71)","v":"75m"},0,0,"600m",0,0,"Jump",0,0,"Throw",2,0.02]
["G2",{"$f":"IF(IncMatchIdx=1,B65,B72)","v":"75m"},60,0.5,"600m",480,2,"Jump",0,0,"Throw",2,0.02]
["G3",{"$f":"IF(IncMatchIdx=1,B66,B73)","v":"75m"},55,0.5,"600m",450,3,"Jump",0.2,0.03,"Throw",2,0.03]
["G4",{"$f":"IF(IncMatchIdx=1,B67,B74)","v":"75m"},34,0.3,"600m",480,4,"Jump",0.2,0.03,"Throw",5,0.5]
[]
[]
["Notes Read",false,null,null,null,null,null,"SCHOOL",null,{"$f":"+A8","v":"QuadKids Primary"},{"$f":"+A10","v":"QuadKids Club"},{"$f":"+A8","v":"QuadKids Primary"}]
["Relay Visible",{"$f":"IF(confrelay=\"YES\",TRUE,FALSE)","v":false},null,null,null,null,null,"CLUB",null,{"$f":"+A7","v":"QuadKids Secondary"},{"$f":"+A11","v":"QuadKids Club U13"},{"$f":"+A7","v":"QuadKids Secondary"}]
[null,null,null,null,null,null,null,"OPEN",null,{"$f":"+A9","v":"QuadKids Start"},{"$f":"+A12","v":"QuadKids Club U9"},{"$f":"+A9","v":"QuadKids Start"}]
[null,null,null,null,null,null,null,null,null,{"$f":"+A13","v":"QuadKids Pre-Start"},"",{"$f":"+A10","v":"QuadKids Club"}]
[null,null,null,null,null,null,null,null,null,"","",{"$f":"+A12","v":"QuadKids Club U9"}]
[null,null,null,null,null,null,null,null,null,"","",{"$f":"+A11","v":"QuadKids Club U13"}]
[null,null,null,null,null,null,null,null,null,"QuadKids Start = Years 3/4\nQuadKids Primary = Years 5/6\nQuadKids Secondary = Year 7/8\nQuadKids Pre-Start = Year 1/2","QuadKids Club U9   - Under 9s\nQuadKids Club        - Under 11s\nQuadKids Club U13 - Under 13s","QuadKids Start = Years 3/4\nQuadKids Primary = Years 5/6\nQuadKids Secondary = Year 7/8\nQuadKids Club U9   - Under 9s\nQuadKids Club        - Under 11s\nQuadKids Club U13 - Under 13s"]
[null,null,null,null,null,null,null,null,null,{"$f":"\"<-- Please select the type of QuadKids competition. If you do not then the default option is '\"&DefaultComp&\"'\"","v":"<-- Please select the type of QuadKids competition. If you do not then the default option is 'QuadKids Primary'"}]
[]
[]
[]
[]
[]
[null,"B"]
[null,"G"]
[]
["DefaultComp","QuadKids Primary",null,null,null,null,null,{"$f":"+J84","v":"QuadKids Primary"}]
["ScoringType",{"$f":"+confmatchtype","v":"OPEN"},null,{"$f":"MATCH(ScoreType,MATCHTYPES,0)","v":3},null,null,null,{"$f":"+K84","v":"QuadKids Club"}]
[]
[null,{"$f":"INDEX(edata,1,MatchOffset)","v":"QuadKids Primary"}]
[null,{"$f":"INDEX(edata,2,MatchOffset)","v":"QuadKids Secondary"}]
[null,{"$f":"INDEX(edata,3,MatchOffset)","v":"QuadKids Start"}]
[null,{"$f":"INDEX(edata,4,MatchOffset)","v":"QuadKids Club"}]
[null,{"$f":"INDEX(edata,5,MatchOffset)","v":"QuadKids Club U9"}]
[null,{"$f":"INDEX(edata,6,MatchOffset)","v":"QuadKids Club U13"}]
[]
[]
["TypeMessage",{"$f":"\"<-- Please select the type of QuadKids competition. If you do not then the default option is '\"&DefaultComp&\"'\"","v":"<-- Please select the type of QuadKids competition. If you do not then the default option is 'QuadKids Primary'"}]
["SelectMessage",{"$f":"INDEX(edata,7,MatchOffset)","v":"QuadKids Start = Years 3/4\nQuadKids Primary = Years 5/6\nQuadKids Secondary = Year 7/8\nQuadKids Club U9   - Under 9s\nQuadKids Club        - Under 11s\nQuadKids Club U13 - Under 13s"}]
[]
[]
["AwardsValid",{"$f":"IF(confmatchtype=\"SCHOOL\",TRUE,TRUE)","v":true}]
["AwardsType",{"$f":"IF(AwardsValid,SUM(C116:G116),6)","v":2},{"$f":"IF(MatchType=\"QuadKids Start\", 1, 0)","v":0},{"$f":"IF(MatchType=\"QuadKids Primary\",2,0)","v":2},{"$f":"IF(OR(MatchType=\"QuadKids Secondary\",MatchType=\"QuadKids Club\"),3,0)","v":0},{"$f":"IF(MatchType=\"QuadKids Pre-Start\", 4, 0)","v":0},{"$f":"IF(SUM(C116:F116)=0,6,0)","v":0}]

{"sheet":"Declarations","index":3,"n_rows":37,"n_cols":13,"rows_kept":37,"cut":false,"hidden":false,"merged":[]}
["No","Name","Team / School","Gender","Date of Birth","Age\nGroup","Disability Group",null,{"$f":"COUNTA($A$2:$A$1001)","v":36},"No of Athletes",null,{"$f":"COUNTIF(G2:G1001,\">0\")","v":0},"Disabled Athletes"]
[3,"Jess Bailey","Cheltenham and County Harriers","F","2014-04-02","QuadKids Primary",0]
[5,"Poppy Burtwell","Cheltenham and County Harriers","F","2013-09-02","QuadKids Primary",0]
[6,"Albie Jack Bussey","Cheltenham and County Harriers","M","2014-07-10","QuadKids Primary",0]
[11,"Molly Elizabeth Creek","Cheltenham and County Harriers","F","2013-12-19","QuadKids Primary",0]
[13,"Imogen Edwards","Yate & District AC","F","2013-11-06","QuadKids Primary",0]
[15,"Ezra Frick","Yate & District AC","M","2015-02-09","QuadKids Primary",0]
[16,"Emilia Game","Cheltenham and County Harriers","F","2014-11-15","QuadKids Primary",0]
[19,"Charlotte Harvey","Cheltenham and County Harriers","F","2014-10-22","QuadKids Primary",0]
[21,"Dylan Jacob Hockin","Cheltenham and County Harriers","M","2014-03-22","QuadKids Primary",0]
[24,"Hermione Howard","Cheltenham and County Harriers","F","2015-03-28","QuadKids Primary",0]
[26,"Evalyn Humphries","Yate & District AC","F","2015-01-13","QuadKids Primary",0]
[28,"William Peter Stuart Johnson","Cheltenham and County Harriers","M","2013-10-05","QuadKids Primary",0]
[29,"Ben Jones","Gloucester AC","M","2013-09-04","QuadKids Primary",0]
[30,"Olivia Andrea Lilly Jones","Stroud & District AC","F","2013-09-27","QuadKids Primary",0]
[31,"Rhys Callen Jones","Cheltenham and County Harriers","M","2014-12-10","QuadKids Primary",0]
[33,"Arthur Lawson","Cheltenham and County Harriers","M","2014-11-28","QuadKids Primary",0]
[35,"Edward Lewis",null,"F","2015-03-14","QuadKids Primary",0]
[37,"Poppy Limb","Cheltenham and County Harriers","F","2014-08-29","QuadKids Primary",0]
[41,"Reuben Mann","Cheltenham and County Harriers","M","2013-12-05","QuadKids Primary",0]
[42,"Eliza Verity Mason","Cheltenham and County Harriers","F","2014-02-18","QuadKids Primary",0]
[47,"Max Papuca","Yate & District AC","M","2013-09-04","QuadKids Primary",0]
[49,"Lucy Reeves","Yate & District AC","F","2013-10-09","QuadKids Primary",0]
[51,"Albert George Rendell","Stroud & District AC","M","2015-05-03","QuadKids Primary",0]
[53,"Amelia Robinson","Stroud & District AC","F","2014-11-14","QuadKids Primary",0]
[54,"Laurence Andrew Rowett","Cheltenham and County Harriers","M","2014-10-16","QuadKids Primary",0]
[55,"Alfie Edward Seymour","Stroud & District AC","M","2013-09-24","QuadKids Primary",0]
[57,"Henry Ronald Simpson",null,"M","2013-12-01","QuadKids Primary",0]
[59,"Natalee May Souch","Yate & District AC","F","2014-01-18","QuadKids Primary",0]
[60,"Lola Southernwood",null,"F","2015-02-21","QuadKids Primary",0]
[63,"Allegra Flora Spicer","Cheltenham and County Harriers","F","2013-10-17","QuadKids Primary",0]
[68,"Annabelle Weldon","Cheltenham and County Harriers","F","2014-05-30","QuadKids Primary",0]
[72,"Tayla Florence Williams","Carmarthen & District Harriers","F","2014-03-14","QuadKids Primary",0]
[73,"Bethan Frances Wilson","Cheltenham and County Harriers","F","2015-01-02","QuadKids Primary",0]
[74,"Isla Wright","Cirencester AC","F","2014-02-15","QuadKids Primary",0]
[76,"Joshua Young","Cheltenham and County Harriers","M","2014-09-21","QuadKids Primary",0]
[77,"Piero Zanca","Cheltenham and County Harriers","M","2014-11-30","QuadKids Primary",0]

{"sheet":"Athletes","index":4,"n_rows":564,"n_cols":36,"rows_kept":564,"cut":false,"hidden":false,"merged":[[548,0,562,0],[548,13,563,13],[548,15,563,15],[516,0,530,0],[516,13,531,13],[516,15,531,15],[532,0,546,0],[532,13,547,13],[532,15,547,15],[484,0,498,0],[484,13,499,13],[484,15,499,15],[500,0,514,0],[500,13,515,13],[500,15,515,15],[452,0,466,0],[452,13,467,13],[452,15,467,15],[468,0,482,0],[468,13,483,13],[468,15,483,15],[420,0,434,0],[420,13,435,13],[420,15,435,15],[436,0,450,0],[436,13,451,13],[436,15,451,15],[388,0,402,0],[388,13,403,13],[388,15,403,15],[404,0,418,0],[404,13,419,13],[404,15,419,15],[356,0,370,0],[356,13,371,13],[356,15,371,15],[372,0,386,0],[372,13,387,13],[372,15,387,15],[324,0,338,0],[324,13,339,13],[324,15,339,15],[340,0,354,0],[340,13,355,13],[340,15,355,15],[116,0,130,0],[116,13,131,13],[116,15,131,15],[132,0,146,0],[132,13,147,13],[132,15,147,15],[84,0,98,0],[84,13,99,13],[84,15,99,15],[100,0,114,0],[100,13,115,13],[100,15,115,15],[180,13,195,13],[180,15,195,15],[196,0,210,0],[196,13,211,13],[196,15,211,15],[148,0,162,0],[148,13,163,13],[148,15,163,15],[164,0,178,0],[164,13,179,13],[164,15,179,15],[180,0,194,0],[212,15,227,15],[292,0,306,0],[292,13,307,13],[292,15,307,15],[228,0,242,0],[228,13,243,13],[228,15,243,15],[308,0,322,0],[308,13,323,13],[308,15,323,15],[260,0,274,0],[260,13,275,13],[260,15,275,15],[276,0,290,0],[276,13,291,13],[276,15,291,15],[244,0,258,0],[244,13,259,13],[244,15,259,15],[212,0,226,0],[212,13,227,13],[52,0,66,0],[52,13,67,13],[52,15,67,15],[68,0,82,0],[68,13,83,13],[68,15,83,15],[0,3,0,6],[20,0,34,0],[20,13,35,13],[20,15,35,15],[2,34,2,35],[36,0,50,0],[36,13,51,13],[36,15,51,15],[2,17,2,19],[2,9,2,10],[4,13,19,13],[4,15,19,15],[4,0,16,0],[2,29,2,31],[2,25,2,27],[2,11,2,12],[2,14,2,15],[2,2,3,2],[2,3,3,3],[2,4,3,4],[2,5,2,6],[2,7,2,8]]}
[null,null,"Event:",{"$f":"IF(ISBLANK(+Configuration!C13),\"QuadKids \",Configuration!C13)","v":"Brewer Memorial Games"}]
[]
[null,null,"Number","Athlete Name","Team",{"$f":"+Setup!B30","v":"75m"},null,{"$f":"+Setup!C30","v":"600m"},null,{"$f":"+Setup!D30","v":"SLJ"},null,{"$f":"+Setup!E30","v":"Howler"},null,"Relay","POINTS",null,null,"Individual Rankings",null,null,null,"UKA Awards",null,null,null,"BOYS",null,null,null,"GIRLS",null,null,null,null,"Non-normalised points"]
[null,null,null,null,null,"Time","Points","Time","Points","Distance","Points","Distance","Points",null,"Athlete","Team",null,"Boys","Girls","Overall",null,"Quadrathlon",null,"Gender",null,"Points","Rank","T Points",null,"Points","Rank","T Points",null,null,"Boys","Girls"]
[null,{"$f":"IF(OR(ISNA(MATCH(C5&\"\",AthleteNumbers,0)),ISBLANK(C5)),0,MATCH(C5&\"\",AthleteNumbers,0))","v":1},3,{"$f":"IF($B5>0,INDEX(DB,$B5,8),\"\")","v":"Jess Bailey"},{"$f":"IF($B5>0,INDEX(DB,$B5,3),\"\")","v":"Cheltenham and County Harriers"},{"$f":"IF($B5>0,INDEX(DB,$B5,13),0)","v":12.3},{"$f":"IF($B5>0,INDEX(DB,$B5,17),0)","v":47},{"$f":"IF($B5>0,INDEX(DB,$B5,15),0)","v":2.06},{"$f":"IF($B5>0,INDEX(DB,$B5,19),0)","v":64},{"$f":"IF($B5>0,INDEX(DB,$B5,14),0)","v":1.69},{"$f":"IF($B5>0,INDEX(DB,$B5,18),0)","v":43},{"$f":"IF($B5>0,INDEX(DB,$B5,16),0)","v":19.11},{"$f":"IF($B5>0,INDEX(DB,$B5,20),0)","v":38},{"$f":"INDEX(RelayPoints,A20)","v":0},{"$f":"+G5+I5+K5+M5","v":192},{"$f":"+AC20+AG20+N5","v":1558},{"$f":"IF(AB5+AF5>0,\"*\",\"\")","v":"*"},{"$f":"IF($AI5>0,RANK($AI5,BoysPoints),0)","v":0},{"$f":"IF($AJ5>0,RANK($AJ5,GirlsPoints),0)","v":2},{"$f":"IF($O5>0,RANK(O5,AthletePoints),0)","v":8},null,{"$f":"IF(O5>=40,IF(X5=\"M\",VLOOKUP(O5,UKABoysAwards,2),IF(X5=\"F\",VLOOKUP(O5,UKAGirlsAwards,2),\"\")),\"\")","v":"Gold"},null,{"$f":"INDEX(DB,$B5,4)","v":"F"},null,{"$f":"IF($X5=\"M\",$O5+(ROW()/10000),0)","v":0},{"$f":"IF($Z5>=1,RANK($Z5,$Z5:$Z20),0)","v":0},{"$f":"IF(AA5<=MaxS,INT(Z5),0)","v":0},null,{"$f":"IF($X5=\"F\",$O5+(ROW()/10000),0)","v":192.00049999999999},{"$f":"IF($AD5>=1,RANK($AD5,$AD5:$AD20),0)","v":2},{"$f":"IF(AE5<=MaxS,INT(AD5),0)","v":192},null,null,{"$f":"IF($X5=\"M\",$O5,0)","v":0},{"$f":"IF($X5=\"F\",$O5,0)","v":192}]
[null,2,5,"Poppy Burtwell","Cheltenham and County Harriers",14,30,2.4300000000000002,27,1.44,31,11.26,22,null,{"$f":"+G6+I6+K6+M6","v":110},null,{"$f":"IF(AB6+AF6>0,\"*\",\"\")","v":""},0,14,27,null,"Step 6",null,"F",null,0,{"$f":"IF($Z6>=1,RANK($Z6,$Z5:$Z20),0)","v":0},0,null,110.00060000000001,{"$f":"IF($AD6>=1,RANK($AD6,$AD5:$AD20),0)","v":6},0,null,null,{"$f":"IF($X6=\"M\",$O6,0)","v":0},{"$f":"IF($X6=\"F\",$O6,0)","v":110}]
[null,3,6,"Albie Jack Bussey","Cheltenham and County Harriers",12.2,48,2.0699999999999998,63,1.72,45,20.6,41,null,197,null,"*",6,0,6,null,"Step 10",null,"M",null,197.00069999999999,{"$f":"IF($Z7>=1,RANK($Z7,$Z5:$Z20),0)","v":3},197,null,0,{"$f":"IF($AD7>=1,RANK($AD7,$AD5:$AD20),0)","v":0},0,null,null,197,0]
[null,4,11,"Molly Elizabeth Creek","Cheltenham and County Harriers",0,0,0,0,0,0,0,0,null,0,null,"",0,0,0,null,"",null,"F",null,0,{"$f":"IF($Z8>=1,RANK($Z8,$Z5:$Z20),0)","v":0},0,null,8.0000000000000004E-4,{"$f":"IF($AD8>=1,RANK($AD8,$AD5:$AD20),0)","v":0},0,null,null,0,0]
[null,5,13,"Imogen Edwards","Yate & District AC",12.7,43,2.09,61,1.56,37,14.29,28,null,169,null,"*",0,7,16,null,"Bronze",null,"F",null,0,{"$f":"IF($Z9>=1,RANK($Z9,$Z5:$Z20),0)","v":0},0,null,169.0009,{"$f":"IF($AD9>=1,RANK($AD9,$AD5:$AD20),0)","v":4},169,null,null,0,169]
[null,6,15,"Ezra Frick","Yate & District AC",0,0,0,0,0,0,0,0,null,0,null,"",0,0,0,null,"",null,"M",null,1E-3,{"$f":"IF($Z10>=1,RANK($Z10,$Z5:$Z20),0)","v":0},0,null,0,{"$f":"IF($AD10>=1,RANK($AD10,$AD5:$AD20),0)","v":0},0,null,null,0,0]
[null,7,16,"Emilia Game","Cheltenham and County Harriers",14.5,25,2.27,43,1.25,21,8.02,16,null,105,null,"",0,15,28,null,"Step 5",null,"F",null,0,{"$f":"IF($Z11>=1,RANK($Z11,$Z5:$Z20),0)","v":0},0,null,105.00109999999999,{"$f":"IF($AD11>=1,RANK($AD11,$AD5:$AD20),0)","v":7},0,null,null,0,105]
[null,8,19,"Charlotte Harvey","Cheltenham and County Harriers",14.5,25,2.3199999999999998,38,1.0900000000000001,13,9.23,18,null,94,null,"",0,16,29,null,"Step 4",null,"F",null,0,{"$f":"IF($Z12>=1,RANK($Z12,$Z5:$Z20),0)","v":0},0,null,94.001199999999997,{"$f":"IF($AD12>=1,RANK($AD12,$AD5:$AD20),0)","v":8},0,null,null,0,94]
[null,9,21,"Dylan Jacob Hockin","Cheltenham and County Harriers",11.4,56,2.2200000000000002,48,1.67,42,22.31,44,null,190,null,"*",7,0,9,null,"Step 10",null,"M",null,190.00129999999999,{"$f":"IF($Z13>=1,RANK($Z13,$Z5:$Z20),0)","v":4},190,null,0,{"$f":"IF($AD13>=1,RANK($AD13,$AD5:$AD20),0)","v":0},0,null,null,190,0]
[null,10,24,"Hermione Howard","Cheltenham and County Harriers",12.2,48,2.2999999999999998,40,1.44,31,11.24,22,null,141,null,"",0,10,22,null,"Step 8",null,"F",null,0,{"$f":"IF($Z14>=1,RANK($Z14,$Z5:$Z20),0)","v":0},0,null,141.00139999999999,{"$f":"IF($AD14>=1,RANK($AD14,$AD5:$AD20),0)","v":5},0,null,null,0,141]
[null,11,26,"Evalyn Humphries","Yate & District AC",12.1,49,2.13,57,1.79,48,20.260000000000002,40,null,194,null,"*",0,1,7,null,"Gold",null,"F",null,0,{"$f":"IF($Z15>=1,RANK($Z15,$Z5:$Z20),0)","v":0},0,null,194.00149999999999,{"$f":"IF($AD15>=1,RANK($AD15,$AD5:$AD20),0)","v":1},194,null,null,0,194]
[null,12,28,"William Peter Stuart Johnson","Cheltenham and County Harriers",11.8,52,2.04,66,1.81,49,27.07,54,null,221,null,"*",2,0,2,null,"Silver",null,"M",null,221.0016,{"$f":"IF($Z16>=1,RANK($Z16,$Z5:$Z20),0)","v":1},221,null,0,{"$f":"IF($AD16>=1,RANK($AD16,$AD5:$AD20),0)","v":0},0,null,null,221,0]
[null,13,29,"Ben Jones","Gloucester AC",11.7,53,1.56,74,1.65,41,25.02,50,null,218,null,"*",3,0,3,null,"Silver",null,"M",null,218.0017,{"$f":"IF($Z17>=1,RANK($Z17,$Z5:$Z20),0)","v":2},218,null,0,{"$f":"IF($AD17>=1,RANK($AD17,$AD5:$AD20),0)","v":0},0,null,null,218,0]
[null,{"$f":"IF(OR(ISNA(MATCH(C18&\"\",AthleteNumbers,0)),ISBLANK(C18)),0,MATCH(C18&\"\",AthleteNumbers,0))","v":14},30,"Olivia Andrea Lilly Jones","Stroud & District AC",12.2,48,2.14,56,1.6,39,17.39,34,null,{"$f":"+G18+I18+K18+M18","v":177},null,{"$f":"IF(AB18+AF18>0,\"*\",\"\")","v":"*"},0,5,{"$f":"IF($O18>0,RANK(O18,AthletePoints),0)","v":13},null,{"$f":"IF(O18>=40,IF(X18=\"M\",VLOOKUP(O18,UKABoysAwards,2),IF(X18=\"F\",VLOOKUP(O18,UKAGirlsAwards,2),\"\")),\"\")","v":"Bronze"},null,"F",null,0,{"$f":"IF($Z18>=1,RANK($Z18,$Z5:$Z20),0)","v":0},{"$f":"IF(AA18<=MaxS,INT(Z18),0)","v":0},null,177.0018,{"$f":"IF($AD18>=1,RANK($AD18,$AD5:$AD20),0)","v":3},{"$f":"IF(AE18<=MaxS,INT(AD18),0)","v":177},null,null,0,177]
[null,{"$f":"IF(OR(ISNA(MATCH(C19&\"\",AthleteNumbers,0)),ISBLANK(C19)),0,MATCH(C19&\"\",AthleteNumbers,0))","v":15},31,"Rhys Callen Jones","Cheltenham and County Harriers",12.6,44,2.25,45,1.49,33,18.75,37,null,{"$f":"+G19+I19+K19+M19","v":159},null,{"$f":"IF(AB19+AF19>0,\"*\",\"\")","v":""},10,0,{"$f":"IF($O19>0,RANK(O19,AthletePoints),0)","v":17},null,{"$f":"IF(O19>=40,IF(X19=\"M\",VLOOKUP(O19,UKABoysAwards,2),IF(X19=\"F\",VLOOKUP(O19,UKAGirlsAwards,2),\"\")),\"\")","v":"Step 7"},null,"M",null,159.00190000000001,{"$f":"IF($Z19>=1,RANK($Z19,$Z5:$Z20),0)","v":6},{"$f":"IF(AA19<=MaxS,INT(Z19),0)","v":0},null,0,{"$f":"IF($AD19>=1,RANK($AD19,$AD5:$AD20),0)","v":0},{"$f":"IF(AE19<=MaxS,INT(AD19),0)","v":0},null,null,159,0]
[null,16,33,"Arthur Lawson","Cheltenham and County Harriers",12.9,41,2.2200000000000002,48,1.52,35,27.05,54,null,178,null,"",8,0,12,null,"Step 9",null,"M",null,178.00200000000001,{"$f":"IF($Z20>=1,RANK($Z20,$Z5:$Z20),0)","v":5},0,{"$f":"SUM(AB5:AB20)","v":826},0,{"$f":"IF($AD20>=1,RANK($AD20,$AD5:$AD20),0)","v":0},0,{"$f":"SUM(AF5:AF20)","v":732},null,178,0]
[null,17,35,"Edward Lewis","...",13.9,31,2.14,56,1.37,27,17.63,35,{"$f":"INDEX(RelayPoints,A36)","v":0},{"$f":"+G21+I21+K21+M21","v":149},{"$f":"+AC36+AG36+N21","v":1516},{"$f":"IF(AB21+AF21>0,\"*\",\"\")","v":""},0,8,19,null,"Step 9",null,"F",null,0,{"$f":"IF($Z21>=1,RANK($Z21,$Z21:$Z36),0)","v":0},{"$f":"IF(AA21<=MaxS,INT(Z21),0)","v":0},null,149.00210000000001,{"$f":"IF($AD21>=1,RANK($AD21,$AD21:$AD36),0)","v":5},{"$f":"IF(AE21<=MaxS,INT(AD21),0)","v":0},null,null,0,149]
[null,18,37,"Poppy Limb","Cheltenham and County Harriers",13,40,0,0,0,0,19.079999999999998,38,null,{"$f":"+G22+I22+K22+M22","v":78},null,{"$f":"IF(AB22+AF22>0,\"*\",\"\")","v":""},0,17,30,null,"Step 3",null,"F",null,0,{"$f":"IF($Z22>=1,RANK($Z22,$Z21:$Z36),0)","v":0},0,null,78.002200000000002,{"$f":"IF($AD22>=1,RANK($AD22,$AD21:$AD36),0)","v":8},0,null,null,0,78]
[null,19,41,"Reuben Mann","Cheltenham and County Harriers",11.5,55,2.08,62,1.9,54,22.15,44,null,215,null,"*",4,0,4,null,"Silver",null,"M",null,215.00229999999999,{"$f":"IF($Z23>=1,RANK($Z23,$Z21:$Z36),0)","v":2},215,null,0,{"$f":"IF($AD23>=1,RANK($AD23,$AD21:$AD36),0)","v":0},0,null,null,215,0]
[null,20,42,"Eliza Verity Mason","Cheltenham and County Harriers",0,0,0,0,0,0,16.82,33,null,33,null,"",0,20,34,null,"",null,"F",null,0,{"$f":"IF($Z24>=1,RANK($Z24,$Z21:$Z36),0)","v":0},0,null,33.002400000000002,{"$f":"IF($AD24>=1,RANK($AD24,$AD21:$AD36),0)","v":10},0,null,null,0,33]
[null,21,47,"Max Papuca","Yate & District AC",11.4,56,2.04,66,1.94,56,34.49,68,null,246,null,"*",1,0,1,null,"Gold",null,"M",null,246.0025,{"$f":"IF($Z25>=1,RANK($Z25,$Z21:$Z36),0)","v":1},246,null,0,{"$f":"IF($AD25>=1,RANK($AD25,$AD21:$AD36),0)","v":0},0,null,null,246,0]
[null,22,49,"Lucy Reeves","Yate & District AC",12.8,42,2.11,59,1.68,43,22.06,44,null,188,null,"*",0,3,10,null,"Silver",null,"F",null,0,{"$f":"IF($Z26>=1,RANK($Z26,$Z21:$Z36),0)","v":0},0,null,188.0026,{"$f":"IF($AD26>=1,RANK($AD26,$AD21:$AD36),0)","v":1},188,null,null,0,188]
[null,23,51,"Albert George Rendell","Stroud & District AC",0,0,2.12,58,0,0,0,0,null,58,null,"",14,0,31,null,"Step 1",null,"M",null,58.002699999999997,{"$f":"IF($Z27>=1,RANK($Z27,$Z21:$Z36),0)","v":6},0,null,0,{"$f":"IF($AD27>=1,RANK($AD27,$AD21:$AD36),0)","v":0},0,null,null,58,0]
[null,24,53,"Amelia Robinson","Stroud & District AC",14.4,26,2.19,51,1.1299999999999999,15,13.9,27,null,119,null,"",0,12,25,null,"Step 6",null,"F",null,0,{"$f":"IF($Z28>=1,RANK($Z28,$Z21:$Z36),0)","v":0},0,null,119.00279999999999,{"$f":"IF($AD28>=1,RANK($AD28,$AD21:$AD36),0)","v":7},0,null,null,0,119]
[null,{"$f":"IF(OR(ISNA(MATCH(C29&\"\",AthleteNumbers,0)),ISBLANK(C29)),0,MATCH(C29&\"\",AthleteNumbers,0))","v":25},54,"Laurence Andrew Rowett","Cheltenham and County Harriers",14.1,29,2.19,51,1.46,32,22.73,45,null,{"$f":"+G29+I29+K29+M29","v":157},null,{"$f":"IF(AB29+AF29>0,\"*\",\"\")","v":"*"},11,0,{"$f":"IF($O29>0,RANK(O29,AthletePoints),0)","v":18},null,{"$f":"IF(O29>=40,IF(X29=\"M\",VLOOKUP(O29,UKABoysAwards,2),IF(X29=\"F\",VLOOKUP(O29,UKAGirlsAwards,2),\"\")),\"\")","v":"Step 7"},null,"M",null,157.00290000000001,{"$f":"IF($Z29>=1,RANK($Z29,$Z21:$Z36),0)","v":4},{"$f":"IF(AA29<=MaxS,INT(Z29),0)","v":157},null,0,{"$f":"IF($AD29>=1,RANK($AD29,$AD21:$AD36),0)","v":0},{"$f":"IF(AE29<=MaxS,INT(AD29),0)","v":0},null,null,157,0]
[null,{"$f":"IF(OR(ISNA(MATCH(C30&\"\",AthleteNumbers,0)),ISBLANK(C30)),0,MATCH(C30&\"\",AthleteNumbers,0))","v":26},55,"Alfie Edward Seymour","Stroud & District AC",13.6,34,2.34,36,1.41,29,17.399999999999999,34,null,{"$f":"+G30+I30+K30+M30","v":133},null,{"$f":"IF(AB30+AF30>0,\"*\",\"\")","v":""},13,0,{"$f":"IF($O30>0,RANK(O30,AthletePoints),0)","v":23},null,{"$f":"IF(O30>=40,IF(X30=\"M\",VLOOKUP(O30,UKABoysAwards,2),IF(X30=\"F\",VLOOKUP(O30,UKAGirlsAwards,2),\"\")),\"\")","v":"Step 5"},null,"M",null,133.00299999999999,{"$f":"IF($Z30>=1,RANK($Z30,$Z21:$Z36),0)","v":5},{"$f":"IF(AA30<=MaxS,INT(Z30),0)","v":0},null,0,{"$f":"IF($AD30>=1,RANK($AD30,$AD21:$AD36),0)","v":0},{"$f":"IF(AE30<=MaxS,INT(AD30),0)","v":0},null,null,133,0]
[null,27,57,"Henry Ronald Simpson","...",11.8,52,2.0699999999999998,63,1.77,47,22.89,45,null,207,null,"*",5,0,5,null,"Bronze",null,"M",null,207.00309999999999,{"$f":"IF($Z31>=1,RANK($Z31,$Z21:$Z36),0)","v":3},207,null,0,{"$f":"IF($AD31>=1,RANK($AD31,$AD21:$AD36),0)","v":0},0,null,null,207,0]
[null,28,59,"Natalee May Souch","Yate & District AC",12.5,45,2.19,51,1.78,48,20.079999999999998,40,null,184,null,"*",0,4,11,null,"Silver",null,"F",null,0,{"$f":"IF($Z32>=1,RANK($Z32,$Z21:$Z36),0)","v":0},0,null,184.00319999999999,{"$f":"IF($AD32>=1,RANK($AD32,$AD21:$AD36),0)","v":2},184,null,null,0,184]
[null,29,60,"Lola Southernwood","...",13.7,33,2.29,41,1.72,45,15.39,30,null,149,null,"*",0,8,19,null,"Step 9",null,"F",null,0,{"$f":"IF($Z33>=1,RANK($Z33,$Z21:$Z36),0)","v":0},0,null,149.0033,{"$f":"IF($AD33>=1,RANK($AD33,$AD21:$AD36),0)","v":4},149,null,null,0,149]
[null,30,63,"Allegra Flora Spicer","Cheltenham and County Harriers",13.4,36,0,0,0,0,0,0,null,36,null,"",0,19,33,null,"",null,"F",null,0,{"$f":"IF($Z34>=1,RANK($Z34,$Z21:$Z36),0)","v":0},0,null,36.003399999999999,{"$f":"IF($AD34>=1,RANK($AD34,$AD21:$AD36),0)","v":9},0,null,null,0,36]
[null,31,68,"Annabelle Weldon","Cheltenham and County Harriers",12.4,46,2.36,34,1.77,47,21.7,43,null,170,null,"*",0,6,14,null,"Bronze",null,"F",null,0,{"$f":"IF($Z35>=1,RANK($Z35,$Z21:$Z36),0)","v":0},0,null,170.0035,{"$f":"IF($AD35>=1,RANK($AD35,$AD21:$AD36),0)","v":3},170,null,null,0,170]
[null,32,72,"Tayla Florence Williams","Carmarthen & District Harriers",14,30,2.2999999999999998,40,1.4,29,13.09,26,null,125,null,"",0,11,24,null,"Step 7",null,"F",null,0,{"$f":"IF($Z36>=1,RANK($Z36,$Z21:$Z36),0)","v":0},0,{"$f":"SUM(AB21:AB36)","v":825},125.00360000000001,{"$f":"IF($AD36>=1,RANK($AD36,$AD21:$AD36),0)","v":6},0,{"$f":"SUM(AF21:AF36)","v":691},null,0,125]
[null,33,73,"Bethan Frances Wilson","Cheltenham and County Harriers",13.6,34,2.29,41,1.39,28,6.38,12,{"$f":"INDEX(RelayPoints,A52)","v":0},{"$f":"+G37+I37+K37+M37","v":115},{"$f":"+AC52+AG52+N37","v":474},{"$f":"IF(AB37+AF37>0,\"*\",\"\")","v":"*"},0,13,26,null,"Step 6",null,"F",null,0,{"$f":"IF($Z37>=1,RANK($Z37,$Z37:$Z52),0)","v":0},{"$f":"IF(AA37<=MaxS,INT(Z37),0)","v":0},null,115.00369999999999,{"$f":"IF($AD37>=1,RANK($AD37,$AD37:$AD52),0)","v":1},{"$f":"IF(AE37<=MaxS,INT(AD37),0)","v":115},null,null,0,115]
[null,34,74,"Isla Wright","Cirencester AC",12.5,45,0,0,0,0,0,0,null,{"$f":"+G38+I38+K38+M38","v":45},null,{"$f":"IF(AB38+AF38>0,\"*\",\"\")","v":"*"},0,18,32,null,"Step 1",null,"F",null,0,{"$f":"IF($Z38>=1,RANK($Z38,$Z37:$Z52),0)","v":0},0,null,45.003799999999998,{"$f":"IF($AD38>=1,RANK($AD38,$AD37:$AD52),0)","v":2},45,null,null,0,45]
[null,35,76,"Joshua Young","Cheltenham and County Harriers",13.6,34,2.16,54,1.44,31,12.8,25,null,144,null,"*",12,0,21,null,"Step 6",null,"M",null,144.00389999999999,{"$f":"IF($Z39>=1,RANK($Z39,$Z37:$Z52),0)","v":2},144,null,0,{"$f":"IF($AD39>=1,RANK($AD39,$AD37:$AD52),0)","v":0},0,null,null,144,0]
[null,36,77,"Piero Zanca","Cheltenham and County Harriers",12.7,43,2.11,59,1.39,28,20.399999999999999,40,null,170,null,"*",9,0,14,null,"Step 8",null,"M",null,170.00399999999999,{"$f":"IF($Z40>=1,RANK($Z40,$Z37:$Z52),0)","v":1},170,null,0,{"$f":"IF($AD40>=1,RANK($AD40,$AD37:$AD52),0)","v":0},0,null,null,170,0]
[null,0,null,"","",0,0,0,0,0,0,0,0,null,0,null,"",0,0,0,null,"",null,"",null,0,{"$f":"IF($Z41>=1,RANK($Z41,$Z37:$Z52),0)","v":0},0,null,0,{"$f":"IF($AD41>=1,RANK($AD41,$AD37:$AD52),0)","v":0},0,null,null,0,0]
[null,0,null,"","",0,0,0,0,0,0,0,0,null,0,null,"",0,0,0,null,"",null,"",null,0,{"$f":"IF($Z42>=1,RANK($Z42,$Z37:$Z52),0)","v":0},0,null,0,{"$f":"IF($AD42>=1,RANK($AD42,$AD37:$AD52),0)","v":0},0,null,null,0,0]
[null,0,null,"","",0,0,0,0,0,0,0,0,null,0,null,"",0,0,0,null,"",null,"",null,0,{"$f":"IF($Z43>=1,RANK($Z43,$Z37:$Z52),0)","v":0},0,null,0,{"$f":"IF($AD43>=1,RANK($AD43,$AD37:$AD52),0)","v":0},0,null,null,0,0]
[null,0,null,"","",0,0,0,0,0,0,0,0,null,0,null,"",0,0,0,null,"",null,"",null,0,{"$f":"IF($Z44>=1,RANK($Z44,$Z37:$Z52),0)","v":0},0,null,0,{"$f":"IF($AD44>=1,RANK($AD44,$AD37:$AD52),0)","v":0},0,null,null,0,0]
[null,{"$f":"IF(OR(ISNA(MATCH(C45&\"\",AthleteNumbers,0)),ISBLANK(C45)),0,MATCH(C45&\"\",AthleteNumbers,0))","v":0},null,"","",0,0,0,0,0,0,0,0,null,{"$f":"+G45+I45+K45+M45","v":0},null,{"$f":"IF(AB45+AF45>0,\"*\",\"\")","v":""},0,0,{"$f":"IF($O45>0,RANK(O45,AthletePoints),0)","v":0},null,{"$f":"IF(O45>=40,IF(X45=\"M\",VLOOKUP(O45,UKABoysAwards,2),IF(X45=\"F\",VLOOKUP(O45,UKAGirlsAwards,2),\"\")),\"\")","v":""},null,"",null,0,{"$f":"IF($Z45>=1,RANK($Z45,$Z37:$Z52),0)","v":0},{"$f":"IF(AA45<=MaxS,INT(Z45),0)","v":0},null,0,{"$f":"IF($AD45>=1,RANK($AD45,$AD37:$AD52),0)","v":0},{"$f":"IF(AE45<=MaxS,INT(AD45),0)","v":0},null,null,0,0]
[null,{"$f":"IF(OR(ISNA(MATCH(C46&\"\",AthleteNumbers,0)),ISBLANK(C46)),0,MATCH(C46&\"\",AthleteNumbers,0))","v":0},null,"","",0,0,0,0,0,0,0,0,null,{"$f":"+G46+I46+K46+M46","v":0},null,{"$f":"IF(AB46+AF46>0,\"*\",\"\")","v":""},0,0,{"$f":"IF($O46>0,RANK(O46,AthletePoints),0)","v":0},null,{"$f":"IF(O46>=40,IF(X46=\"M\",VLOOKUP(O46,UKABoysAwards,2),IF(X46=\"F\",VLOOKUP(O46,UKAGirlsAwards,2),\"\")),\"\")","v":""},null,"",null,0,{"$f":"IF($Z46>=1,RANK($Z46,$Z37:$Z52),0)","v":0},{"$f":"IF(AA46<=MaxS,INT(Z46),0)","v":0},null,0,{"$f":"IF($AD46>=1,RANK($AD46,$AD37:$AD52),0)","v":0},{"$f":"IF(AE46<=MaxS,INT(AD46),0)","v":0},null,null,0,0]
[null,0,null,"","",0,0,0,0,0,0,0,0,null,0,null,"",0,0,0,null,"",null,"",null,0,{"$f":"IF($Z47>=1,RANK($Z47,$Z37:$Z52),0)","v":0},0,null,0,{"$f":"IF($AD47>=1,RANK($AD47,$AD37:$AD52),0)","v":0},0,null,null,0,0]
[null,0,null,"","",0,0,0,0,0,0,0,0,null,0,null,"",0,0,0,null,"",null,"",null,0,{"$f":"IF($Z48>=1,RANK($Z48,$Z37:$Z52),0)","v":0},0,null,0,{"$f":"IF($AD48>=1,RANK($AD48,$AD37:$AD52),0)","v":0},0,null,null,0,0]
[null,0,null,"","",0,0,0,0,0,0,0,0,null,0,null,"",0,0,0,null,"",null,"",null,0,{"$f":"IF($Z49>=1,RANK($Z49,$Z37:$Z52),0)","v":0},0,null,0,{"$f":"IF($AD49>=1,RANK($AD49,$AD37:$AD52),0)","v":0},0,null,null,0,0]
[null,0,null,"","",0,0,0,0,0,0,0,0,null,0,null,"",0,0,0,null,"",null,"",null,0,{"$f":"IF($Z50>=1,RANK($Z50,$Z37:$Z52),0)","v":0},0,null,0,{"$f":"IF($AD50>=1,RANK($AD50,$AD37:$AD52),0)","v":0},0,null,null,0,0]
[null,0,null,"","",0,0,0,0,0,0,0,0,null,0,null,"",0,0,0,null,"",null,"",null,0,{"$f":"IF($Z51>=1,RANK($Z51,$Z37:$Z52),0)","v":0},0,null,0,{"$f":"IF($AD51>=1,RANK($AD51,$AD37:$AD52),0)","v":0},0,null,null,0,0]
[null,0,null,"","",0,0,0,0,0,0,0,0,null,0,null,"",0,0,0,null,"",null,"",null,0,{"$f":"IF($Z52>=1,RANK($Z52,$Z37:$Z52),0)","v":0},0,{"$f":"SUM(AB37:AB52)","v":314},0,{"$f":"IF($AD52>=1,RANK($AD52,$AD37:$AD52),0)","v":0},0,{"$f":"SUM(AF37:AF52)","v":160},null,0,0]
[null,0,null,"","",0,0,0,0,0,0,0,0,{"$f":"INDEX(RelayPoints,A68)","v":{"$error":"#VALUE!"}},{"$f":"+G53+I53+K53+M53","v":0},{"$f":"+AC68+AG68+N53","v":{"$error":"#VALUE!"}},{"$f":"IF(AB53+AF53>0,\"*\",\"\")","v":""},0,0,0,null,"",null,"",null,0,{"$f":"IF($Z53>=1,RANK($Z53,$Z53:$Z68),0)","v":0},{"$f":"IF(AA53<=MaxS,INT(Z53),0)","v":0},null,0,{"$f":"IF($AD53>=1,RANK($AD53,$AD53:$AD68),0)","v":0},{"$f":"IF(AE53<=MaxS,INT(AD53),0)","v":0},null,null,0,0]
[null,0,null,"","",0,0,0,0,0,0,0,0,null,{"$f":"+G54+I54+K54+M54","v":0},null,{"$f":"IF(AB54+AF54>0,\"*\",\"\")","v":""},0,0,0,null,"",null,"",null,0,{"$f":"IF($Z54>=1,RANK($Z54,$Z53:$Z68),0)","v":0},0,null,0,{"$f":"IF($AD54>=1,RANK($AD54,$AD53:$AD68),0)","v":0},0,null,null,0,0]
[null,0,null,"","",0,0,0,0,0,0,0,0,null,0,null,"",0,0,0,null,"",null,"",null,0,{"$f":"IF($Z55>=1,RANK($Z55,$Z53:$Z68),0)","v":0},0,null,0,{"$f":"IF($AD55>=1,RANK($AD55,$AD53:$AD68),0)","v":0},0,null,null,0,0]
[null,0,null,"","",0,0,0,0,0,0,0,0,null,0,null,"",0,0,0,null,"",null,"",null,0,{"$f":"IF($Z56>=1,RANK($Z56,$Z53:$Z68),0)","v":0},0,null,0,{"$f":"IF($AD56>=1,RANK($AD56,$AD53:$AD68),0)","v":0},0,null,null,0,0]
[null,0,null,"","",0,0,0,0,0,0,0,0,null,0,null,"",0,0,0,null,"",null,"",null,0,{"$f":"IF($Z57>=1,RANK($Z57,$Z53:$Z68),0)","v":0},0,null,0,{"$f":"IF($AD57>=1,RANK($AD57,$AD53:$AD68),0)","v":0},0,null,null,0,0]
[null,{"$f":"IF(OR(ISNA(MATCH(C58&\"\",AthleteNumbers,0)),ISBLANK(C58)),0,MATCH(C58&\"\",AthleteNumbers,0))","v":0},null,"","",0,0,0,0,0,0,0,0,null,{"$f":"+G58+I58+K58+M58","v":0},null,{"$f":"IF(AB58+AF58>0,\"*\",\"\")","v":""},0,0,{"$f":"IF($O58>0,RANK(O58,AthletePoints),0)","v":0},null,{"$f":"IF(O58>=40,IF(X58=\"M\",VLOOKUP(O58,UKABoysAwards,2),IF(X58=\"F\",VLOOKUP(O58,UKAGirlsAwards,2),\"\")),\"\")","v":""},null,"",null,0,{"$f":"IF($Z58>=1,RANK($Z58,$Z53:$Z68),0)","v":0},{"$f":"IF(AA58<=MaxS,INT(Z58),0)","v":0},null,0,{"$f":"IF($AD58>=1,RANK($AD58,$AD53:$AD68),0)","v":0},{"$f":"IF(AE58<=MaxS,INT(AD58),0)","v":0},null,null,0,0]
[null,{"$f":"IF(OR(ISNA(MATCH(C59&\"\",AthleteNumbers,0)),ISBLANK(C59)),0,MATCH(C59&\"\",AthleteNumbers,0))","v":0},null,"","",0,0,0,0,0,0,0,0,null,{"$f":"+G59+I59+K59+M59","v":0},null,{"$f":"IF(AB59+AF59>0,\"*\",\"\")","v":""},0,0,{"$f":"IF($O59>0,RANK(O59,AthletePoints),0)","v":0},null,{"$f":"IF(O59>=40,IF(X59=\"M\",VLOOKUP(O59,UKABoysAwards,2),IF(X59=\"F\",VLOOKUP(O59,UKAGirlsAwards,2),\"\")),\"\")","v":""},null,"",null,0,{"$f":"IF($Z59>=1,RANK($Z59,$Z53:$Z68),0)","v":0},{"$f":"IF(AA59<=MaxS,INT(Z59),0)","v":0},null,0,{"$f":"IF($AD59>=1,RANK($AD59,$AD53:$AD68),0)","v":0},{"$f":"IF(AE59<=MaxS,INT(AD59),0)","v":0},null,null,0,0]
[null,0,null,"","",0,0,0,0,0,0,0,0,null,0,null,"",0,0,0,null,"",null,"",null,0,{"$f":"IF($Z60>=1,RANK($Z60,$Z53:$Z68),0)","v":0},0,null,0,{"$f":"IF($AD60>=1,RANK($AD60,$AD53:$AD68),0)","v":0},0,null,null,0,0]
[null,0,null,"","",0,0,0,0,0,0,0,0,null,0,null,"",0,0,0,null,"",null,"",null,0,{"$f":"IF($Z61>=1,RANK($Z61,$Z53:$Z68),0)","v":0},0,null,0,{"$f":"IF($AD61>=1,RANK($AD61,$AD53:$AD68),0)","v":0},0,null,null,0,0]
[null,0,null,"","",0,0,0,0,0,0,0,0,null,0,null,"",0,0,0,null,"",null,"",null,0,{"$f":"IF($Z62>=1,RANK($Z62,$Z53:$Z68),0)","v":0},0,null,0,{"$f":"IF($AD62>=1,RANK($AD62,$AD53:$AD68),0)","v":0},0,null,null,0,0]
[null,0,null,"","",0,0,0,0,0,0,0,0,null,0,null,"",0,0,0,null,"",null,"",null,0,{"$f":"IF($Z63>=1,RANK($Z63,$Z53:$Z68),0)","v":0},0,null,0,{"$f":"IF($AD63>=1,RANK($AD63,$AD53:$AD68),0)","v":0},0,null,null,0,0]
[null,0,null,"","",0,0,0,0,0,0,0,0,null,0,null,"",0,0,0,null,"",null,"",null,0,{"$f":"IF($Z64>=1,RANK($Z64,$Z53:$Z68),0)","v":0},0,null,0,{"$f":"IF($AD64>=1,RANK($AD64,$AD53:$AD68),0)","v":0},0,null,null,0,0]
[null,0,null,"","",0,0,0,0,0,0,0,0,null,0,null,"",0,0,0,null,"",null,"",null,0,{"$f":"IF($Z65>=1,RANK($Z65,$Z53:$Z68),0)","v":0},0,null,0,{"$f":"IF($AD65>=1,RANK($AD65,$AD53:$AD68),0)","v":0},0,null,null,0,0]
[null,0,null,"","",0,0,0,0,0,0,0,0,null,0,null,"",0,0,0,null,"",null,"",null,0,{"$f":"IF($Z66>=1,RANK($Z66,$Z53:$Z68),0)","v":0},0,null,0,{"$f":"IF($AD66>=1,RANK($AD66,$AD53:$AD68),0)","v":0},0,null,null,0,0]
[null,0,null,"","",0,0,0,0,0,0,0,0,null,0,null,"",0,0,0,null,"",null,"",null,0,{"$f":"IF($Z67>=1,RANK($Z67,$Z53:$Z68),0)","v":0},0,null,0,{"$f":"IF($AD67>=1,RANK($AD67,$AD53:$AD68),0)","v":0},0,null,null,0,0]
[null,0,null,"","",0,0,0,0,0,0,0,0,null,0,null,"",0,0,0,null,"",null,"",null,0,{"$f":"IF($Z68>=1,RANK($Z68,$Z53:$Z68),0)","v":0},0,{"$f":"SUM(AB53:AB68)","v":0},0,{"$f":"IF($AD68>=1,RANK($AD68,$AD53:$AD68),0)","v":0},0,{"$f":"SUM(AF53:AF68)","v":0},null,0,0]
[null,0,null,"","",0,0,0,0,0,0,0,0,{"$f":"INDEX(RelayPoints,A84)","v":{"$error":"#VALUE!"}},{"$f":"+G69+I69+K69+M69","v":0},{"$f":"+AC84+AG84+N69","v":{"$error":"#VALUE!"}},{"$f":"IF(AB69+AF69>0,\"*\",\"\")","v":""},0,0,0,null,"",null,"",null,0,{"$f":"IF($Z69>=1,RANK($Z69,$Z69:$Z84),0)","v":0},{"$f":"IF(AA69<=MaxS,INT(Z69),0)","v":0},null,0,{"$f":"IF($AD69>=1,RANK($AD69,$AD69:$AD84),0)","v":0},{"$f":"IF(AE69<=MaxS,INT(AD69),0)","v":0},null,null,0,0]
[null,0,null,"","",0,0,0,0,0,0,0,0,null,{"$f":"+G70+I70+K70+M70","v":0},null,{"$f":"IF(AB70+AF70>0,\"*\",\"\")","v":""},0,0,0,null,"",null,"",null,0,{"$f":"IF($Z70>=1,RANK($Z70,$Z69:$Z84),0)","v":0},0,null,0,{"$f":"IF($AD70>=1,RANK($AD70,$AD69:$AD84),0)","v":0},0,null,null,0,0]
[null,0,null,"","",0,0,0,0,0,0,0,0,null,0,null,"",0,0,0,null,"",null,"",null,0,{"$f":"IF($Z71>=1,RANK($Z71,$Z69:$Z84),0)","v":0},0,null,0,{"$f":"IF($AD71>=1,RANK($AD71,$AD69:$AD84),0)","v":0},0,null,null,0,0]
[null,0,null,"","",0,0,0,0,0,0,0,0,null,0,null,"",0,0,0,null,"",null,"",null,0,{"$f":"IF($Z72>=1,RANK($Z72,$Z69:$Z84),0)","v":0},0,null,0,{"$f":"IF($AD72>=1,RANK($AD72,$AD69:$AD84),0)","v":0},0,null,null,0,0]
[null,0,null,"","",0,0,0,0,0,0,0,0,null,0,null,"",0,0,0,null,"",null,"",null,0,{"$f":"IF($Z73>=1,RANK($Z73,$Z69:$Z84),0)","v":0},0,null,0,{"$f":"IF($AD73>=1,RANK($AD73,$AD69:$AD84),0)","v":0},0,null,null,0,0]
[null,0,null,"","",0,0,0,0,0,0,0,0,null,0,null,"",0,0,0,null,"",null,"",null,0,{"$f":"IF($Z74>=1,RANK($Z74,$Z69:$Z84),0)","v":0},0,null,0,{"$f":"IF($AD74>=1,RANK($AD74,$AD69:$AD84),0)","v":0},0,null,null,0,0]
[null,{"$f":"IF(OR(ISNA(MATCH(C75&\"\",AthleteNumbers,0)),ISBLANK(C75)),0,MATCH(C75&\"\",AthleteNumbers,0))","v":0},null,"","",0,0,0,0,0,0,0,0,null,{"$f":"+G75+I75+K75+M75","v":0},null,{"$f":"IF(AB75+AF75>0,\"*\",\"\")","v":""},0,0,{"$f":"IF($O75>0,RANK(O75,AthletePoints),0)","v":0},null,{"$f":"IF(O75>=40,IF(X75=\"M\",VLOOKUP(O75,UKABoysAwards,2),IF(X75=\"F\",VLOOKUP(O75,UKAGirlsAwards,2),\"\")),\"\")","v":""},null,"",null,0,{"$f":"IF($Z75>=1,RANK($Z75,$Z69:$Z84),0)","v":0},{"$f":"IF(AA75<=MaxS,INT(Z75),0)","v":0},null,0,{"$f":"IF($AD75>=1,RANK($AD75,$AD69:$AD84),0)","v":0},{"$f":"IF(AE75<=MaxS,INT(AD75),0)","v":0},null,null,0,0]
[null,{"$f":"IF(OR(ISNA(MATCH(C76&\"\",AthleteNumbers,0)),ISBLANK(C76)),0,MATCH(C76&\"\",AthleteNumbers,0))","v":0},null,"","",0,0,0,0,0,0,0,0,null,{"$f":"+G76+I76+K76+M76","v":0},null,{"$f":"IF(AB76+AF76>0,\"*\",\"\")","v":""},0,0,{"$f":"IF($O76>0,RANK(O76,AthletePoints),0)","v":0},null,{"$f":"IF(O76>=40,IF(X76=\"M\",VLOOKUP(O76,UKABoysAwards,2),IF(X76=\"F\",VLOOKUP(O76,UKAGirlsAwards,2),\"\")),\"\")","v":""},null,"",null,0,{"$f":"IF($Z76>=1,RANK($Z76,$Z69:$Z84),0)","v":0},{"$f":"IF(AA76<=MaxS,INT(Z76),0)","v":0},null,0,{"$f":"IF($AD76>=1,RANK($AD76,$AD69:$AD84),0)","v":0},{"$f":"IF(AE76<=MaxS,INT(AD76),0)","v":0},null,null,0,0]
[null,0,null,"","",0,0,0,0,0,0,0,0,null,0,null,"",0,0,0,null,"",null,"",null,0,{"$f":"IF($Z77>=1,RANK($Z77,$Z69:$Z84),0)","v":0},0,null,0,{"$f":"IF($AD77>=1,RANK($AD77,$AD69:$AD84),0)","v":0},0,null,null,0,0]
[null,0,null,"","",0,0,0,0,0,0,0,0,null,0,null,"",0,0,0,null,"",null,"",null,0,{"$f":"IF($Z78>=1,RANK($Z78,$Z69:$Z84),0)","v":0},0,null,0,{"$f":"IF($AD78>=1,RANK($AD78,$AD69:$AD84),0)","v":0},0,null,null,0,0]
[null,{"$f":"IF(OR(ISNA(MATCH(C79&\"\",AthleteNumbers,0)),ISBLANK(C79)),0,MATCH(C79&\"\",AthleteNumbers,0))","v":0},null,{"$f":"IF($B79>0,INDEX(DB,$B79,8),\"\")","v":""},{"$f":"IF($B79>0,INDEX(DB,$B79,3),\"\")","v":""},{"$f":"IF($B79>0,INDEX(DB,$B79,13),0)","v":0},{"$f":"IF($B79>0,INDEX(DB,$B79,17),0)","v":0},{"$f":"IF($B79>0,INDEX(DB,$B79,15),0)","v":0},{"$f":"IF($B79>0,INDEX(DB,$B79,19),0)","v":0},{"$f":"IF($B79>0,INDEX(DB,$B79,14),0)","v":0},{"$f":"IF($B79>0,INDEX(DB,$B79,18),0)","v":0},{"$f":"IF($B79>0,INDEX(DB,$B79,16),0)","v":0},{"$f":"IF($B79>0,INDEX(DB,$B79,20),0)","v":0},null,0,null,"",{"$f":"IF($AI79>0,RANK($AI79,BoysPoints),0)","v":0},{"$f":"IF($AJ79>0,RANK($AJ79,GirlsPoints),0)","v":0},{"$f":"IF($O79>0,RANK(O79,AthletePoints),0)","v":0},null,{"$f":"IF(O79>=40,IF(X79=\"M\",VLOOKUP(O79,UKABoysAwards,2),IF(X79=\"F\",VLOOKUP(O79,UKAGirlsAwards,2),\"\")),\"\")","v":""},null,{"$f":"INDEX(DB,$B79,4)","v":""},null,{"$f":"IF($X79=\"M\",$O79+(ROW()/10000),0)","v":0},{"$f":"IF($Z79>=1,RANK($Z79,$Z69:$Z84),0)","v":0},0,null,{"$f":"IF($X79=\"F\",$O79+(ROW()/10000),0)","v":0},{"$f":"IF($AD79>=1,RANK($AD79,$AD69:$AD84),0)","v":0},0,null,null,0,0]
[null,0,null,"","",0,0,0,0,0,0,0,0,null,0,null,"",0,0,0,null,"",null,"",null,0,{"$f":"IF($Z80>=1,RANK($Z80,$Z69:$Z84),0)","v":0},0,null,0,{"$f":"IF($AD80>=1,RANK($AD80,$AD69:$AD84),0)","v":0},0,null,null,{"$f":"IF($X80=\"M\",$O80,0)","v":0},{"$f":"IF($X80=\"F\",$O80,0)","v":0}]
[null,0,null,"","",0,0,0,0,0,0,0,0,null,0,null,"",0,0,0,null,"",null,"",null,0,{"$f":"IF($Z81>=1,RANK($Z81,$Z69:$Z84),0)","v":0},0,null,0,{"$f":"IF($AD81>=1,RANK($AD81,$AD69:$AD84),0)","v":0},0,null,null,0,0]
[null,0,null,"","",0,0,0,0,0,0,0,0,null,0,null,"",0,0,0,null,"",null,"",null,0,{"$f":"IF($Z82>=1,RANK($Z82,$Z69:$Z84),0)","v":0},0,null,0,{"$f":"IF($AD82>=1,RANK($AD82,$AD69:$AD84),0)","v":0},0,null,null,0,0]
[null,0,null,"","",0,0,0,0,0,0,0,0,null,0,null,"",0,0,0,null,"",null,"",null,0,{"$f":"IF($Z83>=1,RANK($Z83,$Z69:$Z84),0)","v":0},0,null,0,{"$f":"IF($AD83>=1,RANK($AD83,$AD69:$AD84),0)","v":0},0,null,null,0,0]
[null,0,null,"","",0,0,0,0,0,0,0,0,null,0,null,"",0,0,0,null,"",null,"",null,0,{"$f":"IF($Z84>=1,RANK($Z84,$Z69:$Z84),0)","v":0},0,{"$f":"SUM(AB69:AB84)","v":0},0,{"$f":"IF($AD84>=1,RANK($AD84,$AD69:$AD84),0)","v":0},0,{"$f":"SUM(AF69:AF84)","v":0},null,0,0]
[null,0,null,"","",0,0,0,0,0,0,0,0,{"$f":"INDEX(RelayPoints,A100)","v":{"$error":"#VALUE!"}},{"$f":"+G85+I85+K85+M85","v":0},{"$f":"+AC100+AG100+N85","v":{"$error":"#VALUE!"}},{"$f":"IF(AB85+AF85>0,\"*\",\"\")","v":""},0,0,0,null,"",null,"",null,0,{"$f":"IF($Z85>=1,RANK($Z85,$Z85:$Z100),0)","v":0},{"$f":"IF(AA85<=MaxS,INT(Z85),0)","v":0},null,0,{"$f":"IF($AD85>=1,RANK($AD85,$AD85:$AD100),0)","v":0},{"$f":"IF(AE85<=MaxS,INT(AD85),0)","v":0},null,null,0,0]
[null,0,null,"","",0,0,0,0,0,0,0,0,null,{"$f":"+G86+I86+K86+M86","v":0},null,{"$f":"IF(AB86+AF86>0,\"*\",\"\")","v":""},0,0,0,null,"",null,"",null,0,{"$f":"IF($Z86>=1,RANK($Z86,$Z85:$Z100),0)","v":0},0,null,0,{"$f":"IF($AD86>=1,RANK($AD86,$AD85:$AD100),0)","v":0},0,null,null,0,0]
[null,0,null,"","",0,0,0,0,0,0,0,0,null,0,null,"",0,0,0,null,"",null,"",null,0,{"$f":"IF($Z87>=1,RANK($Z87,$Z85:$Z100),0)","v":0},0,null,0,{"$f":"IF($AD87>=1,RANK($AD87,$AD85:$AD100),0)","v":0},0,null,null,0,0]
[null,0,null,"","",0,0,0,0,0,0,0,0,null,0,null,"",0,0,0,null,"",null,"",null,0,{"$f":"IF($Z88>=1,RANK($Z88,$Z85:$Z100),0)","v":0},0,null,0,{"$f":"IF($AD88>=1,RANK($AD88,$AD85:$AD100),0)","v":0},0,null,null,0,0]
[null,{"$f":"IF(OR(ISNA(MATCH(C89&\"\",AthleteNumbers,0)),ISBLANK(C89)),0,MATCH(C89&\"\",AthleteNumbers,0))","v":0},null,"","",0,0,0,0,0,0,0,0,null,{"$f":"+G89+I89+K89+M89","v":0},null,{"$f":"IF(AB89+AF89>0,\"*\",\"\")","v":""},0,0,{"$f":"IF($O89>0,RANK(O89,AthletePoints),0)","v":0},null,{"$f":"IF(O89>=40,IF(X89=\"M\",VLOOKUP(O89,UKABoysAwards,2),IF(X89=\"F\",VLOOKUP(O89,UKAGirlsAwards,2),\"\")),\"\")","v":""},null,"",null,0,{"$f":"IF($Z89>=1,RANK($Z89,$Z85:$Z100),0)","v":0},{"$f":"IF(AA89<=MaxS,INT(Z89),0)","v":0},null,0,{"$f":"IF($AD89>=1,RANK($AD89,$AD85:$AD100),0)","v":0},{"$f":"IF(AE89<=MaxS,INT(AD89),0)","v":0},null,null,0,0]
[null,{"$f":"IF(OR(ISNA(MATCH(C90&\"\",AthleteNumbers,0)),ISBLANK(C90)),0,MATCH(C90&\"\",AthleteNumbers,0))","v":0},null,"","",0,0,0,0,0,0,0,0,null,{"$f":"+G90+I90+K90+M90","v":0},null,{"$f":"IF(AB90+AF90>0,\"*\",\"\")","v":""},0,0,{"$f":"IF($O90>0,RANK(O90,AthletePoints),0)","v":0},null,{"$f":"IF(O90>=40,IF(X90=\"M\",VLOOKUP(O90,UKABoysAwards,2),IF(X90=\"F\",VLOOKUP(O90,UKAGirlsAwards,2),\"\")),\"\")","v":""},null,"",null,0,{"$f":"IF($Z90>=1,RANK($Z90,$Z85:$Z100),0)","v":0},{"$f":"IF(AA90<=MaxS,INT(Z90),0)","v":0},null,0,{"$f":"IF($AD90>=1,RANK($AD90,$AD85:$AD100),0)","v":0},{"$f":"IF(AE90<=MaxS,INT(AD90),0)","v":0},null,null,0,0]
[null,0,null,"","",0,0,0,0,0,0,0,0,null,0,null,"",0,0,0,null,"",null,"",null,0,{"$f":"IF($Z91>=1,RANK($Z91,$Z85:$Z100),0)","v":0},0,null,0,{"$f":"IF($AD91>=1,RANK($AD91,$AD85:$AD100),0)","v":0},0,null,null,0,0]
[null,0,null,"","",0,0,0,0,0,0,0,0,null,0,null,"",0,0,0,null,"",null,"",null,0,{"$f":"IF($Z92>=1,RANK($Z92,$Z85:$Z100),0)","v":0},0,null,0,{"$f":"IF($AD92>=1,RANK($AD92,$AD85:$AD100),0)","v":0},0,null,null,0,0]
[null,0,null,"","",0,0,0,0,0,0,0,0,null,0,null,"",0,0,0,null,"",null,"",null,0,{"$f":"IF($Z93>=1,RANK($Z93,$Z85:$Z100),0)","v":0},0,null,0,{"$f":"IF($AD93>=1,RANK($AD93,$AD85:$AD100),0)","v":0},0,null,null,0,0]
[null,0,null,"","",0,0,0,0,0,0,0,0,null,0,null,"",0,0,0,null,"",null,"",null,0,{"$f":"IF($Z94>=1,RANK($Z94,$Z85:$Z100),0)","v":0},0,null,0,{"$f":"IF($AD94>=1,RANK($AD94,$AD85:$AD100),0)","v":0},0,null,null,0,0]
[null,0,null,"","",0,0,0,0,0,0,0,0,null,0,null,"",0,0,0,null,"",null,"",null,0,{"$f":"IF($Z95>=1,RANK($Z95,$Z85:$Z100),0)","v":0},0,null,0,{"$f":"IF($AD95>=1,RANK($AD95,$AD85:$AD100),0)","v":0},0,null,null,0,0]
[null,0,null,"","",0,0,0,0,0,0,0,0,null,0,null,"",0,0,0,null,"",null,"",null,0,{"$f":"IF($Z96>=1,RANK($Z96,$Z85:$Z100),0)","v":0},0,null,0,{"$f":"IF($AD96>=1,RANK($AD96,$AD85:$AD100),0)","v":0},0,null,null,0,0]
[null,0,null,"","",0,0,0,0,0,0,0,0,null,0,null,"",0,0,0,null,"",null,"",null,0,{"$f":"IF($Z97>=1,RANK($Z97,$Z85:$Z100),0)","v":0},0,null,0,{"$f":"IF($AD97>=1,RANK($AD97,$AD85:$AD100),0)","v":0},0,null,null,0,0]
[null,0,null,"","",0,0,0,0,0,0,0,0,null,0,null,"",0,0,0,null,"",null,"",null,0,{"$f":"IF($Z98>=1,RANK($Z98,$Z85:$Z100),0)","v":0},0,null,0,{"$f":"IF($AD98>=1,RANK($AD98,$AD85:$AD100),0)","v":0},0,null,null,0,0]
[null,0,null,"","",0,0,0,0,0,0,0,0,null,0,null,"",0,0,0,null,"",null,"",null,0,{"$f":"IF($Z99>=1,RANK($Z99,$Z85:$Z100),0)","v":0},0,null,0,{"$f":"IF($AD99>=1,RANK($AD99,$AD85:$AD100),0)","v":0},0,null,null,0,0]
[null,0,null,"","",0,0,0,0,0,0,0,0,null,0,null,"",0,0,0,null,"",null,"",null,0,{"$f":"IF($Z100>=1,RANK($Z100,$Z85:$Z100),0)","v":0},0,{"$f":"SUM(AB85:AB100)","v":0},0,{"$f":"IF($AD100>=1,RANK($AD100,$AD85:$AD100),0)","v":0},0,{"$f":"SUM(AF85:AF100)","v":0},null,0,0]
[null,0,null,"","",0,0,0,0,0,0,0,0,{"$f":"INDEX(RelayPoints,A116)","v":{"$error":"#VALUE!"}},{"$f":"+G101+I101+K101+M101","v":0},{"$f":"+AC116+AG116+N101","v":{"$error":"#VALUE!"}},{"$f":"IF(AB101+AF101>0,\"*\",\"\")","v":""},0,0,0,null,"",null,"",null,0,{"$f":"IF($Z101>=1,RANK($Z101,$Z101:$Z116),0)","v":0},{"$f":"IF(AA101<=MaxS,INT(Z101),0)","v":0},null,0,{"$f":"IF($AD101>=1,RANK($AD101,$AD101:$AD116),0)","v":0},{"$f":"IF(AE101<=MaxS,INT(AD101),0)","v":0},null,null,0,0]
[null,0,null,"","",0,0,0,0,0,0,0,0,null,{"$f":"+G102+I102+K102+M102","v":0},null,{"$f":"IF(AB102+AF102>0,\"*\",\"\")","v":""},0,0,0,null,"",null,"",null,0,{"$f":"IF($Z102>=1,RANK($Z102,$Z101:$Z116),0)","v":0},0,null,0,{"$f":"IF($AD102>=1,RANK($AD102,$AD101:$AD116),0)","v":0},0,null,null,0,0]
[null,0,null,"","",0,0,0,0,0,0,0,0,null,0,null,"",0,0,0,null,"",null,"",null,0,{"$f":"IF($Z103>=1,RANK($Z103,$Z101:$Z116),0)","v":0},0,null,0,{"$f":"IF($AD103>=1,RANK($AD103,$AD101:$AD116),0)","v":0},0,null,null,0,0]
[null,0,null,"","",0,0,0,0,0,0,0,0,null,0,null,"",0,0,0,null,"",null,"",null,0,{"$f":"IF($Z104>=1,RANK($Z104,$Z101:$Z116),0)","v":0},0,null,0,{"$f":"IF($AD104>=1,RANK($AD104,$AD101:$AD116),0)","v":0},0,null,null,0,0]
[null,0,null,"","",0,0,0,0,0,0,0,0,null,0,null,"",0,0,0,null,"",null,"",null,0,{"$f":"IF($Z105>=1,RANK($Z105,$Z101:$Z116),0)","v":0},0,null,0,{"$f":"IF($AD105>=1,RANK($AD105,$AD101:$AD116),0)","v":0},0,null,null,0,0]
[null,{"$f":"IF(OR(ISNA(MATCH(C106&\"\",AthleteNumbers,0)),ISBLANK(C106)),0,MATCH(C106&\"\",AthleteNumbers,0))","v":0},null,"","",0,0,0,0,0,0,0,0,null,{"$f":"+G106+I106+K106+M106","v":0},null,{"$f":"IF(AB106+AF106>0,\"*\",\"\")","v":""},0,0,{"$f":"IF($O106>0,RANK(O106,AthletePoints),0)","v":0},null,{"$f":"IF(O106>=40,IF(X106=\"M\",VLOOKUP(O106,UKABoysAwards,2),IF(X106=\"F\",VLOOKUP(O106,UKAGirlsAwards,2),\"\")),\"\")","v":""},null,"",null,0,{"$f":"IF($Z106>=1,RANK($Z106,$Z101:$Z116),0)","v":0},{"$f":"IF(AA106<=MaxS,INT(Z106),0)","v":0},null,0,{"$f":"IF($AD106>=1,RANK($AD106,$AD101:$AD116),0)","v":0},{"$f":"IF(AE106<=MaxS,INT(AD106),0)","v":0},null,null,0,0]
[null,{"$f":"IF(OR(ISNA(MATCH(C107&\"\",AthleteNumbers,0)),ISBLANK(C107)),0,MATCH(C107&\"\",AthleteNumbers,0))","v":0},null,"","",0,0,0,0,0,0,0,0,null,{"$f":"+G107+I107+K107+M107","v":0},null,{"$f":"IF(AB107+AF107>0,\"*\",\"\")","v":""},0,0,{"$f":"IF($O107>0,RANK(O107,AthletePoints),0)","v":0},null,{"$f":"IF(O107>=40,IF(X107=\"M\",VLOOKUP(O107,UKABoysAwards,2),IF(X107=\"F\",VLOOKUP(O107,UKAGirlsAwards,2),\"\")),\"\")","v":""},null,"",null,0,{"$f":"IF($Z107>=1,RANK($Z107,$Z101:$Z116),0)","v":0},{"$f":"IF(AA107<=MaxS,INT(Z107),0)","v":0},null,0,{"$f":"IF($AD107>=1,RANK($AD107,$AD101:$AD116),0)","v":0},{"$f":"IF(AE107<=MaxS,INT(AD107),0)","v":0},null,null,0,0]
[null,0,null,"","",0,0,0,0,0,0,0,0,null,0,null,"",0,0,0,null,"",null,"",null,0,{"$f":"IF($Z108>=1,RANK($Z108,$Z101:$Z116),0)","v":0},0,null,0,{"$f":"IF($AD108>=1,RANK($AD108,$AD101:$AD116),0)","v":0},0,null,null,0,0]
[null,0,null,"","",0,0,0,0,0,0,0,0,null,0,null,"",0,0,0,null,"",null,"",null,0,{"$f":"IF($Z109>=1,RANK($Z109,$Z101:$Z116),0)","v":0},0,null,0,{"$f":"IF($AD109>=1,RANK($AD109,$AD101:$AD116),0)","v":0},0,null,null,0,0]
[null,0,null,"","",0,0,0,0,0,0,0,0,null,0,null,"",0,0,0,null,"",null,"",null,0,{"$f":"IF($Z110>=1,RANK($Z110,$Z101:$Z116),0)","v":0},0,null,0,{"$f":"IF($AD110>=1,RANK($AD110,$AD101:$AD116),0)","v":0},0,null,null,0,0]
[null,0,null,"","",0,0,0,0,0,0,0,0,null,0,null,"",0,0,0,null,"",null,"",null,0,{"$f":"IF($Z111>=1,RANK($Z111,$Z101:$Z116),0)","v":0},0,null,0,{"$f":"IF($AD111>=1,RANK($AD111,$AD101:$AD116),0)","v":0},0,null,null,0,0]
[null,0,null,"","",0,0,0,0,0,0,0,0,null,0,null,"",0,0,0,null,"",null,"",null,0,{"$f":"IF($Z112>=1,RANK($Z112,$Z101:$Z116),0)","v":0},0,null,0,{"$f":"IF($AD112>=1,RANK($AD112,$AD101:$AD116),0)","v":0},0,null,null,0,0]
[null,0,null,"","",0,0,0,0,0,0,0,0,null,0,null,"",0,0,0,null,"",null,"",null,0,{"$f":"IF($Z113>=1,RANK($Z113,$Z101:$Z116),0)","v":0},0,null,0,{"$f":"IF($AD113>=1,RANK($AD113,$AD101:$AD116),0)","v":0},0,null,null,0,0]
[null,0,null,"","",0,0,0,0,0,0,0,0,null,0,null,"",0,0,0,null,"",null,"",null,0,{"$f":"IF($Z114>=1,RANK($Z114,$Z101:$Z116),0)","v":0},0,null,0,{"$f":"IF($AD114>=1,RANK($AD114,$AD101:$AD116),0)","v":0},0,null,null,0,0]
[null,0,null,"","",0,0,0,0,0,0,0,0,null,0,null,"",0,0,0,null,"",null,"",null,0,{"$f":"IF($Z115>=1,RANK($Z115,$Z101:$Z116),0)","v":0},0,null,0,{"$f":"IF($AD115>=1,RANK($AD115,$AD101:$AD116),0)","v":0},0,null,null,0,0]
[null,0,null,"","",0,0,0,0,0,0,0,0,null,0,null,"",0,0,0,null,"",null,"",null,0,{"$f":"IF($Z116>=1,RANK($Z116,$Z101:$Z116),0)","v":0},0,{"$f":"SUM(AB101:AB116)","v":0},0,{"$f":"IF($AD116>=1,RANK($AD116,$AD101:$AD116),0)","v":0},0,{"$f":"SUM(AF101:AF116)","v":0},null,0,0]
[null,0,null,"","",0,0,0,0,0,0,0,0,{"$f":"INDEX(RelayPoints,A132)","v":{"$error":"#VALUE!"}},{"$f":"+G117+I117+K117+M117","v":0},{"$f":"+AC132+AG132+N117","v":{"$error":"#VALUE!"}},{"$f":"IF(AB117+AF117>0,\"*\",\"\")","v":""},0,0,0,null,"",null,"",null,0,{"$f":"IF($Z117>=1,RANK($Z117,$Z117:$Z132),0)","v":0},{"$f":"IF(AA117<=MaxS,INT(Z117),0)","v":0},null,0,{"$f":"IF($AD117>=1,RANK($AD117,$AD117:$AD132),0)","v":0},{"$f":"IF(AE117<=MaxS,INT(AD117),0)","v":0},null,null,0,0]
[null,0,null,"","",0,0,0,0,0,0,0,0,null,{"$f":"+G118+I118+K118+M118","v":0},null,{"$f":"IF(AB118+AF118>0,\"*\",\"\")","v":""},0,0,0,null,"",null,"",null,0,{"$f":"IF($Z118>=1,RANK($Z118,$Z117:$Z132),0)","v":0},0,null,0,{"$f":"IF($AD118>=1,RANK($AD118,$AD117:$AD132),0)","v":0},0,null,null,0,0]
[null,0,null,"","",0,0,0,0,0,0,0,0,null,0,null,"",0,0,0,null,"",null,"",null,0,{"$f":"IF($Z119>=1,RANK($Z119,$Z117:$Z132),0)","v":0},0,null,0,{"$f":"IF($AD119>=1,RANK($AD119,$AD117:$AD132),0)","v":0},0,null,null,0,0]
[null,{"$f":"IF(OR(ISNA(MATCH(C120&\"\",AthleteNumbers,0)),ISBLANK(C120)),0,MATCH(C120&\"\",AthleteNumbers,0))","v":0},null,"","",0,0,0,0,0,0,0,0,null,{"$f":"+G120+I120+K120+M120","v":0},null,{"$f":"IF(AB120+AF120>0,\"*\",\"\")","v":""},0,0,{"$f":"IF($O120>0,RANK(O120,AthletePoints),0)","v":0},null,{"$f":"IF(O120>=40,IF(X120=\"M\",VLOOKUP(O120,UKABoysAwards,2),IF(X120=\"F\",VLOOKUP(O120,UKAGirlsAwards,2),\"\")),\"\")","v":""},null,"",null,0,{"$f":"IF($Z120>=1,RANK($Z120,$Z117:$Z132),0)","v":0},{"$f":"IF(AA120<=MaxS,INT(Z120),0)","v":0},null,0,{"$f":"IF($AD120>=1,RANK($AD120,$AD117:$AD132),0)","v":0},{"$f":"IF(AE120<=MaxS,INT(AD120),0)","v":0},null,null,0,0]
[null,{"$f":"IF(OR(ISNA(MATCH(C121&\"\",AthleteNumbers,0)),ISBLANK(C121)),0,MATCH(C121&\"\",AthleteNumbers,0))","v":0},null,"","",0,0,0,0,0,0,0,0,null,{"$f":"+G121+I121+K121+M121","v":0},null,{"$f":"IF(AB121+AF121>0,\"*\",\"\")","v":""},0,0,{"$f":"IF($O121>0,RANK(O121,AthletePoints),0)","v":0},null,{"$f":"IF(O121>=40,IF(X121=\"M\",VLOOKUP(O121,UKABoysAwards,2),IF(X121=\"F\",VLOOKUP(O121,UKAGirlsAwards,2),\"\")),\"\")","v":""},null,"",null,0,{"$f":"IF($Z121>=1,RANK($Z121,$Z117:$Z132),0)","v":0},{"$f":"IF(AA121<=MaxS,INT(Z121),0)","v":0},null,0,{"$f":"IF($AD121>=1,RANK($AD121,$AD117:$AD132),0)","v":0},{"$f":"IF(AE121<=MaxS,INT(AD121),0)","v":0},null,null,0,0]
[null,0,null,"","",0,0,0,0,0,0,0,0,null,0,null,"",0,0,0,null,"",null,"",null,0,{"$f":"IF($Z122>=1,RANK($Z122,$Z117:$Z132),0)","v":0},0,null,0,{"$f":"IF($AD122>=1,RANK($AD122,$AD117:$AD132),0)","v":0},0,null,null,0,0]
[null,0,null,"","",0,0,0,0,0,0,0,0,null,0,null,"",0,0,0,null,"",null,"",null,0,{"$f":"IF($Z123>=1,RANK($Z123,$Z117:$Z132),0)","v":0},0,null,0,{"$f":"IF($AD123>=1,RANK($AD123,$AD117:$AD132),0)","v":0},0,null,null,0,0]
[null,0,null,"","",0,0,0,0,0,0,0,0,null,0,null,"",0,0,0,null,"",null,"",null,0,{"$f":"IF($Z124>=1,RANK($Z124,$Z117:$Z132),0)","v":0},0,null,0,{"$f":"IF($AD124>=1,RANK($AD124,$AD117:$AD132),0)","v":0},0,null,null,0,0]
[null,0,null,"","",0,0,0,0,0,0,0,0,null,0,null,"",0,0,0,null,"",null,"",null,0,{"$f":"IF($Z125>=1,RANK($Z125,$Z117:$Z132),0)","v":0},0,null,0,{"$f":"IF($AD125>=1,RANK($AD125,$AD117:$AD132),0)","v":0},0,null,null,0,0]
[null,0,null,"","",0,0,0,0,0,0,0,0,null,0,null,"",0,0,0,null,"",null,"",null,0,{"$f":"IF($Z126>=1,RANK($Z126,$Z117:$Z132),0)","v":0},0,null,0,{"$f":"IF($AD126>=1,RANK($AD126,$AD117:$AD132),0)","v":0},0,null,null,0,0]
[null,0,null,"","",0,0,0,0,0,0,0,0,null,0,null,"",0,0,0,null,"",null,"",null,0,{"$f":"IF($Z127>=1,RANK($Z127,$Z117:$Z132),0)","v":0},0,null,0,{"$f":"IF($AD127>=1,RANK($AD127,$AD117:$AD132),0)","v":0},0,null,null,0,0]
[null,0,null,"","",0,0,0,0,0,0,0,0,null,0,null,"",0,0,0,null,"",null,"",null,0,{"$f":"IF($Z128>=1,RANK($Z128,$Z117:$Z132),0)","v":0},0,null,0,{"$f":"IF($AD128>=1,RANK($AD128,$AD117:$AD132),0)","v":0},0,null,null,0,0]
[null,0,null,"","",0,0,0,0,0,0,0,0,null,0,null,"",0,0,0,null,"",null,"",null,0,{"$f":"IF($Z129>=1,RANK($Z129,$Z117:$Z132),0)","v":0},0,null,0,{"$f":"IF($AD129>=1,RANK($AD129,$AD117:$AD132),0)","v":0},0,null,null,0,0]
[null,0,null,"","",0,0,0,0,0,0,0,0,null,0,null,"",0,0,0,null,"",null,"",null,0,{"$f":"IF($Z130>=1,RANK($Z130,$Z117:$Z132),0)","v":0},0,null,0,{"$f":"IF($AD130>=1,RANK($AD130,$AD117:$AD132),0)","v":0},0,null,null,0,0]
[null,0,null,"","",0,0,0,0,0,0,0,0,null,0,null,"",0,0,0,null,"",null,"",null,0,{"$f":"IF($Z131>=1,RANK($Z131,$Z117:$Z132),0)","v":0},0,null,0,{"$f":"IF($AD131>=1,RANK($AD131,$AD117:$AD132),0)","v":0},0,null,null,0,0]
[null,0,null,"","",0,0,0,0,0,0,0,0,null,0,null,"",0,0,0,null,"",null,"",null,0,{"$f":"IF($Z132>=1,RANK($Z132,$Z117:$Z132),0)","v":0},0,{"$f":"SUM(AB117:AB132)","v":0},0,{"$f":"IF($AD132>=1,RANK($AD132,$AD117:$AD132),0)","v":0},0,{"$f":"SUM(AF117:AF132)","v":0},null,0,0]
[null,0,null,"","",0,0,0,0,0,0,0,0,{"$f":"INDEX(RelayPoints,A148)","v":{"$error":"#VALUE!"}},{"$f":"+G133+I133+K133+M133","v":0},{"$f":"+AC148+AG148+N133","v":{"$error":"#VALUE!"}},{"$f":"IF(AB133+AF133>0,\"*\",\"\")","v":""},0,0,0,null,"",null,"",null,0,{"$f":"IF($Z133>=1,RANK($Z133,$Z133:$Z148),0)","v":0},{"$f":"IF(AA133<=MaxS,INT(Z133),0)","v":0},null,0,{"$f":"IF($AD133>=1,RANK($AD133,$AD133:$AD148),0)","v":0},{"$f":"IF(AE133<=MaxS,INT(AD133),0)","v":0},null,null,0,0]
[null,0,null,"","",0,0,0,0,0,0,0,0,null,{"$f":"+G134+I134+K134+M134","v":0},null,{"$f":"IF(AB134+AF134>0,\"*\",\"\")","v":""},0,0,0,null,"",null,"",null,0,{"$f":"IF($Z134>=1,RANK($Z134,$Z133:$Z148),0)","v":0},0,null,0,{"$f":"IF($AD134>=1,RANK($AD134,$AD133:$AD148),0)","v":0},0,null,null,0,0]
[null,0,null,"","",0,0,0,0,0,0,0,0,null,0,null,"",0,0,0,null,"",null,"",null,0,{"$f":"IF($Z135>=1,RANK($Z135,$Z133:$Z148),0)","v":0},0,null,0,{"$f":"IF($AD135>=1,RANK($AD135,$AD133:$AD148),0)","v":0},0,null,null,0,0]
[null,0,null,"","",0,0,0,0,0,0,0,0,null,0,null,"",0,0,0,null,"",null,"",null,0,{"$f":"IF($Z136>=1,RANK($Z136,$Z133:$Z148),0)","v":0},0,null,0,{"$f":"IF($AD136>=1,RANK($AD136,$AD133:$AD148),0)","v":0},0,null,null,0,0]
[null,{"$f":"IF(OR(ISNA(MATCH(C137&\"\",AthleteNumbers,0)),ISBLANK(C137)),0,MATCH(C137&\"\",AthleteNumbers,0))","v":0},null,"","",0,0,0,0,0,0,0,0,null,{"$f":"+G137+I137+K137+M137","v":0},null,{"$f":"IF(AB137+AF137>0,\"*\",\"\")","v":""},0,0,{"$f":"IF($O137>0,RANK(O137,AthletePoints),0)","v":0},null,{"$f":"IF(O137>=40,IF(X137=\"M\",VLOOKUP(O137,UKABoysAwards,2),IF(X137=\"F\",VLOOKUP(O137,UKAGirlsAwards,2),\"\")),\"\")","v":""},null,"",null,0,{"$f":"IF($Z137>=1,RANK($Z137,$Z133:$Z148),0)","v":0},{"$f":"IF(AA137<=MaxS,INT(Z137),0)","v":0},null,0,{"$f":"IF($AD137>=1,RANK($AD137,$AD133:$AD148),0)","v":0},{"$f":"IF(AE137<=MaxS,INT(AD137),0)","v":0},null,null,0,0]
[null,{"$f":"IF(OR(ISNA(MATCH(C138&\"\",AthleteNumbers,0)),ISBLANK(C138)),0,MATCH(C138&\"\",AthleteNumbers,0))","v":0},null,"","",0,0,0,0,0,0,0,0,null,{"$f":"+G138+I138+K138+M138","v":0},null,{"$f":"IF(AB138+AF138>0,\"*\",\"\")","v":""},0,0,{"$f":"IF($O138>0,RANK(O138,AthletePoints),0)","v":0},null,{"$f":"IF(O138>=40,IF(X138=\"M\",VLOOKUP(O138,UKABoysAwards,2),IF(X138=\"F\",VLOOKUP(O138,UKAGirlsAwards,2),\"\")),\"\")","v":""},null,"",null,0,{"$f":"IF($Z138>=1,RANK($Z138,$Z133:$Z148),0)","v":0},{"$f":"IF(AA138<=MaxS,INT(Z138),0)","v":0},null,0,{"$f":"IF($AD138>=1,RANK($AD138,$AD133:$AD148),0)","v":0},{"$f":"IF(AE138<=MaxS,INT(AD138),0)","v":0},null,null,0,0]
[null,0,null,"","",0,0,0,0,0,0,0,0,null,0,null,"",0,0,0,null,"",null,"",null,0,{"$f":"IF($Z139>=1,RANK($Z139,$Z133:$Z148),0)","v":0},0,null,0,{"$f":"IF($AD139>=1,RANK($AD139,$AD133:$AD148),0)","v":0},0,null,null,0,0]
[null,0,null,"","",0,0,0,0,0,0,0,0,null,0,null,"",0,0,0,null,"",null,"",null,0,{"$f":"IF($Z140>=1,RANK($Z140,$Z133:$Z148),0)","v":0},0,null,0,{"$f":"IF($AD140>=1,RANK($AD140,$AD133:$AD148),0)","v":0},0,null,null,0,0]
[null,0,null,"","",0,0,0,0,0,0,0,0,null,0,null,"",0,0,0,null,"",null,"",null,0,{"$f":"IF($Z141>=1,RANK($Z141,$Z133:$Z148),0)","v":0},0,null,0,{"$f":"IF($AD141>=1,RANK($AD141,$AD133:$AD148),0)","v":0},0,null,null,0,0]
[null,0,null,"","",0,0,0,0,0,0,0,0,null,0,null,"",0,0,0,null,"",null,"",null,0,{"$f":"IF($Z142>=1,RANK($Z142,$Z133:$Z148),0)","v":0},0,null,0,{"$f":"IF($AD142>=1,RANK($AD142,$AD133:$AD148),0)","v":0},0,null,null,0,0]
[null,0,null,"","",0,0,0,0,0,0,0,0,null,0,null,"",0,0,0,null,"",null,"",null,0,{"$f":"IF($Z143>=1,RANK($Z143,$Z133:$Z148),0)","v":0},0,null,0,{"$f":"IF($AD143>=1,RANK($AD143,$AD133:$AD148),0)","v":0},0,null,null,0,0]
[null,0,null,"","",0,0,0,0,0,0,0,0,null,0,null,"",0,0,0,null,"",null,"",null,0,{"$f":"IF($Z144>=1,RANK($Z144,$Z133:$Z148),0)","v":0},0,null,0,{"$f":"IF($AD144>=1,RANK($AD144,$AD133:$AD148),0)","v":0},0,null,null,0,0]
[null,0,null,"","",0,0,0,0,0,0,0,0,null,0,null,"",0,0,0,null,"",null,"",null,0,{"$f":"IF($Z145>=1,RANK($Z145,$Z133:$Z148),0)","v":0},0,null,0,{"$f":"IF($AD145>=1,RANK($AD145,$AD133:$AD148),0)","v":0},0,null,null,0,0]
[null,0,null,"","",0,0,0,0,0,0,0,0,null,0,null,"",0,0,0,null,"",null,"",null,0,{"$f":"IF($Z146>=1,RANK($Z146,$Z133:$Z148),0)","v":0},0,null,0,{"$f":"IF($AD146>=1,RANK($AD146,$AD133:$AD148),0)","v":0},0,null,null,0,0]
[null,0,null,"","",0,0,0,0,0,0,0,0,null,0,null,"",0,0,0,null,"",null,"",null,0,{"$f":"IF($Z147>=1,RANK($Z147,$Z133:$Z148),0)","v":0},0,null,0,{"$f":"IF($AD147>=1,RANK($AD147,$AD133:$AD148),0)","v":0},0,null,null,0,0]
[null,0,null,"","",0,0,0,0,0,0,0,0,null,0,null,"",0,0,0,null,"",null,"",null,0,{"$f":"IF($Z148>=1,RANK($Z148,$Z133:$Z148),0)","v":0},0,{"$f":"SUM(AB133:AB148)","v":0},0,{"$f":"IF($AD148>=1,RANK($AD148,$AD133:$AD148),0)","v":0},0,{"$f":"SUM(AF133:AF148)","v":0},null,0,0]
[null,0,null,"","",0,0,0,0,0,0,0,0,{"$f":"INDEX(RelayPoints,A164)","v":{"$error":"#VALUE!"}},{"$f":"+G149+I149+K149+M149","v":0},{"$f":"+AC164+AG164+N149","v":{"$error":"#VALUE!"}},{"$f":"IF(AB149+AF149>0,\"*\",\"\")","v":""},0,0,0,null,"",null,"",null,0,{"$f":"IF($Z149>=1,RANK($Z149,$Z149:$Z164),0)","v":0},{"$f":"IF(AA149<=MaxS,INT(Z149),0)","v":0},null,0,{"$f":"IF($AD149>=1,RANK($AD149,$AD149:$AD164),0)","v":0},{"$f":"IF(AE149<=MaxS,INT(AD149),0)","v":0},null,null,0,0]
[null,0,null,"","",0,0,0,0,0,0,0,0,null,{"$f":"+G150+I150+K150+M150","v":0},null,{"$f":"IF(AB150+AF150>0,\"*\",\"\")","v":""},0,0,0,null,"",null,"",null,0,{"$f":"IF($Z150>=1,RANK($Z150,$Z149:$Z164),0)","v":0},0,null,0,{"$f":"IF($AD150>=1,RANK($AD150,$AD149:$AD164),0)","v":0},0,null,null,0,0]
[null,{"$f":"IF(OR(ISNA(MATCH(C151&\"\",AthleteNumbers,0)),ISBLANK(C151)),0,MATCH(C151&\"\",AthleteNumbers,0))","v":0},null,{"$f":"IF($B151>0,INDEX(DB,$B151,8),\"\")","v":""},{"$f":"IF($B151>0,INDEX(DB,$B151,3),\"\")","v":""},{"$f":"IF($B151>0,INDEX(DB,$B151,13),0)","v":0},{"$f":"IF($B151>0,INDEX(DB,$B151,17),0)","v":0},{"$f":"IF($B151>0,INDEX(DB,$B151,15),0)","v":0},{"$f":"IF($B151>0,INDEX(DB,$B151,19),0)","v":0},{"$f":"IF($B151>0,INDEX(DB,$B151,14),0)","v":0},{"$f":"IF($B151>0,INDEX(DB,$B151,18),0)","v":0},{"$f":"IF($B151>0,INDEX(DB,$B151,16),0)","v":0},{"$f":"IF($B151>0,INDEX(DB,$B151,20),0)","v":0},null,0,null,"",{"$f":"IF($AI151>0,RANK($AI151,BoysPoints),0)","v":0},{"$f":"IF($AJ151>0,RANK($AJ151,GirlsPoints),0)","v":0},{"$f":"IF($O151>0,RANK(O151,AthletePoints),0)","v":0},null,{"$f":"IF(O151>=40,IF(X151=\"M\",VLOOKUP(O151,UKABoysAwards,2),IF(X151=\"F\",VLOOKUP(O151,UKAGirlsAwards,2),\"\")),\"\")","v":""},null,{"$f":"INDEX(DB,$B151,4)","v":""},null,{"$f":"IF($X151=\"M\",$O151+(ROW()/10000),0)","v":0},{"$f":"IF($Z151>=1,RANK($Z151,$Z149:$Z164),0)","v":0},0,null,{"$f":"IF($X151=\"F\",$O151+(ROW()/10000),0)","v":0},{"$f":"IF($AD151>=1,RANK($AD151,$AD149:$AD164),0)","v":0},0,null,null,0,0]
[null,0,null,"","",0,0,0,0,0,0,0,0,null,0,null,"",0,0,0,null,"",null,"",null,0,{"$f":"IF($Z152>=1,RANK($Z152,$Z149:$Z164),0)","v":0},0,null,0,{"$f":"IF($AD152>=1,RANK($AD152,$AD149:$AD164),0)","v":0},0,null,null,{"$f":"IF($X152=\"M\",$O152,0)","v":0},{"$f":"IF($X152=\"F\",$O152,0)","v":0}]
[null,{"$f":"IF(OR(ISNA(MATCH(C153&\"\",AthleteNumbers,0)),ISBLANK(C153)),0,MATCH(C153&\"\",AthleteNumbers,0))","v":0},null,"","",0,0,0,0,0,0,0,0,null,{"$f":"+G153+I153+K153+M153","v":0},null,{"$f":"IF(AB153+AF153>0,\"*\",\"\")","v":""},0,0,{"$f":"IF($O153>0,RANK(O153,AthletePoints),0)","v":0},null,{"$f":"IF(O153>=40,IF(X153=\"M\",VLOOKUP(O153,UKABoysAwards,2),IF(X153=\"F\",VLOOKUP(O153,UKAGirlsAwards,2),\"\")),\"\")","v":""},null,"",null,0,{"$f":"IF($Z153>=1,RANK($Z153,$Z149:$Z164),0)","v":0},{"$f":"IF(AA153<=MaxS,INT(Z153),0)","v":0},null,0,{"$f":"IF($AD153>=1,RANK($AD153,$AD149:$AD164),0)","v":0},{"$f":"IF(AE153<=MaxS,INT(AD153),0)","v":0},null,null,0,0]
[null,{"$f":"IF(OR(ISNA(MATCH(C154&\"\",AthleteNumbers,0)),ISBLANK(C154)),0,MATCH(C154&\"\",AthleteNumbers,0))","v":0},null,"","",0,0,0,0,0,0,0,0,null,{"$f":"+G154+I154+K154+M154","v":0},null,{"$f":"IF(AB154+AF154>0,\"*\",\"\")","v":""},0,0,{"$f":"IF($O154>0,RANK(O154,AthletePoints),0)","v":0},null,{"$f":"IF(O154>=40,IF(X154=\"M\",VLOOKUP(O154,UKABoysAwards,2),IF(X154=\"F\",VLOOKUP(O154,UKAGirlsAwards,2),\"\")),\"\")","v":""},null,"",null,0,{"$f":"IF($Z154>=1,RANK($Z154,$Z149:$Z164),0)","v":0},{"$f":"IF(AA154<=MaxS,INT(Z154),0)","v":0},null,0,{"$f":"IF($AD154>=1,RANK($AD154,$AD149:$AD164),0)","v":0},{"$f":"IF(AE154<=MaxS,INT(AD154),0)","v":0},null,null,0,0]
[null,0,null,"","",0,0,0,0,0,0,0,0,null,0,null,"",0,0,0,null,"",null,"",null,0,{"$f":"IF($Z155>=1,RANK($Z155,$Z149:$Z164),0)","v":0},0,null,0,{"$f":"IF($AD155>=1,RANK($AD155,$AD149:$AD164),0)","v":0},0,null,null,0,0]
[null,0,null,"","",0,0,0,0,0,0,0,0,null,0,null,"",0,0,0,null,"",null,"",null,0,{"$f":"IF($Z156>=1,RANK($Z156,$Z149:$Z164),0)","v":0},0,null,0,{"$f":"IF($AD156>=1,RANK($AD156,$AD149:$AD164),0)","v":0},0,null,null,0,0]
[null,0,null,"","",0,0,0,0,0,0,0,0,null,0,null,"",0,0,0,null,"",null,"",null,0,{"$f":"IF($Z157>=1,RANK($Z157,$Z149:$Z164),0)","v":0},0,null,0,{"$f":"IF($AD157>=1,RANK($AD157,$AD149:$AD164),0)","v":0},0,null,null,0,0]
[null,0,null,"","",0,0,0,0,0,0,0,0,null,0,null,"",0,0,0,null,"",null,"",null,0,{"$f":"IF($Z158>=1,RANK($Z158,$Z149:$Z164),0)","v":0},0,null,0,{"$f":"IF($AD158>=1,RANK($AD158,$AD149:$AD164),0)","v":0},0,null,null,0,0]
[null,0,null,"","",0,0,0,0,0,0,0,0,null,0,null,"",0,0,0,null,"",null,"",null,0,{"$f":"IF($Z159>=1,RANK($Z159,$Z149:$Z164),0)","v":0},0,null,0,{"$f":"IF($AD159>=1,RANK($AD159,$AD149:$AD164),0)","v":0},0,null,null,0,0]
[null,0,null,"","",0,0,0,0,0,0,0,0,null,0,null,"",0,0,0,null,"",null,"",null,0,{"$f":"IF($Z160>=1,RANK($Z160,$Z149:$Z164),0)","v":0},0,null,0,{"$f":"IF($AD160>=1,RANK($AD160,$AD149:$AD164),0)","v":0},0,null,null,0,0]
[null,0,null,"","",0,0,0,0,0,0,0,0,null,0,null,"",0,0,0,null,"",null,"",null,0,{"$f":"IF($Z161>=1,RANK($Z161,$Z149:$Z164),0)","v":0},0,null,0,{"$f":"IF($AD161>=1,RANK($AD161,$AD149:$AD164),0)","v":0},0,null,null,0,0]
[null,0,null,"","",0,0,0,0,0,0,0,0,null,0,null,"",0,0,0,null,"",null,"",null,0,{"$f":"IF($Z162>=1,RANK($Z162,$Z149:$Z164),0)","v":0},0,null,0,{"$f":"IF($AD162>=1,RANK($AD162,$AD149:$AD164),0)","v":0},0,null,null,0,0]
[null,0,null,"","",0,0,0,0,0,0,0,0,null,0,null,"",0,0,0,null,"",null,"",null,0,{"$f":"IF($Z163>=1,RANK($Z163,$Z149:$Z164),0)","v":0},0,null,0,{"$f":"IF($AD163>=1,RANK($AD163,$AD149:$AD164),0)","v":0},0,null,null,0,0]
[null,0,null,"","",0,0,0,0,0,0,0,0,null,0,null,"",0,0,0,null,"",null,"",null,0,{"$f":"IF($Z164>=1,RANK($Z164,$Z149:$Z164),0)","v":0},0,{"$f":"SUM(AB149:AB164)","v":0},0,{"$f":"IF($AD164>=1,RANK($AD164,$AD149:$AD164),0)","v":0},0,{"$f":"SUM(AF149:AF164)","v":0},null,0,0]
[null,0,null,"","",0,0,0,0,0,0,0,0,{"$f":"INDEX(RelayPoints,A180)","v":{"$error":"#VALUE!"}},{"$f":"+G165+I165+K165+M165","v":0},{"$f":"+AC180+AG180+N165","v":{"$error":"#VALUE!"}},{"$f":"IF(AB165+AF165>0,\"*\",\"\")","v":""},0,0,0,null,"",null,"",null,0,{"$f":"IF($Z165>=1,RANK($Z165,$Z165:$Z180),0)","v":0},{"$f":"IF(AA165<=MaxS,INT(Z165),0)","v":0},null,0,{"$f":"IF($AD165>=1,RANK($AD165,$AD165:$AD180),0)","v":0},{"$f":"IF(AE165<=MaxS,INT(AD165),0)","v":0},null,null,0,0]
[null,0,null,"","",0,0,0,0,0,0,0,0,null,{"$f":"+G166+I166+K166+M166","v":0},null,{"$f":"IF(AB166+AF166>0,\"*\",\"\")","v":""},0,0,0,null,"",null,"",null,0,{"$f":"IF($Z166>=1,RANK($Z166,$Z165:$Z180),0)","v":0},0,null,0,{"$f":"IF($AD166>=1,RANK($AD166,$AD165:$AD180),0)","v":0},0,null,null,0,0]
[null,0,null,"","",0,0,0,0,0,0,0,0,null,0,null,"",0,0,0,null,"",null,"",null,0,{"$f":"IF($Z167>=1,RANK($Z167,$Z165:$Z180),0)","v":0},0,null,0,{"$f":"IF($AD167>=1,RANK($AD167,$AD165:$AD180),0)","v":0},0,null,null,0,0]
[null,0,null,"","",0,0,0,0,0,0,0,0,null,0,null,"",0,0,0,null,"",null,"",null,0,{"$f":"IF($Z168>=1,RANK($Z168,$Z165:$Z180),0)","v":0},0,null,0,{"$f":"IF($AD168>=1,RANK($AD168,$AD165:$AD180),0)","v":0},0,null,null,0,0]
[null,0,null,"","",0,0,0,0,0,0,0,0,null,0,null,"",0,0,0,null,"",null,"",null,0,{"$f":"IF($Z169>=1,RANK($Z169,$Z165:$Z180),0)","v":0},0,null,0,{"$f":"IF($AD169>=1,RANK($AD169,$AD165:$AD180),0)","v":0},0,null,null,0,0]
[null,{"$f":"IF(OR(ISNA(MATCH(C170&\"\",AthleteNumbers,0)),ISBLANK(C170)),0,MATCH(C170&\"\",AthleteNumbers,0))","v":0},null,"","",0,0,0,0,0,0,0,0,null,{"$f":"+G170+I170+K170+M170","v":0},null,{"$f":"IF(AB170+AF170>0,\"*\",\"\")","v":""},0,0,{"$f":"IF($O170>0,RANK(O170,AthletePoints),0)","v":0},null,{"$f":"IF(O170>=40,IF(X170=\"M\",VLOOKUP(O170,UKABoysAwards,2),IF(X170=\"F\",VLOOKUP(O170,UKAGirlsAwards,2),\"\")),\"\")","v":""},null,"",null,0,{"$f":"IF($Z170>=1,RANK($Z170,$Z165:$Z180),0)","v":0},{"$f":"IF(AA170<=MaxS,INT(Z170),0)","v":0},null,0,{"$f":"IF($AD170>=1,RANK($AD170,$AD165:$AD180),0)","v":0},{"$f":"IF(AE170<=MaxS,INT(AD170),0)","v":0},null,null,0,0]
[null,{"$f":"IF(OR(ISNA(MATCH(C171&\"\",AthleteNumbers,0)),ISBLANK(C171)),0,MATCH(C171&\"\",AthleteNumbers,0))","v":0},null,"","",0,0,0,0,0,0,0,0,null,{"$f":"+G171+I171+K171+M171","v":0},null,{"$f":"IF(AB171+AF171>0,\"*\",\"\")","v":""},0,0,{"$f":"IF($O171>0,RANK(O171,AthletePoints),0)","v":0},null,{"$f":"IF(O171>=40,IF(X171=\"M\",VLOOKUP(O171,UKABoysAwards,2),IF(X171=\"F\",VLOOKUP(O171,UKAGirlsAwards,2),\"\")),\"\")","v":""},null,"",null,0,{"$f":"IF($Z171>=1,RANK($Z171,$Z165:$Z180),0)","v":0},{"$f":"IF(AA171<=MaxS,INT(Z171),0)","v":0},null,0,{"$f":"IF($AD171>=1,RANK($AD171,$AD165:$AD180),0)","v":0},{"$f":"IF(AE171<=MaxS,INT(AD171),0)","v":0},null,null,0,0]
[null,0,null,"","",0,0,0,0,0,0,0,0,null,0,null,"",0,0,0,null,"",null,"",null,0,{"$f":"IF($Z172>=1,RANK($Z172,$Z165:$Z180),0)","v":0},0,null,0,{"$f":"IF($AD172>=1,RANK($AD172,$AD165:$AD180),0)","v":0},0,null,null,0,0]
[null,0,null,"","",0,0,0,0,0,0,0,0,null,0,null,"",0,0,0,null,"",null,"",null,0,{"$f":"IF($Z173>=1,RANK($Z173,$Z165:$Z180),0)","v":0},0,null,0,{"$f":"IF($AD173>=1,RANK($AD173,$AD165:$AD180),0)","v":0},0,null,null,0,0]
[null,0,null,"","",0,0,0,0,0,0,0,0,null,0,null,"",0,0,0,null,"",null,"",null,0,{"$f":"IF($Z174>=1,RANK($Z174,$Z165:$Z180),0)","v":0},0,null,0,{"$f":"IF($AD174>=1,RANK($AD174,$AD165:$AD180),0)","v":0},0,null,null,0,0]
[null,0,null,"","",0,0,0,0,0,0,0,0,null,0,null,"",0,0,0,null,"",null,"",null,0,{"$f":"IF($Z175>=1,RANK($Z175,$Z165:$Z180),0)","v":0},0,null,0,{"$f":"IF($AD175>=1,RANK($AD175,$AD165:$AD180),0)","v":0},0,null,null,0,0]
[null,0,null,"","",0,0,0,0,0,0,0,0,null,0,null,"",0,0,0,null,"",null,"",null,0,{"$f":"IF($Z176>=1,RANK($Z176,$Z165:$Z180),0)","v":0},0,null,0,{"$f":"IF($AD176>=1,RANK($AD176,$AD165:$AD180),0)","v":0},0,null,null,0,0]
[null,0,null,"","",0,0,0,0,0,0,0,0,null,0,null,"",0,0,0,null,"",null,"",null,0,{"$f":"IF($Z177>=1,RANK($Z177,$Z165:$Z180),0)","v":0},0,null,0,{"$f":"IF($AD177>=1,RANK($AD177,$AD165:$AD180),0)","v":0},0,null,null,0,0]
[null,0,null,"","",0,0,0,0,0,0,0,0,null,0,null,"",0,0,0,null,"",null,"",null,0,{"$f":"IF($Z178>=1,RANK($Z178,$Z165:$Z180),0)","v":0},0,null,0,{"$f":"IF($AD178>=1,RANK($AD178,$AD165:$AD180),0)","v":0},0,null,null,0,0]
[null,0,null,"","",0,0,0,0,0,0,0,0,null,0,null,"",0,0,0,null,"",null,"",null,0,{"$f":"IF($Z179>=1,RANK($Z179,$Z165:$Z180),0)","v":0},0,null,0,{"$f":"IF($AD179>=1,RANK($AD179,$AD165:$AD180),0)","v":0},0,null,null,0,0]
[null,0,null,"","",0,0,0,0,0,0,0,0,null,0,null,"",0,0,0,null,"",null,"",null,0,{"$f":"IF($Z180>=1,RANK($Z180,$Z165:$Z180),0)","v":0},0,{"$f":"SUM(AB165:AB180)","v":0},0,{"$f":"IF($AD180>=1,RANK($AD180,$AD165:$AD180),0)","v":0},0,{"$f":"SUM(AF165:AF180)","v":0},null,0,0]
[null,0,null,"","",0,0,0,0,0,0,0,0,{"$f":"INDEX(RelayPoints,A196)","v":{"$error":"#VALUE!"}},{"$f":"+G181+I181+K181+M181","v":0},{"$f":"+AC196+AG196+N181","v":{"$error":"#VALUE!"}},{"$f":"IF(AB181+AF181>0,\"*\",\"\")","v":""},0,0,0,null,"",null,"",null,0,{"$f":"IF($Z181>=1,RANK($Z181,$Z181:$Z196),0)","v":0},0,null,0,{"$f":"IF($AD181>=1,RANK($AD181,$AD181:$AD196),0)","v":0},0,null,null,0,0]
[null,0,null,"","",0,0,0,0,0,0,0,0,null,{"$f":"+G182+I182+K182+M182","v":0},null,{"$f":"IF(AB182+AF182>0,\"*\",\"\")","v":""},0,0,0,null,"",null,"",null,0,{"$f":"IF($Z182>=1,RANK($Z182,$Z181:$Z196),0)","v":0},0,null,0,{"$f":"IF($AD182>=1,RANK($AD182,$AD181:$AD196),0)","v":0},0,null,null,0,0]
[null,0,null,"","",0,0,0,0,0,0,0,0,null,0,null,"",0,0,0,null,"",null,"",null,0,{"$f":"IF($Z183>=1,RANK($Z183,$Z181:$Z196),0)","v":0},0,null,0,{"$f":"IF($AD183>=1,RANK($AD183,$AD181:$AD196),0)","v":0},0,null,null,0,0]
[null,0,null,"","",0,0,0,0,0,0,0,0,null,0,null,"",0,0,0,null,"",null,"",null,0,{"$f":"IF($Z184>=1,RANK($Z184,$Z181:$Z196),0)","v":0},0,null,0,{"$f":"IF($AD184>=1,RANK($AD184,$AD181:$AD196),0)","v":0},0,null,null,0,0]
[null,{"$f":"IF(OR(ISNA(MATCH(C185&\"\",AthleteNumbers,0)),ISBLANK(C185)),0,MATCH(C185&\"\",AthleteNumbers,0))","v":0},null,"","",0,0,0,0,0,0,0,0,null,{"$f":"+G185+I185+K185+M185","v":0},null,{"$f":"IF(AB185+AF185>0,\"*\",\"\")","v":""},0,0,{"$f":"IF($O185>0,RANK(O185,AthletePoints),0)","v":0},null,{"$f":"IF(O185>=40,IF(X185=\"M\",VLOOKUP(O185,UKABoysAwards,2),IF(X185=\"F\",VLOOKUP(O185,UKAGirlsAwards,2),\"\")),\"\")","v":""},null,"",null,0,{"$f":"IF($Z185>=1,RANK($Z185,$Z181:$Z196),0)","v":0},{"$f":"IF(AA185<=MaxS,INT(Z185),0)","v":0},null,0,{"$f":"IF($AD185>=1,RANK($AD185,$AD181:$AD196),0)","v":0},{"$f":"IF(AE185<=MaxS,INT(AD185),0)","v":0},null,null,0,0]
[null,{"$f":"IF(OR(ISNA(MATCH(C186&\"\",AthleteNumbers,0)),ISBLANK(C186)),0,MATCH(C186&\"\",AthleteNumbers,0))","v":0},null,"","",0,0,0,0,0,0,0,0,null,{"$f":"+G186+I186+K186+M186","v":0},null,{"$f":"IF(AB186+AF186>0,\"*\",\"\")","v":""},0,0,{"$f":"IF($O186>0,RANK(O186,AthletePoints),0)","v":0},null,{"$f":"IF(O186>=40,IF(X186=\"M\",VLOOKUP(O186,UKABoysAwards,2),IF(X186=\"F\",VLOOKUP(O186,UKAGirlsAwards,2),\"\")),\"\")","v":""},null,"",null,0,{"$f":"IF($Z186>=1,RANK($Z186,$Z181:$Z196),0)","v":0},{"$f":"IF(AA186<=MaxS,INT(Z186),0)","v":0},null,0,{"$f":"IF($AD186>=1,RANK($AD186,$AD181:$AD196),0)","v":0},{"$f":"IF(AE186<=MaxS,INT(AD186),0)","v":0},null,null,0,0]
[null,0,null,"","",0,0,0,0,0,0,0,0,null,0,null,"",0,0,0,null,"",null,"",null,0,{"$f":"IF($Z187>=1,RANK($Z187,$Z181:$Z196),0)","v":0},0,null,0,{"$f":"IF($AD187>=1,RANK($AD187,$AD181:$AD196),0)","v":0},0,null,null,0,0]
[null,0,null,"","",0,0,0,0,0,0,0,0,null,0,null,"",0,0,0,null,"",null,"",null,0,{"$f":"IF($Z188>=1,RANK($Z188,$Z181:$Z196),0)","v":0},0,null,0,{"$f":"IF($AD188>=1,RANK($AD188,$AD181:$AD196),0)","v":0},0,null,null,0,0]
[null,0,null,"","",0,0,0,0,0,0,0,0,null,0,null,"",0,0,0,null,"",null,"",null,0,{"$f":"IF($Z189>=1,RANK($Z189,$Z181:$Z196),0)","v":0},0,null,0,{"$f":"IF($AD189>=1,RANK($AD189,$AD181:$AD196),0)","v":0},0,null,null,0,0]
[null,0,null,"","",0,0,0,0,0,0,0,0,null,0,null,"",0,0,0,null,"",null,"",null,0,{"$f":"IF($Z190>=1,RANK($Z190,$Z181:$Z196),0)","v":0},0,null,0,{"$f":"IF($AD190>=1,RANK($AD190,$AD181:$AD196),0)","v":0},0,null,null,0,0]
[null,0,null,"","",0,0,0,0,0,0,0,0,null,0,null,"",0,0,0,null,"",null,"",null,0,{"$f":"IF($Z191>=1,RANK($Z191,$Z181:$Z196),0)","v":0},0,null,0,{"$f":"IF($AD191>=1,RANK($AD191,$AD181:$AD196),0)","v":0},0,null,null,0,0]
[null,0,null,"","",0,0,0,0,0,0,0,0,null,0,null,"",0,0,0,null,"",null,"",null,0,{"$f":"IF($Z192>=1,RANK($Z192,$Z181:$Z196),0)","v":0},0,null,0,{"$f":"IF($AD192>=1,RANK($AD192,$AD181:$AD196),0)","v":0},0,null,null,0,0]
[null,0,null,"","",0,0,0,0,0,0,0,0,null,0,null,"",0,0,0,null,"",null,"",null,0,{"$f":"IF($Z193>=1,RANK($Z193,$Z181:$Z196),0)","v":0},0,null,0,{"$f":"IF($AD193>=1,RANK($AD193,$AD181:$AD196),0)","v":0},0,null,null,0,0]
[null,0,null,"","",0,0,0,0,0,0,0,0,null,0,null,"",0,0,0,null,"",null,"",null,0,{"$f":"IF($Z194>=1,RANK($Z194,$Z181:$Z196),0)","v":0},0,null,0,{"$f":"IF($AD194>=1,RANK($AD194,$AD181:$AD196),0)","v":0},0,null,null,0,0]
[null,0,null,"","",0,0,0,0,0,0,0,0,null,0,null,"",0,0,0,null,"",null,"",null,0,{"$f":"IF($Z195>=1,RANK($Z195,$Z181:$Z196),0)","v":0},0,null,0,{"$f":"IF($AD195>=1,RANK($AD195,$AD181:$AD196),0)","v":0},0,null,null,0,0]
[null,0,null,"","",0,0,0,0,0,0,0,0,null,0,null,"",0,0,0,null,"",null,"",null,0,{"$f":"IF($Z196>=1,RANK($Z196,$Z181:$Z196),0)","v":0},0,{"$f":"SUM(AB181:AB196)","v":0},0,{"$f":"IF($AD196>=1,RANK($AD196,$AD181:$AD196),0)","v":0},0,{"$f":"SUM(AF181:AF196)","v":0},null,0,0]
[null,0,null,"","",0,0,0,0,0,0,0,0,{"$f":"INDEX(RelayPoints,A212)","v":{"$error":"#VALUE!"}},{"$f":"+G197+I197+K197+M197","v":0},{"$f":"+AC212+AG212+N197","v":{"$error":"#VALUE!"}},{"$f":"IF(AB197+AF197>0,\"*\",\"\")","v":""},0,0,0,null,"",null,"",null,0,{"$f":"IF($Z197>=1,RANK($Z197,$Z197:$Z212),0)","v":0},0,null,0,{"$f":"IF($AD197>=1,RANK($AD197,$AD197:$AD212),0)","v":0},0,null,null,0,0]
[null,0,null,"","",0,0,0,0,0,0,0,0,null,{"$f":"+G198+I198+K198+M198","v":0},null,{"$f":"IF(AB198+AF198>0,\"*\",\"\")","v":""},0,0,0,null,"",null,"",null,0,{"$f":"IF($Z198>=1,RANK($Z198,$Z197:$Z212),0)","v":0},0,null,0,{"$f":"IF($AD198>=1,RANK($AD198,$AD197:$AD212),0)","v":0},0,null,null,0,0]
[null,0,null,"","",0,0,0,0,0,0,0,0,null,0,null,"",0,0,0,null,"",null,"",null,0,{"$f":"IF($Z199>=1,RANK($Z199,$Z197:$Z212),0)","v":0},0,null,0,{"$f":"IF($AD199>=1,RANK($AD199,$AD197:$AD212),0)","v":0},0,null,null,0,0]
[null,0,null,"","",0,0,0,0,0,0,0,0,null,0,null,"",0,0,0,null,"",null,"",null,0,{"$f":"IF($Z200>=1,RANK($Z200,$Z197:$Z212),0)","v":0},0,null,0,{"$f":"IF($AD200>=1,RANK($AD200,$AD197:$AD212),0)","v":0},0,null,null,0,0]
[null,0,null,"","",0,0,0,0,0,0,0,0,null,0,null,"",0,0,0,null,"",null,"",null,0,{"$f":"IF($Z201>=1,RANK($Z201,$Z197:$Z212),0)","v":0},0,null,0,{"$f":"IF($AD201>=1,RANK($AD201,$AD197:$AD212),0)","v":0},0,null,null,0,0]
[null,{"$f":"IF(OR(ISNA(MATCH(C202&\"\",AthleteNumbers,0)),ISBLANK(C202)),0,MATCH(C202&\"\",AthleteNumbers,0))","v":0},null,"","",0,0,0,0,0,0,0,0,null,{"$f":"+G202+I202+K202+M202","v":0},null,{"$f":"IF(AB202+AF202>0,\"*\",\"\")","v":""},0,0,{"$f":"IF($O202>0,RANK(O202,AthletePoints),0)","v":0},null,{"$f":"IF(O202>=40,IF(X202=\"M\",VLOOKUP(O202,UKABoysAwards,2),IF(X202=\"F\",VLOOKUP(O202,UKAGirlsAwards,2),\"\")),\"\")","v":""},null,"",null,0,{"$f":"IF($Z202>=1,RANK($Z202,$Z197:$Z212),0)","v":0},{"$f":"IF(AA202<=MaxS,INT(Z202),0)","v":0},null,0,{"$f":"IF($AD202>=1,RANK($AD202,$AD197:$AD212),0)","v":0},{"$f":"IF(AE202<=MaxS,INT(AD202),0)","v":0},null,null,0,0]
[null,{"$f":"IF(OR(ISNA(MATCH(C203&\"\",AthleteNumbers,0)),ISBLANK(C203)),0,MATCH(C203&\"\",AthleteNumbers,0))","v":0},null,"","",0,0,0,0,0,0,0,0,null,{"$f":"+G203+I203+K203+M203","v":0},null,{"$f":"IF(AB203+AF203>0,\"*\",\"\")","v":""},0,0,{"$f":"IF($O203>0,RANK(O203,AthletePoints),0)","v":0},null,{"$f":"IF(O203>=40,IF(X203=\"M\",VLOOKUP(O203,UKABoysAwards,2),IF(X203=\"F\",VLOOKUP(O203,UKAGirlsAwards,2),\"\")),\"\")","v":""},null,"",null,0,{"$f":"IF($Z203>=1,RANK($Z203,$Z197:$Z212),0)","v":0},{"$f":"IF(AA203<=MaxS,INT(Z203),0)","v":0},null,0,{"$f":"IF($AD203>=1,RANK($AD203,$AD197:$AD212),0)","v":0},{"$f":"IF(AE203<=MaxS,INT(AD203),0)","v":0},null,null,0,0]
[null,0,null,"","",0,0,0,0,0,0,0,0,null,0,null,"",0,0,0,null,"",null,"",null,0,{"$f":"IF($Z204>=1,RANK($Z204,$Z197:$Z212),0)","v":0},0,null,0,{"$f":"IF($AD204>=1,RANK($AD204,$AD197:$AD212),0)","v":0},0,null,null,0,0]
[null,0,null,"","",0,0,0,0,0,0,0,0,null,0,null,"",0,0,0,null,"",null,"",null,0,{"$f":"IF($Z205>=1,RANK($Z205,$Z197:$Z212),0)","v":0},0,null,0,{"$f":"IF($AD205>=1,RANK($AD205,$AD197:$AD212),0)","v":0},0,null,null,0,0]
[null,0,null,"","",0,0,0,0,0,0,0,0,null,0,null,"",0,0,0,null,"",null,"",null,0,{"$f":"IF($Z206>=1,RANK($Z206,$Z197:$Z212),0)","v":0},0,null,0,{"$f":"IF($AD206>=1,RANK($AD206,$AD197:$AD212),0)","v":0},0,null,null,0,0]
[null,0,null,"","",0,0,0,0,0,0,0,0,null,0,null,"",0,0,0,null,"",null,"",null,0,{"$f":"IF($Z207>=1,RANK($Z207,$Z197:$Z212),0)","v":0},0,null,0,{"$f":"IF($AD207>=1,RANK($AD207,$AD197:$AD212),0)","v":0},0,null,null,0,0]
[null,0,null,"","",0,0,0,0,0,0,0,0,null,0,null,"",0,0,0,null,"",null,"",null,0,{"$f":"IF($Z208>=1,RANK($Z208,$Z197:$Z212),0)","v":0},0,null,0,{"$f":"IF($AD208>=1,RANK($AD208,$AD197:$AD212),0)","v":0},0,null,null,0,0]
[null,0,null,"","",0,0,0,0,0,0,0,0,null,0,null,"",0,0,0,null,"",null,"",null,0,{"$f":"IF($Z209>=1,RANK($Z209,$Z197:$Z212),0)","v":0},0,null,0,{"$f":"IF($AD209>=1,RANK($AD209,$AD197:$AD212),0)","v":0},0,null,null,0,0]
[null,0,null,"","",0,0,0,0,0,0,0,0,null,0,null,"",0,0,0,null,"",null,"",null,0,{"$f":"IF($Z210>=1,RANK($Z210,$Z197:$Z212),0)","v":0},0,null,0,{"$f":"IF($AD210>=1,RANK($AD210,$AD197:$AD212),0)","v":0},0,null,null,0,0]
[null,0,null,"","",0,0,0,0,0,0,0,0,null,0,null,"",0,0,0,null,"",null,"",null,0,{"$f":"IF($Z211>=1,RANK($Z211,$Z197:$Z212),0)","v":0},0,null,0,{"$f":"IF($AD211>=1,RANK($AD211,$AD197:$AD212),0)","v":0},0,null,null,0,0]
[null,0,null,"","",0,0,0,0,0,0,0,0,null,0,null,"",0,0,0,null,"",null,"",null,0,{"$f":"IF($Z212>=1,RANK($Z212,$Z197:$Z212),0)","v":0},0,{"$f":"SUM(AB197:AB212)","v":0},0,{"$f":"IF($AD212>=1,RANK($AD212,$AD197:$AD212),0)","v":0},0,{"$f":"SUM(AF197:AF212)","v":0},null,0,0]
[null,0,null,"","",0,0,0,0,0,0,0,0,{"$f":"INDEX(RelayPoints,A228)","v":{"$error":"#VALUE!"}},{"$f":"+G213+I213+K213+M213","v":0},{"$f":"+AC228+AG228+N213","v":{"$error":"#VALUE!"}},{"$f":"IF(AB213+AF213>0,\"*\",\"\")","v":""},0,0,0,null,"",null,"",null,0,{"$f":"IF($Z213>=1,RANK($Z213,$Z213:$Z228),0)","v":0},0,null,0,{"$f":"IF($AD213>=1,RANK($AD213,$AD213:$AD228),0)","v":0},0,null,null,0,0]
[null,0,null,"","",0,0,0,0,0,0,0,0,null,{"$f":"+G214+I214+K214+M214","v":0},null,{"$f":"IF(AB214+AF214>0,\"*\",\"\")","v":""},0,0,0,null,"",null,"",null,0,{"$f":"IF($Z214>=1,RANK($Z214,$Z213:$Z228),0)","v":0},0,null,0,{"$f":"IF($AD214>=1,RANK($AD214,$AD213:$AD228),0)","v":0},0,null,null,0,0]
[null,0,null,"","",0,0,0,0,0,0,0,0,null,0,null,"",0,0,0,null,"",null,"",null,0,{"$f":"IF($Z215>=1,RANK($Z215,$Z213:$Z228),0)","v":0},0,null,0,{"$f":"IF($AD215>=1,RANK($AD215,$AD213:$AD228),0)","v":0},0,null,null,0,0]
[null,0,null,"","",0,0,0,0,0,0,0,0,null,0,null,"",0,0,0,null,"",null,"",null,0,{"$f":"IF($Z216>=1,RANK($Z216,$Z213:$Z228),0)","v":0},0,null,0,{"$f":"IF($AD216>=1,RANK($AD216,$AD213:$AD228),0)","v":0},0,null,null,0,0]
[null,{"$f":"IF(OR(ISNA(MATCH(C217&\"\",AthleteNumbers,0)),ISBLANK(C217)),0,MATCH(C217&\"\",AthleteNumbers,0))","v":0},null,"","",0,0,0,0,0,0,0,0,null,{"$f":"+G217+I217+K217+M217","v":0},null,{"$f":"IF(AB217+AF217>0,\"*\",\"\")","v":""},0,0,{"$f":"IF($O217>0,RANK(O217,AthletePoints),0)","v":0},null,{"$f":"IF(O217>=40,IF(X217=\"M\",VLOOKUP(O217,UKABoysAwards,2),IF(X217=\"F\",VLOOKUP(O217,UKAGirlsAwards,2),\"\")),\"\")","v":""},null,"",null,0,{"$f":"IF($Z217>=1,RANK($Z217,$Z213:$Z228),0)","v":0},{"$f":"IF(AA217<=MaxS,INT(Z217),0)","v":0},null,0,{"$f":"IF($AD217>=1,RANK($AD217,$AD213:$AD228),0)","v":0},{"$f":"IF(AE217<=MaxS,INT(AD217),0)","v":0},null,null,0,0]
[null,{"$f":"IF(OR(ISNA(MATCH(C218&\"\",AthleteNumbers,0)),ISBLANK(C218)),0,MATCH(C218&\"\",AthleteNumbers,0))","v":0},null,"","",0,0,0,0,0,0,0,0,null,{"$f":"+G218+I218+K218+M218","v":0},null,{"$f":"IF(AB218+AF218>0,\"*\",\"\")","v":""},0,0,{"$f":"IF($O218>0,RANK(O218,AthletePoints),0)","v":0},null,{"$f":"IF(O218>=40,IF(X218=\"M\",VLOOKUP(O218,UKABoysAwards,2),IF(X218=\"F\",VLOOKUP(O218,UKAGirlsAwards,2),\"\")),\"\")","v":""},null,"",null,0,{"$f":"IF($Z218>=1,RANK($Z218,$Z213:$Z228),0)","v":0},{"$f":"IF(AA218<=MaxS,INT(Z218),0)","v":0},null,0,{"$f":"IF($AD218>=1,RANK($AD218,$AD213:$AD228),0)","v":0},{"$f":"IF(AE218<=MaxS,INT(AD218),0)","v":0},null,null,0,0]
[null,0,null,"","",0,0,0,0,0,0,0,0,null,0,null,"",0,0,0,null,"",null,"",null,0,{"$f":"IF($Z219>=1,RANK($Z219,$Z213:$Z228),0)","v":0},0,null,0,{"$f":"IF($AD219>=1,RANK($AD219,$AD213:$AD228),0)","v":0},0,null,null,0,0]
[null,0,null,"","",0,0,0,0,0,0,0,0,null,0,null,"",0,0,0,null,"",null,"",null,0,{"$f":"IF($Z220>=1,RANK($Z220,$Z213:$Z228),0)","v":0},0,null,0,{"$f":"IF($AD220>=1,RANK($AD220,$AD213:$AD228),0)","v":0},0,null,null,0,0]
[null,0,null,"","",0,0,0,0,0,0,0,0,null,0,null,"",0,0,0,null,"",null,"",null,0,{"$f":"IF($Z221>=1,RANK($Z221,$Z213:$Z228),0)","v":0},0,null,0,{"$f":"IF($AD221>=1,RANK($AD221,$AD213:$AD228),0)","v":0},0,null,null,0,0]
[null,0,null,"","",0,0,0,0,0,0,0,0,null,0,null,"",0,0,0,null,"",null,"",null,0,{"$f":"IF($Z222>=1,RANK($Z222,$Z213:$Z228),0)","v":0},0,null,0,{"$f":"IF($AD222>=1,RANK($AD222,$AD213:$AD228),0)","v":0},0,null,null,0,0]
[null,0,null,"","",0,0,0,0,0,0,0,0,null,0,null,"",0,0,0,null,"",null,"",null,0,{"$f":"IF($Z223>=1,RANK($Z223,$Z213:$Z228),0)","v":0},0,null,0,{"$f":"IF($AD223>=1,RANK($AD223,$AD213:$AD228),0)","v":0},0,null,null,0,0]
[null,0,null,"","",0,0,0,0,0,0,0,0,null,0,null,"",0,0,0,null,"",null,"",null,0,{"$f":"IF($Z224>=1,RANK($Z224,$Z213:$Z228),0)","v":0},0,null,0,{"$f":"IF($AD224>=1,RANK($AD224,$AD213:$AD228),0)","v":0},0,null,null,0,0]
[null,{"$f":"IF(OR(ISNA(MATCH(C225&\"\",AthleteNumbers,0)),ISBLANK(C225)),0,MATCH(C225&\"\",AthleteNumbers,0))","v":0},null,{"$f":"IF($B225>0,INDEX(DB,$B225,8),\"\")","v":""},{"$f":"IF($B225>0,INDEX(DB,$B225,3),\"\")","v":""},{"$f":"IF($B225>0,INDEX(DB,$B225,13),0)","v":0},{"$f":"IF($B225>0,INDEX(DB,$B225,17),0)","v":0},{"$f":"IF($B225>0,INDEX(DB,$B225,15),0)","v":0},{"$f":"IF($B225>0,INDEX(DB,$B225,19),0)","v":0},{"$f":"IF($B225>0,INDEX(DB,$B225,14),0)","v":0},{"$f":"IF($B225>0,INDEX(DB,$B225,18),0)","v":0},{"$f":"IF($B225>0,INDEX(DB,$B225,16),0)","v":0},{"$f":"IF($B225>0,INDEX(DB,$B225,20),0)","v":0},null,0,null,"",{"$f":"IF($AI225>0,RANK($AI225,BoysPoints),0)","v":0},{"$f":"IF($AJ225>0,RANK($AJ225,GirlsPoints),0)","v":0},{"$f":"IF($O225>0,RANK(O225,AthletePoints),0)","v":0},null,{"$f":"IF(O225>=40,IF(X225=\"M\",VLOOKUP(O225,UKABoysAwards,2),IF(X225=\"F\",VLOOKUP(O225,UKAGirlsAwards,2),\"\")),\"\")","v":""},null,{"$f":"INDEX(DB,$B225,4)","v":""},null,0,{"$f":"IF($Z225>=1,RANK($Z225,$Z213:$Z228),0)","v":0},0,null,0,{"$f":"IF($AD225>=1,RANK($AD225,$AD213:$AD228),0)","v":0},0,null,null,0,0]
[null,0,null,"","",0,0,0,0,0,0,0,0,null,0,null,"",0,0,0,null,"",null,"",null,0,{"$f":"IF($Z226>=1,RANK($Z226,$Z213:$Z228),0)","v":0},0,null,0,{"$f":"IF($AD226>=1,RANK($AD226,$AD213:$AD228),0)","v":0},0,null,null,0,0]
[null,0,null,"","",0,0,0,0,0,0,0,0,null,0,null,"",0,0,0,null,"",null,"",null,0,{"$f":"IF($Z227>=1,RANK($Z227,$Z213:$Z228),0)","v":0},0,null,0,{"$f":"IF($AD227>=1,RANK($AD227,$AD213:$AD228),0)","v":0},0,null,null,0,0]
[null,0,null,"","",0,0,0,0,0,0,0,0,null,0,null,"",0,0,0,null,"",null,"",null,0,{"$f":"IF($Z228>=1,RANK($Z228,$Z213:$Z228),0)","v":0},0,{"$f":"SUM(AB213:AB228)","v":0},0,{"$f":"IF($AD228>=1,RANK($AD228,$AD213:$AD228),0)","v":0},0,{"$f":"SUM(AF213:AF228)","v":0},null,0,0]
[null,0,null,"","",0,0,0,0,0,0,0,0,{"$f":"INDEX(RelayPoints,A244)","v":{"$error":"#VALUE!"}},{"$f":"+G229+I229+K229+M229","v":0},{"$f":"+AC244+AG244+N229","v":{"$error":"#VALUE!"}},{"$f":"IF(AB229+AF229>0,\"*\",\"\")","v":""},0,0,0,null,"",null,"",null,0,{"$f":"IF($Z229>=1,RANK($Z229,$Z229:$Z244),0)","v":0},0,null,0,{"$f":"IF($AD229>=1,RANK($AD229,$AD229:$AD244),0)","v":0},0,null,null,0,0]
[null,0,null,"","",0,0,0,0,0,0,0,0,null,{"$f":"+G230+I230+K230+M230","v":0},null,{"$f":"IF(AB230+AF230>0,\"*\",\"\")","v":""},0,0,0,null,"",null,"",null,0,{"$f":"IF($Z230>=1,RANK($Z230,$Z229:$Z244),0)","v":0},0,null,0,{"$f":"IF($AD230>=1,RANK($AD230,$AD229:$AD244),0)","v":0},0,null,null,0,0]
[null,0,null,"","",0,0,0,0,0,0,0,0,null,0,null,"",0,0,0,null,"",null,"",null,0,{"$f":"IF($Z231>=1,RANK($Z231,$Z229:$Z244),0)","v":0},0,null,0,{"$f":"IF($AD231>=1,RANK($AD231,$AD229:$AD244),0)","v":0},0,null,null,0,0]
[null,0,null,"","",0,0,0,0,0,0,0,0,null,0,null,"",0,0,0,null,"",null,"",null,0,{"$f":"IF($Z232>=1,RANK($Z232,$Z229:$Z244),0)","v":0},0,null,0,{"$f":"IF($AD232>=1,RANK($AD232,$AD229:$AD244),0)","v":0},0,null,null,0,0]
[null,0,null,"","",0,0,0,0,0,0,0,0,null,0,null,"",0,0,0,null,"",null,"",null,0,{"$f":"IF($Z233>=1,RANK($Z233,$Z229:$Z244),0)","v":0},0,null,0,{"$f":"IF($AD233>=1,RANK($AD233,$AD229:$AD244),0)","v":0},0,null,null,0,0]
[null,{"$f":"IF(OR(ISNA(MATCH(C234&\"\",AthleteNumbers,0)),ISBLANK(C234)),0,MATCH(C234&\"\",AthleteNumbers,0))","v":0},null,"","",0,0,0,0,0,0,0,0,null,{"$f":"+G234+I234+K234+M234","v":0},null,{"$f":"IF(AB234+AF234>0,\"*\",\"\")","v":""},0,0,{"$f":"IF($O234>0,RANK(O234,AthletePoints),0)","v":0},null,{"$f":"IF(O234>=40,IF(X234=\"M\",VLOOKUP(O234,UKABoysAwards,2),IF(X234=\"F\",VLOOKUP(O234,UKAGirlsAwards,2),\"\")),\"\")","v":""},null,"",null,0,{"$f":"IF($Z234>=1,RANK($Z234,$Z229:$Z244),0)","v":0},{"$f":"IF(AA234<=MaxS,INT(Z234),0)","v":0},null,0,{"$f":"IF($AD234>=1,RANK($AD234,$AD229:$AD244),0)","v":0},{"$f":"IF(AE234<=MaxS,INT(AD234),0)","v":0},null,null,0,0]
[null,{"$f":"IF(OR(ISNA(MATCH(C235&\"\",AthleteNumbers,0)),ISBLANK(C235)),0,MATCH(C235&\"\",AthleteNumbers,0))","v":0},null,"","",0,0,0,0,0,0,0,0,null,{"$f":"+G235+I235+K235+M235","v":0},null,{"$f":"IF(AB235+AF235>0,\"*\",\"\")","v":""},0,0,{"$f":"IF($O235>0,RANK(O235,AthletePoints),0)","v":0},null,{"$f":"IF(O235>=40,IF(X235=\"M\",VLOOKUP(O235,UKABoysAwards,2),IF(X235=\"F\",VLOOKUP(O235,UKAGirlsAwards,2),\"\")),\"\")","v":""},null,"",null,0,{"$f":"IF($Z235>=1,RANK($Z235,$Z229:$Z244),0)","v":0},{"$f":"IF(AA235<=MaxS,INT(Z235),0)","v":0},null,0,{"$f":"IF($AD235>=1,RANK($AD235,$AD229:$AD244),0)","v":0},{"$f":"IF(AE235<=MaxS,INT(AD235),0)","v":0},null,null,0,0]
[null,0,null,"","",0,0,0,0,0,0,0,0,null,0,null,"",0,0,0,null,"",null,"",null,0,{"$f":"IF($Z236>=1,RANK($Z236,$Z229:$Z244),0)","v":0},0,null,0,{"$f":"IF($AD236>=1,RANK($AD236,$AD229:$AD244),0)","v":0},0,null,null,0,0]
[null,0,null,"","",0,0,0,0,0,0,0,0,null,0,null,"",0,0,0,null,"",null,"",null,0,{"$f":"IF($Z237>=1,RANK($Z237,$Z229:$Z244),0)","v":0},0,null,0,{"$f":"IF($AD237>=1,RANK($AD237,$AD229:$AD244),0)","v":0},0,null,null,0,0]
[null,0,null,"","",0,0,0,0,0,0,0,0,null,0,null,"",0,0,0,null,"",null,"",null,0,{"$f":"IF($Z238>=1,RANK($Z238,$Z229:$Z244),0)","v":0},0,null,0,{"$f":"IF($AD238>=1,RANK($AD238,$AD229:$AD244),0)","v":0},0,null,null,0,0]
[null,0,null,"","",0,0,0,0,0,0,0,0,null,0,null,"",0,0,0,null,"",null,"",null,0,{"$f":"IF($Z239>=1,RANK($Z239,$Z229:$Z244),0)","v":0},0,null,0,{"$f":"IF($AD239>=1,RANK($AD239,$AD229:$AD244),0)","v":0},0,null,null,0,0]
[null,0,null,"","",0,0,0,0,0,0,0,0,null,0,null,"",0,0,0,null,"",null,"",null,0,{"$f":"IF($Z240>=1,RANK($Z240,$Z229:$Z244),0)","v":0},0,null,0,{"$f":"IF($AD240>=1,RANK($AD240,$AD229:$AD244),0)","v":0},0,null,null,0,0]
[null,0,null,"","",0,0,0,0,0,0,0,0,null,0,null,"",0,0,0,null,"",null,"",null,0,{"$f":"IF($Z241>=1,RANK($Z241,$Z229:$Z244),0)","v":0},0,null,0,{"$f":"IF($AD241>=1,RANK($AD241,$AD229:$AD244),0)","v":0},0,null,null,0,0]
[null,0,null,"","",0,0,0,0,0,0,0,0,null,0,null,"",0,0,0,null,"",null,"",null,0,{"$f":"IF($Z242>=1,RANK($Z242,$Z229:$Z244),0)","v":0},0,null,0,{"$f":"IF($AD242>=1,RANK($AD242,$AD229:$AD244),0)","v":0},0,null,null,0,0]
[null,0,null,"","",0,0,0,0,0,0,0,0,null,0,null,"",0,0,0,null,"",null,"",null,0,{"$f":"IF($Z243>=1,RANK($Z243,$Z229:$Z244),0)","v":0},0,null,0,{"$f":"IF($AD243>=1,RANK($AD243,$AD229:$AD244),0)","v":0},0,null,null,0,0]
[null,0,null,"","",0,0,0,0,0,0,0,0,null,0,null,"",0,0,0,null,"",null,"",null,0,{"$f":"IF($Z244>=1,RANK($Z244,$Z229:$Z244),0)","v":0},0,{"$f":"SUM(AB229:AB244)","v":0},0,{"$f":"IF($AD244>=1,RANK($AD244,$AD229:$AD244),0)","v":0},0,{"$f":"SUM(AF229:AF244)","v":0},null,0,0]
[null,0,null,"","",0,0,0,0,0,0,0,0,{"$f":"INDEX(RelayPoints,A260)","v":{"$error":"#VALUE!"}},{"$f":"+G245+I245+K245+M245","v":0},{"$f":"+AC260+AG260+N245","v":{"$error":"#VALUE!"}},{"$f":"IF(AB245+AF245>0,\"*\",\"\")","v":""},0,0,0,null,"",null,"",null,0,{"$f":"IF($Z245>=1,RANK($Z245,$Z245:$Z260),0)","v":0},{"$f":"IF(AA245<=MaxS,INT(Z245),0)","v":0},null,0,{"$f":"IF($AD245>=1,RANK($AD245,$AD245:$AD260),0)","v":0},{"$f":"IF(AE245<=MaxS,INT(AD245),0)","v":0},null,null,0,0]
[null,0,null,"","",0,0,0,0,0,0,0,0,null,{"$f":"+G246+I246+K246+M246","v":0},null,{"$f":"IF(AB246+AF246>0,\"*\",\"\")","v":""},0,0,0,null,"",null,"",null,0,{"$f":"IF($Z246>=1,RANK($Z246,$Z245:$Z260),0)","v":0},0,null,0,{"$f":"IF($AD246>=1,RANK($AD246,$AD245:$AD260),0)","v":0},0,null,null,0,0]
[null,0,null,"","",0,0,0,0,0,0,0,0,null,0,null,"",0,0,0,null,"",null,"",null,0,{"$f":"IF($Z247>=1,RANK($Z247,$Z245:$Z260),0)","v":0},0,null,0,{"$f":"IF($AD247>=1,RANK($AD247,$AD245:$AD260),0)","v":0},0,null,null,0,0]
[null,0,null,"","",0,0,0,0,0,0,0,0,null,0,null,"",0,0,0,null,"",null,"",null,0,{"$f":"IF($Z248>=1,RANK($Z248,$Z245:$Z260),0)","v":0},0,null,0,{"$f":"IF($AD248>=1,RANK($AD248,$AD245:$AD260),0)","v":0},0,null,null,0,0]
[null,0,null,"","",0,0,0,0,0,0,0,0,null,0,null,"",0,0,0,null,"",null,"",null,0,{"$f":"IF($Z249>=1,RANK($Z249,$Z245:$Z260),0)","v":0},0,null,0,{"$f":"IF($AD249>=1,RANK($AD249,$AD245:$AD260),0)","v":0},0,null,null,0,0]
[null,0,null,"","",0,0,0,0,0,0,0,0,null,0,null,"",0,0,0,null,"",null,"",null,0,{"$f":"IF($Z250>=1,RANK($Z250,$Z245:$Z260),0)","v":0},0,null,0,{"$f":"IF($AD250>=1,RANK($AD250,$AD245:$AD260),0)","v":0},0,null,null,0,0]
[null,{"$f":"IF(OR(ISNA(MATCH(C251&\"\",AthleteNumbers,0)),ISBLANK(C251)),0,MATCH(C251&\"\",AthleteNumbers,0))","v":0},null,"","",0,0,0,0,0,0,0,0,null,{"$f":"+G251+I251+K251+M251","v":0},null,{"$f":"IF(AB251+AF251>0,\"*\",\"\")","v":""},0,0,{"$f":"IF($O251>0,RANK(O251,AthletePoints),0)","v":0},null,{"$f":"IF(O251>=40,IF(X251=\"M\",VLOOKUP(O251,UKABoysAwards,2),IF(X251=\"F\",VLOOKUP(O251,UKAGirlsAwards,2),\"\")),\"\")","v":""},null,"",null,0,{"$f":"IF($Z251>=1,RANK($Z251,$Z245:$Z260),0)","v":0},{"$f":"IF(AA251<=MaxS,INT(Z251),0)","v":0},null,0,{"$f":"IF($AD251>=1,RANK($AD251,$AD245:$AD260),0)","v":0},{"$f":"IF(AE251<=MaxS,INT(AD251),0)","v":0},null,null,0,0]
[null,{"$f":"IF(OR(ISNA(MATCH(C252&\"\",AthleteNumbers,0)),ISBLANK(C252)),0,MATCH(C252&\"\",AthleteNumbers,0))","v":0},null,"","",0,0,0,0,0,0,0,0,null,{"$f":"+G252+I252+K252+M252","v":0},null,{"$f":"IF(AB252+AF252>0,\"*\",\"\")","v":""},0,0,{"$f":"IF($O252>0,RANK(O252,AthletePoints),0)","v":0},null,{"$f":"IF(O252>=40,IF(X252=\"M\",VLOOKUP(O252,UKABoysAwards,2),IF(X252=\"F\",VLOOKUP(O252,UKAGirlsAwards,2),\"\")),\"\")","v":""},null,"",null,0,{"$f":"IF($Z252>=1,RANK($Z252,$Z245:$Z260),0)","v":0},{"$f":"IF(AA252<=MaxS,INT(Z252),0)","v":0},null,0,{"$f":"IF($AD252>=1,RANK($AD252,$AD245:$AD260),0)","v":0},{"$f":"IF(AE252<=MaxS,INT(AD252),0)","v":0},null,null,0,0]
[null,0,null,"","",0,0,0,0,0,0,0,0,null,0,null,"",0,0,0,null,"",null,"",null,0,{"$f":"IF($Z253>=1,RANK($Z253,$Z245:$Z260),0)","v":0},0,null,0,{"$f":"IF($AD253>=1,RANK($AD253,$AD245:$AD260),0)","v":0},0,null,null,0,0]
[null,0,null,"","",0,0,0,0,0,0,0,0,null,0,null,"",0,0,0,null,"",null,"",null,0,{"$f":"IF($Z254>=1,RANK($Z254,$Z245:$Z260),0)","v":0},0,null,0,{"$f":"IF($AD254>=1,RANK($AD254,$AD245:$AD260),0)","v":0},0,null,null,0,0]
[null,0,null,"","",0,0,0,0,0,0,0,0,null,0,null,"",0,0,0,null,"",null,"",null,0,{"$f":"IF($Z255>=1,RANK($Z255,$Z245:$Z260),0)","v":0},0,null,0,{"$f":"IF($AD255>=1,RANK($AD255,$AD245:$AD260),0)","v":0},0,null,null,0,0]
[null,0,null,"","",0,0,0,0,0,0,0,0,null,0,null,"",0,0,0,null,"",null,"",null,0,{"$f":"IF($Z256>=1,RANK($Z256,$Z245:$Z260),0)","v":0},0,null,0,{"$f":"IF($AD256>=1,RANK($AD256,$AD245:$AD260),0)","v":0},0,null,null,0,0]
[null,0,null,"","",0,0,0,0,0,0,0,0,null,0,null,"",0,0,0,null,"",null,"",null,0,{"$f":"IF($Z257>=1,RANK($Z257,$Z245:$Z260),0)","v":0},0,null,0,{"$f":"IF($AD257>=1,RANK($AD257,$AD245:$AD260),0)","v":0},0,null,null,0,0]
[null,0,null,"","",0,0,0,0,0,0,0,0,null,0,null,"",0,0,0,null,"",null,"",null,0,{"$f":"IF($Z258>=1,RANK($Z258,$Z245:$Z260),0)","v":0},0,null,0,{"$f":"IF($AD258>=1,RANK($AD258,$AD245:$AD260),0)","v":0},0,null,null,0,0]
[null,0,null,"","",0,0,0,0,0,0,0,0,null,0,null,"",0,0,0,null,"",null,"",null,0,{"$f":"IF($Z259>=1,RANK($Z259,$Z245:$Z260),0)","v":0},0,null,0,{"$f":"IF($AD259>=1,RANK($AD259,$AD245:$AD260),0)","v":0},0,null,null,0,0]
[null,0,null,"","",0,0,0,0,0,0,0,0,null,0,null,"",0,0,0,null,"",null,"",null,0,{"$f":"IF($Z260>=1,RANK($Z260,$Z245:$Z260),0)","v":0},0,{"$f":"SUM(AB245:AB260)","v":0},0,{"$f":"IF($AD260>=1,RANK($AD260,$AD245:$AD260),0)","v":0},0,{"$f":"SUM(AF245:AF260)","v":0},null,0,0]
[null,0,null,"","",0,0,0,0,0,0,0,0,{"$f":"INDEX(RelayPoints,A276)","v":{"$error":"#VALUE!"}},{"$f":"+G261+I261+K261+M261","v":0},{"$f":"+AC276+AG276+N261","v":{"$error":"#VALUE!"}},{"$f":"IF(AB261+AF261>0,\"*\",\"\")","v":""},0,0,0,null,"",null,"",null,0,{"$f":"IF($Z261>=1,RANK($Z261,$Z261:$Z276),0)","v":0},0,null,0,{"$f":"IF($AD261>=1,RANK($AD261,$AD261:$AD276),0)","v":0},0,null,null,0,0]
[null,0,null,"","",0,0,0,0,0,0,0,0,null,{"$f":"+G262+I262+K262+M262","v":0},null,{"$f":"IF(AB262+AF262>0,\"*\",\"\")","v":""},0,0,0,null,"",null,"",null,0,{"$f":"IF($Z262>=1,RANK($Z262,$Z261:$Z276),0)","v":0},0,null,0,{"$f":"IF($AD262>=1,RANK($AD262,$AD261:$AD276),0)","v":0},0,null,null,0,0]
[null,0,null,"","",0,0,0,0,0,0,0,0,null,0,null,"",0,0,0,null,"",null,"",null,0,{"$f":"IF($Z263>=1,RANK($Z263,$Z261:$Z276),0)","v":0},0,null,0,{"$f":"IF($AD263>=1,RANK($AD263,$AD261:$AD276),0)","v":0},0,null,null,0,0]
[null,0,null,"","",0,0,0,0,0,0,0,0,null,0,null,"",0,0,0,null,"",null,"",null,0,{"$f":"IF($Z264>=1,RANK($Z264,$Z261:$Z276),0)","v":0},0,null,0,{"$f":"IF($AD264>=1,RANK($AD264,$AD261:$AD276),0)","v":0},0,null,null,0,0]
[null,{"$f":"IF(OR(ISNA(MATCH(C265&\"\",AthleteNumbers,0)),ISBLANK(C265)),0,MATCH(C265&\"\",AthleteNumbers,0))","v":0},null,"","",0,0,0,0,0,0,0,0,null,{"$f":"+G265+I265+K265+M265","v":0},null,{"$f":"IF(AB265+AF265>0,\"*\",\"\")","v":""},0,0,{"$f":"IF($O265>0,RANK(O265,AthletePoints),0)","v":0},null,{"$f":"IF(O265>=40,IF(X265=\"M\",VLOOKUP(O265,UKABoysAwards,2),IF(X265=\"F\",VLOOKUP(O265,UKAGirlsAwards,2),\"\")),\"\")","v":""},null,"",null,0,{"$f":"IF($Z265>=1,RANK($Z265,$Z261:$Z276),0)","v":0},{"$f":"IF(AA265<=MaxS,INT(Z265),0)","v":0},null,0,{"$f":"IF($AD265>=1,RANK($AD265,$AD261:$AD276),0)","v":0},{"$f":"IF(AE265<=MaxS,INT(AD265),0)","v":0},null,null,0,0]
[null,{"$f":"IF(OR(ISNA(MATCH(C266&\"\",AthleteNumbers,0)),ISBLANK(C266)),0,MATCH(C266&\"\",AthleteNumbers,0))","v":0},null,"","",0,0,0,0,0,0,0,0,null,{"$f":"+G266+I266+K266+M266","v":0},null,{"$f":"IF(AB266+AF266>0,\"*\",\"\")","v":""},0,0,{"$f":"IF($O266>0,RANK(O266,AthletePoints),0)","v":0},null,{"$f":"IF(O266>=40,IF(X266=\"M\",VLOOKUP(O266,UKABoysAwards,2),IF(X266=\"F\",VLOOKUP(O266,UKAGirlsAwards,2),\"\")),\"\")","v":""},null,"",null,0,{"$f":"IF($Z266>=1,RANK($Z266,$Z261:$Z276),0)","v":0},{"$f":"IF(AA266<=MaxS,INT(Z266),0)","v":0},null,0,{"$f":"IF($AD266>=1,RANK($AD266,$AD261:$AD276),0)","v":0},{"$f":"IF(AE266<=MaxS,INT(AD266),0)","v":0},null,null,0,0]
[null,0,null,"","",0,0,0,0,0,0,0,0,null,0,null,"",0,0,0,null,"",null,"",null,0,{"$f":"IF($Z267>=1,RANK($Z267,$Z261:$Z276),0)","v":0},0,null,0,{"$f":"IF($AD267>=1,RANK($AD267,$AD261:$AD276),0)","v":0},0,null,null,0,0]
[null,0,null,"","",0,0,0,0,0,0,0,0,null,0,null,"",0,0,0,null,"",null,"",null,0,{"$f":"IF($Z268>=1,RANK($Z268,$Z261:$Z276),0)","v":0},0,null,0,{"$f":"IF($AD268>=1,RANK($AD268,$AD261:$AD276),0)","v":0},0,null,null,0,0]
[null,0,null,"","",0,0,0,0,0,0,0,0,null,0,null,"",0,0,0,null,"",null,"",null,0,{"$f":"IF($Z269>=1,RANK($Z269,$Z261:$Z276),0)","v":0},0,null,0,{"$f":"IF($AD269>=1,RANK($AD269,$AD261:$AD276),0)","v":0},0,null,null,0,0]
[null,0,null,"","",0,0,0,0,0,0,0,0,null,0,null,"",0,0,0,null,"",null,"",null,0,{"$f":"IF($Z270>=1,RANK($Z270,$Z261:$Z276),0)","v":0},0,null,0,{"$f":"IF($AD270>=1,RANK($AD270,$AD261:$AD276),0)","v":0},0,null,null,0,0]
[null,0,null,"","",0,0,0,0,0,0,0,0,null,0,null,"",0,0,0,null,"",null,"",null,0,{"$f":"IF($Z271>=1,RANK($Z271,$Z261:$Z276),0)","v":0},0,null,0,{"$f":"IF($AD271>=1,RANK($AD271,$AD261:$AD276),0)","v":0},0,null,null,0,0]
[null,0,null,"","",0,0,0,0,0,0,0,0,null,0,null,"",0,0,0,null,"",null,"",null,0,{"$f":"IF($Z272>=1,RANK($Z272,$Z261:$Z276),0)","v":0},0,null,0,{"$f":"IF($AD272>=1,RANK($AD272,$AD261:$AD276),0)","v":0},0,null,null,0,0]
[null,0,null,"","",0,0,0,0,0,0,0,0,null,0,null,"",0,0,0,null,"",null,"",null,0,{"$f":"IF($Z273>=1,RANK($Z273,$Z261:$Z276),0)","v":0},0,null,0,{"$f":"IF($AD273>=1,RANK($AD273,$AD261:$AD276),0)","v":0},0,null,null,0,0]
[null,0,null,"","",0,0,0,0,0,0,0,0,null,0,null,"",0,0,0,null,"",null,"",null,0,{"$f":"IF($Z274>=1,RANK($Z274,$Z261:$Z276),0)","v":0},0,null,0,{"$f":"IF($AD274>=1,RANK($AD274,$AD261:$AD276),0)","v":0},0,null,null,0,0]
[null,0,null,"","",0,0,0,0,0,0,0,0,null,0,null,"",0,0,0,null,"",null,"",null,0,{"$f":"IF($Z275>=1,RANK($Z275,$Z261:$Z276),0)","v":0},0,null,0,{"$f":"IF($AD275>=1,RANK($AD275,$AD261:$AD276),0)","v":0},0,null,null,0,0]
[null,0,null,"","",0,0,0,0,0,0,0,0,null,0,null,"",0,0,0,null,"",null,"",null,0,{"$f":"IF($Z276>=1,RANK($Z276,$Z261:$Z276),0)","v":0},0,{"$f":"SUM(AB261:AB276)","v":0},0,{"$f":"IF($AD276>=1,RANK($AD276,$AD261:$AD276),0)","v":0},0,{"$f":"SUM(AF261:AF276)","v":0},null,0,0]
[null,0,null,"","",0,0,0,0,0,0,0,0,{"$f":"INDEX(RelayPoints,A292)","v":{"$error":"#VALUE!"}},{"$f":"+G277+I277+K277+M277","v":0},{"$f":"+AC292+AG292+N277","v":{"$error":"#VALUE!"}},{"$f":"IF(AB277+AF277>0,\"*\",\"\")","v":""},0,0,0,null,"",null,"",null,0,{"$f":"IF($Z277>=1,RANK($Z277,$Z277:$Z292),0)","v":0},0,null,0,{"$f":"IF($AD277>=1,RANK($AD277,$AD277:$AD292),0)","v":0},0,null,null,0,0]
[null,0,null,"","",0,0,0,0,0,0,0,0,null,{"$f":"+G278+I278+K278+M278","v":0},null,{"$f":"IF(AB278+AF278>0,\"*\",\"\")","v":""},0,0,0,null,"",null,"",null,0,{"$f":"IF($Z278>=1,RANK($Z278,$Z277:$Z292),0)","v":0},0,null,0,{"$f":"IF($AD278>=1,RANK($AD278,$AD277:$AD292),0)","v":0},0,null,null,0,0]
[null,0,null,"","",0,0,0,0,0,0,0,0,null,0,null,"",0,0,0,null,"",null,"",null,0,{"$f":"IF($Z279>=1,RANK($Z279,$Z277:$Z292),0)","v":0},0,null,0,{"$f":"IF($AD279>=1,RANK($AD279,$AD277:$AD292),0)","v":0},0,null,null,0,0]
[null,0,null,"","",0,0,0,0,0,0,0,0,null,0,null,"",0,0,0,null,"",null,"",null,0,{"$f":"IF($Z280>=1,RANK($Z280,$Z277:$Z292),0)","v":0},0,null,0,{"$f":"IF($AD280>=1,RANK($AD280,$AD277:$AD292),0)","v":0},0,null,null,0,0]
[null,0,null,"","",0,0,0,0,0,0,0,0,null,0,null,"",0,0,0,null,"",null,"",null,0,{"$f":"IF($Z281>=1,RANK($Z281,$Z277:$Z292),0)","v":0},{"$f":"IF(AA281<=MaxS,INT(Z281),0)","v":0},null,0,{"$f":"IF($AD281>=1,RANK($AD281,$AD277:$AD292),0)","v":0},{"$f":"IF(AE281<=MaxS,INT(AD281),0)","v":0},null,null,0,0]
[null,{"$f":"IF(OR(ISNA(MATCH(C282&\"\",AthleteNumbers,0)),ISBLANK(C282)),0,MATCH(C282&\"\",AthleteNumbers,0))","v":0},null,"","",0,0,0,0,0,0,0,0,null,{"$f":"+G282+I282+K282+M282","v":0},null,{"$f":"IF(AB282+AF282>0,\"*\",\"\")","v":""},0,0,{"$f":"IF($O282>0,RANK(O282,AthletePoints),0)","v":0},null,{"$f":"IF(O282>=40,IF(X282=\"M\",VLOOKUP(O282,UKABoysAwards,2),IF(X282=\"F\",VLOOKUP(O282,UKAGirlsAwards,2),\"\")),\"\")","v":""},null,"",null,0,{"$f":"IF($Z282>=1,RANK($Z282,$Z277:$Z292),0)","v":0},0,null,0,{"$f":"IF($AD282>=1,RANK($AD282,$AD277:$AD292),0)","v":0},0,null,null,0,0]
[null,{"$f":"IF(OR(ISNA(MATCH(C283&\"\",AthleteNumbers,0)),ISBLANK(C283)),0,MATCH(C283&\"\",AthleteNumbers,0))","v":0},null,"","",0,0,0,0,0,0,0,0,null,{"$f":"+G283+I283+K283+M283","v":0},null,{"$f":"IF(AB283+AF283>0,\"*\",\"\")","v":""},0,0,{"$f":"IF($O283>0,RANK(O283,AthletePoints),0)","v":0},null,{"$f":"IF(O283>=40,IF(X283=\"M\",VLOOKUP(O283,UKABoysAwards,2),IF(X283=\"F\",VLOOKUP(O283,UKAGirlsAwards,2),\"\")),\"\")","v":""},null,"",null,0,{"$f":"IF($Z283>=1,RANK($Z283,$Z277:$Z292),0)","v":0},{"$f":"IF(AA283<=MaxS,INT(Z283),0)","v":0},null,0,{"$f":"IF($AD283>=1,RANK($AD283,$AD277:$AD292),0)","v":0},{"$f":"IF(AE283<=MaxS,INT(AD283),0)","v":0},null,null,0,0]
[null,0,null,"","",0,0,0,0,0,0,0,0,null,0,null,"",0,0,0,null,"",null,"",null,0,{"$f":"IF($Z284>=1,RANK($Z284,$Z277:$Z292),0)","v":0},0,null,0,{"$f":"IF($AD284>=1,RANK($AD284,$AD277:$AD292),0)","v":0},0,null,null,0,0]
[null,0,null,"","",0,0,0,0,0,0,0,0,null,0,null,"",0,0,0,null,"",null,"",null,0,{"$f":"IF($Z285>=1,RANK($Z285,$Z277:$Z292),0)","v":0},0,null,0,{"$f":"IF($AD285>=1,RANK($AD285,$AD277:$AD292),0)","v":0},0,null,null,0,0]
[null,0,null,"","",0,0,0,0,0,0,0,0,null,0,null,"",0,0,0,null,"",null,"",null,0,{"$f":"IF($Z286>=1,RANK($Z286,$Z277:$Z292),0)","v":0},0,null,0,{"$f":"IF($AD286>=1,RANK($AD286,$AD277:$AD292),0)","v":0},0,null,null,0,0]
[null,0,null,"","",0,0,0,0,0,0,0,0,null,0,null,"",0,0,0,null,"",null,"",null,0,{"$f":"IF($Z287>=1,RANK($Z287,$Z277:$Z292),0)","v":0},0,null,0,{"$f":"IF($AD287>=1,RANK($AD287,$AD277:$AD292),0)","v":0},0,null,null,0,0]
[null,0,null,"","",0,0,0,0,0,0,0,0,null,0,null,"",0,0,0,null,"",null,"",null,0,{"$f":"IF($Z288>=1,RANK($Z288,$Z277:$Z292),0)","v":0},0,null,0,{"$f":"IF($AD288>=1,RANK($AD288,$AD277:$AD292),0)","v":0},0,null,null,0,0]
[null,0,null,"","",0,0,0,0,0,0,0,0,null,0,null,"",0,0,0,null,"",null,"",null,0,{"$f":"IF($Z289>=1,RANK($Z289,$Z277:$Z292),0)","v":0},0,null,0,{"$f":"IF($AD289>=1,RANK($AD289,$AD277:$AD292),0)","v":0},0,null,null,0,0]
[null,0,null,"","",0,0,0,0,0,0,0,0,null,0,null,"",0,0,0,null,"",null,"",null,0,{"$f":"IF($Z290>=1,RANK($Z290,$Z277:$Z292),0)","v":0},0,null,0,{"$f":"IF($AD290>=1,RANK($AD290,$AD277:$AD292),0)","v":0},0,null,null,0,0]
[null,0,null,"","",0,0,0,0,0,0,0,0,null,0,null,"",0,0,0,null,"",null,"",null,0,{"$f":"IF($Z291>=1,RANK($Z291,$Z277:$Z292),0)","v":0},0,null,0,{"$f":"IF($AD291>=1,RANK($AD291,$AD277:$AD292),0)","v":0},0,null,null,0,0]
[null,0,null,"","",0,0,0,0,0,0,0,0,null,0,null,"",0,0,0,null,"",null,"",null,0,{"$f":"IF($Z292>=1,RANK($Z292,$Z277:$Z292),0)","v":0},0,{"$f":"SUM(AB277:AB292)","v":0},0,{"$f":"IF($AD292>=1,RANK($AD292,$AD277:$AD292),0)","v":0},0,{"$f":"SUM(AF277:AF292)","v":0},null,0,0]
[null,0,null,"","",0,0,0,0,0,0,0,0,{"$f":"INDEX(RelayPoints,A308)","v":{"$error":"#VALUE!"}},{"$f":"+G293+I293+K293+M293","v":0},{"$f":"+AC308+AG308+N293","v":{"$error":"#VALUE!"}},{"$f":"IF(AB293+AF293>0,\"*\",\"\")","v":""},0,0,0,null,"",null,"",null,0,{"$f":"IF($Z293>=1,RANK($Z293,$Z293:$Z308),0)","v":0},0,null,0,{"$f":"IF($AD293>=1,RANK($AD293,$AD293:$AD308),0)","v":0},0,null,null,0,0]
[null,0,null,"","",0,0,0,0,0,0,0,0,null,{"$f":"+G294+I294+K294+M294","v":0},null,{"$f":"IF(AB294+AF294>0,\"*\",\"\")","v":""},0,0,0,null,"",null,"",null,0,{"$f":"IF($Z294>=1,RANK($Z294,$Z293:$Z308),0)","v":0},0,null,0,{"$f":"IF($AD294>=1,RANK($AD294,$AD293:$AD308),0)","v":0},0,null,null,0,0]
[null,0,null,"","",0,0,0,0,0,0,0,0,null,0,null,"",0,0,0,null,"",null,"",null,0,{"$f":"IF($Z295>=1,RANK($Z295,$Z293:$Z308),0)","v":0},0,null,0,{"$f":"IF($AD295>=1,RANK($AD295,$AD293:$AD308),0)","v":0},0,null,null,0,0]
[null,0,null,"","",0,0,0,0,0,0,0,0,null,0,null,"",0,0,0,null,"",null,"",null,0,{"$f":"IF($Z296>=1,RANK($Z296,$Z293:$Z308),0)","v":0},0,null,0,{"$f":"IF($AD296>=1,RANK($AD296,$AD293:$AD308),0)","v":0},0,null,null,0,0]
[null,{"$f":"IF(OR(ISNA(MATCH(C297&\"\",AthleteNumbers,0)),ISBLANK(C297)),0,MATCH(C297&\"\",AthleteNumbers,0))","v":0},null,{"$f":"IF($B297>0,INDEX(DB,$B297,8),\"\")","v":""},{"$f":"IF($B297>0,INDEX(DB,$B297,3),\"\")","v":""},{"$f":"IF($B297>0,INDEX(DB,$B297,13),0)","v":0},{"$f":"IF($B297>0,INDEX(DB,$B297,17),0)","v":0},{"$f":"IF($B297>0,INDEX(DB,$B297,15),0)","v":0},{"$f":"IF($B297>0,INDEX(DB,$B297,19),0)","v":0},{"$f":"IF($B297>0,INDEX(DB,$B297,14),0)","v":0},{"$f":"IF($B297>0,INDEX(DB,$B297,18),0)","v":0},{"$f":"IF($B297>0,INDEX(DB,$B297,16),0)","v":0},{"$f":"IF($B297>0,INDEX(DB,$B297,20),0)","v":0},null,0,null,"",{"$f":"IF($AI297>0,RANK($AI297,BoysPoints),0)","v":0},{"$f":"IF($AJ297>0,RANK($AJ297,GirlsPoints),0)","v":0},{"$f":"IF($O297>0,RANK(O297,AthletePoints),0)","v":0},null,{"$f":"IF(O297>=40,IF(X297=\"M\",VLOOKUP(O297,UKABoysAwards,2),IF(X297=\"F\",VLOOKUP(O297,UKAGirlsAwards,2),\"\")),\"\")","v":""},null,{"$f":"INDEX(DB,$B297,4)","v":""},null,0,{"$f":"IF($Z297>=1,RANK($Z297,$Z293:$Z308),0)","v":0},0,null,0,{"$f":"IF($AD297>=1,RANK($AD297,$AD293:$AD308),0)","v":0},0,null,null,0,0]
[null,0,null,"","",0,0,0,0,0,0,0,0,null,{"$f":"+G298+I298+K298+M298","v":0},null,{"$f":"IF(AB298+AF298>0,\"*\",\"\")","v":""},0,0,0,null,"",null,"",null,0,{"$f":"IF($Z298>=1,RANK($Z298,$Z293:$Z308),0)","v":0},{"$f":"IF(AA298<=MaxS,INT(Z298),0)","v":0},null,0,{"$f":"IF($AD298>=1,RANK($AD298,$AD293:$AD308),0)","v":0},{"$f":"IF(AE298<=MaxS,INT(AD298),0)","v":0},null,null,0,0]
[null,0,null,{"$f":"IF($B299>0,INDEX(DB,$B299,8),\"\")","v":""},{"$f":"IF($B299>0,INDEX(DB,$B299,3),\"\")","v":""},{"$f":"IF($B299>0,INDEX(DB,$B299,13),0)","v":0},{"$f":"IF($B299>0,INDEX(DB,$B299,17),0)","v":0},{"$f":"IF($B299>0,INDEX(DB,$B299,15),0)","v":0},{"$f":"IF($B299>0,INDEX(DB,$B299,19),0)","v":0},{"$f":"IF($B299>0,INDEX(DB,$B299,14),0)","v":0},{"$f":"IF($B299>0,INDEX(DB,$B299,18),0)","v":0},{"$f":"IF($B299>0,INDEX(DB,$B299,16),0)","v":0},{"$f":"IF($B299>0,INDEX(DB,$B299,20),0)","v":0},null,{"$f":"+G299+I299+K299+M299","v":0},null,{"$f":"IF(AB299+AF299>0,\"*\",\"\")","v":""},{"$f":"IF($AI299>0,RANK($AI299,BoysPoints),0)","v":0},{"$f":"IF($AJ299>0,RANK($AJ299,GirlsPoints),0)","v":0},0,null,"",null,{"$f":"INDEX(DB,$B299,4)","v":""},null,0,{"$f":"IF($Z299>=1,RANK($Z299,$Z293:$Z308),0)","v":0},{"$f":"IF(AA299<=MaxS,INT(Z299),0)","v":0},null,0,{"$f":"IF($AD299>=1,RANK($AD299,$AD293:$AD308),0)","v":0},{"$f":"IF(AE299<=MaxS,INT(AD299),0)","v":0},null,null,0,0]
[null,0,null,"","",0,0,0,0,0,0,0,0,null,0,null,"",0,0,0,null,"",null,"",null,0,{"$f":"IF($Z300>=1,RANK($Z300,$Z293:$Z308),0)","v":0},0,null,0,{"$f":"IF($AD300>=1,RANK($AD300,$AD293:$AD308),0)","v":0},0,null,null,0,0]
[null,0,null,"","",0,0,0,0,0,0,0,0,null,0,null,"",0,0,0,null,"",null,"",null,0,{"$f":"IF($Z301>=1,RANK($Z301,$Z293:$Z308),0)","v":0},0,null,0,{"$f":"IF($AD301>=1,RANK($AD301,$AD293:$AD308),0)","v":0},0,null,null,0,0]
[null,0,null,"","",0,0,0,0,0,0,0,0,null,0,null,"",0,0,0,null,"",null,"",null,0,{"$f":"IF($Z302>=1,RANK($Z302,$Z293:$Z308),0)","v":0},0,null,0,{"$f":"IF($AD302>=1,RANK($AD302,$AD293:$AD308),0)","v":0},0,null,null,0,0]
[null,0,null,"","",0,0,0,0,0,0,0,0,null,0,null,"",0,0,0,null,"",null,"",null,0,{"$f":"IF($Z303>=1,RANK($Z303,$Z293:$Z308),0)","v":0},{"$f":"IF(AA303<=MaxS,INT(Z303),0)","v":0},null,0,{"$f":"IF($AD303>=1,RANK($AD303,$AD293:$AD308),0)","v":0},{"$f":"IF(AE303<=MaxS,INT(AD303),0)","v":0},null,null,0,0]
[null,0,null,"","",0,0,0,0,0,0,0,0,null,0,null,"",0,0,0,null,"",null,"",null,0,{"$f":"IF($Z304>=1,RANK($Z304,$Z293:$Z308),0)","v":0},0,null,0,{"$f":"IF($AD304>=1,RANK($AD304,$AD293:$AD308),0)","v":0},0,null,null,0,0]
[null,0,null,"","",0,0,0,0,0,0,0,0,null,0,null,"",0,0,0,null,"",null,"",null,{"$f":"IF($X305=\"M\",$O305+(ROW()/10000),0)","v":0},{"$f":"IF($Z305>=1,RANK($Z305,$Z293:$Z308),0)","v":0},0,null,{"$f":"IF($X305=\"F\",$O305+(ROW()/10000),0)","v":0},{"$f":"IF($AD305>=1,RANK($AD305,$AD293:$AD308),0)","v":0},0,null,null,0,0]
[null,0,null,"","",0,0,0,0,0,0,0,0,null,0,null,"",0,0,0,null,"",null,"",null,0,{"$f":"IF($Z306>=1,RANK($Z306,$Z293:$Z308),0)","v":0},0,null,0,{"$f":"IF($AD306>=1,RANK($AD306,$AD293:$AD308),0)","v":0},0,null,null,{"$f":"IF($X306=\"M\",$O306,0)","v":0},{"$f":"IF($X306=\"F\",$O306,0)","v":0}]
[null,0,null,"","",0,0,0,0,0,0,0,0,null,0,null,"",0,0,0,null,"",null,"",null,0,{"$f":"IF($Z307>=1,RANK($Z307,$Z293:$Z308),0)","v":0},0,null,0,{"$f":"IF($AD307>=1,RANK($AD307,$AD293:$AD308),0)","v":0},0,null,null,0,0]
[null,0,null,"","",0,0,0,0,0,0,0,0,null,0,null,"",0,0,0,null,"",null,"",null,0,{"$f":"IF($Z308>=1,RANK($Z308,$Z293:$Z308),0)","v":0},0,{"$f":"SUM(AB293:AB308)","v":0},0,{"$f":"IF($AD308>=1,RANK($AD308,$AD293:$AD308),0)","v":0},0,{"$f":"SUM(AF293:AF308)","v":0},null,0,0]
[{"$f":"IF(LEN(E309),+E309,\"\")","v":""},0,null,"","",0,0,0,0,0,0,0,0,{"$f":"INDEX(RelayPoints,A324)","v":{"$error":"#VALUE!"}},{"$f":"+G309+I309+K309+M309","v":0},{"$f":"+AC324+AG324+N309","v":{"$error":"#VALUE!"}},{"$f":"IF(AB309+AF309>0,\"*\",\"\")","v":""},0,0,0,null,"",null,"",null,0,{"$f":"IF($Z309>=1,RANK($Z309,$Z309:$Z324),0)","v":0},0,null,0,{"$f":"IF($AD309>=1,RANK($AD309,$AD309:$AD324),0)","v":0},0,null,null,0,0]
[null,0,null,"","",0,0,0,0,0,0,0,0,null,{"$f":"+G310+I310+K310+M310","v":0},null,{"$f":"IF(AB310+AF310>0,\"*\",\"\")","v":""},0,0,0,null,"",null,"",null,0,{"$f":"IF($Z310>=1,RANK($Z310,$Z309:$Z324),0)","v":0},0,null,0,{"$f":"IF($AD310>=1,RANK($AD310,$AD309:$AD324),0)","v":0},0,null,null,0,0]
[null,0,null,"","",0,0,0,0,0,0,0,0,null,0,null,"",0,0,0,null,"",null,"",null,0,{"$f":"IF($Z311>=1,RANK($Z311,$Z309:$Z324),0)","v":0},0,null,0,{"$f":"IF($AD311>=1,RANK($AD311,$AD309:$AD324),0)","v":0},0,null,null,0,0]
[null,0,null,"","",0,0,0,0,0,0,0,0,null,0,null,"",0,0,0,null,"",null,"",null,0,{"$f":"IF($Z312>=1,RANK($Z312,$Z309:$Z324),0)","v":0},0,null,0,{"$f":"IF($AD312>=1,RANK($AD312,$AD309:$AD324),0)","v":0},0,null,null,0,0]
[null,{"$f":"IF(OR(ISNA(MATCH(C313&\"\",AthleteNumbers,0)),ISBLANK(C313)),0,MATCH(C313&\"\",AthleteNumbers,0))","v":0},null,"","",0,0,0,0,0,0,0,0,null,{"$f":"+G313+I313+K313+M313","v":0},null,{"$f":"IF(AB313+AF313>0,\"*\",\"\")","v":""},0,0,{"$f":"IF($O313>0,RANK(O313,AthletePoints),0)","v":0},null,{"$f":"IF(O313>=40,IF(X313=\"M\",VLOOKUP(O313,UKABoysAwards,2),IF(X313=\"F\",VLOOKUP(O313,UKAGirlsAwards,2),\"\")),\"\")","v":""},null,"",null,0,{"$f":"IF($Z313>=1,RANK($Z313,$Z309:$Z324),0)","v":0},{"$f":"IF(AA313<=MaxS,INT(Z313),0)","v":0},null,0,{"$f":"IF($AD313>=1,RANK($AD313,$AD309:$AD324),0)","v":0},{"$f":"IF(AE313<=MaxS,INT(AD313),0)","v":0},null,null,0,0]
[null,{"$f":"IF(OR(ISNA(MATCH(C314&\"\",AthleteNumbers,0)),ISBLANK(C314)),0,MATCH(C314&\"\",AthleteNumbers,0))","v":0},null,"","",0,0,0,0,0,0,0,0,null,{"$f":"+G314+I314+K314+M314","v":0},null,{"$f":"IF(AB314+AF314>0,\"*\",\"\")","v":""},0,0,{"$f":"IF($O314>0,RANK(O314,AthletePoints),0)","v":0},null,{"$f":"IF(O314>=40,IF(X314=\"M\",VLOOKUP(O314,UKABoysAwards,2),IF(X314=\"F\",VLOOKUP(O314,UKAGirlsAwards,2),\"\")),\"\")","v":""},null,"",null,0,{"$f":"IF($Z314>=1,RANK($Z314,$Z309:$Z324),0)","v":0},{"$f":"IF(AA314<=MaxS,INT(Z314),0)","v":0},null,0,{"$f":"IF($AD314>=1,RANK($AD314,$AD309:$AD324),0)","v":0},{"$f":"IF(AE314<=MaxS,INT(AD314),0)","v":0},null,null,0,0]
[null,0,null,"","",0,0,0,0,0,0,0,0,null,0,null,"",0,0,0,null,"",null,"",null,0,{"$f":"IF($Z315>=1,RANK($Z315,$Z309:$Z324),0)","v":0},0,null,0,{"$f":"IF($AD315>=1,RANK($AD315,$AD309:$AD324),0)","v":0},0,null,null,0,0]
[null,0,null,"","",0,0,0,0,0,0,0,0,null,0,null,"",0,0,0,null,"",null,"",null,0,{"$f":"IF($Z316>=1,RANK($Z316,$Z309:$Z324),0)","v":0},0,null,0,{"$f":"IF($AD316>=1,RANK($AD316,$AD309:$AD324),0)","v":0},0,null,null,0,0]
[null,0,null,"","",0,0,0,0,0,0,0,0,null,0,null,"",0,0,0,null,"",null,"",null,0,{"$f":"IF($Z317>=1,RANK($Z317,$Z309:$Z324),0)","v":0},0,null,0,{"$f":"IF($AD317>=1,RANK($AD317,$AD309:$AD324),0)","v":0},0,null,null,0,0]
[null,0,null,"","",0,0,0,0,0,0,0,0,null,0,null,"",0,0,0,null,"",null,"",null,0,{"$f":"IF($Z318>=1,RANK($Z318,$Z309:$Z324),0)","v":0},0,null,0,{"$f":"IF($AD318>=1,RANK($AD318,$AD309:$AD324),0)","v":0},0,null,null,0,0]
[null,0,null,"","",0,0,0,0,0,0,0,0,null,0,null,"",0,0,0,null,"",null,"",null,0,{"$f":"IF($Z319>=1,RANK($Z319,$Z309:$Z324),0)","v":0},0,null,0,{"$f":"IF($AD319>=1,RANK($AD319,$AD309:$AD324),0)","v":0},0,null,null,0,0]
[null,0,null,"","",0,0,0,0,0,0,0,0,null,0,null,"",0,0,0,null,"",null,"",null,0,{"$f":"IF($Z320>=1,RANK($Z320,$Z309:$Z324),0)","v":0},0,null,0,{"$f":"IF($AD320>=1,RANK($AD320,$AD309:$AD324),0)","v":0},0,null,null,0,0]
[null,0,null,"","",0,0,0,0,0,0,0,0,null,0,null,"",0,0,0,null,"",null,"",null,0,{"$f":"IF($Z321>=1,RANK($Z321,$Z309:$Z324),0)","v":0},0,null,0,{"$f":"IF($AD321>=1,RANK($AD321,$AD309:$AD324),0)","v":0},0,null,null,0,0]
[null,0,null,"","",0,0,0,0,0,0,0,0,null,0,null,"",0,0,0,null,"",null,"",null,0,{"$f":"IF($Z322>=1,RANK($Z322,$Z309:$Z324),0)","v":0},0,null,0,{"$f":"IF($AD322>=1,RANK($AD322,$AD309:$AD324),0)","v":0},0,null,null,0,0]
[null,0,null,"","",0,0,0,0,0,0,0,0,null,0,null,"",0,0,0,null,"",null,"",null,0,{"$f":"IF($Z323>=1,RANK($Z323,$Z309:$Z324),0)","v":0},0,null,0,{"$f":"IF($AD323>=1,RANK($AD323,$AD309:$AD324),0)","v":0},0,null,null,0,0]
[null,0,null,"","",0,0,0,0,0,0,0,0,null,0,null,"",0,0,0,null,"",null,"",null,0,{"$f":"IF($Z324>=1,RANK($Z324,$Z309:$Z324),0)","v":0},0,{"$f":"SUM(AB309:AB324)","v":0},0,{"$f":"IF($AD324>=1,RANK($AD324,$AD309:$AD324),0)","v":0},0,{"$f":"SUM(AF309:AF324)","v":0},null,0,0]
[null,0,null,"","",0,0,0,0,0,0,0,0,{"$f":"INDEX(RelayPoints,A340)","v":{"$error":"#VALUE!"}},{"$f":"+G325+I325+K325+M325","v":0},{"$f":"+AC340+AG340+N325","v":{"$error":"#VALUE!"}},{"$f":"IF(AB325+AF325>0,\"*\",\"\")","v":""},0,0,0,null,"",null,"",null,0,{"$f":"IF($Z325>=1,RANK($Z325,$Z325:$Z340),0)","v":0},0,null,0,{"$f":"IF($AD325>=1,RANK($AD325,$AD325:$AD340),0)","v":0},0,null,null,0,0]
[null,0,null,"","",0,0,0,0,0,0,0,0,null,{"$f":"+G326+I326+K326+M326","v":0},null,{"$f":"IF(AB326+AF326>0,\"*\",\"\")","v":""},0,0,0,null,"",null,"",null,0,{"$f":"IF($Z326>=1,RANK($Z326,$Z325:$Z340),0)","v":0},0,null,0,{"$f":"IF($AD326>=1,RANK($AD326,$AD325:$AD340),0)","v":0},0,null,null,0,0]
[null,0,null,"","",0,0,0,0,0,0,0,0,null,0,null,"",0,0,0,null,"",null,"",null,0,{"$f":"IF($Z327>=1,RANK($Z327,$Z325:$Z340),0)","v":0},0,null,0,{"$f":"IF($AD327>=1,RANK($AD327,$AD325:$AD340),0)","v":0},0,null,null,0,0]
[null,{"$f":"IF(OR(ISNA(MATCH(C328&\"\",AthleteNumbers,0)),ISBLANK(C328)),0,MATCH(C328&\"\",AthleteNumbers,0))","v":0},null,"","",0,0,0,0,0,0,0,0,null,{"$f":"+G328+I328+K328+M328","v":0},null,{"$f":"IF(AB328+AF328>0,\"*\",\"\")","v":""},0,0,{"$f":"IF($O328>0,RANK(O328,AthletePoints),0)","v":0},null,{"$f":"IF(O328>=40,IF(X328=\"M\",VLOOKUP(O328,UKABoysAwards,2),IF(X328=\"F\",VLOOKUP(O328,UKAGirlsAwards,2),\"\")),\"\")","v":""},null,"",null,0,{"$f":"IF($Z328>=1,RANK($Z328,$Z325:$Z340),0)","v":0},{"$f":"IF(AA328<=MaxS,INT(Z328),0)","v":0},null,0,{"$f":"IF($AD328>=1,RANK($AD328,$AD325:$AD340),0)","v":0},{"$f":"IF(AE328<=MaxS,INT(AD328),0)","v":0},null,null,0,0]
[null,{"$f":"IF(OR(ISNA(MATCH(C329&\"\",AthleteNumbers,0)),ISBLANK(C329)),0,MATCH(C329&\"\",AthleteNumbers,0))","v":0},null,"","",0,0,0,0,0,0,0,0,null,{"$f":"+G329+I329+K329+M329","v":0},null,{"$f":"IF(AB329+AF329>0,\"*\",\"\")","v":""},0,0,{"$f":"IF($O329>0,RANK(O329,AthletePoints),0)","v":0},null,{"$f":"IF(O329>=40,IF(X329=\"M\",VLOOKUP(O329,UKABoysAwards,2),IF(X329=\"F\",VLOOKUP(O329,UKAGirlsAwards,2),\"\")),\"\")","v":""},null,"",null,0,{"$f":"IF($Z329>=1,RANK($Z329,$Z325:$Z340),0)","v":0},{"$f":"IF(AA329<=MaxS,INT(Z329),0)","v":0},null,0,{"$f":"IF($AD329>=1,RANK($AD329,$AD325:$AD340),0)","v":0},{"$f":"IF(AE329<=MaxS,INT(AD329),0)","v":0},null,null,0,0]
[null,0,null,"","",0,0,0,0,0,0,0,0,null,0,null,"",0,0,0,null,"",null,"",null,0,{"$f":"IF($Z330>=1,RANK($Z330,$Z325:$Z340),0)","v":0},0,null,0,{"$f":"IF($AD330>=1,RANK($AD330,$AD325:$AD340),0)","v":0},0,null,null,0,0]
[null,0,null,"","",0,0,0,0,0,0,0,0,null,0,null,"",0,0,0,null,"",null,"",null,0,{"$f":"IF($Z331>=1,RANK($Z331,$Z325:$Z340),0)","v":0},0,null,0,{"$f":"IF($AD331>=1,RANK($AD331,$AD325:$AD340),0)","v":0},0,null,null,0,0]
[null,0,null,"","",0,0,0,0,0,0,0,0,null,0,null,"",0,0,0,null,"",null,"",null,0,{"$f":"IF($Z332>=1,RANK($Z332,$Z325:$Z340),0)","v":0},0,null,0,{"$f":"IF($AD332>=1,RANK($AD332,$AD325:$AD340),0)","v":0},0,null,null,0,0]
[null,0,null,"","",0,0,0,0,0,0,0,0,null,0,null,"",0,0,0,null,"",null,"",null,0,{"$f":"IF($Z333>=1,RANK($Z333,$Z325:$Z340),0)","v":0},0,null,0,{"$f":"IF($AD333>=1,RANK($AD333,$AD325:$AD340),0)","v":0},0,null,null,0,0]
[null,0,null,"","",0,0,0,0,0,0,0,0,null,0,null,"",0,0,0,null,"",null,"",null,0,{"$f":"IF($Z334>=1,RANK($Z334,$Z325:$Z340),0)","v":0},0,null,0,{"$f":"IF($AD334>=1,RANK($AD334,$AD325:$AD340),0)","v":0},0,null,null,0,0]
[null,0,null,"","",0,0,0,0,0,0,0,0,null,0,null,"",0,0,0,null,"",null,"",null,0,{"$f":"IF($Z335>=1,RANK($Z335,$Z325:$Z340),0)","v":0},0,null,0,{"$f":"IF($AD335>=1,RANK($AD335,$AD325:$AD340),0)","v":0},0,null,null,0,0]
[null,0,null,"","",0,0,0,0,0,0,0,0,null,0,null,"",0,0,0,null,"",null,"",null,0,{"$f":"IF($Z336>=1,RANK($Z336,$Z325:$Z340),0)","v":0},0,null,0,{"$f":"IF($AD336>=1,RANK($AD336,$AD325:$AD340),0)","v":0},0,null,null,0,0]
[null,0,null,"","",0,0,0,0,0,0,0,0,null,0,null,"",0,0,0,null,"",null,"",null,0,{"$f":"IF($Z337>=1,RANK($Z337,$Z325:$Z340),0)","v":0},0,null,0,{"$f":"IF($AD337>=1,RANK($AD337,$AD325:$AD340),0)","v":0},0,null,null,0,0]
[null,0,null,"","",0,0,0,0,0,0,0,0,null,0,null,"",0,0,0,null,"",null,"",null,0,{"$f":"IF($Z338>=1,RANK($Z338,$Z325:$Z340),0)","v":0},0,null,0,{"$f":"IF($AD338>=1,RANK($AD338,$AD325:$AD340),0)","v":0},0,null,null,0,0]
[null,0,null,"","",0,0,0,0,0,0,0,0,null,0,null,"",0,0,0,null,"",null,"",null,0,{"$f":"IF($Z339>=1,RANK($Z339,$Z325:$Z340),0)","v":0},0,null,0,{"$f":"IF($AD339>=1,RANK($AD339,$AD325:$AD340),0)","v":0},0,null,null,0,0]
[null,0,null,"","",0,0,0,0,0,0,0,0,null,0,null,"",0,0,0,null,"",null,"",null,0,{"$f":"IF($Z340>=1,RANK($Z340,$Z325:$Z340),0)","v":0},0,{"$f":"SUM(AB325:AB340)","v":0},0,{"$f":"IF($AD340>=1,RANK($AD340,$AD325:$AD340),0)","v":0},0,{"$f":"SUM(AF325:AF340)","v":0},null,0,0]
[{"$f":"IF(LEN(E341),+E341,\"\")","v":""},0,null,"","",0,0,0,0,0,0,0,0,{"$f":"INDEX(RelayPoints,A356)","v":{"$error":"#VALUE!"}},{"$f":"+G341+I341+K341+M341","v":0},{"$f":"+AC356+AG356+N341","v":{"$error":"#VALUE!"}},{"$f":"IF(AB341+AF341>0,\"*\",\"\")","v":""},0,0,0,null,"",null,"",null,0,{"$f":"IF($Z341>=1,RANK($Z341,$Z341:$Z356),0)","v":0},0,null,0,{"$f":"IF($AD341>=1,RANK($AD341,$AD341:$AD356),0)","v":0},0,null,null,0,0]
[null,0,null,"","",0,0,0,0,0,0,0,0,null,{"$f":"+G342+I342+K342+M342","v":0},null,{"$f":"IF(AB342+AF342>0,\"*\",\"\")","v":""},0,0,0,null,"",null,"",null,0,{"$f":"IF($Z342>=1,RANK($Z342,$Z341:$Z356),0)","v":0},0,null,0,{"$f":"IF($AD342>=1,RANK($AD342,$AD341:$AD356),0)","v":0},0,null,null,0,0]
[null,0,null,"","",0,0,0,0,0,0,0,0,null,0,null,"",0,0,0,null,"",null,"",null,0,{"$f":"IF($Z343>=1,RANK($Z343,$Z341:$Z356),0)","v":0},0,null,0,{"$f":"IF($AD343>=1,RANK($AD343,$AD341:$AD356),0)","v":0},0,null,null,0,0]
[null,0,null,"","",0,0,0,0,0,0,0,0,null,0,null,"",0,0,0,null,"",null,"",null,0,{"$f":"IF($Z344>=1,RANK($Z344,$Z341:$Z356),0)","v":0},0,null,0,{"$f":"IF($AD344>=1,RANK($AD344,$AD341:$AD356),0)","v":0},0,null,null,0,0]
[null,0,null,"","",0,0,0,0,0,0,0,0,null,0,null,"",0,0,0,null,"",null,"",null,0,{"$f":"IF($Z345>=1,RANK($Z345,$Z341:$Z356),0)","v":0},0,null,0,{"$f":"IF($AD345>=1,RANK($AD345,$AD341:$AD356),0)","v":0},0,null,null,0,0]
[null,0,null,"","",0,0,0,0,0,0,0,0,null,0,null,"",0,0,0,null,"",null,"",null,0,{"$f":"IF($Z346>=1,RANK($Z346,$Z341:$Z356),0)","v":0},0,null,0,{"$f":"IF($AD346>=1,RANK($AD346,$AD341:$AD356),0)","v":0},0,null,null,0,0]
[null,{"$f":"IF(OR(ISNA(MATCH(C347&\"\",AthleteNumbers,0)),ISBLANK(C347)),0,MATCH(C347&\"\",AthleteNumbers,0))","v":0},null,"","",0,0,0,0,0,0,0,0,null,{"$f":"+G347+I347+K347+M347","v":0},null,{"$f":"IF(AB347+AF347>0,\"*\",\"\")","v":""},0,0,{"$f":"IF($O347>0,RANK(O347,AthletePoints),0)","v":0},null,{"$f":"IF(O347>=40,IF(X347=\"M\",VLOOKUP(O347,UKABoysAwards,2),IF(X347=\"F\",VLOOKUP(O347,UKAGirlsAwards,2),\"\")),\"\")","v":""},null,"",null,0,{"$f":"IF($Z347>=1,RANK($Z347,$Z341:$Z356),0)","v":0},{"$f":"IF(AA347<=MaxS,INT(Z347),0)","v":0},null,0,{"$f":"IF($AD347>=1,RANK($AD347,$AD341:$AD356),0)","v":0},{"$f":"IF(AE347<=MaxS,INT(AD347),0)","v":0},null,null,0,0]
[null,{"$f":"IF(OR(ISNA(MATCH(C348&\"\",AthleteNumbers,0)),ISBLANK(C348)),0,MATCH(C348&\"\",AthleteNumbers,0))","v":0},null,"","",0,0,0,0,0,0,0,0,null,{"$f":"+G348+I348+K348+M348","v":0},null,{"$f":"IF(AB348+AF348>0,\"*\",\"\")","v":""},0,0,{"$f":"IF($O348>0,RANK(O348,AthletePoints),0)","v":0},null,{"$f":"IF(O348>=40,IF(X348=\"M\",VLOOKUP(O348,UKABoysAwards,2),IF(X348=\"F\",VLOOKUP(O348,UKAGirlsAwards,2),\"\")),\"\")","v":""},null,"",null,0,{"$f":"IF($Z348>=1,RANK($Z348,$Z341:$Z356),0)","v":0},{"$f":"IF(AA348<=MaxS,INT(Z348),0)","v":0},null,0,{"$f":"IF($AD348>=1,RANK($AD348,$AD341:$AD356),0)","v":0},{"$f":"IF(AE348<=MaxS,INT(AD348),0)","v":0},null,null,0,0]
[null,0,null,"","",0,0,0,0,0,0,0,0,null,0,null,"",0,0,0,null,"",null,"",null,0,{"$f":"IF($Z349>=1,RANK($Z349,$Z341:$Z356),0)","v":0},0,null,0,{"$f":"IF($AD349>=1,RANK($AD349,$AD341:$AD356),0)","v":0},0,null,null,0,0]
[null,0,null,"","",0,0,0,0,0,0,0,0,null,0,null,"",0,0,0,null,"",null,"",null,0,{"$f":"IF($Z350>=1,RANK($Z350,$Z341:$Z356),0)","v":0},0,null,0,{"$f":"IF($AD350>=1,RANK($AD350,$AD341:$AD356),0)","v":0},0,null,null,0,0]
[null,0,null,"","",0,0,0,0,0,0,0,0,null,0,null,"",0,0,0,null,"",null,"",null,0,{"$f":"IF($Z351>=1,RANK($Z351,$Z341:$Z356),0)","v":0},0,null,0,{"$f":"IF($AD351>=1,RANK($AD351,$AD341:$AD356),0)","v":0},0,null,null,0,0]
[null,0,null,"","",0,0,0,0,0,0,0,0,null,0,null,"",0,0,0,null,"",null,"",null,0,{"$f":"IF($Z352>=1,RANK($Z352,$Z341:$Z356),0)","v":0},0,null,0,{"$f":"IF($AD352>=1,RANK($AD352,$AD341:$AD356),0)","v":0},0,null,null,0,0]
[null,0,null,"","",0,0,0,0,0,0,0,0,null,0,null,"",0,0,0,null,"",null,"",null,0,{"$f":"IF($Z353>=1,RANK($Z353,$Z341:$Z356),0)","v":0},0,null,0,{"$f":"IF($AD353>=1,RANK($AD353,$AD341:$AD356),0)","v":0},0,null,null,0,0]
[null,0,null,"","",0,0,0,0,0,0,0,0,null,0,null,"",0,0,0,null,"",null,"",null,0,{"$f":"IF($Z354>=1,RANK($Z354,$Z341:$Z356),0)","v":0},0,null,0,{"$f":"IF($AD354>=1,RANK($AD354,$AD341:$AD356),0)","v":0},0,null,null,0,0]
[null,0,null,"","",0,0,0,0,0,0,0,0,null,0,null,"",0,0,0,null,"",null,"",null,0,{"$f":"IF($Z355>=1,RANK($Z355,$Z341:$Z356),0)","v":0},0,null,0,{"$f":"IF($AD355>=1,RANK($AD355,$AD341:$AD356),0)","v":0},0,null,null,0,0]
[null,0,null,"","",0,0,0,0,0,0,0,0,null,0,null,"",0,0,0,null,"",null,"",null,0,{"$f":"IF($Z356>=1,RANK($Z356,$Z341:$Z356),0)","v":0},0,{"$f":"SUM(AB341:AB356)","v":0},0,{"$f":"IF($AD356>=1,RANK($AD356,$AD341:$AD356),0)","v":0},0,{"$f":"SUM(AF341:AF356)","v":0},null,0,0]
[null,0,null,"","",0,0,0,0,0,0,0,0,{"$f":"INDEX(RelayPoints,A372)","v":{"$error":"#VALUE!"}},{"$f":"+G357+I357+K357+M357","v":0},{"$f":"+AC372+AG372+N357","v":{"$error":"#VALUE!"}},{"$f":"IF(AB357+AF357>0,\"*\",\"\")","v":""},0,0,0,null,"",null,"",null,0,{"$f":"IF($Z357>=1,RANK($Z357,$Z357:$Z372),0)","v":0},0,null,0,{"$f":"IF($AD357>=1,RANK($AD357,$AD357:$AD372),0)","v":0},0,null,null,0,0]
[null,0,null,"","",0,0,0,0,0,0,0,0,null,{"$f":"+G358+I358+K358+M358","v":0},null,{"$f":"IF(AB358+AF358>0,\"*\",\"\")","v":""},0,0,0,null,"",null,"",null,0,{"$f":"IF($Z358>=1,RANK($Z358,$Z357:$Z372),0)","v":0},0,null,0,{"$f":"IF($AD358>=1,RANK($AD358,$AD357:$AD372),0)","v":0},0,null,null,0,0]
[null,0,null,"","",0,0,0,0,0,0,0,0,null,0,null,"",0,0,0,null,"",null,"",null,0,{"$f":"IF($Z359>=1,RANK($Z359,$Z357:$Z372),0)","v":0},0,null,0,{"$f":"IF($AD359>=1,RANK($AD359,$AD357:$AD372),0)","v":0},0,null,null,0,0]
[null,0,null,"","",0,0,0,0,0,0,0,0,null,0,null,"",0,0,0,null,"",null,"",null,0,{"$f":"IF($Z360>=1,RANK($Z360,$Z357:$Z372),0)","v":0},0,null,0,{"$f":"IF($AD360>=1,RANK($AD360,$AD357:$AD372),0)","v":0},0,null,null,0,0]
[null,0,null,"","",0,0,0,0,0,0,0,0,null,0,null,"",0,0,0,null,"",null,"",null,0,{"$f":"IF($Z361>=1,RANK($Z361,$Z357:$Z372),0)","v":0},0,null,0,{"$f":"IF($AD361>=1,RANK($AD361,$AD357:$AD372),0)","v":0},0,null,null,0,0]
[null,{"$f":"IF(OR(ISNA(MATCH(C362&\"\",AthleteNumbers,0)),ISBLANK(C362)),0,MATCH(C362&\"\",AthleteNumbers,0))","v":0},null,"","",0,0,0,0,0,0,0,0,null,{"$f":"+G362+I362+K362+M362","v":0},null,{"$f":"IF(AB362+AF362>0,\"*\",\"\")","v":""},0,0,{"$f":"IF($O362>0,RANK(O362,AthletePoints),0)","v":0},null,{"$f":"IF(O362>=40,IF(X362=\"M\",VLOOKUP(O362,UKABoysAwards,2),IF(X362=\"F\",VLOOKUP(O362,UKAGirlsAwards,2),\"\")),\"\")","v":""},null,"",null,0,{"$f":"IF($Z362>=1,RANK($Z362,$Z357:$Z372),0)","v":0},{"$f":"IF(AA362<=MaxS,INT(Z362),0)","v":0},null,0,{"$f":"IF($AD362>=1,RANK($AD362,$AD357:$AD372),0)","v":0},{"$f":"IF(AE362<=MaxS,INT(AD362),0)","v":0},null,null,0,0]
[null,{"$f":"IF(OR(ISNA(MATCH(C363&\"\",AthleteNumbers,0)),ISBLANK(C363)),0,MATCH(C363&\"\",AthleteNumbers,0))","v":0},null,"","",0,0,0,0,0,0,0,0,null,{"$f":"+G363+I363+K363+M363","v":0},null,{"$f":"IF(AB363+AF363>0,\"*\",\"\")","v":""},0,0,{"$f":"IF($O363>0,RANK(O363,AthletePoints),0)","v":0},null,{"$f":"IF(O363>=40,IF(X363=\"M\",VLOOKUP(O363,UKABoysAwards,2),IF(X363=\"F\",VLOOKUP(O363,UKAGirlsAwards,2),\"\")),\"\")","v":""},null,"",null,0,{"$f":"IF($Z363>=1,RANK($Z363,$Z357:$Z372),0)","v":0},{"$f":"IF(AA363<=MaxS,INT(Z363),0)","v":0},null,0,{"$f":"IF($AD363>=1,RANK($AD363,$AD357:$AD372),0)","v":0},{"$f":"IF(AE363<=MaxS,INT(AD363),0)","v":0},null,null,0,0]
[null,0,null,"","",0,0,0,0,0,0,0,0,null,0,null,"",0,0,0,null,"",null,"",null,0,{"$f":"IF($Z364>=1,RANK($Z364,$Z357:$Z372),0)","v":0},0,null,0,{"$f":"IF($AD364>=1,RANK($AD364,$AD357:$AD372),0)","v":0},0,null,null,0,0]
[null,0,null,"","",0,0,0,0,0,0,0,0,null,0,null,"",0,0,0,null,"",null,"",null,0,{"$f":"IF($Z365>=1,RANK($Z365,$Z357:$Z372),0)","v":0},0,null,0,{"$f":"IF($AD365>=1,RANK($AD365,$AD357:$AD372),0)","v":0},0,null,null,0,0]
[null,0,null,"","",0,0,0,0,0,0,0,0,null,0,null,"",0,0,0,null,"",null,"",null,0,{"$f":"IF($Z366>=1,RANK($Z366,$Z357:$Z372),0)","v":0},0,null,0,{"$f":"IF($AD366>=1,RANK($AD366,$AD357:$AD372),0)","v":0},0,null,null,0,0]
[null,0,null,"","",0,0,0,0,0,0,0,0,null,0,null,"",0,0,0,null,"",null,"",null,0,{"$f":"IF($Z367>=1,RANK($Z367,$Z357:$Z372),0)","v":0},0,null,0,{"$f":"IF($AD367>=1,RANK($AD367,$AD357:$AD372),0)","v":0},0,null,null,0,0]
[null,0,null,"","",0,0,0,0,0,0,0,0,null,0,null,"",0,0,0,null,"",null,"",null,0,{"$f":"IF($Z368>=1,RANK($Z368,$Z357:$Z372),0)","v":0},0,null,0,{"$f":"IF($AD368>=1,RANK($AD368,$AD357:$AD372),0)","v":0},0,null,null,0,0]
[null,0,null,"","",0,0,0,0,0,0,0,0,null,0,null,"",0,0,0,null,"",null,"",null,0,{"$f":"IF($Z369>=1,RANK($Z369,$Z357:$Z372),0)","v":0},0,null,0,{"$f":"IF($AD369>=1,RANK($AD369,$AD357:$AD372),0)","v":0},0,null,null,0,0]
[null,0,null,"","",0,0,0,0,0,0,0,0,null,0,null,"",0,0,0,null,"",null,"",null,0,{"$f":"IF($Z370>=1,RANK($Z370,$Z357:$Z372),0)","v":0},0,null,0,{"$f":"IF($AD370>=1,RANK($AD370,$AD357:$AD372),0)","v":0},0,null,null,0,0]
[null,{"$f":"IF(OR(ISNA(MATCH(C371&\"\",AthleteNumbers,0)),ISBLANK(C371)),0,MATCH(C371&\"\",AthleteNumbers,0))","v":0},null,{"$f":"IF($B371>0,INDEX(DB,$B371,8),\"\")","v":""},{"$f":"IF($B371>0,INDEX(DB,$B371,3),\"\")","v":""},{"$f":"IF($B371>0,INDEX(DB,$B371,13),0)","v":0},{"$f":"IF($B371>0,INDEX(DB,$B371,17),0)","v":0},{"$f":"IF($B371>0,INDEX(DB,$B371,15),0)","v":0},{"$f":"IF($B371>0,INDEX(DB,$B371,19),0)","v":0},{"$f":"IF($B371>0,INDEX(DB,$B371,14),0)","v":0},{"$f":"IF($B371>0,INDEX(DB,$B371,18),0)","v":0},{"$f":"IF($B371>0,INDEX(DB,$B371,16),0)","v":0},{"$f":"IF($B371>0,INDEX(DB,$B371,20),0)","v":0},null,0,null,"",{"$f":"IF($AI371>0,RANK($AI371,BoysPoints),0)","v":0},{"$f":"IF($AJ371>0,RANK($AJ371,GirlsPoints),0)","v":0},{"$f":"IF($O371>0,RANK(O371,AthletePoints),0)","v":0},null,{"$f":"IF(O371>=40,IF(X371=\"M\",VLOOKUP(O371,UKABoysAwards,2),IF(X371=\"F\",VLOOKUP(O371,UKAGirlsAwards,2),\"\")),\"\")","v":""},null,{"$f":"INDEX(DB,$B371,4)","v":""},null,0,{"$f":"IF($Z371>=1,RANK($Z371,$Z357:$Z372),0)","v":0},0,null,0,{"$f":"IF($AD371>=1,RANK($AD371,$AD357:$AD372),0)","v":0},0,null,null,0,0]
[null,0,null,"","",0,0,0,0,0,0,0,0,null,0,null,"",0,0,0,null,"",null,"",null,0,{"$f":"IF($Z372>=1,RANK($Z372,$Z357:$Z372),0)","v":0},0,{"$f":"SUM(AB357:AB372)","v":0},0,{"$f":"IF($AD372>=1,RANK($AD372,$AD357:$AD372),0)","v":0},0,{"$f":"SUM(AF357:AF372)","v":0},null,0,0]
[null,0,null,"","",0,0,0,0,0,0,0,0,{"$f":"INDEX(RelayPoints,A388)","v":{"$error":"#VALUE!"}},{"$f":"+G373+I373+K373+M373","v":0},{"$f":"+AC388+AG388+N373","v":{"$error":"#VALUE!"}},{"$f":"IF(AB373+AF373>0,\"*\",\"\")","v":""},0,0,0,null,"",null,"",null,0,{"$f":"IF($Z373>=1,RANK($Z373,$Z373:$Z388),0)","v":0},0,null,0,{"$f":"IF($AD373>=1,RANK($AD373,$AD373:$AD388),0)","v":0},0,null,null,0,0]
[null,0,null,"","",0,0,0,0,0,0,0,0,null,{"$f":"+G374+I374+K374+M374","v":0},null,{"$f":"IF(AB374+AF374>0,\"*\",\"\")","v":""},0,0,0,null,"",null,"",null,0,{"$f":"IF($Z374>=1,RANK($Z374,$Z373:$Z388),0)","v":0},0,null,0,{"$f":"IF($AD374>=1,RANK($AD374,$AD373:$AD388),0)","v":0},0,null,null,0,0]
[null,0,null,"","",0,0,0,0,0,0,0,0,null,0,null,"",0,0,0,null,"",null,"",null,0,{"$f":"IF($Z375>=1,RANK($Z375,$Z373:$Z388),0)","v":0},{"$f":"IF(AA375<=MaxS,INT(Z375),0)","v":0},null,0,{"$f":"IF($AD375>=1,RANK($AD375,$AD373:$AD388),0)","v":0},{"$f":"IF(AE375<=MaxS,INT(AD375),0)","v":0},null,null,0,0]
[null,0,null,"","",0,0,0,0,0,0,0,0,null,0,null,"",0,0,0,null,"",null,"",null,0,{"$f":"IF($Z376>=1,RANK($Z376,$Z373:$Z388),0)","v":0},0,null,0,{"$f":"IF($AD376>=1,RANK($AD376,$AD373:$AD388),0)","v":0},0,null,null,0,0]
[null,{"$f":"IF(OR(ISNA(MATCH(C377&\"\",AthleteNumbers,0)),ISBLANK(C377)),0,MATCH(C377&\"\",AthleteNumbers,0))","v":0},null,"","",0,0,0,0,0,0,0,0,null,{"$f":"+G377+I377+K377+M377","v":0},null,{"$f":"IF(AB377+AF377>0,\"*\",\"\")","v":""},0,0,{"$f":"IF($O377>0,RANK(O377,AthletePoints),0)","v":0},null,{"$f":"IF(O377>=40,IF(X377=\"M\",VLOOKUP(O377,UKABoysAwards,2),IF(X377=\"F\",VLOOKUP(O377,UKAGirlsAwards,2),\"\")),\"\")","v":""},null,"",null,0,{"$f":"IF($Z377>=1,RANK($Z377,$Z373:$Z388),0)","v":0},{"$f":"IF(AA377<=MaxS,INT(Z377),0)","v":0},null,0,{"$f":"IF($AD377>=1,RANK($AD377,$AD373:$AD388),0)","v":0},{"$f":"IF(AE377<=MaxS,INT(AD377),0)","v":0},null,null,0,0]
[null,{"$f":"IF(OR(ISNA(MATCH(C378&\"\",AthleteNumbers,0)),ISBLANK(C378)),0,MATCH(C378&\"\",AthleteNumbers,0))","v":0},null,"","",0,0,0,0,0,0,0,0,null,{"$f":"+G378+I378+K378+M378","v":0},null,{"$f":"IF(AB378+AF378>0,\"*\",\"\")","v":""},0,0,{"$f":"IF($O378>0,RANK(O378,AthletePoints),0)","v":0},null,{"$f":"IF(O378>=40,IF(X378=\"M\",VLOOKUP(O378,UKABoysAwards,2),IF(X378=\"F\",VLOOKUP(O378,UKAGirlsAwards,2),\"\")),\"\")","v":""},null,"",null,{"$f":"IF($X378=\"M\",$O378+(ROW()/10000),0)","v":0},{"$f":"IF($Z378>=1,RANK($Z378,$Z373:$Z388),0)","v":0},{"$f":"IF(AA378<=MaxS,INT(Z378),0)","v":0},null,{"$f":"IF($X378=\"F\",$O378+(ROW()/10000),0)","v":0},{"$f":"IF($AD378>=1,RANK($AD378,$AD373:$AD388),0)","v":0},{"$f":"IF(AE378<=MaxS,INT(AD378),0)","v":0},null,null,0,0]
[null,0,null,"","",0,0,0,0,0,0,0,0,null,0,null,"",0,0,0,null,"",null,"",null,{"$f":"IF($X379=\"M\",$O379+(ROW()/10000),0)","v":0},{"$f":"IF($Z379>=1,RANK($Z379,$Z373:$Z388),0)","v":0},0,null,{"$f":"IF($X379=\"F\",$O379+(ROW()/10000),0)","v":0},{"$f":"IF($AD379>=1,RANK($AD379,$AD373:$AD388),0)","v":0},0,null,null,0,0]
[null,0,null,"","",0,0,0,0,0,0,0,0,null,0,null,"",0,0,0,null,"",null,"",null,0,{"$f":"IF($Z380>=1,RANK($Z380,$Z373:$Z388),0)","v":0},0,null,0,{"$f":"IF($AD380>=1,RANK($AD380,$AD373:$AD388),0)","v":0},0,null,null,{"$f":"IF($X380=\"M\",$O380,0)","v":0},{"$f":"IF($X380=\"F\",$O380,0)","v":0}]
[null,0,null,"","",0,0,0,0,0,0,0,0,null,0,null,"",0,0,0,null,"",null,"",null,0,{"$f":"IF($Z381>=1,RANK($Z381,$Z373:$Z388),0)","v":0},0,null,0,{"$f":"IF($AD381>=1,RANK($AD381,$AD373:$AD388),0)","v":0},0,null,null,0,0]
[null,0,null,"","",0,0,0,0,0,0,0,0,null,0,null,"",0,0,0,null,"",null,"",null,0,{"$f":"IF($Z382>=1,RANK($Z382,$Z373:$Z388),0)","v":0},0,null,0,{"$f":"IF($AD382>=1,RANK($AD382,$AD373:$AD388),0)","v":0},0,null,null,0,0]
[null,0,null,"","",0,0,0,0,0,0,0,0,null,0,null,"",0,0,0,null,"",null,"",null,0,{"$f":"IF($Z383>=1,RANK($Z383,$Z373:$Z388),0)","v":0},0,null,0,{"$f":"IF($AD383>=1,RANK($AD383,$AD373:$AD388),0)","v":0},0,null,null,0,0]
[null,0,null,"","",0,0,0,0,0,0,0,0,null,0,null,"",0,0,0,null,"",null,"",null,0,{"$f":"IF($Z384>=1,RANK($Z384,$Z373:$Z388),0)","v":0},0,null,0,{"$f":"IF($AD384>=1,RANK($AD384,$AD373:$AD388),0)","v":0},0,null,null,0,0]
[null,0,null,"","",0,0,0,0,0,0,0,0,null,0,null,"",0,0,0,null,"",null,"",null,0,{"$f":"IF($Z385>=1,RANK($Z385,$Z373:$Z388),0)","v":0},0,null,0,{"$f":"IF($AD385>=1,RANK($AD385,$AD373:$AD388),0)","v":0},0,null,null,0,0]
[null,0,null,"","",0,0,0,0,0,0,0,0,null,0,null,"",0,0,0,null,"",null,"",null,0,{"$f":"IF($Z386>=1,RANK($Z386,$Z373:$Z388),0)","v":0},0,null,0,{"$f":"IF($AD386>=1,RANK($AD386,$AD373:$AD388),0)","v":0},0,null,null,0,0]
[null,0,null,"","",0,0,0,0,0,0,0,0,null,0,null,"",0,0,0,null,"",null,"",null,0,{"$f":"IF($Z387>=1,RANK($Z387,$Z373:$Z388),0)","v":0},0,null,0,{"$f":"IF($AD387>=1,RANK($AD387,$AD373:$AD388),0)","v":0},0,null,null,0,0]
[null,0,null,"","",0,0,0,0,0,0,0,0,null,0,null,"",0,0,0,null,"",null,"",null,0,{"$f":"IF($Z388>=1,RANK($Z388,$Z373:$Z388),0)","v":0},0,{"$f":"SUM(AB373:AB388)","v":0},0,{"$f":"IF($AD388>=1,RANK($AD388,$AD373:$AD388),0)","v":0},0,{"$f":"SUM(AF373:AF388)","v":0},null,0,0]
[null,0,null,"","",0,0,0,0,0,0,0,0,{"$f":"INDEX(RelayPoints,A404)","v":{"$error":"#VALUE!"}},{"$f":"+G389+I389+K389+M389","v":0},{"$f":"+AC404+AG404+N389","v":{"$error":"#VALUE!"}},{"$f":"IF(AB389+AF389>0,\"*\",\"\")","v":""},0,0,0,null,"",null,"",null,0,{"$f":"IF($Z389>=1,RANK($Z389,$Z389:$Z404),0)","v":0},0,null,0,{"$f":"IF($AD389>=1,RANK($AD389,$AD389:$AD404),0)","v":0},0,null,null,0,0]
[null,0,null,"","",0,0,0,0,0,0,0,0,null,{"$f":"+G390+I390+K390+M390","v":0},null,{"$f":"IF(AB390+AF390>0,\"*\",\"\")","v":""},0,0,0,null,"",null,"",null,0,{"$f":"IF($Z390>=1,RANK($Z390,$Z389:$Z404),0)","v":0},0,null,0,{"$f":"IF($AD390>=1,RANK($AD390,$AD389:$AD404),0)","v":0},0,null,null,0,0]
[null,0,null,"","",0,0,0,0,0,0,0,0,null,0,null,"",0,0,0,null,"",null,"",null,0,{"$f":"IF($Z391>=1,RANK($Z391,$Z389:$Z404),0)","v":0},0,null,0,{"$f":"IF($AD391>=1,RANK($AD391,$AD389:$AD404),0)","v":0},0,null,null,0,0]
[null,0,null,"","",0,0,0,0,0,0,0,0,null,0,null,"",0,0,0,null,"",null,"",null,0,{"$f":"IF($Z392>=1,RANK($Z392,$Z389:$Z404),0)","v":0},0,null,0,{"$f":"IF($AD392>=1,RANK($AD392,$AD389:$AD404),0)","v":0},0,null,null,0,0]
[null,{"$f":"IF(OR(ISNA(MATCH(C393&\"\",AthleteNumbers,0)),ISBLANK(C393)),0,MATCH(C393&\"\",AthleteNumbers,0))","v":0},null,"","",0,0,0,0,0,0,0,0,null,{"$f":"+G393+I393+K393+M393","v":0},null,{"$f":"IF(AB393+AF393>0,\"*\",\"\")","v":""},0,0,{"$f":"IF($O393>0,RANK(O393,AthletePoints),0)","v":0},null,{"$f":"IF(O393>=40,IF(X393=\"M\",VLOOKUP(O393,UKABoysAwards,2),IF(X393=\"F\",VLOOKUP(O393,UKAGirlsAwards,2),\"\")),\"\")","v":""},null,"",null,0,{"$f":"IF($Z393>=1,RANK($Z393,$Z389:$Z404),0)","v":0},{"$f":"IF(AA393<=MaxS,INT(Z393),0)","v":0},null,0,{"$f":"IF($AD393>=1,RANK($AD393,$AD389:$AD404),0)","v":0},{"$f":"IF(AE393<=MaxS,INT(AD393),0)","v":0},null,null,0,0]
[null,{"$f":"IF(OR(ISNA(MATCH(C394&\"\",AthleteNumbers,0)),ISBLANK(C394)),0,MATCH(C394&\"\",AthleteNumbers,0))","v":0},null,"","",0,0,0,0,0,0,0,0,null,{"$f":"+G394+I394+K394+M394","v":0},null,{"$f":"IF(AB394+AF394>0,\"*\",\"\")","v":""},0,0,{"$f":"IF($O394>0,RANK(O394,AthletePoints),0)","v":0},null,{"$f":"IF(O394>=40,IF(X394=\"M\",VLOOKUP(O394,UKABoysAwards,2),IF(X394=\"F\",VLOOKUP(O394,UKAGirlsAwards,2),\"\")),\"\")","v":""},null,"",null,0,{"$f":"IF($Z394>=1,RANK($Z394,$Z389:$Z404),0)","v":0},{"$f":"IF(AA394<=MaxS,INT(Z394),0)","v":0},null,0,{"$f":"IF($AD394>=1,RANK($AD394,$AD389:$AD404),0)","v":0},{"$f":"IF(AE394<=MaxS,INT(AD394),0)","v":0},null,null,0,0]
[null,0,null,"","",0,0,0,0,0,0,0,0,null,0,null,"",0,0,0,null,"",null,"",null,0,{"$f":"IF($Z395>=1,RANK($Z395,$Z389:$Z404),0)","v":0},0,null,0,{"$f":"IF($AD395>=1,RANK($AD395,$AD389:$AD404),0)","v":0},0,null,null,0,0]
[null,0,null,"","",0,0,0,0,0,0,0,0,null,0,null,"",0,0,0,null,"",null,"",null,0,{"$f":"IF($Z396>=1,RANK($Z396,$Z389:$Z404),0)","v":0},0,null,0,{"$f":"IF($AD396>=1,RANK($AD396,$AD389:$AD404),0)","v":0},0,null,null,0,0]
[null,0,null,"","",0,0,0,0,0,0,0,0,null,0,null,"",0,0,0,null,"",null,"",null,0,{"$f":"IF($Z397>=1,RANK($Z397,$Z389:$Z404),0)","v":0},0,null,0,{"$f":"IF($AD397>=1,RANK($AD397,$AD389:$AD404),0)","v":0},0,null,null,0,0]
[null,0,null,"","",0,0,0,0,0,0,0,0,null,0,null,"",0,0,0,null,"",null,"",null,0,{"$f":"IF($Z398>=1,RANK($Z398,$Z389:$Z404),0)","v":0},0,null,0,{"$f":"IF($AD398>=1,RANK($AD398,$AD389:$AD404),0)","v":0},0,null,null,0,0]
[null,0,null,"","",0,0,0,0,0,0,0,0,null,0,null,"",0,0,0,null,"",null,"",null,0,{"$f":"IF($Z399>=1,RANK($Z399,$Z389:$Z404),0)","v":0},0,null,0,{"$f":"IF($AD399>=1,RANK($AD399,$AD389:$AD404),0)","v":0},0,null,null,0,0]
[null,0,null,"","",0,0,0,0,0,0,0,0,null,0,null,"",0,0,0,null,"",null,"",null,0,{"$f":"IF($Z400>=1,RANK($Z400,$Z389:$Z404),0)","v":0},0,null,0,{"$f":"IF($AD400>=1,RANK($AD400,$AD389:$AD404),0)","v":0},0,null,null,0,0]
[null,0,null,"","",0,0,0,0,0,0,0,0,null,0,null,"",0,0,0,null,"",null,"",null,0,{"$f":"IF($Z401>=1,RANK($Z401,$Z389:$Z404),0)","v":0},0,null,0,{"$f":"IF($AD401>=1,RANK($AD401,$AD389:$AD404),0)","v":0},0,null,null,0,0]
[null,0,null,"","",0,0,0,0,0,0,0,0,null,0,null,"",0,0,0,null,"",null,"",null,0,{"$f":"IF($Z402>=1,RANK($Z402,$Z389:$Z404),0)","v":0},0,null,0,{"$f":"IF($AD402>=1,RANK($AD402,$AD389:$AD404),0)","v":0},0,null,null,0,0]
[null,0,null,"","",0,0,0,0,0,0,0,0,null,0,null,"",0,0,0,null,"",null,"",null,0,{"$f":"IF($Z403>=1,RANK($Z403,$Z389:$Z404),0)","v":0},0,null,0,{"$f":"IF($AD403>=1,RANK($AD403,$AD389:$AD404),0)","v":0},0,null,null,0,0]
[null,0,null,"","",0,0,0,0,0,0,0,0,null,0,null,"",0,0,0,null,"",null,"",null,0,{"$f":"IF($Z404>=1,RANK($Z404,$Z389:$Z404),0)","v":0},0,{"$f":"SUM(AB389:AB404)","v":0},0,{"$f":"IF($AD404>=1,RANK($AD404,$AD389:$AD404),0)","v":0},0,{"$f":"SUM(AF389:AF404)","v":0},null,0,0]
[null,0,null,"","",0,0,0,0,0,0,0,0,{"$f":"INDEX(RelayPoints,A420)","v":{"$error":"#VALUE!"}},{"$f":"+G405+I405+K405+M405","v":0},{"$f":"+AC420+AG420+N405","v":{"$error":"#VALUE!"}},{"$f":"IF(AB405+AF405>0,\"*\",\"\")","v":""},0,0,0,null,"",null,"",null,0,{"$f":"IF($Z405>=1,RANK($Z405,$Z405:$Z420),0)","v":0},0,null,0,{"$f":"IF($AD405>=1,RANK($AD405,$AD405:$AD420),0)","v":0},0,null,null,0,0]
[null,0,null,"","",0,0,0,0,0,0,0,0,null,{"$f":"+G406+I406+K406+M406","v":0},null,{"$f":"IF(AB406+AF406>0,\"*\",\"\")","v":""},0,0,0,null,"",null,"",null,0,{"$f":"IF($Z406>=1,RANK($Z406,$Z405:$Z420),0)","v":0},0,null,0,{"$f":"IF($AD406>=1,RANK($AD406,$AD405:$AD420),0)","v":0},0,null,null,0,0]
[null,0,null,"","",0,0,0,0,0,0,0,0,null,0,null,"",0,0,0,null,"",null,"",null,0,{"$f":"IF($Z407>=1,RANK($Z407,$Z405:$Z420),0)","v":0},0,null,0,{"$f":"IF($AD407>=1,RANK($AD407,$AD405:$AD420),0)","v":0},0,null,null,0,0]
[null,0,null,"","",0,0,0,0,0,0,0,0,null,0,null,"",0,0,0,null,"",null,"",null,0,{"$f":"IF($Z408>=1,RANK($Z408,$Z405:$Z420),0)","v":0},0,null,0,{"$f":"IF($AD408>=1,RANK($AD408,$AD405:$AD420),0)","v":0},0,null,null,0,0]
[null,{"$f":"IF(OR(ISNA(MATCH(C409&\"\",AthleteNumbers,0)),ISBLANK(C409)),0,MATCH(C409&\"\",AthleteNumbers,0))","v":0},null,"","",0,0,0,0,0,0,0,0,null,{"$f":"+G409+I409+K409+M409","v":0},null,{"$f":"IF(AB409+AF409>0,\"*\",\"\")","v":""},0,0,{"$f":"IF($O409>0,RANK(O409,AthletePoints),0)","v":0},null,{"$f":"IF(O409>=40,IF(X409=\"M\",VLOOKUP(O409,UKABoysAwards,2),IF(X409=\"F\",VLOOKUP(O409,UKAGirlsAwards,2),\"\")),\"\")","v":""},null,"",null,0,{"$f":"IF($Z409>=1,RANK($Z409,$Z405:$Z420),0)","v":0},{"$f":"IF(AA409<=MaxS,INT(Z409),0)","v":0},null,0,{"$f":"IF($AD409>=1,RANK($AD409,$AD405:$AD420),0)","v":0},{"$f":"IF(AE409<=MaxS,INT(AD409),0)","v":0},null,null,0,0]
[null,{"$f":"IF(OR(ISNA(MATCH(C410&\"\",AthleteNumbers,0)),ISBLANK(C410)),0,MATCH(C410&\"\",AthleteNumbers,0))","v":0},null,"","",0,0,0,0,0,0,0,0,null,{"$f":"+G410+I410+K410+M410","v":0},null,{"$f":"IF(AB410+AF410>0,\"*\",\"\")","v":""},0,0,{"$f":"IF($O410>0,RANK(O410,AthletePoints),0)","v":0},null,{"$f":"IF(O410>=40,IF(X410=\"M\",VLOOKUP(O410,UKABoysAwards,2),IF(X410=\"F\",VLOOKUP(O410,UKAGirlsAwards,2),\"\")),\"\")","v":""},null,"",null,0,{"$f":"IF($Z410>=1,RANK($Z410,$Z405:$Z420),0)","v":0},{"$f":"IF(AA410<=MaxS,INT(Z410),0)","v":0},null,0,{"$f":"IF($AD410>=1,RANK($AD410,$AD405:$AD420),0)","v":0},{"$f":"IF(AE410<=MaxS,INT(AD410),0)","v":0},null,null,0,0]
[null,0,null,"","",0,0,0,0,0,0,0,0,null,0,null,"",0,0,0,null,"",null,"",null,0,{"$f":"IF($Z411>=1,RANK($Z411,$Z405:$Z420),0)","v":0},0,null,0,{"$f":"IF($AD411>=1,RANK($AD411,$AD405:$AD420),0)","v":0},0,null,null,0,0]
[null,0,null,"","",0,0,0,0,0,0,0,0,null,0,null,"",0,0,0,null,"",null,"",null,0,{"$f":"IF($Z412>=1,RANK($Z412,$Z405:$Z420),0)","v":0},0,null,0,{"$f":"IF($AD412>=1,RANK($AD412,$AD405:$AD420),0)","v":0},0,null,null,0,0]
[null,0,null,"","",0,0,0,0,0,0,0,0,null,0,null,"",0,0,0,null,"",null,"",null,0,{"$f":"IF($Z413>=1,RANK($Z413,$Z405:$Z420),0)","v":0},0,null,0,{"$f":"IF($AD413>=1,RANK($AD413,$AD405:$AD420),0)","v":0},0,null,null,0,0]
[null,0,null,"","",0,0,0,0,0,0,0,0,null,0,null,"",0,0,0,null,"",null,"",null,0,{"$f":"IF($Z414>=1,RANK($Z414,$Z405:$Z420),0)","v":0},0,null,0,{"$f":"IF($AD414>=1,RANK($AD414,$AD405:$AD420),0)","v":0},0,null,null,0,0]
[null,0,null,"","",0,0,0,0,0,0,0,0,null,0,null,"",0,0,0,null,"",null,"",null,0,{"$f":"IF($Z415>=1,RANK($Z415,$Z405:$Z420),0)","v":0},0,null,0,{"$f":"IF($AD415>=1,RANK($AD415,$AD405:$AD420),0)","v":0},0,null,null,0,0]
[null,0,null,"","",0,0,0,0,0,0,0,0,null,0,null,"",0,0,0,null,"",null,"",null,0,{"$f":"IF($Z416>=1,RANK($Z416,$Z405:$Z420),0)","v":0},0,null,0,{"$f":"IF($AD416>=1,RANK($AD416,$AD405:$AD420),0)","v":0},0,null,null,0,0]
[null,0,null,"","",0,0,0,0,0,0,0,0,null,0,null,"",0,0,0,null,"",null,"",null,0,{"$f":"IF($Z417>=1,RANK($Z417,$Z405:$Z420),0)","v":0},0,null,0,{"$f":"IF($AD417>=1,RANK($AD417,$AD405:$AD420),0)","v":0},0,null,null,0,0]
[null,0,null,"","",0,0,0,0,0,0,0,0,null,0,null,"",0,0,0,null,"",null,"",null,0,{"$f":"IF($Z418>=1,RANK($Z418,$Z405:$Z420),0)","v":0},0,null,0,{"$f":"IF($AD418>=1,RANK($AD418,$AD405:$AD420),0)","v":0},0,null,null,0,0]
[null,0,null,"","",0,0,0,0,0,0,0,0,null,0,null,"",0,0,0,null,"",null,"",null,0,{"$f":"IF($Z419>=1,RANK($Z419,$Z405:$Z420),0)","v":0},0,null,0,{"$f":"IF($AD419>=1,RANK($AD419,$AD405:$AD420),0)","v":0},0,null,null,0,0]
[null,0,null,"","",0,0,0,0,0,0,0,0,null,0,null,"",0,0,0,null,"",null,"",null,0,{"$f":"IF($Z420>=1,RANK($Z420,$Z405:$Z420),0)","v":0},0,{"$f":"SUM(AB405:AB420)","v":0},0,{"$f":"IF($AD420>=1,RANK($AD420,$AD405:$AD420),0)","v":0},0,{"$f":"SUM(AF405:AF420)","v":0},null,0,0]
[null,0,null,"","",0,0,0,0,0,0,0,0,{"$f":"INDEX(RelayPoints,A436)","v":{"$error":"#VALUE!"}},{"$f":"+G421+I421+K421+M421","v":0},{"$f":"+AC436+AG436+N421","v":{"$error":"#VALUE!"}},{"$f":"IF(AB421+AF421>0,\"*\",\"\")","v":""},0,0,0,null,"",null,"",null,0,{"$f":"IF($Z421>=1,RANK($Z421,$Z421:$Z436),0)","v":0},0,null,0,{"$f":"IF($AD421>=1,RANK($AD421,$AD421:$AD436),0)","v":0},0,null,null,0,0]
[null,0,null,"","",0,0,0,0,0,0,0,0,null,{"$f":"+G422+I422+K422+M422","v":0},null,{"$f":"IF(AB422+AF422>0,\"*\",\"\")","v":""},0,0,0,null,"",null,"",null,0,{"$f":"IF($Z422>=1,RANK($Z422,$Z421:$Z436),0)","v":0},0,null,0,{"$f":"IF($AD422>=1,RANK($AD422,$AD421:$AD436),0)","v":0},0,null,null,0,0]
[null,0,null,"","",0,0,0,0,0,0,0,0,null,0,null,"",0,0,0,null,"",null,"",null,0,{"$f":"IF($Z423>=1,RANK($Z423,$Z421:$Z436),0)","v":0},0,null,0,{"$f":"IF($AD423>=1,RANK($AD423,$AD421:$AD436),0)","v":0},0,null,null,0,0]
[null,0,null,"","",0,0,0,0,0,0,0,0,null,0,null,"",0,0,0,null,"",null,"",null,0,{"$f":"IF($Z424>=1,RANK($Z424,$Z421:$Z436),0)","v":0},0,null,0,{"$f":"IF($AD424>=1,RANK($AD424,$AD421:$AD436),0)","v":0},0,null,null,0,0]
[null,0,null,"","",0,0,0,0,0,0,0,0,null,0,null,"",0,0,0,null,"",null,"",null,0,{"$f":"IF($Z425>=1,RANK($Z425,$Z421:$Z436),0)","v":0},0,null,0,{"$f":"IF($AD425>=1,RANK($AD425,$AD421:$AD436),0)","v":0},0,null,null,0,0]
[null,{"$f":"IF(OR(ISNA(MATCH(C426&\"\",AthleteNumbers,0)),ISBLANK(C426)),0,MATCH(C426&\"\",AthleteNumbers,0))","v":0},null,"","",0,0,0,0,0,0,0,0,null,{"$f":"+G426+I426+K426+M426","v":0},null,{"$f":"IF(AB426+AF426>0,\"*\",\"\")","v":""},0,0,{"$f":"IF($O426>0,RANK(O426,AthletePoints),0)","v":0},null,{"$f":"IF(O426>=40,IF(X426=\"M\",VLOOKUP(O426,UKABoysAwards,2),IF(X426=\"F\",VLOOKUP(O426,UKAGirlsAwards,2),\"\")),\"\")","v":""},null,"",null,0,{"$f":"IF($Z426>=1,RANK($Z426,$Z421:$Z436),0)","v":0},{"$f":"IF(AA426<=MaxS,INT(Z426),0)","v":0},null,0,{"$f":"IF($AD426>=1,RANK($AD426,$AD421:$AD436),0)","v":0},{"$f":"IF(AE426<=MaxS,INT(AD426),0)","v":0},null,null,0,0]
[null,{"$f":"IF(OR(ISNA(MATCH(C427&\"\",AthleteNumbers,0)),ISBLANK(C427)),0,MATCH(C427&\"\",AthleteNumbers,0))","v":0},null,"","",0,0,0,0,0,0,0,0,null,{"$f":"+G427+I427+K427+M427","v":0},null,{"$f":"IF(AB427+AF427>0,\"*\",\"\")","v":""},0,0,{"$f":"IF($O427>0,RANK(O427,AthletePoints),0)","v":0},null,{"$f":"IF(O427>=40,IF(X427=\"M\",VLOOKUP(O427,UKABoysAwards,2),IF(X427=\"F\",VLOOKUP(O427,UKAGirlsAwards,2),\"\")),\"\")","v":""},null,"",null,0,{"$f":"IF($Z427>=1,RANK($Z427,$Z421:$Z436),0)","v":0},{"$f":"IF(AA427<=MaxS,INT(Z427),0)","v":0},null,0,{"$f":"IF($AD427>=1,RANK($AD427,$AD421:$AD436),0)","v":0},{"$f":"IF(AE427<=MaxS,INT(AD427),0)","v":0},null,null,0,0]
[null,0,null,"","",0,0,0,0,0,0,0,0,null,0,null,"",0,0,0,null,"",null,"",null,0,{"$f":"IF($Z428>=1,RANK($Z428,$Z421:$Z436),0)","v":0},0,null,0,{"$f":"IF($AD428>=1,RANK($AD428,$AD421:$AD436),0)","v":0},0,null,null,0,0]
[null,0,null,"","",0,0,0,0,0,0,0,0,null,0,null,"",0,0,0,null,"",null,"",null,0,{"$f":"IF($Z429>=1,RANK($Z429,$Z421:$Z436),0)","v":0},0,null,0,{"$f":"IF($AD429>=1,RANK($AD429,$AD421:$AD436),0)","v":0},0,null,null,0,0]
[null,0,null,"","",0,0,0,0,0,0,0,0,null,0,null,"",0,0,0,null,"",null,"",null,0,{"$f":"IF($Z430>=1,RANK($Z430,$Z421:$Z436),0)","v":0},0,null,0,{"$f":"IF($AD430>=1,RANK($AD430,$AD421:$AD436),0)","v":0},0,null,null,0,0]
[null,0,null,"","",0,0,0,0,0,0,0,0,null,0,null,"",0,0,0,null,"",null,"",null,0,{"$f":"IF($Z431>=1,RANK($Z431,$Z421:$Z436),0)","v":0},0,null,0,{"$f":"IF($AD431>=1,RANK($AD431,$AD421:$AD436),0)","v":0},0,null,null,0,0]
[null,0,null,"","",0,0,0,0,0,0,0,0,null,0,null,"",0,0,0,null,"",null,"",null,0,{"$f":"IF($Z432>=1,RANK($Z432,$Z421:$Z436),0)","v":0},0,null,0,{"$f":"IF($AD432>=1,RANK($AD432,$AD421:$AD436),0)","v":0},0,null,null,0,0]
[null,0,null,"","",0,0,0,0,0,0,0,0,null,0,null,"",0,0,0,null,"",null,"",null,0,{"$f":"IF($Z433>=1,RANK($Z433,$Z421:$Z436),0)","v":0},0,null,0,{"$f":"IF($AD433>=1,RANK($AD433,$AD421:$AD436),0)","v":0},0,null,null,0,0]
[null,0,null,"","",0,0,0,0,0,0,0,0,null,0,null,"",0,0,0,null,"",null,"",null,0,{"$f":"IF($Z434>=1,RANK($Z434,$Z421:$Z436),0)","v":0},0,null,0,{"$f":"IF($AD434>=1,RANK($AD434,$AD421:$AD436),0)","v":0},0,null,null,0,0]
[null,0,null,"","",0,0,0,0,0,0,0,0,null,0,null,"",0,0,0,null,"",null,"",null,0,{"$f":"IF($Z435>=1,RANK($Z435,$Z421:$Z436),0)","v":0},0,null,0,{"$f":"IF($AD435>=1,RANK($AD435,$AD421:$AD436),0)","v":0},0,null,null,0,0]
[null,0,null,"","",0,0,0,0,0,0,0,0,null,0,null,"",0,0,0,null,"",null,"",null,0,{"$f":"IF($Z436>=1,RANK($Z436,$Z421:$Z436),0)","v":0},0,{"$f":"SUM(AB421:AB436)","v":0},0,{"$f":"IF($AD436>=1,RANK($AD436,$AD421:$AD436),0)","v":0},0,{"$f":"SUM(AF421:AF436)","v":0},null,0,0]
[null,0,null,"","",0,0,0,0,0,0,0,0,{"$f":"INDEX(RelayPoints,A452)","v":{"$error":"#VALUE!"}},{"$f":"+G437+I437+K437+M437","v":0},{"$f":"+AC452+AG452+N437","v":{"$error":"#VALUE!"}},{"$f":"IF(AB437+AF437>0,\"*\",\"\")","v":""},0,0,0,null,"",null,"",null,0,{"$f":"IF($Z437>=1,RANK($Z437,$Z437:$Z452),0)","v":0},0,null,0,{"$f":"IF($AD437>=1,RANK($AD437,$AD437:$AD452),0)","v":0},0,null,null,0,0]
[null,0,null,"","",0,0,0,0,0,0,0,0,null,{"$f":"+G438+I438+K438+M438","v":0},null,{"$f":"IF(AB438+AF438>0,\"*\",\"\")","v":""},0,0,0,null,"",null,"",null,0,{"$f":"IF($Z438>=1,RANK($Z438,$Z437:$Z452),0)","v":0},0,null,0,{"$f":"IF($AD438>=1,RANK($AD438,$AD437:$AD452),0)","v":0},0,null,null,0,0]
[null,0,null,"","",0,0,0,0,0,0,0,0,null,0,null,"",0,0,0,null,"",null,"",null,0,{"$f":"IF($Z439>=1,RANK($Z439,$Z437:$Z452),0)","v":0},0,null,0,{"$f":"IF($AD439>=1,RANK($AD439,$AD437:$AD452),0)","v":0},0,null,null,0,0]
[null,0,null,"","",0,0,0,0,0,0,0,0,null,0,null,"",0,0,0,null,"",null,"",null,0,{"$f":"IF($Z440>=1,RANK($Z440,$Z437:$Z452),0)","v":0},0,null,0,{"$f":"IF($AD440>=1,RANK($AD440,$AD437:$AD452),0)","v":0},0,null,null,0,0]
[null,0,null,"","",0,0,0,0,0,0,0,0,null,0,null,"",0,0,0,null,"",null,"",null,0,{"$f":"IF($Z441>=1,RANK($Z441,$Z437:$Z452),0)","v":0},0,null,0,{"$f":"IF($AD441>=1,RANK($AD441,$AD437:$AD452),0)","v":0},0,null,null,0,0]
[null,{"$f":"IF(OR(ISNA(MATCH(C442&\"\",AthleteNumbers,0)),ISBLANK(C442)),0,MATCH(C442&\"\",AthleteNumbers,0))","v":0},null,"","",0,0,0,0,0,0,0,0,null,{"$f":"+G442+I442+K442+M442","v":0},null,{"$f":"IF(AB442+AF442>0,\"*\",\"\")","v":""},0,0,{"$f":"IF($O442>0,RANK(O442,AthletePoints),0)","v":0},null,{"$f":"IF(O442>=40,IF(X442=\"M\",VLOOKUP(O442,UKABoysAwards,2),IF(X442=\"F\",VLOOKUP(O442,UKAGirlsAwards,2),\"\")),\"\")","v":""},null,"",null,0,{"$f":"IF($Z442>=1,RANK($Z442,$Z437:$Z452),0)","v":0},{"$f":"IF(AA442<=MaxS,INT(Z442),0)","v":0},null,0,{"$f":"IF($AD442>=1,RANK($AD442,$AD437:$AD452),0)","v":0},{"$f":"IF(AE442<=MaxS,INT(AD442),0)","v":0},null,null,0,0]
[null,{"$f":"IF(OR(ISNA(MATCH(C443&\"\",AthleteNumbers,0)),ISBLANK(C443)),0,MATCH(C443&\"\",AthleteNumbers,0))","v":0},null,"","",0,0,0,0,0,0,0,0,null,{"$f":"+G443+I443+K443+M443","v":0},null,{"$f":"IF(AB443+AF443>0,\"*\",\"\")","v":""},0,0,{"$f":"IF($O443>0,RANK(O443,AthletePoints),0)","v":0},null,{"$f":"IF(O443>=40,IF(X443=\"M\",VLOOKUP(O443,UKABoysAwards,2),IF(X443=\"F\",VLOOKUP(O443,UKAGirlsAwards,2),\"\")),\"\")","v":""},null,"",null,0,{"$f":"IF($Z443>=1,RANK($Z443,$Z437:$Z452),0)","v":0},{"$f":"IF(AA443<=MaxS,INT(Z443),0)","v":0},null,0,{"$f":"IF($AD443>=1,RANK($AD443,$AD437:$AD452),0)","v":0},{"$f":"IF(AE443<=MaxS,INT(AD443),0)","v":0},null,null,0,0]
[null,0,null,"","",0,0,0,0,0,0,0,0,null,0,null,"",0,0,0,null,"",null,"",null,0,{"$f":"IF($Z444>=1,RANK($Z444,$Z437:$Z452),0)","v":0},0,null,0,{"$f":"IF($AD444>=1,RANK($AD444,$AD437:$AD452),0)","v":0},0,null,null,0,0]
[null,{"$f":"IF(OR(ISNA(MATCH(C445&\"\",AthleteNumbers,0)),ISBLANK(C445)),0,MATCH(C445&\"\",AthleteNumbers,0))","v":0},null,{"$f":"IF($B445>0,INDEX(DB,$B445,8),\"\")","v":""},{"$f":"IF($B445>0,INDEX(DB,$B445,3),\"\")","v":""},{"$f":"IF($B445>0,INDEX(DB,$B445,13),0)","v":0},{"$f":"IF($B445>0,INDEX(DB,$B445,17),0)","v":0},{"$f":"IF($B445>0,INDEX(DB,$B445,15),0)","v":0},{"$f":"IF($B445>0,INDEX(DB,$B445,19),0)","v":0},{"$f":"IF($B445>0,INDEX(DB,$B445,14),0)","v":0},{"$f":"IF($B445>0,INDEX(DB,$B445,18),0)","v":0},{"$f":"IF($B445>0,INDEX(DB,$B445,16),0)","v":0},{"$f":"IF($B445>0,INDEX(DB,$B445,20),0)","v":0},null,0,null,"",{"$f":"IF($AI445>0,RANK($AI445,BoysPoints),0)","v":0},{"$f":"IF($AJ445>0,RANK($AJ445,GirlsPoints),0)","v":0},{"$f":"IF($O445>0,RANK(O445,AthletePoints),0)","v":0},null,{"$f":"IF(O445>=40,IF(X445=\"M\",VLOOKUP(O445,UKABoysAwards,2),IF(X445=\"F\",VLOOKUP(O445,UKAGirlsAwards,2),\"\")),\"\")","v":""},null,{"$f":"INDEX(DB,$B445,4)","v":""},null,0,{"$f":"IF($Z445>=1,RANK($Z445,$Z437:$Z452),0)","v":0},0,null,0,{"$f":"IF($AD445>=1,RANK($AD445,$AD437:$AD452),0)","v":0},0,null,null,0,0]
[null,0,null,"","",0,0,0,0,0,0,0,0,null,0,null,"",0,0,0,null,"",null,"",null,0,{"$f":"IF($Z446>=1,RANK($Z446,$Z437:$Z452),0)","v":0},0,null,0,{"$f":"IF($AD446>=1,RANK($AD446,$AD437:$AD452),0)","v":0},0,null,null,0,0]
[null,0,null,"","",0,0,0,0,0,0,0,0,null,0,null,"",0,0,0,null,"",null,"",null,0,{"$f":"IF($Z447>=1,RANK($Z447,$Z437:$Z452),0)","v":0},0,null,0,{"$f":"IF($AD447>=1,RANK($AD447,$AD437:$AD452),0)","v":0},0,null,null,0,0]
[null,0,null,"","",0,0,0,0,0,0,0,0,null,0,null,"",0,0,0,null,"",null,"",null,0,{"$f":"IF($Z448>=1,RANK($Z448,$Z437:$Z452),0)","v":0},0,null,0,{"$f":"IF($AD448>=1,RANK($AD448,$AD437:$AD452),0)","v":0},0,null,null,0,0]
[null,0,null,"","",0,0,0,0,0,0,0,0,null,0,null,"",0,0,0,null,"",null,"",null,0,{"$f":"IF($Z449>=1,RANK($Z449,$Z437:$Z452),0)","v":0},0,null,0,{"$f":"IF($AD449>=1,RANK($AD449,$AD437:$AD452),0)","v":0},0,null,null,0,0]
[null,0,null,"","",0,0,0,0,0,0,0,0,null,0,null,"",0,0,0,null,"",null,"",null,0,{"$f":"IF($Z450>=1,RANK($Z450,$Z437:$Z452),0)","v":0},0,null,0,{"$f":"IF($AD450>=1,RANK($AD450,$AD437:$AD452),0)","v":0},0,null,null,0,0]
[null,0,null,"","",0,0,0,0,0,0,0,0,null,0,null,"",0,0,0,null,"",null,"",null,0,{"$f":"IF($Z451>=1,RANK($Z451,$Z437:$Z452),0)","v":0},0,null,0,{"$f":"IF($AD451>=1,RANK($AD451,$AD437:$AD452),0)","v":0},0,null,null,0,0]
[null,0,null,"","",0,0,0,0,0,0,0,0,null,0,null,"",0,0,0,null,"",null,"",null,0,{"$f":"IF($Z452>=1,RANK($Z452,$Z437:$Z452),0)","v":0},0,{"$f":"SUM(AB437:AB452)","v":0},0,{"$f":"IF($AD452>=1,RANK($AD452,$AD437:$AD452),0)","v":0},0,{"$f":"SUM(AF437:AF452)","v":0},null,0,0]
[null,0,null,"","",0,0,0,0,0,0,0,0,{"$f":"INDEX(RelayPoints,A468)","v":{"$error":"#VALUE!"}},{"$f":"+G453+I453+K453+M453","v":0},{"$f":"+AC468+AG468+N453","v":{"$error":"#VALUE!"}},{"$f":"IF(AB453+AF453>0,\"*\",\"\")","v":""},0,0,0,null,"",null,"",null,0,{"$f":"IF($Z453>=1,RANK($Z453,$Z453:$Z468),0)","v":0},0,null,0,{"$f":"IF($AD453>=1,RANK($AD453,$AD453:$AD468),0)","v":0},0,null,null,0,0]
[null,0,null,"","",0,0,0,0,0,0,0,0,null,{"$f":"+G454+I454+K454+M454","v":0},null,{"$f":"IF(AB454+AF454>0,\"*\",\"\")","v":""},0,0,0,null,"",null,"",null,0,{"$f":"IF($Z454>=1,RANK($Z454,$Z453:$Z468),0)","v":0},0,null,0,{"$f":"IF($AD454>=1,RANK($AD454,$AD453:$AD468),0)","v":0},0,null,null,0,0]
[null,0,null,"","",0,0,0,0,0,0,0,0,null,0,null,"",0,0,0,null,"",null,"",null,0,{"$f":"IF($Z455>=1,RANK($Z455,$Z453:$Z468),0)","v":0},{"$f":"IF(AA455<=MaxS,INT(Z455),0)","v":0},null,0,{"$f":"IF($AD455>=1,RANK($AD455,$AD453:$AD468),0)","v":0},{"$f":"IF(AE455<=MaxS,INT(AD455),0)","v":0},null,null,0,0]
[null,0,null,"","",0,0,0,0,0,0,0,0,null,0,null,"",0,0,0,null,"",null,"",null,0,{"$f":"IF($Z456>=1,RANK($Z456,$Z453:$Z468),0)","v":0},0,null,0,{"$f":"IF($AD456>=1,RANK($AD456,$AD453:$AD468),0)","v":0},0,null,null,0,0]
[null,{"$f":"IF(OR(ISNA(MATCH(C457&\"\",AthleteNumbers,0)),ISBLANK(C457)),0,MATCH(C457&\"\",AthleteNumbers,0))","v":0},null,"","",0,0,0,0,0,0,0,0,null,{"$f":"+G457+I457+K457+M457","v":0},null,{"$f":"IF(AB457+AF457>0,\"*\",\"\")","v":""},0,0,{"$f":"IF($O457>0,RANK(O457,AthletePoints),0)","v":0},null,{"$f":"IF(O457>=40,IF(X457=\"M\",VLOOKUP(O457,UKABoysAwards,2),IF(X457=\"F\",VLOOKUP(O457,UKAGirlsAwards,2),\"\")),\"\")","v":""},null,"",null,0,{"$f":"IF($Z457>=1,RANK($Z457,$Z453:$Z468),0)","v":0},{"$f":"IF(AA457<=MaxS,INT(Z457),0)","v":0},null,0,{"$f":"IF($AD457>=1,RANK($AD457,$AD453:$AD468),0)","v":0},{"$f":"IF(AE457<=MaxS,INT(AD457),0)","v":0},null,null,0,0]
[null,{"$f":"IF(OR(ISNA(MATCH(C458&\"\",AthleteNumbers,0)),ISBLANK(C458)),0,MATCH(C458&\"\",AthleteNumbers,0))","v":0},null,"","",0,0,0,0,0,0,0,0,null,{"$f":"+G458+I458+K458+M458","v":0},null,{"$f":"IF(AB458+AF458>0,\"*\",\"\")","v":""},0,0,{"$f":"IF($O458>0,RANK(O458,AthletePoints),0)","v":0},null,{"$f":"IF(O458>=40,IF(X458=\"M\",VLOOKUP(O458,UKABoysAwards,2),IF(X458=\"F\",VLOOKUP(O458,UKAGirlsAwards,2),\"\")),\"\")","v":""},null,"",null,0,{"$f":"IF($Z458>=1,RANK($Z458,$Z453:$Z468),0)","v":0},{"$f":"IF(AA458<=MaxS,INT(Z458),0)","v":0},null,0,{"$f":"IF($AD458>=1,RANK($AD458,$AD453:$AD468),0)","v":0},{"$f":"IF(AE458<=MaxS,INT(AD458),0)","v":0},null,null,0,0]
[null,0,null,"","",0,0,0,0,0,0,0,0,null,0,null,"",0,0,0,null,"",null,"",null,0,{"$f":"IF($Z459>=1,RANK($Z459,$Z453:$Z468),0)","v":0},0,null,0,{"$f":"IF($AD459>=1,RANK($AD459,$AD453:$AD468),0)","v":0},0,null,null,0,0]
[null,0,null,"","",0,0,0,0,0,0,0,0,null,0,null,"",0,0,0,null,"",null,"",null,0,{"$f":"IF($Z460>=1,RANK($Z460,$Z453:$Z468),0)","v":0},0,null,0,{"$f":"IF($AD460>=1,RANK($AD460,$AD453:$AD468),0)","v":0},0,null,null,0,0]
[null,0,null,"","",0,0,0,0,0,0,0,0,null,0,null,"",0,0,0,null,"",null,"",null,0,{"$f":"IF($Z461>=1,RANK($Z461,$Z453:$Z468),0)","v":0},0,null,0,{"$f":"IF($AD461>=1,RANK($AD461,$AD453:$AD468),0)","v":0},0,null,null,0,0]
[null,0,null,"","",0,0,0,0,0,0,0,0,null,0,null,"",0,0,0,null,"",null,"",null,0,{"$f":"IF($Z462>=1,RANK($Z462,$Z453:$Z468),0)","v":0},0,null,0,{"$f":"IF($AD462>=1,RANK($AD462,$AD453:$AD468),0)","v":0},0,null,null,0,0]
[null,0,null,"","",0,0,0,0,0,0,0,0,null,0,null,"",0,0,0,null,"",null,"",null,0,{"$f":"IF($Z463>=1,RANK($Z463,$Z453:$Z468),0)","v":0},0,null,0,{"$f":"IF($AD463>=1,RANK($AD463,$AD453:$AD468),0)","v":0},0,null,null,0,0]
[null,0,null,"","",0,0,0,0,0,0,0,0,null,0,null,"",0,0,0,null,"",null,"",null,0,{"$f":"IF($Z464>=1,RANK($Z464,$Z453:$Z468),0)","v":0},0,null,0,{"$f":"IF($AD464>=1,RANK($AD464,$AD453:$AD468),0)","v":0},0,null,null,0,0]
[null,0,null,"","",0,0,0,0,0,0,0,0,null,0,null,"",0,0,0,null,"",null,"",null,0,{"$f":"IF($Z465>=1,RANK($Z465,$Z453:$Z468),0)","v":0},0,null,0,{"$f":"IF($AD465>=1,RANK($AD465,$AD453:$AD468),0)","v":0},0,null,null,0,0]
[null,0,null,"","",{"$f":"IF($B466>0,INDEX(DB,$B466,13),0)","v":0},0,0,0,0,0,0,0,null,0,null,"",0,0,0,null,"",null,"",null,0,{"$f":"IF($Z466>=1,RANK($Z466,$Z453:$Z468),0)","v":0},0,null,0,{"$f":"IF($AD466>=1,RANK($AD466,$AD453:$AD468),0)","v":0},0,null,null,0,0]
[null,0,null,"","",0,0,0,0,0,0,0,0,null,0,null,"",0,0,0,null,"",null,"",null,0,{"$f":"IF($Z467>=1,RANK($Z467,$Z453:$Z468),0)","v":0},0,null,0,{"$f":"IF($AD467>=1,RANK($AD467,$AD453:$AD468),0)","v":0},0,null,null,0,0]
[null,0,null,"","",0,0,0,0,0,0,0,0,null,0,null,"",0,0,0,null,"",null,"",null,0,{"$f":"IF($Z468>=1,RANK($Z468,$Z453:$Z468),0)","v":0},0,{"$f":"SUM(AB453:AB468)","v":0},0,{"$f":"IF($AD468>=1,RANK($AD468,$AD453:$AD468),0)","v":0},0,{"$f":"SUM(AF453:AF468)","v":0},null,0,0]
[null,0,null,"","",0,0,0,0,0,0,0,0,{"$f":"INDEX(RelayPoints,A484)","v":{"$error":"#VALUE!"}},{"$f":"+G469+I469+K469+M469","v":0},{"$f":"+AC484+AG484+N469","v":{"$error":"#VALUE!"}},{"$f":"IF(AB469+AF469>0,\"*\",\"\")","v":""},0,0,0,null,"",null,"",null,0,{"$f":"IF($Z469>=1,RANK($Z469,$Z469:$Z484),0)","v":0},0,null,0,{"$f":"IF($AD469>=1,RANK($AD469,$AD469:$AD484),0)","v":0},0,null,null,0,0]
[null,0,null,"","",0,0,0,0,0,0,0,0,null,{"$f":"+G470+I470+K470+M470","v":0},null,{"$f":"IF(AB470+AF470>0,\"*\",\"\")","v":""},0,0,0,null,"",null,"",null,0,{"$f":"IF($Z470>=1,RANK($Z470,$Z469:$Z484),0)","v":0},0,null,0,{"$f":"IF($AD470>=1,RANK($AD470,$AD469:$AD484),0)","v":0},0,null,null,0,0]
[null,0,null,"","",0,0,0,0,0,0,0,0,null,0,null,"",0,0,0,null,"",null,"",null,0,{"$f":"IF($Z471>=1,RANK($Z471,$Z469:$Z484),0)","v":0},0,null,0,{"$f":"IF($AD471>=1,RANK($AD471,$AD469:$AD484),0)","v":0},0,null,null,0,0]
[null,0,null,"","",0,0,0,0,0,0,0,0,null,0,null,"",0,0,0,null,"",null,"",null,0,{"$f":"IF($Z472>=1,RANK($Z472,$Z469:$Z484),0)","v":0},0,null,0,{"$f":"IF($AD472>=1,RANK($AD472,$AD469:$AD484),0)","v":0},0,null,null,0,0]
[null,{"$f":"IF(OR(ISNA(MATCH(C473&\"\",AthleteNumbers,0)),ISBLANK(C473)),0,MATCH(C473&\"\",AthleteNumbers,0))","v":0},null,"","",0,0,0,0,0,0,0,0,null,{"$f":"+G473+I473+K473+M473","v":0},null,{"$f":"IF(AB473+AF473>0,\"*\",\"\")","v":""},0,0,{"$f":"IF($O473>0,RANK(O473,AthletePoints),0)","v":0},null,{"$f":"IF(O473>=40,IF(X473=\"M\",VLOOKUP(O473,UKABoysAwards,2),IF(X473=\"F\",VLOOKUP(O473,UKAGirlsAwards,2),\"\")),\"\")","v":""},null,"",null,0,{"$f":"IF($Z473>=1,RANK($Z473,$Z469:$Z484),0)","v":0},{"$f":"IF(AA473<=MaxS,INT(Z473),0)","v":0},null,0,{"$f":"IF($AD473>=1,RANK($AD473,$AD469:$AD484),0)","v":0},{"$f":"IF(AE473<=MaxS,INT(AD473),0)","v":0},null,null,0,0]
[null,{"$f":"IF(OR(ISNA(MATCH(C474&\"\",AthleteNumbers,0)),ISBLANK(C474)),0,MATCH(C474&\"\",AthleteNumbers,0))","v":0},null,"","",0,0,0,0,0,0,0,0,null,{"$f":"+G474+I474+K474+M474","v":0},null,{"$f":"IF(AB474+AF474>0,\"*\",\"\")","v":""},0,0,{"$f":"IF($O474>0,RANK(O474,AthletePoints),0)","v":0},null,{"$f":"IF(O474>=40,IF(X474=\"M\",VLOOKUP(O474,UKABoysAwards,2),IF(X474=\"F\",VLOOKUP(O474,UKAGirlsAwards,2),\"\")),\"\")","v":""},null,"",null,0,{"$f":"IF($Z474>=1,RANK($Z474,$Z469:$Z484),0)","v":0},{"$f":"IF(AA474<=MaxS,INT(Z474),0)","v":0},null,0,{"$f":"IF($AD474>=1,RANK($AD474,$AD469:$AD484),0)","v":0},{"$f":"IF(AE474<=MaxS,INT(AD474),0)","v":0},null,null,0,0]
[null,0,null,"","",0,0,0,0,0,0,0,0,null,0,null,"",0,0,0,null,"",null,"",null,0,{"$f":"IF($Z475>=1,RANK($Z475,$Z469:$Z484),0)","v":0},0,null,0,{"$f":"IF($AD475>=1,RANK($AD475,$AD469:$AD484),0)","v":0},0,null,null,0,0]
[null,0,null,"","",0,0,0,0,0,0,0,0,null,0,null,"",0,0,0,null,"",null,"",null,0,{"$f":"IF($Z476>=1,RANK($Z476,$Z469:$Z484),0)","v":0},0,null,0,{"$f":"IF($AD476>=1,RANK($AD476,$AD469:$AD484),0)","v":0},0,null,null,0,0]
[null,0,null,"","",0,0,0,0,0,0,0,0,null,0,null,"",0,0,0,null,"",null,"",null,0,{"$f":"IF($Z477>=1,RANK($Z477,$Z469:$Z484),0)","v":0},0,null,0,{"$f":"IF($AD477>=1,RANK($AD477,$AD469:$AD484),0)","v":0},0,null,null,0,0]
[null,0,null,"","",0,0,0,0,0,0,0,0,null,0,null,"",0,0,0,null,"",null,"",null,0,{"$f":"IF($Z478>=1,RANK($Z478,$Z469:$Z484),0)","v":0},0,null,0,{"$f":"IF($AD478>=1,RANK($AD478,$AD469:$AD484),0)","v":0},0,null,null,0,0]
[null,0,null,"","",0,0,0,0,0,0,0,0,null,0,null,"",0,0,0,null,"",null,"",null,0,{"$f":"IF($Z479>=1,RANK($Z479,$Z469:$Z484),0)","v":0},0,null,0,{"$f":"IF($AD479>=1,RANK($AD479,$AD469:$AD484),0)","v":0},0,null,null,0,0]
[null,0,null,"","",0,0,0,0,0,0,0,0,null,0,null,"",0,0,0,null,"",null,"",null,0,{"$f":"IF($Z480>=1,RANK($Z480,$Z469:$Z484),0)","v":0},0,null,0,{"$f":"IF($AD480>=1,RANK($AD480,$AD469:$AD484),0)","v":0},0,null,null,0,0]
[null,0,null,"","",0,0,0,0,0,0,0,0,null,0,null,"",0,0,0,null,"",null,"",null,0,{"$f":"IF($Z481>=1,RANK($Z481,$Z469:$Z484),0)","v":0},0,null,0,{"$f":"IF($AD481>=1,RANK($AD481,$AD469:$AD484),0)","v":0},0,null,null,0,0]
[null,0,null,"","",0,0,0,0,0,0,0,0,null,0,null,"",0,0,0,null,"",null,"",null,0,{"$f":"IF($Z482>=1,RANK($Z482,$Z469:$Z484),0)","v":0},0,null,0,{"$f":"IF($AD482>=1,RANK($AD482,$AD469:$AD484),0)","v":0},0,null,null,0,0]
[null,0,null,"","",0,0,0,0,0,0,0,0,null,0,null,"",0,0,0,null,"",null,"",null,0,{"$f":"IF($Z483>=1,RANK($Z483,$Z469:$Z484),0)","v":0},0,null,0,{"$f":"IF($AD483>=1,RANK($AD483,$AD469:$AD484),0)","v":0},0,null,null,0,0]
[null,0,null,"","",0,0,0,0,0,0,0,0,null,0,null,"",0,0,0,null,"",null,"",null,0,{"$f":"IF($Z484>=1,RANK($Z484,$Z469:$Z484),0)","v":0},0,{"$f":"SUM(AB469:AB484)","v":0},0,{"$f":"IF($AD484>=1,RANK($AD484,$AD469:$AD484),0)","v":0},0,{"$f":"SUM(AF469:AF484)","v":0},null,0,0]
[null,0,null,"","",0,0,0,0,0,0,0,0,{"$f":"INDEX(RelayPoints,A500)","v":{"$error":"#VALUE!"}},{"$f":"+G485+I485+K485+M485","v":0},{"$f":"+AC500+AG500+N485","v":{"$error":"#VALUE!"}},{"$f":"IF(AB485+AF485>0,\"*\",\"\")","v":""},0,0,0,null,"",null,"",null,0,{"$f":"IF($Z485>=1,RANK($Z485,$Z485:$Z500),0)","v":0},0,null,0,{"$f":"IF($AD485>=1,RANK($AD485,$AD485:$AD500),0)","v":0},0,null,null,0,0]
[null,0,null,"","",0,0,0,0,0,0,0,0,null,{"$f":"+G486+I486+K486+M486","v":0},null,{"$f":"IF(AB486+AF486>0,\"*\",\"\")","v":""},0,0,0,null,"",null,"",null,{"$f":"IF($X486=\"M\",$O486+(ROW()/10000),0)","v":0},{"$f":"IF($Z486>=1,RANK($Z486,$Z485:$Z500),0)","v":0},0,null,{"$f":"IF($X486=\"F\",$O486+(ROW()/10000),0)","v":0},{"$f":"IF($AD486>=1,RANK($AD486,$AD485:$AD500),0)","v":0},0,null,null,{"$f":"IF($X486=\"M\",$O486,0)","v":0},{"$f":"IF($X486=\"F\",$O486,0)","v":0}]
[null,0,null,"","",0,0,0,0,0,0,0,0,null,0,null,"",0,0,0,null,"",null,"",null,0,{"$f":"IF($Z487>=1,RANK($Z487,$Z485:$Z500),0)","v":0},0,null,0,{"$f":"IF($AD487>=1,RANK($AD487,$AD485:$AD500),0)","v":0},0,null,null,0,0]
[null,0,null,"","",0,0,0,0,0,0,0,0,null,0,null,"",0,0,0,null,"",null,"",null,0,{"$f":"IF($Z488>=1,RANK($Z488,$Z485:$Z500),0)","v":0},0,null,0,{"$f":"IF($AD488>=1,RANK($AD488,$AD485:$AD500),0)","v":0},0,null,null,0,0]
[null,{"$f":"IF(OR(ISNA(MATCH(C489&\"\",AthleteNumbers,0)),ISBLANK(C489)),0,MATCH(C489&\"\",AthleteNumbers,0))","v":0},null,"","",0,0,0,0,0,0,0,0,null,{"$f":"+G489+I489+K489+M489","v":0},null,{"$f":"IF(AB489+AF489>0,\"*\",\"\")","v":""},0,0,{"$f":"IF($O489>0,RANK(O489,AthletePoints),0)","v":0},null,{"$f":"IF(O489>=40,IF(X489=\"M\",VLOOKUP(O489,UKABoysAwards,2),IF(X489=\"F\",VLOOKUP(O489,UKAGirlsAwards,2),\"\")),\"\")","v":""},null,"",null,0,{"$f":"IF($Z489>=1,RANK($Z489,$Z485:$Z500),0)","v":0},{"$f":"IF(AA489<=MaxS,INT(Z489),0)","v":0},null,0,{"$f":"IF($AD489>=1,RANK($AD489,$AD485:$AD500),0)","v":0},{"$f":"IF(AE489<=MaxS,INT(AD489),0)","v":0},null,null,0,0]
[null,{"$f":"IF(OR(ISNA(MATCH(C490&\"\",AthleteNumbers,0)),ISBLANK(C490)),0,MATCH(C490&\"\",AthleteNumbers,0))","v":0},null,"","",0,0,0,0,0,0,0,0,null,{"$f":"+G490+I490+K490+M490","v":0},null,{"$f":"IF(AB490+AF490>0,\"*\",\"\")","v":""},0,0,{"$f":"IF($O490>0,RANK(O490,AthletePoints),0)","v":0},null,{"$f":"IF(O490>=40,IF(X490=\"M\",VLOOKUP(O490,UKABoysAwards,2),IF(X490=\"F\",VLOOKUP(O490,UKAGirlsAwards,2),\"\")),\"\")","v":""},null,"",null,0,{"$f":"IF($Z490>=1,RANK($Z490,$Z485:$Z500),0)","v":0},{"$f":"IF(AA490<=MaxS,INT(Z490),0)","v":0},null,0,{"$f":"IF($AD490>=1,RANK($AD490,$AD485:$AD500),0)","v":0},{"$f":"IF(AE490<=MaxS,INT(AD490),0)","v":0},null,null,0,0]
[null,0,null,"","",0,0,0,0,0,0,0,0,null,0,null,"",0,0,0,null,"",null,"",null,0,{"$f":"IF($Z491>=1,RANK($Z491,$Z485:$Z500),0)","v":0},0,null,0,{"$f":"IF($AD491>=1,RANK($AD491,$AD485:$AD500),0)","v":0},0,null,null,0,0]
[null,0,null,"","",0,0,0,0,0,0,0,0,null,0,null,"",0,0,0,null,"",null,"",null,0,{"$f":"IF($Z492>=1,RANK($Z492,$Z485:$Z500),0)","v":0},0,null,0,{"$f":"IF($AD492>=1,RANK($AD492,$AD485:$AD500),0)","v":0},0,null,null,0,0]
[null,0,null,"","",0,0,0,0,0,0,0,0,null,0,null,"",0,0,0,null,"",null,"",null,0,{"$f":"IF($Z493>=1,RANK($Z493,$Z485:$Z500),0)","v":0},0,null,0,{"$f":"IF($AD493>=1,RANK($AD493,$AD485:$AD500),0)","v":0},0,null,null,0,0]
[null,0,null,"","",0,0,0,0,0,0,0,0,null,0,null,"",0,0,0,null,"",null,"",null,0,{"$f":"IF($Z494>=1,RANK($Z494,$Z485:$Z500),0)","v":0},0,null,0,{"$f":"IF($AD494>=1,RANK($AD494,$AD485:$AD500),0)","v":0},0,null,null,0,0]
[null,0,null,"","",0,0,0,0,0,0,0,0,null,0,null,"",0,0,0,null,"",null,"",null,0,{"$f":"IF($Z495>=1,RANK($Z495,$Z485:$Z500),0)","v":0},0,null,0,{"$f":"IF($AD495>=1,RANK($AD495,$AD485:$AD500),0)","v":0},0,null,null,0,0]
[null,0,null,"","",0,0,0,0,0,0,0,0,null,0,null,"",0,0,0,null,"",null,"",null,0,{"$f":"IF($Z496>=1,RANK($Z496,$Z485:$Z500),0)","v":0},0,null,0,{"$f":"IF($AD496>=1,RANK($AD496,$AD485:$AD500),0)","v":0},0,null,null,0,0]
[null,0,null,"","",0,0,0,0,0,0,0,0,null,0,null,"",0,0,0,null,"",null,"",null,0,{"$f":"IF($Z497>=1,RANK($Z497,$Z485:$Z500),0)","v":0},0,null,0,{"$f":"IF($AD497>=1,RANK($AD497,$AD485:$AD500),0)","v":0},0,null,null,0,0]
[null,0,null,"","",0,0,0,0,0,0,0,0,null,0,null,"",0,0,0,null,"",null,"",null,0,{"$f":"IF($Z498>=1,RANK($Z498,$Z485:$Z500),0)","v":0},0,null,0,{"$f":"IF($AD498>=1,RANK($AD498,$AD485:$AD500),0)","v":0},0,null,null,0,0]
[null,0,null,"","",0,0,0,0,0,0,0,0,null,0,null,"",0,0,0,null,"",null,"",null,0,{"$f":"IF($Z499>=1,RANK($Z499,$Z485:$Z500),0)","v":0},0,null,0,{"$f":"IF($AD499>=1,RANK($AD499,$AD485:$AD500),0)","v":0},0,null,null,0,0]
[null,0,null,"","",0,0,0,0,0,0,0,0,null,0,null,"",0,0,0,null,"",null,"",null,0,{"$f":"IF($Z500>=1,RANK($Z500,$Z485:$Z500),0)","v":0},0,{"$f":"SUM(AB485:AB500)","v":0},0,{"$f":"IF($AD500>=1,RANK($AD500,$AD485:$AD500),0)","v":0},0,{"$f":"SUM(AF485:AF500)","v":0},null,0,0]
[null,0,null,"","",0,0,0,0,0,0,0,0,{"$f":"INDEX(RelayPoints,A516)","v":{"$error":"#VALUE!"}},{"$f":"+G501+I501+K501+M501","v":0},{"$f":"+AC516+AG516+N501","v":{"$error":"#VALUE!"}},{"$f":"IF(AB501+AF501>0,\"*\",\"\")","v":""},0,0,0,null,"",null,"",null,0,{"$f":"IF($Z501>=1,RANK($Z501,$Z501:$Z516),0)","v":0},0,null,0,{"$f":"IF($AD501>=1,RANK($AD501,$AD501:$AD516),0)","v":0},0,null,null,0,0]
[null,0,null,"","",0,0,0,0,0,0,0,0,null,{"$f":"+G502+I502+K502+M502","v":0},null,{"$f":"IF(AB502+AF502>0,\"*\",\"\")","v":""},0,0,0,null,"",null,"",null,0,{"$f":"IF($Z502>=1,RANK($Z502,$Z501:$Z516),0)","v":0},0,null,0,{"$f":"IF($AD502>=1,RANK($AD502,$AD501:$AD516),0)","v":0},0,null,null,0,0]
[null,0,null,"","",0,0,0,0,0,0,0,0,null,0,null,"",0,0,0,null,"",null,"",null,0,{"$f":"IF($Z503>=1,RANK($Z503,$Z501:$Z516),0)","v":0},0,null,0,{"$f":"IF($AD503>=1,RANK($AD503,$AD501:$AD516),0)","v":0},0,null,null,0,0]
[null,{"$f":"IF(OR(ISNA(MATCH(C504&\"\",AthleteNumbers,0)),ISBLANK(C504)),0,MATCH(C504&\"\",AthleteNumbers,0))","v":0},null,"","",0,0,0,0,0,0,0,0,null,{"$f":"+G504+I504+K504+M504","v":0},null,{"$f":"IF(AB504+AF504>0,\"*\",\"\")","v":""},0,0,{"$f":"IF($O504>0,RANK(O504,AthletePoints),0)","v":0},null,{"$f":"IF(O504>=40,IF(X504=\"M\",VLOOKUP(O504,UKABoysAwards,2),IF(X504=\"F\",VLOOKUP(O504,UKAGirlsAwards,2),\"\")),\"\")","v":""},null,"",null,0,{"$f":"IF($Z504>=1,RANK($Z504,$Z501:$Z516),0)","v":0},{"$f":"IF(AA504<=MaxS,INT(Z504),0)","v":0},null,0,{"$f":"IF($AD504>=1,RANK($AD504,$AD501:$AD516),0)","v":0},{"$f":"IF(AE504<=MaxS,INT(AD504),0)","v":0},null,null,0,0]
[null,{"$f":"IF(OR(ISNA(MATCH(C505&\"\",AthleteNumbers,0)),ISBLANK(C505)),0,MATCH(C505&\"\",AthleteNumbers,0))","v":0},null,"","",0,0,0,0,0,0,0,0,null,{"$f":"+G505+I505+K505+M505","v":0},null,{"$f":"IF(AB505+AF505>0,\"*\",\"\")","v":""},0,0,{"$f":"IF($O505>0,RANK(O505,AthletePoints),0)","v":0},null,{"$f":"IF(O505>=40,IF(X505=\"M\",VLOOKUP(O505,UKABoysAwards,2),IF(X505=\"F\",VLOOKUP(O505,UKAGirlsAwards,2),\"\")),\"\")","v":""},null,"",null,0,{"$f":"IF($Z505>=1,RANK($Z505,$Z501:$Z516),0)","v":0},{"$f":"IF(AA505<=MaxS,INT(Z505),0)","v":0},null,0,{"$f":"IF($AD505>=1,RANK($AD505,$AD501:$AD516),0)","v":0},{"$f":"IF(AE505<=MaxS,INT(AD505),0)","v":0},null,null,0,0]
[null,0,null,"","",0,0,0,0,0,0,0,0,null,0,null,"",0,0,0,null,"",null,"",null,0,{"$f":"IF($Z506>=1,RANK($Z506,$Z501:$Z516),0)","v":0},0,null,0,{"$f":"IF($AD506>=1,RANK($AD506,$AD501:$AD516),0)","v":0},0,null,null,0,0]
[null,0,null,"","",0,0,0,0,0,0,0,0,null,0,null,"",0,0,0,null,"",null,"",null,0,{"$f":"IF($Z507>=1,RANK($Z507,$Z501:$Z516),0)","v":0},0,null,0,{"$f":"IF($AD507>=1,RANK($AD507,$AD501:$AD516),0)","v":0},0,null,null,0,0]
[null,0,null,"","",0,0,0,0,0,0,0,0,null,0,null,"",0,0,0,null,"",null,"",null,0,{"$f":"IF($Z508>=1,RANK($Z508,$Z501:$Z516),0)","v":0},0,null,0,{"$f":"IF($AD508>=1,RANK($AD508,$AD501:$AD516),0)","v":0},0,null,null,0,0]
[null,0,null,"","",0,0,0,0,0,0,0,0,null,0,null,"",0,0,0,null,"",null,"",null,0,{"$f":"IF($Z509>=1,RANK($Z509,$Z501:$Z516),0)","v":0},0,null,0,{"$f":"IF($AD509>=1,RANK($AD509,$AD501:$AD516),0)","v":0},0,null,null,0,0]
[null,0,null,"","",0,0,0,0,0,0,0,0,null,0,null,"",0,0,0,null,"",null,"",null,0,{"$f":"IF($Z510>=1,RANK($Z510,$Z501:$Z516),0)","v":0},0,null,0,{"$f":"IF($AD510>=1,RANK($AD510,$AD501:$AD516),0)","v":0},0,null,null,0,0]
[null,0,null,"","",0,0,0,0,0,0,0,0,null,0,null,"",0,0,0,null,"",null,"",null,0,{"$f":"IF($Z511>=1,RANK($Z511,$Z501:$Z516),0)","v":0},0,null,0,{"$f":"IF($AD511>=1,RANK($AD511,$AD501:$AD516),0)","v":0},0,null,null,0,0]
[null,0,null,"","",0,0,0,0,0,0,0,0,null,0,null,"",0,0,0,null,"",null,"",null,0,{"$f":"IF($Z512>=1,RANK($Z512,$Z501:$Z516),0)","v":0},0,null,0,{"$f":"IF($AD512>=1,RANK($AD512,$AD501:$AD516),0)","v":0},0,null,null,0,0]
[null,0,null,"","",0,0,0,0,0,0,0,0,null,0,null,"",0,0,0,null,"",null,"",null,0,{"$f":"IF($Z513>=1,RANK($Z513,$Z501:$Z516),0)","v":0},0,null,0,{"$f":"IF($AD513>=1,RANK($AD513,$AD501:$AD516),0)","v":0},0,null,null,0,0]
[null,0,null,"","",0,0,0,0,0,0,0,0,null,0,null,"",0,0,0,null,"",null,"",null,0,{"$f":"IF($Z514>=1,RANK($Z514,$Z501:$Z516),0)","v":0},0,null,0,{"$f":"IF($AD514>=1,RANK($AD514,$AD501:$AD516),0)","v":0},0,null,null,0,0]
[null,0,null,"","",0,0,0,0,0,0,0,0,null,0,null,"",0,0,0,null,"",null,"",null,0,{"$f":"IF($Z515>=1,RANK($Z515,$Z501:$Z516),0)","v":0},0,null,0,{"$f":"IF($AD515>=1,RANK($AD515,$AD501:$AD516),0)","v":0},0,null,null,0,0]
[null,0,null,"","",0,0,0,0,0,0,0,0,null,0,null,"",0,0,0,null,"",null,"",null,0,{"$f":"IF($Z516>=1,RANK($Z516,$Z501:$Z516),0)","v":0},0,{"$f":"SUM(AB501:AB516)","v":0},0,{"$f":"IF($AD516>=1,RANK($AD516,$AD501:$AD516),0)","v":0},0,{"$f":"SUM(AF501:AF516)","v":0},null,0,0]
[null,{"$f":"IF(OR(ISNA(MATCH(C517&\"\",AthleteNumbers,0)),ISBLANK(C517)),0,MATCH(C517&\"\",AthleteNumbers,0))","v":0},null,{"$f":"IF($B517>0,INDEX(DB,$B517,8),\"\")","v":""},{"$f":"IF($B517>0,INDEX(DB,$B517,3),\"\")","v":""},{"$f":"IF($B517>0,INDEX(DB,$B517,13),0)","v":0},{"$f":"IF($B517>0,INDEX(DB,$B517,17),0)","v":0},{"$f":"IF($B517>0,INDEX(DB,$B517,15),0)","v":0},{"$f":"IF($B517>0,INDEX(DB,$B517,19),0)","v":0},{"$f":"IF($B517>0,INDEX(DB,$B517,14),0)","v":0},{"$f":"IF($B517>0,INDEX(DB,$B517,18),0)","v":0},{"$f":"IF($B517>0,INDEX(DB,$B517,16),0)","v":0},{"$f":"IF($B517>0,INDEX(DB,$B517,20),0)","v":0},{"$f":"INDEX(RelayPoints,A532)","v":{"$error":"#VALUE!"}},{"$f":"+G517+I517+K517+M517","v":0},{"$f":"+AC532+AG532+N517","v":{"$error":"#VALUE!"}},{"$f":"IF(AB517+AF517>0,\"*\",\"\")","v":""},{"$f":"IF($AI517>0,RANK($AI517,BoysPoints),0)","v":0},{"$f":"IF($AJ517>0,RANK($AJ517,GirlsPoints),0)","v":0},{"$f":"IF($O517>0,RANK(O517,AthletePoints),0)","v":0},null,{"$f":"IF(O517>=40,IF(X517=\"M\",VLOOKUP(O517,UKABoysAwards,2),IF(X517=\"F\",VLOOKUP(O517,UKAGirlsAwards,2),\"\")),\"\")","v":""},null,{"$f":"INDEX(DB,$B517,4)","v":""},null,0,{"$f":"IF($Z517>=1,RANK($Z517,$Z517:$Z532),0)","v":0},0,null,0,{"$f":"IF($AD517>=1,RANK($AD517,$AD517:$AD532),0)","v":0},0,null,null,0,0]
[null,0,null,"","",0,0,0,0,0,0,0,0,null,{"$f":"+G518+I518+K518+M518","v":0},null,{"$f":"IF(AB518+AF518>0,\"*\",\"\")","v":""},0,0,0,null,"",null,"",null,0,{"$f":"IF($Z518>=1,RANK($Z518,$Z517:$Z532),0)","v":0},0,null,0,{"$f":"IF($AD518>=1,RANK($AD518,$AD517:$AD532),0)","v":0},0,null,null,0,0]
[null,0,null,"","",0,0,0,0,0,0,0,0,null,0,null,"",0,0,0,null,"",null,"",null,0,{"$f":"IF($Z519>=1,RANK($Z519,$Z517:$Z532),0)","v":0},0,null,0,{"$f":"IF($AD519>=1,RANK($AD519,$AD517:$AD532),0)","v":0},0,null,null,0,0]
[null,0,null,"","",0,0,0,0,0,0,0,0,null,0,null,"",0,0,0,null,"",null,"",null,0,{"$f":"IF($Z520>=1,RANK($Z520,$Z517:$Z532),0)","v":0},0,null,0,{"$f":"IF($AD520>=1,RANK($AD520,$AD517:$AD532),0)","v":0},0,null,null,0,0]
[null,0,null,"","",0,0,0,0,0,0,0,0,null,0,null,"",0,0,0,null,"",null,"",null,0,{"$f":"IF($Z521>=1,RANK($Z521,$Z517:$Z532),0)","v":0},0,null,0,{"$f":"IF($AD521>=1,RANK($AD521,$AD517:$AD532),0)","v":0},0,null,null,0,0]
[null,{"$f":"IF(OR(ISNA(MATCH(C522&\"\",AthleteNumbers,0)),ISBLANK(C522)),0,MATCH(C522&\"\",AthleteNumbers,0))","v":0},null,"","",0,0,0,0,0,0,0,0,null,{"$f":"+G522+I522+K522+M522","v":0},null,{"$f":"IF(AB522+AF522>0,\"*\",\"\")","v":""},0,0,{"$f":"IF($O522>0,RANK(O522,AthletePoints),0)","v":0},null,{"$f":"IF(O522>=40,IF(X522=\"M\",VLOOKUP(O522,UKABoysAwards,2),IF(X522=\"F\",VLOOKUP(O522,UKAGirlsAwards,2),\"\")),\"\")","v":""},null,"",null,0,{"$f":"IF($Z522>=1,RANK($Z522,$Z517:$Z532),0)","v":0},{"$f":"IF(AA522<=MaxS,INT(Z522),0)","v":0},null,0,{"$f":"IF($AD522>=1,RANK($AD522,$AD517:$AD532),0)","v":0},{"$f":"IF(AE522<=MaxS,INT(AD522),0)","v":0},null,null,0,0]
[null,{"$f":"IF(OR(ISNA(MATCH(C523&\"\",AthleteNumbers,0)),ISBLANK(C523)),0,MATCH(C523&\"\",AthleteNumbers,0))","v":0},null,"","",0,0,0,0,0,0,0,0,null,{"$f":"+G523+I523+K523+M523","v":0},null,{"$f":"IF(AB523+AF523>0,\"*\",\"\")","v":""},0,0,{"$f":"IF($O523>0,RANK(O523,AthletePoints),0)","v":0},null,{"$f":"IF(O523>=40,IF(X523=\"M\",VLOOKUP(O523,UKABoysAwards,2),IF(X523=\"F\",VLOOKUP(O523,UKAGirlsAwards,2),\"\")),\"\")","v":""},null,"",null,0,{"$f":"IF($Z523>=1,RANK($Z523,$Z517:$Z532),0)","v":0},{"$f":"IF(AA523<=MaxS,INT(Z523),0)","v":0},null,0,{"$f":"IF($AD523>=1,RANK($AD523,$AD517:$AD532),0)","v":0},{"$f":"IF(AE523<=MaxS,INT(AD523),0)","v":0},null,null,0,0]
[null,0,null,"","",0,0,0,0,0,0,0,0,null,0,null,"",0,0,0,null,"",null,"",null,0,{"$f":"IF($Z524>=1,RANK($Z524,$Z517:$Z532),0)","v":0},0,null,0,{"$f":"IF($AD524>=1,RANK($AD524,$AD517:$AD532),0)","v":0},0,null,null,0,0]
[null,0,null,"","",0,0,0,0,0,0,0,0,null,0,null,"",0,0,0,null,"",null,"",null,0,{"$f":"IF($Z525>=1,RANK($Z525,$Z517:$Z532),0)","v":0},0,null,0,{"$f":"IF($AD525>=1,RANK($AD525,$AD517:$AD532),0)","v":0},0,null,null,0,0]
[null,0,null,"","",0,0,0,0,0,0,0,0,null,0,null,"",0,0,0,null,"",null,"",null,0,{"$f":"IF($Z526>=1,RANK($Z526,$Z517:$Z532),0)","v":0},0,null,0,{"$f":"IF($AD526>=1,RANK($AD526,$AD517:$AD532),0)","v":0},0,null,null,0,0]
[null,0,null,"","",0,0,0,0,0,0,0,0,null,0,null,"",0,0,0,null,"",null,"",null,0,{"$f":"IF($Z527>=1,RANK($Z527,$Z517:$Z532),0)","v":0},0,null,0,{"$f":"IF($AD527>=1,RANK($AD527,$AD517:$AD532),0)","v":0},0,null,null,0,0]
[null,0,null,"","",0,0,0,0,0,0,0,0,null,0,null,"",0,0,0,null,"",null,"",null,0,{"$f":"IF($Z528>=1,RANK($Z528,$Z517:$Z532),0)","v":0},0,null,0,{"$f":"IF($AD528>=1,RANK($AD528,$AD517:$AD532),0)","v":0},0,null,null,0,0]
[null,0,null,"","",0,0,0,0,0,0,0,0,null,0,null,"",0,0,0,null,"",null,"",null,0,{"$f":"IF($Z529>=1,RANK($Z529,$Z517:$Z532),0)","v":0},{"$f":"IF(AA529<=MaxS,INT(Z529),0)","v":0},null,0,{"$f":"IF($AD529>=1,RANK($AD529,$AD517:$AD532),0)","v":0},{"$f":"IF(AE529<=MaxS,INT(AD529),0)","v":0},null,null,0,0]
[null,0,null,"","",0,0,0,0,0,0,0,0,null,0,null,"",0,0,0,null,"",null,"",null,0,{"$f":"IF($Z530>=1,RANK($Z530,$Z517:$Z532),0)","v":0},0,null,0,{"$f":"IF($AD530>=1,RANK($AD530,$AD517:$AD532),0)","v":0},0,null,null,0,0]
[null,0,null,"","",0,0,0,0,0,0,0,0,null,0,null,"",0,0,0,null,"",null,"",null,0,{"$f":"IF($Z531>=1,RANK($Z531,$Z517:$Z532),0)","v":0},0,null,0,{"$f":"IF($AD531>=1,RANK($AD531,$AD517:$AD532),0)","v":0},0,null,null,0,0]
[null,0,null,"","",0,0,0,0,0,0,0,0,null,0,null,"",0,0,0,null,"",null,"",null,0,{"$f":"IF($Z532>=1,RANK($Z532,$Z517:$Z532),0)","v":0},0,{"$f":"SUM(AB517:AB532)","v":0},0,{"$f":"IF($AD532>=1,RANK($AD532,$AD517:$AD532),0)","v":0},0,{"$f":"SUM(AF517:AF532)","v":0},null,0,0]
[null,0,null,"","",0,0,0,0,0,0,0,0,{"$f":"INDEX(RelayPoints,A548)","v":{"$error":"#VALUE!"}},{"$f":"+G533+I533+K533+M533","v":0},{"$f":"+AC548+AG548+N533","v":{"$error":"#VALUE!"}},{"$f":"IF(AB533+AF533>0,\"*\",\"\")","v":""},0,0,0,null,"",null,"",null,0,{"$f":"IF($Z533>=1,RANK($Z533,$Z533:$Z548),0)","v":0},0,null,0,{"$f":"IF($AD533>=1,RANK($AD533,$AD533:$AD548),0)","v":0},0,null,null,0,0]
[null,0,null,"","",0,0,0,0,0,0,0,0,null,{"$f":"+G534+I534+K534+M534","v":0},null,{"$f":"IF(AB534+AF534>0,\"*\",\"\")","v":""},0,0,0,null,"",null,"",null,0,{"$f":"IF($Z534>=1,RANK($Z534,$Z533:$Z548),0)","v":0},0,null,0,{"$f":"IF($AD534>=1,RANK($AD534,$AD533:$AD548),0)","v":0},0,null,null,0,0]
[null,0,null,"","",0,0,0,0,0,0,0,0,null,0,null,"",0,0,0,null,"",null,"",null,0,{"$f":"IF($Z535>=1,RANK($Z535,$Z533:$Z548),0)","v":0},0,null,0,{"$f":"IF($AD535>=1,RANK($AD535,$AD533:$AD548),0)","v":0},0,null,null,0,0]
[null,0,null,"","",0,0,0,0,0,0,0,0,null,0,null,"",0,0,0,null,"",null,"",null,0,{"$f":"IF($Z536>=1,RANK($Z536,$Z533:$Z548),0)","v":0},0,null,0,{"$f":"IF($AD536>=1,RANK($AD536,$AD533:$AD548),0)","v":0},0,null,null,0,0]
[null,{"$f":"IF(OR(ISNA(MATCH(C537&\"\",AthleteNumbers,0)),ISBLANK(C537)),0,MATCH(C537&\"\",AthleteNumbers,0))","v":0},null,"","",0,0,0,0,0,0,0,0,null,{"$f":"+G537+I537+K537+M537","v":0},null,{"$f":"IF(AB537+AF537>0,\"*\",\"\")","v":""},0,0,{"$f":"IF($O537>0,RANK(O537,AthletePoints),0)","v":0},null,{"$f":"IF(O537>=40,IF(X537=\"M\",VLOOKUP(O537,UKABoysAwards,2),IF(X537=\"F\",VLOOKUP(O537,UKAGirlsAwards,2),\"\")),\"\")","v":""},null,"",null,0,{"$f":"IF($Z537>=1,RANK($Z537,$Z533:$Z548),0)","v":0},{"$f":"IF(AA537<=MaxS,INT(Z537),0)","v":0},null,0,{"$f":"IF($AD537>=1,RANK($AD537,$AD533:$AD548),0)","v":0},{"$f":"IF(AE537<=MaxS,INT(AD537),0)","v":0},null,null,0,0]
[null,{"$f":"IF(OR(ISNA(MATCH(C538&\"\",AthleteNumbers,0)),ISBLANK(C538)),0,MATCH(C538&\"\",AthleteNumbers,0))","v":0},null,"","",0,0,0,0,0,0,0,0,null,{"$f":"+G538+I538+K538+M538","v":0},null,{"$f":"IF(AB538+AF538>0,\"*\",\"\")","v":""},0,0,{"$f":"IF($O538>0,RANK(O538,AthletePoints),0)","v":0},null,{"$f":"IF(O538>=40,IF(X538=\"M\",VLOOKUP(O538,UKABoysAwards,2),IF(X538=\"F\",VLOOKUP(O538,UKAGirlsAwards,2),\"\")),\"\")","v":""},null,"",null,0,{"$f":"IF($Z538>=1,RANK($Z538,$Z533:$Z548),0)","v":0},{"$f":"IF(AA538<=MaxS,INT(Z538),0)","v":0},null,0,{"$f":"IF($AD538>=1,RANK($AD538,$AD533:$AD548),0)","v":0},{"$f":"IF(AE538<=MaxS,INT(AD538),0)","v":0},null,null,0,0]
[null,0,null,"","",0,0,0,0,0,0,0,0,null,0,null,"",0,0,0,null,"",null,"",null,0,{"$f":"IF($Z539>=1,RANK($Z539,$Z533:$Z548),0)","v":0},0,null,0,{"$f":"IF($AD539>=1,RANK($AD539,$AD533:$AD548),0)","v":0},0,null,null,0,0]
[null,0,null,"","",0,0,0,0,0,0,0,0,null,0,null,"",0,0,0,null,"",null,"",null,0,{"$f":"IF($Z540>=1,RANK($Z540,$Z533:$Z548),0)","v":0},0,null,0,{"$f":"IF($AD540>=1,RANK($AD540,$AD533:$AD548),0)","v":0},0,null,null,0,0]
[null,0,null,"","",0,0,0,0,0,0,0,0,null,0,null,"",0,0,0,null,"",null,"",null,0,{"$f":"IF($Z541>=1,RANK($Z541,$Z533:$Z548),0)","v":0},0,null,0,{"$f":"IF($AD541>=1,RANK($AD541,$AD533:$AD548),0)","v":0},0,null,null,0,0]
[null,0,null,"","",0,0,0,0,0,0,0,0,null,0,null,"",0,0,0,null,"",null,"",null,0,{"$f":"IF($Z542>=1,RANK($Z542,$Z533:$Z548),0)","v":0},0,null,0,{"$f":"IF($AD542>=1,RANK($AD542,$AD533:$AD548),0)","v":0},0,null,null,0,0]
[null,0,null,"","",0,0,0,0,0,0,0,0,null,0,null,"",0,0,0,null,"",null,"",null,0,{"$f":"IF($Z543>=1,RANK($Z543,$Z533:$Z548),0)","v":0},0,null,0,{"$f":"IF($AD543>=1,RANK($AD543,$AD533:$AD548),0)","v":0},0,null,null,0,0]
[null,0,null,"","",0,0,0,0,0,0,0,0,null,0,null,"",0,0,0,null,"",null,"",null,0,{"$f":"IF($Z544>=1,RANK($Z544,$Z533:$Z548),0)","v":0},0,null,0,{"$f":"IF($AD544>=1,RANK($AD544,$AD533:$AD548),0)","v":0},0,null,null,0,0]
[null,0,null,"","",0,0,0,0,0,0,0,0,null,0,null,"",0,0,0,null,"",null,"",null,0,{"$f":"IF($Z545>=1,RANK($Z545,$Z533:$Z548),0)","v":0},0,null,0,{"$f":"IF($AD545>=1,RANK($AD545,$AD533:$AD548),0)","v":0},0,null,null,0,0]
[null,0,null,"","",{"$f":"IF($B546>0,INDEX(DB,$B546,13),0)","v":0},0,0,0,0,0,0,0,null,0,null,"",0,0,0,null,"",null,"",null,0,{"$f":"IF($Z546>=1,RANK($Z546,$Z533:$Z548),0)","v":0},0,null,0,{"$f":"IF($AD546>=1,RANK($AD546,$AD533:$AD548),0)","v":0},0,null,null,0,0]
[null,0,null,"","",0,0,0,0,0,0,0,0,null,0,null,"",0,0,0,null,"",null,"",null,0,{"$f":"IF($Z547>=1,RANK($Z547,$Z533:$Z548),0)","v":0},0,null,0,{"$f":"IF($AD547>=1,RANK($AD547,$AD533:$AD548),0)","v":0},0,null,null,0,0]
[null,0,null,"","",0,0,0,0,0,0,0,0,null,0,null,"",0,0,0,null,"",null,"",null,0,{"$f":"IF($Z548>=1,RANK($Z548,$Z533:$Z548),0)","v":0},0,{"$f":"SUM(AB533:AB548)","v":0},0,{"$f":"IF($AD548>=1,RANK($AD548,$AD533:$AD548),0)","v":0},0,{"$f":"SUM(AF533:AF548)","v":0},null,0,0]
[null,0,null,"","",0,0,0,0,0,0,0,0,{"$f":"INDEX(RelayPoints,A564)","v":{"$error":"#VALUE!"}},{"$f":"+G549+I549+K549+M549","v":0},{"$f":"+AC564+AG564+N549","v":{"$error":"#VALUE!"}},{"$f":"IF(AB549+AF549>0,\"*\",\"\")","v":""},0,0,0,null,"",null,"",null,0,{"$f":"IF($Z549>=1,RANK($Z549,$Z549:$Z564),0)","v":0},0,null,0,{"$f":"IF($AD549>=1,RANK($AD549,$AD549:$AD564),0)","v":0},0,null,null,0,0]
[null,0,null,"","",0,0,0,0,0,0,0,0,null,{"$f":"+G550+I550+K550+M550","v":0},null,{"$f":"IF(AB550+AF550>0,\"*\",\"\")","v":""},0,0,0,null,"",null,"",null,0,{"$f":"IF($Z550>=1,RANK($Z550,$Z549:$Z564),0)","v":0},0,null,0,{"$f":"IF($AD550>=1,RANK($AD550,$AD549:$AD564),0)","v":0},0,null,null,0,0]
[null,0,null,"","",0,0,0,0,0,0,0,0,null,0,null,"",0,0,0,null,"",null,"",null,0,{"$f":"IF($Z551>=1,RANK($Z551,$Z549:$Z564),0)","v":0},0,null,0,{"$f":"IF($AD551>=1,RANK($AD551,$AD549:$AD564),0)","v":0},0,null,null,0,0]
[null,{"$f":"IF(OR(ISNA(MATCH(C552&\"\",AthleteNumbers,0)),ISBLANK(C552)),0,MATCH(C552&\"\",AthleteNumbers,0))","v":0},null,"","",0,0,0,0,0,0,0,0,null,{"$f":"+G552+I552+K552+M552","v":0},null,{"$f":"IF(AB552+AF552>0,\"*\",\"\")","v":""},0,0,{"$f":"IF($O552>0,RANK(O552,AthletePoints),0)","v":0},null,{"$f":"IF(O552>=40,IF(X552=\"M\",VLOOKUP(O552,UKABoysAwards,2),IF(X552=\"F\",VLOOKUP(O552,UKAGirlsAwards,2),\"\")),\"\")","v":""},null,"",null,0,{"$f":"IF($Z552>=1,RANK($Z552,$Z549:$Z564),0)","v":0},{"$f":"IF(AA552<=MaxS,INT(Z552),0)","v":0},null,0,{"$f":"IF($AD552>=1,RANK($AD552,$AD549:$AD564),0)","v":0},{"$f":"IF(AE552<=MaxS,INT(AD552),0)","v":0},null,null,0,0]
[null,{"$f":"IF(OR(ISNA(MATCH(C553&\"\",AthleteNumbers,0)),ISBLANK(C553)),0,MATCH(C553&\"\",AthleteNumbers,0))","v":0},null,"","",0,0,0,0,0,0,0,0,null,{"$f":"+G553+I553+K553+M553","v":0},null,{"$f":"IF(AB553+AF553>0,\"*\",\"\")","v":""},0,0,{"$f":"IF($O553>0,RANK(O553,AthletePoints),0)","v":0},null,{"$f":"IF(O553>=40,IF(X553=\"M\",VLOOKUP(O553,UKABoysAwards,2),IF(X553=\"F\",VLOOKUP(O553,UKAGirlsAwards,2),\"\")),\"\")","v":""},null,"",null,0,{"$f":"IF($Z553>=1,RANK($Z553,$Z549:$Z564),0)","v":0},{"$f":"IF(AA553<=MaxS,INT(Z553),0)","v":0},null,0,{"$f":"IF($AD553>=1,RANK($AD553,$AD549:$AD564),0)","v":0},{"$f":"IF(AE553<=MaxS,INT(AD553),0)","v":0},null,null,0,0]
[null,0,null,"","",0,0,0,0,0,0,0,0,null,0,null,"",0,0,0,null,"",null,"",null,0,{"$f":"IF($Z554>=1,RANK($Z554,$Z549:$Z564),0)","v":0},0,null,0,{"$f":"IF($AD554>=1,RANK($AD554,$AD549:$AD564),0)","v":0},0,null,null,0,0]
[null,0,null,"","",0,0,0,0,0,0,0,0,null,0,null,"",0,0,0,null,"",null,"",null,0,{"$f":"IF($Z555>=1,RANK($Z555,$Z549:$Z564),0)","v":0},0,null,0,{"$f":"IF($AD555>=1,RANK($AD555,$AD549:$AD564),0)","v":0},0,null,null,0,0]
[null,0,null,"","",0,0,0,0,0,0,0,0,null,0,null,"",0,0,0,null,"",null,"",null,0,{"$f":"IF($Z556>=1,RANK($Z556,$Z549:$Z564),0)","v":0},0,null,0,{"$f":"IF($AD556>=1,RANK($AD556,$AD549:$AD564),0)","v":0},0,null,null,0,0]
[null,0,null,"","",0,0,0,0,0,0,0,0,null,0,null,"",0,0,0,null,"",null,"",null,0,{"$f":"IF($Z557>=1,RANK($Z557,$Z549:$Z564),0)","v":0},0,null,0,{"$f":"IF($AD557>=1,RANK($AD557,$AD549:$AD564),0)","v":0},0,null,null,0,0]
[null,0,null,"","",0,0,0,0,0,0,0,0,null,0,null,"",0,0,0,null,"",null,"",null,0,{"$f":"IF($Z558>=1,RANK($Z558,$Z549:$Z564),0)","v":0},0,null,0,{"$f":"IF($AD558>=1,RANK($AD558,$AD549:$AD564),0)","v":0},0,null,null,0,0]
[null,0,null,"","",0,0,0,0,0,0,0,0,null,0,null,"",0,0,0,null,"",null,"",null,0,{"$f":"IF($Z559>=1,RANK($Z559,$Z549:$Z564),0)","v":0},0,null,0,{"$f":"IF($AD559>=1,RANK($AD559,$AD549:$AD564),0)","v":0},0,null,null,0,0]
[null,0,null,"","",0,0,0,0,0,0,0,0,null,0,null,"",0,0,0,null,"",null,"",null,0,{"$f":"IF($Z560>=1,RANK($Z560,$Z549:$Z564),0)","v":0},0,null,0,{"$f":"IF($AD560>=1,RANK($AD560,$AD549:$AD564),0)","v":0},0,null,null,0,0]
[null,0,null,"","",0,0,0,0,0,0,0,0,null,0,null,"",0,0,0,null,"",null,"",null,0,{"$f":"IF($Z561>=1,RANK($Z561,$Z549:$Z564),0)","v":0},0,null,0,{"$f":"IF($AD561>=1,RANK($AD561,$AD549:$AD564),0)","v":0},0,null,null,0,0]
[null,0,null,"","",0,0,0,0,0,0,0,0,null,0,null,"",0,0,0,null,"",null,"",null,0,{"$f":"IF($Z562>=1,RANK($Z562,$Z549:$Z564),0)","v":0},0,null,0,{"$f":"IF($AD562>=1,RANK($AD562,$AD549:$AD564),0)","v":0},0,null,null,0,0]
[null,0,null,"","",0,0,0,0,0,0,0,0,null,0,null,"",0,0,0,null,"",null,"",null,0,{"$f":"IF($Z563>=1,RANK($Z563,$Z549:$Z564),0)","v":0},0,null,0,{"$f":"IF($AD563>=1,RANK($AD563,$AD549:$AD564),0)","v":0},0,null,null,0,0]
[null,0,null,"","",0,0,0,0,0,0,0,0,null,0,null,"",0,0,0,null,"",null,"",null,0,{"$f":"IF($Z564>=1,RANK($Z564,$Z549:$Z564),0)","v":0},0,{"$f":"SUM(AB549:AB564)","v":0},0,{"$f":"IF($AD564>=1,RANK($AD564,$AD549:$AD564),0)","v":0},0,{"$f":"SUM(AF549:AF564)","v":0},null,0,0]

{"sheet":"DataV9","index":5,"n_rows":1001,"n_cols":27,"rows_kept":1001,"cut":false,"hidden":false,"merged":[]}
["No.","Name","Team","Gender","DOB","Disability",null,"Dname","AgeGrp","AgeDesc",null,null,"Sprint","Jump","Run","Throw","Sprint","Jump","Run","Throw","POINTS","FSPRINT","FJUMP","FRUN","FTHROW","LASTCOL","IDX"]
[{"$f":"+Declarations!A2&\"\"","v":"3"},{"$f":"IF(LEN($A2),IF(LEN(Declarations!$B2)>0,Declarations!$B2,\"#\"&$A2),\"\")","v":"Jess Bailey"},{"$f":"IF(LEN(INDEX(DECLARATIONS,$AA2,3))>0,INDEX(DECLARATIONS,$AA2,3),\"...\")","v":"Cheltenham and County Harriers"},{"$f":"IF(OR(G2=\"G\",G2=\"F\"),\"F\",IF(OR(G2=\"B\",G2=\"M\"),\"M\",\"\"))","v":"F"},{"$f":"IF(ISNA($AA2),0,INDEX(DECLARATIONS,$AA2,5))","v":"2014-04-02"},{"$f":"IF(ISNA($AA2),0,INDEX(DECLARATIONS,$AA2,7))","v":0},{"$f":"UPPER(IF(ISNA($AA2),\"\",INDEX(DECLARATIONS,$AA2,4)))","v":"F"},{"$f":"IF(AND(A2>0,ISTEXT(B2)),IF(SECNAME=\"YES\",LEFT(B2&\" \",FIND(\" \",B2&\" \")+2)&IF(F2>0,\" (\"&F2&\")\",\"\"), B2&IF(F2>0,\" (\"&F2&\")\",\"\")),\"#\"&$A2)","v":"Jess Bailey"},{"$f":"IF(LEN($A2)>0,IF(LEN($J2)>0,MATCH(J2,MatchNames,0),EventIndex),0)","v":4},{"$f":"IF(LEN($A2)>0,IF(LEN(Declarations!$F2)>0,Declarations!$F2,conftype),\"\")","v":"QuadKids Primary"},null,null,12.3,1.69,2.06,19.11,{"$f":"IF(ISNA(VLOOKUP($A2,SprintData,4,FALSE)),0,VLOOKUP($A2,SprintData,4,FALSE))+V2","v":47},{"$f":"IF(ISNA(VLOOKUP($A2,JumpData,4,FALSE)),0,VLOOKUP($A2,JumpData,4,FALSE))+W2","v":43},{"$f":"IF(ISNA(VLOOKUP($A2,RunData,4,FALSE)),0,VLOOKUP($A2,RunData,4,FALSE))+X2","v":64},{"$f":"IF(ISNA(VLOOKUP($A2,ThrowData,4,FALSE)),0,VLOOKUP($A2,ThrowData,4,FALSE))+Y2","v":38},{"$f":"+Q2+R2+S2+T2","v":192},47,43,64,38,null,{"$f":"ROW()-1","v":1}]
[{"$f":"+Declarations!A3&\"\"","v":"5"},{"$f":"IF(LEN($A3),IF(LEN(Declarations!$B3)>0,Declarations!$B3,\"#\"&$A3),\"\")","v":"Poppy Burtwell"},"Cheltenham and County Harriers",{"$f":"IF(OR(G3=\"G\",G3=\"F\"),\"F\",IF(OR(G3=\"B\",G3=\"M\"),\"M\",\"\"))","v":"F"},"2013-09-02",0,"F","Poppy Burtwell",4,{"$f":"IF(LEN($A3)>0,IF(LEN(Declarations!$F3)>0,Declarations!$F3,conftype),\"\")","v":"QuadKids Primary"},null,null,14,1.44,2.4300000000000002,11.26,30,31,27,22,110,30,31,27,22,null,{"$f":"ROW()-1","v":2}]
[{"$f":"+Declarations!A4&\"\"","v":"6"},{"$f":"IF(LEN($A4),IF(LEN(Declarations!$B4)>0,Declarations!$B4,\"#\"&$A4),\"\")","v":"Albie Jack Bussey"},"Cheltenham and County Harriers",{"$f":"IF(OR(G4=\"G\",G4=\"F\"),\"F\",IF(OR(G4=\"B\",G4=\"M\"),\"M\",\"\"))","v":"M"},"2014-07-10",0,"M","Albie Jack Bussey",4,{"$f":"IF(LEN($A4)>0,IF(LEN(Declarations!$F4)>0,Declarations!$F4,conftype),\"\")","v":"QuadKids Primary"},null,null,12.2,1.72,2.0699999999999998,20.6,48,45,63,41,197,48,45,63,41,null,3]
[{"$f":"+Declarations!A5&\"\"","v":"11"},{"$f":"IF(LEN($A5),IF(LEN(Declarations!$B5)>0,Declarations!$B5,\"#\"&$A5),\"\")","v":"Molly Elizabeth Creek"},"Cheltenham and County Harriers",{"$f":"IF(OR(G5=\"G\",G5=\"F\"),\"F\",IF(OR(G5=\"B\",G5=\"M\"),\"M\",\"\"))","v":"F"},"2013-12-19",0,"F","Molly Elizabeth Creek",4,{"$f":"IF(LEN($A5)>0,IF(LEN(Declarations!$F5)>0,Declarations!$F5,conftype),\"\")","v":"QuadKids Primary"},null,null,null,null,null,null,0,0,0,0,0,0,0,0,0,null,4]
[{"$f":"+Declarations!A6&\"\"","v":"13"},{"$f":"IF(LEN($A6),IF(LEN(Declarations!$B6)>0,Declarations!$B6,\"#\"&$A6),\"\")","v":"Imogen Edwards"},"Yate & District AC",{"$f":"IF(OR(G6=\"G\",G6=\"F\"),\"F\",IF(OR(G6=\"B\",G6=\"M\"),\"M\",\"\"))","v":"F"},"2013-11-06",0,{"$f":"UPPER(IF(ISNA($AA6),\"\",INDEX(DECLARATIONS,$AA6,4)))","v":"F"},"Imogen Edwards",4,{"$f":"IF(LEN($A6)>0,IF(LEN(Declarations!$F6)>0,Declarations!$F6,conftype),\"\")","v":"QuadKids Primary"},null,null,12.7,1.56,2.09,14.29,43,37,61,28,169,43,37,61,28,null,5]
[{"$f":"+Declarations!A7&\"\"","v":"15"},{"$f":"IF(LEN($A7),IF(LEN(Declarations!$B7)>0,Declarations!$B7,\"#\"&$A7),\"\")","v":"Ezra Frick"},"Yate & District AC",{"$f":"IF(OR(G7=\"G\",G7=\"F\"),\"F\",IF(OR(G7=\"B\",G7=\"M\"),\"M\",\"\"))","v":"M"},"2015-02-09",0,"M","Ezra Frick",4,{"$f":"IF(LEN($A7)>0,IF(LEN(Declarations!$F7)>0,Declarations!$F7,conftype),\"\")","v":"QuadKids Primary"},null,null,null,null,null,null,0,0,0,0,0,0,0,0,0,null,6]
[{"$f":"+Declarations!A8&\"\"","v":"16"},{"$f":"IF(LEN($A8),IF(LEN(Declarations!$B8)>0,Declarations!$B8,\"#\"&$A8),\"\")","v":"Emilia Game"},"Cheltenham and County Harriers","F","2014-11-15",0,"F","Emilia Game",4,{"$f":"IF(LEN($A8)>0,IF(LEN(Declarations!$F8)>0,Declarations!$F8,conftype),\"\")","v":"QuadKids Primary"},null,null,14.5,1.25,2.27,8.02,25,21,43,16,105,25,21,43,16,null,7]
[{"$f":"+Declarations!A9&\"\"","v":"19"},{"$f":"IF(LEN($A9),IF(LEN(Declarations!$B9)>0,Declarations!$B9,\"#\"&$A9),\"\")","v":"Charlotte Harvey"},"Cheltenham and County Harriers","F","2014-10-22",0,"F","Charlotte Harvey",4,{"$f":"IF(LEN($A9)>0,IF(LEN(Declarations!$F9)>0,Declarations!$F9,conftype),\"\")","v":"QuadKids Primary"},null,null,14.5,1.0900000000000001,2.3199999999999998,9.23,25,13,38,18,94,25,13,38,18,null,8]
[{"$f":"+Declarations!A10&\"\"","v":"21"},{"$f":"IF(LEN($A10),IF(LEN(Declarations!$B10)>0,Declarations!$B10,\"#\"&$A10),\"\")","v":"Dylan Jacob Hockin"},"Cheltenham and County Harriers","M","2014-03-22",0,"M","Dylan Jacob Hockin",4,{"$f":"IF(LEN($A10)>0,IF(LEN(Declarations!$F10)>0,Declarations!$F10,conftype),\"\")","v":"QuadKids Primary"},null,null,11.4,1.67,2.2200000000000002,22.31,56,42,48,44,190,56,42,48,44,null,9]
[{"$f":"+Declarations!A11&\"\"","v":"24"},{"$f":"IF(LEN($A11),IF(LEN(Declarations!$B11)>0,Declarations!$B11,\"#\"&$A11),\"\")","v":"Hermione Howard"},"Cheltenham and County Harriers","F","2015-03-28",0,"F","Hermione Howard",4,{"$f":"IF(LEN($A11)>0,IF(LEN(Declarations!$F11)>0,Declarations!$F11,conftype),\"\")","v":"QuadKids Primary"},null,null,12.2,1.44,2.2999999999999998,11.24,48,31,40,22,141,48,31,40,22,null,10]
[{"$f":"+Declarations!A12&\"\"","v":"26"},{"$f":"IF(LEN($A12),IF(LEN(Declarations!$B12)>0,Declarations!$B12,\"#\"&$A12),\"\")","v":"Evalyn Humphries"},"Yate & District AC","F","2015-01-13",0,"F","Evalyn Humphries",4,{"$f":"IF(LEN($A12)>0,IF(LEN(Declarations!$F12)>0,Declarations!$F12,conftype),\"\")","v":"QuadKids Primary"},null,null,12.1,1.79,2.13,20.260000000000002,49,48,57,40,194,49,48,57,40,null,11]
[{"$f":"+Declarations!A13&\"\"","v":"28"},{"$f":"IF(LEN($A13),IF(LEN(Declarations!$B13)>0,Declarations!$B13,\"#\"&$A13),\"\")","v":"William Peter Stuart Johnson"},"Cheltenham and County Harriers","M","2013-10-05",0,"M","William Peter Stuart Johnson",4,{"$f":"IF(LEN($A13)>0,IF(LEN(Declarations!$F13)>0,Declarations!$F13,conftype),\"\")","v":"QuadKids Primary"},null,null,11.8,1.81,2.04,27.07,52,49,66,54,221,52,49,66,54,null,12]
[{"$f":"+Declarations!A14&\"\"","v":"29"},{"$f":"IF(LEN($A14),IF(LEN(Declarations!$B14)>0,Declarations!$B14,\"#\"&$A14),\"\")","v":"Ben Jones"},"Gloucester AC","M","2013-09-04",0,"M","Ben Jones",4,{"$f":"IF(LEN($A14)>0,IF(LEN(Declarations!$F14)>0,Declarations!$F14,conftype),\"\")","v":"QuadKids Primary"},null,null,11.7,1.65,1.56,25.02,53,41,74,50,218,53,41,74,50,null,13]
[{"$f":"+Declarations!A15&\"\"","v":"30"},{"$f":"IF(LEN($A15),IF(LEN(Declarations!$B15)>0,Declarations!$B15,\"#\"&$A15),\"\")","v":"Olivia Andrea Lilly Jones"},"Stroud & District AC","F","2013-09-27",0,"F","Olivia Andrea Lilly Jones",4,{"$f":"IF(LEN($A15)>0,IF(LEN(Declarations!$F15)>0,Declarations!$F15,conftype),\"\")","v":"QuadKids Primary"},null,null,12.2,1.6,2.14,17.39,48,39,56,34,177,48,39,56,34,null,14]
[{"$f":"+Declarations!A16&\"\"","v":"31"},{"$f":"IF(LEN($A16),IF(LEN(Declarations!$B16)>0,Declarations!$B16,\"#\"&$A16),\"\")","v":"Rhys Callen Jones"},"Cheltenham and County Harriers","M","2014-12-10",0,"M","Rhys Callen Jones",4,{"$f":"IF(LEN($A16)>0,IF(LEN(Declarations!$F16)>0,Declarations!$F16,conftype),\"\")","v":"QuadKids Primary"},null,null,12.6,1.49,2.25,18.75,44,33,45,37,159,44,33,45,37,null,15]
[{"$f":"+Declarations!A17&\"\"","v":"33"},{"$f":"IF(LEN($A17),IF(LEN(Declarations!$B17)>0,Declarations!$B17,\"#\"&$A17),\"\")","v":"Arthur Lawson"},"Cheltenham and County Harriers","M","2014-11-28",0,"M","Arthur Lawson",4,{"$f":"IF(LEN($A17)>0,IF(LEN(Declarations!$F17)>0,Declarations!$F17,conftype),\"\")","v":"QuadKids Primary"},null,null,12.9,1.52,2.2200000000000002,27.05,41,35,48,54,178,41,35,48,54,null,16]
[{"$f":"+Declarations!A18&\"\"","v":"35"},{"$f":"IF(LEN($A18),IF(LEN(Declarations!$B18)>0,Declarations!$B18,\"#\"&$A18),\"\")","v":"Edward Lewis"},"...","F","2015-03-14",0,"F","Edward Lewis",4,{"$f":"IF(LEN($A18)>0,IF(LEN(Declarations!$F18)>0,Declarations!$F18,conftype),\"\")","v":"QuadKids Primary"},null,null,13.9,1.37,2.14,17.63,31,27,56,35,149,31,27,56,35,null,17]
[{"$f":"+Declarations!A19&\"\"","v":"37"},{"$f":"IF(LEN($A19),IF(LEN(Declarations!$B19)>0,Declarations!$B19,\"#\"&$A19),\"\")","v":"Poppy Limb"},"Cheltenham and County Harriers","F","2014-08-29",0,"F","Poppy Limb",4,{"$f":"IF(LEN($A19)>0,IF(LEN(Declarations!$F19)>0,Declarations!$F19,conftype),\"\")","v":"QuadKids Primary"},null,null,13,null,null,19.079999999999998,40,0,0,38,78,40,0,0,38,null,18]
[{"$f":"+Declarations!A20&\"\"","v":"41"},{"$f":"IF(LEN($A20),IF(LEN(Declarations!$B20)>0,Declarations!$B20,\"#\"&$A20),\"\")","v":"Reuben Mann"},"Cheltenham and County Harriers","M","2013-12-05",0,"M","Reuben Mann",4,{"$f":"IF(LEN($A20)>0,IF(LEN(Declarations!$F20)>0,Declarations!$F20,conftype),\"\")","v":"QuadKids Primary"},null,null,11.5,1.9,2.08,22.15,55,54,62,44,215,55,54,62,44,null,19]
[{"$f":"+Declarations!A21&\"\"","v":"42"},{"$f":"IF(LEN($A21),IF(LEN(Declarations!$B21)>0,Declarations!$B21,\"#\"&$A21),\"\")","v":"Eliza Verity Mason"},"Cheltenham and County Harriers","F","2014-02-18",0,"F","Eliza Verity Mason",4,{"$f":"IF(LEN($A21)>0,IF(LEN(Declarations!$F21)>0,Declarations!$F21,conftype),\"\")","v":"QuadKids Primary"},null,null,null,null,null,16.82,0,0,0,33,33,0,0,0,33,null,20]
[{"$f":"+Declarations!A22&\"\"","v":"47"},{"$f":"IF(LEN($A22),IF(LEN(Declarations!$B22)>0,Declarations!$B22,\"#\"&$A22),\"\")","v":"Max Papuca"},"Yate & District AC","M","2013-09-04",0,"M","Max Papuca",4,{"$f":"IF(LEN($A22)>0,IF(LEN(Declarations!$F22)>0,Declarations!$F22,conftype),\"\")","v":"QuadKids Primary"},null,null,11.4,1.94,2.04,34.49,56,56,66,68,246,56,56,66,68,null,21]
[{"$f":"+Declarations!A23&\"\"","v":"49"},{"$f":"IF(LEN($A23),IF(LEN(Declarations!$B23)>0,Declarations!$B23,\"#\"&$A23),\"\")","v":"Lucy Reeves"},"Yate & District AC","F","2013-10-09",0,"F","Lucy Reeves",4,{"$f":"IF(LEN($A23)>0,IF(LEN(Declarations!$F23)>0,Declarations!$F23,conftype),\"\")","v":"QuadKids Primary"},null,null,12.8,1.68,2.11,22.06,42,43,59,44,188,42,43,59,44,null,22]
[{"$f":"+Declarations!A24&\"\"","v":"51"},{"$f":"IF(LEN($A24),IF(LEN(Declarations!$B24)>0,Declarations!$B24,\"#\"&$A24),\"\")","v":"Albert George Rendell"},"Stroud & District AC","M","2015-05-03",0,"M","Albert George Rendell",4,{"$f":"IF(LEN($A24)>0,IF(LEN(Declarations!$F24)>0,Declarations!$F24,conftype),\"\")","v":"QuadKids Primary"},null,null,null,null,2.12,null,0,0,58,0,58,0,0,58,0,null,23]
[{"$f":"+Declarations!A25&\"\"","v":"53"},{"$f":"IF(LEN($A25),IF(LEN(Declarations!$B25)>0,Declarations!$B25,\"#\"&$A25),\"\")","v":"Amelia Robinson"},"Stroud & District AC","F","2014-11-14",0,"F","Amelia Robinson",4,{"$f":"IF(LEN($A25)>0,IF(LEN(Declarations!$F25)>0,Declarations!$F25,conftype),\"\")","v":"QuadKids Primary"},null,null,14.4,1.1299999999999999,2.19,13.9,26,15,51,27,119,26,15,51,27,null,24]
[{"$f":"+Declarations!A26&\"\"","v":"54"},{"$f":"IF(LEN($A26),IF(LEN(Declarations!$B26)>0,Declarations!$B26,\"#\"&$A26),\"\")","v":"Laurence Andrew Rowett"},"Cheltenham and County Harriers","M","2014-10-16",0,"M","Laurence Andrew Rowett",4,{"$f":"IF(LEN($A26)>0,IF(LEN(Declarations!$F26)>0,Declarations!$F26,conftype),\"\")","v":"QuadKids Primary"},null,null,14.1,1.46,2.19,22.73,29,32,51,45,157,29,32,51,45,null,25]
[{"$f":"+Declarations!A27&\"\"","v":"55"},{"$f":"IF(LEN($A27),IF(LEN(Declarations!$B27)>0,Declarations!$B27,\"#\"&$A27),\"\")","v":"Alfie Edward Seymour"},"Stroud & District AC","M","2013-09-24",0,"M","Alfie Edward Seymour",4,{"$f":"IF(LEN($A27)>0,IF(LEN(Declarations!$F27)>0,Declarations!$F27,conftype),\"\")","v":"QuadKids Primary"},null,null,13.6,1.41,2.34,17.399999999999999,34,29,36,34,133,34,29,36,34,null,26]
[{"$f":"+Declarations!A28&\"\"","v":"57"},{"$f":"IF(LEN($A28),IF(LEN(Declarations!$B28)>0,Declarations!$B28,\"#\"&$A28),\"\")","v":"Henry Ronald Simpson"},"...","M","2013-12-01",0,"M","Henry Ronald Simpson",4,{"$f":"IF(LEN($A28)>0,IF(LEN(Declarations!$F28)>0,Declarations!$F28,conftype),\"\")","v":"QuadKids Primary"},null,null,11.8,1.77,2.0699999999999998,22.89,52,47,63,45,207,52,47,63,45,null,27]
[{"$f":"+Declarations!A29&\"\"","v":"59"},{"$f":"IF(LEN($A29),IF(LEN(Declarations!$B29)>0,Declarations!$B29,\"#\"&$A29),\"\")","v":"Natalee May Souch"},"Yate & District AC","F","2014-01-18",0,"F","Natalee May Souch",4,{"$f":"IF(LEN($A29)>0,IF(LEN(Declarations!$F29)>0,Declarations!$F29,conftype),\"\")","v":"QuadKids Primary"},null,null,12.5,1.78,2.19,20.079999999999998,45,48,51,40,184,45,48,51,40,null,28]
[{"$f":"+Declarations!A30&\"\"","v":"60"},{"$f":"IF(LEN($A30),IF(LEN(Declarations!$B30)>0,Declarations!$B30,\"#\"&$A30),\"\")","v":"Lola Southernwood"},"...","F","2015-02-21",0,"F","Lola Southernwood",4,{"$f":"IF(LEN($A30)>0,IF(LEN(Declarations!$F30)>0,Declarations!$F30,conftype),\"\")","v":"QuadKids Primary"},null,null,13.7,1.72,2.29,15.39,33,45,41,30,149,33,45,41,30,null,29]
[{"$f":"+Declarations!A31&\"\"","v":"63"},{"$f":"IF(LEN($A31),IF(LEN(Declarations!$B31)>0,Declarations!$B31,\"#\"&$A31),\"\")","v":"Allegra Flora Spicer"},"Cheltenham and County Harriers","F","2013-10-17",0,"F","Allegra Flora Spicer",4,{"$f":"IF(LEN($A31)>0,IF(LEN(Declarations!$F31)>0,Declarations!$F31,conftype),\"\")","v":"QuadKids Primary"},null,null,13.4,null,null,null,36,0,0,0,36,36,0,0,0,null,30]
[{"$f":"+Declarations!A32&\"\"","v":"68"},{"$f":"IF(LEN($A32),IF(LEN(Declarations!$B32)>0,Declarations!$B32,\"#\"&$A32),\"\")","v":"Annabelle Weldon"},"Cheltenham and County Harriers","F","2014-05-30",0,"F","Annabelle Weldon",4,{"$f":"IF(LEN($A32)>0,IF(LEN(Declarations!$F32)>0,Declarations!$F32,conftype),\"\")","v":"QuadKids Primary"},null,null,12.4,1.77,2.36,21.7,46,47,34,43,170,46,47,34,43,null,31]
[{"$f":"+Declarations!A33&\"\"","v":"72"},{"$f":"IF(LEN($A33),IF(LEN(Declarations!$B33)>0,Declarations!$B33,\"#\"&$A33),\"\")","v":"Tayla Florence Williams"},"Carmarthen & District Harriers","F","2014-03-14",0,"F","Tayla Florence Williams",4,{"$f":"IF(LEN($A33)>0,IF(LEN(Declarations!$F33)>0,Declarations!$F33,conftype),\"\")","v":"QuadKids Primary"},null,null,14,1.4,2.2999999999999998,13.09,30,29,40,26,125,30,29,40,26,null,32]
[{"$f":"+Declarations!A34&\"\"","v":"73"},{"$f":"IF(LEN($A34),IF(LEN(Declarations!$B34)>0,Declarations!$B34,\"#\"&$A34),\"\")","v":"Bethan Frances Wilson"},"Cheltenham and County Harriers","F","2015-01-02",0,"F","Bethan Frances Wilson",4,{"$f":"IF(LEN($A34)>0,IF(LEN(Declarations!$F34)>0,Declarations!$F34,conftype),\"\")","v":"QuadKids Primary"},null,null,13.6,1.39,2.29,6.38,34,28,41,12,115,34,28,41,12,null,33]
[{"$f":"+Declarations!A35&\"\"","v":"74"},{"$f":"IF(LEN($A35),IF(LEN(Declarations!$B35)>0,Declarations!$B35,\"#\"&$A35),\"\")","v":"Isla Wright"},"Cirencester AC","F","2014-02-15",0,"F","Isla Wright",4,{"$f":"IF(LEN($A35)>0,IF(LEN(Declarations!$F35)>0,Declarations!$F35,conftype),\"\")","v":"QuadKids Primary"},null,null,12.5,null,null,null,45,0,0,0,45,45,0,0,0,null,34]
[{"$f":"+Declarations!A36&\"\"","v":"76"},{"$f":"IF(LEN($A36),IF(LEN(Declarations!$B36)>0,Declarations!$B36,\"#\"&$A36),\"\")","v":"Joshua Young"},"Cheltenham and County Harriers","M","2014-09-21",0,"M","Joshua Young",4,{"$f":"IF(LEN($A36)>0,IF(LEN(Declarations!$F36)>0,Declarations!$F36,conftype),\"\")","v":"QuadKids Primary"},null,null,13.6,1.44,2.16,12.8,34,31,54,25,144,34,31,54,25,null,35]
[{"$f":"+Declarations!A37&\"\"","v":"77"},{"$f":"IF(LEN($A37),IF(LEN(Declarations!$B37)>0,Declarations!$B37,\"#\"&$A37),\"\")","v":"Piero Zanca"},"Cheltenham and County Harriers","M","2014-11-30",0,"M","Piero Zanca",4,{"$f":"IF(LEN($A37)>0,IF(LEN(Declarations!$F37)>0,Declarations!$F37,conftype),\"\")","v":"QuadKids Primary"},null,null,12.7,1.39,2.11,20.399999999999999,43,28,59,40,170,43,28,59,40,null,36]
[{"$f":"+Declarations!A38&\"\"","v":""},{"$f":"IF(LEN($A38),IF(LEN(Declarations!$B38)>0,Declarations!$B38,\"#\"&$A38),\"\")","v":""},"...","","00:00:00",0,"","",0,{"$f":"IF(LEN($A38)>0,IF(LEN(Declarations!$F38)>0,Declarations!$F38,conftype),\"\")","v":""},null,null,{"$f":"IF(ISNA(VLOOKUP($A38,SprintData,2,FALSE)),0,VLOOKUP($A38,SprintData,2,FALSE))","v":0},{"$f":"IF(ISNA(VLOOKUP($A38,JumpData,2,FALSE)),0,VLOOKUP($A38,JumpData,2,FALSE))","v":0},{"$f":"IF(ISNA(VLOOKUP($A38,RunData,2,FALSE)),0,VLOOKUP($A38,RunData,2,FALSE))","v":0},{"$f":"IF(ISNA(VLOOKUP($A38,ThrowData,2,FALSE)),0,VLOOKUP($A38,ThrowData,2,FALSE))","v":0},0,0,0,0,0,{"$f":"IF(AND($F38>0,NOT(M38),Flexing),FlexPC,0)","v":0},{"$f":"IF(AND($F38>0,NOT(N38),Flexing),FlexPC,0)","v":0},{"$f":"IF(AND($F38>0,NOT(O38),Flexing),FlexPC,0)","v":0},{"$f":"IF(AND($F38>0,NOT(P38),Flexing),FlexPC,0)","v":0},null,37]
[{"$f":"+Declarations!A39&\"\"","v":""},{"$f":"IF(LEN($A39),IF(LEN(Declarations!$B39)>0,Declarations!$B39,\"#\"&$A39),\"\")","v":""},"...","","00:00:00",0,"","",0,{"$f":"IF(LEN($A39)>0,IF(LEN(Declarations!$F39)>0,Declarations!$F39,conftype),\"\")","v":""},null,null,0,0,0,0,0,0,0,0,0,0,0,0,0,null,38]
[{"$f":"+Declarations!A40&\"\"","v":""},{"$f":"IF(LEN($A40),IF(LEN(Declarations!$B40)>0,Declarations!$B40,\"#\"&$A40),\"\")","v":""},"...","","00:00:00",0,"","",0,{"$f":"IF(LEN($A40)>0,IF(LEN(Declarations!$F40)>0,Declarations!$F40,conftype),\"\")","v":""},null,null,0,0,0,0,0,0,0,0,0,0,0,0,0,null,39]
[{"$f":"+Declarations!A41&\"\"","v":""},{"$f":"IF(LEN($A41),IF(LEN(Declarations!$B41)>0,Declarations!$B41,\"#\"&$A41),\"\")","v":""},"...","","00:00:00",0,"","",0,{"$f":"IF(LEN($A41)>0,IF(LEN(Declarations!$F41)>0,Declarations!$F41,conftype),\"\")","v":""},null,null,0,0,0,0,0,0,0,0,0,0,0,0,0,null,40]
[{"$f":"+Declarations!A42&\"\"","v":""},{"$f":"IF(LEN($A42),IF(LEN(Declarations!$B42)>0,Declarations!$B42,\"#\"&$A42),\"\")","v":""},"...","","00:00:00",0,"","",0,{"$f":"IF(LEN($A42)>0,IF(LEN(Declarations!$F42)>0,Declarations!$F42,conftype),\"\")","v":""},null,null,0,0,0,0,0,0,0,0,0,0,0,0,0,null,41]
[{"$f":"+Declarations!A43&\"\"","v":""},{"$f":"IF(LEN($A43),IF(LEN(Declarations!$B43)>0,Declarations!$B43,\"#\"&$A43),\"\")","v":""},"...","","00:00:00",0,"","",0,{"$f":"IF(LEN($A43)>0,IF(LEN(Declarations!$F43)>0,Declarations!$F43,conftype),\"\")","v":""},null,null,0,0,0,0,0,0,0,0,0,0,0,0,0,null,42]
[{"$f":"+Declarations!A44&\"\"","v":""},{"$f":"IF(LEN($A44),IF(LEN(Declarations!$B44)>0,Declarations!$B44,\"#\"&$A44),\"\")","v":""},"...","","00:00:00",0,"","",0,{"$f":"IF(LEN($A44)>0,IF(LEN(Declarations!$F44)>0,Declarations!$F44,conftype),\"\")","v":""},null,null,0,0,0,0,0,0,0,0,0,0,0,0,0,null,43]
[{"$f":"+Declarations!A45&\"\"","v":""},{"$f":"IF(LEN($A45),IF(LEN(Declarations!$B45)>0,Declarations!$B45,\"#\"&$A45),\"\")","v":""},"...","","00:00:00",0,"","",0,{"$f":"IF(LEN($A45)>0,IF(LEN(Declarations!$F45)>0,Declarations!$F45,conftype),\"\")","v":""},null,null,0,0,0,0,0,0,0,0,0,0,0,0,0,null,44]
[{"$f":"+Declarations!A46&\"\"","v":""},{"$f":"IF(LEN($A46),IF(LEN(Declarations!$B46)>0,Declarations!$B46,\"#\"&$A46),\"\")","v":""},"...","","00:00:00",0,"","",0,{"$f":"IF(LEN($A46)>0,IF(LEN(Declarations!$F46)>0,Declarations!$F46,conftype),\"\")","v":""},null,null,0,0,0,0,0,0,0,0,0,0,0,0,0,null,45]
[{"$f":"+Declarations!A47&\"\"","v":""},{"$f":"IF(LEN($A47),IF(LEN(Declarations!$B47)>0,Declarations!$B47,\"#\"&$A47),\"\")","v":""},"...","","00:00:00",0,"","",0,{"$f":"IF(LEN($A47)>0,IF(LEN(Declarations!$F47)>0,Declarations!$F47,conftype),\"\")","v":""},null,null,{"$f":"IF(ISNA(VLOOKUP($A47,SprintData,2,FALSE)),0,VLOOKUP($A47,SprintData,2,FALSE))","v":0},0,0,0,0,0,0,0,0,0,0,0,0,null,46]
[{"$f":"+Declarations!A48&\"\"","v":""},{"$f":"IF(LEN($A48),IF(LEN(Declarations!$B48)>0,Declarations!$B48,\"#\"&$A48),\"\")","v":""},"...","","00:00:00",0,"","",0,{"$f":"IF(LEN($A48)>0,IF(LEN(Declarations!$F48)>0,Declarations!$F48,conftype),\"\")","v":""},null,null,0,0,0,0,0,0,0,0,0,0,0,0,0,null,47]
[{"$f":"+Declarations!A49&\"\"","v":""},{"$f":"IF(LEN($A49),IF(LEN(Declarations!$B49)>0,Declarations!$B49,\"#\"&$A49),\"\")","v":""},"...","","00:00:00",0,"","",0,{"$f":"IF(LEN($A49)>0,IF(LEN(Declarations!$F49)>0,Declarations!$F49,conftype),\"\")","v":""},null,null,0,0,0,0,0,0,0,0,0,0,0,0,0,null,48]
[{"$f":"+Declarations!A50&\"\"","v":""},{"$f":"IF(LEN($A50),IF(LEN(Declarations!$B50)>0,Declarations!$B50,\"#\"&$A50),\"\")","v":""},"...","","00:00:00",0,"","",0,{"$f":"IF(LEN($A50)>0,IF(LEN(Declarations!$F50)>0,Declarations!$F50,conftype),\"\")","v":""},null,null,0,0,0,0,0,0,0,0,0,0,0,0,0,null,49]
[{"$f":"+Declarations!A51&\"\"","v":""},{"$f":"IF(LEN($A51),IF(LEN(Declarations!$B51)>0,Declarations!$B51,\"#\"&$A51),\"\")","v":""},"...","","00:00:00",0,"","",0,{"$f":"IF(LEN($A51)>0,IF(LEN(Declarations!$F51)>0,Declarations!$F51,conftype),\"\")","v":""},null,null,0,0,0,0,0,0,0,0,0,0,0,0,0,null,50]
[{"$f":"+Declarations!A52&\"\"","v":""},{"$f":"IF(LEN($A52),IF(LEN(Declarations!$B52)>0,Declarations!$B52,\"#\"&$A52),\"\")","v":""},"...","","00:00:00",0,"","",0,{"$f":"IF(LEN($A52)>0,IF(LEN(Declarations!$F52)>0,Declarations!$F52,conftype),\"\")","v":""},null,null,0,0,0,0,0,0,0,0,0,0,0,0,0,null,51]
[{"$f":"+Declarations!A53&\"\"","v":""},{"$f":"IF(LEN($A53),IF(LEN(Declarations!$B53)>0,Declarations!$B53,\"#\"&$A53),\"\")","v":""},"...","","00:00:00",0,"","",0,{"$f":"IF(LEN($A53)>0,IF(LEN(Declarations!$F53)>0,Declarations!$F53,conftype),\"\")","v":""},null,null,0,0,0,0,0,0,0,0,0,0,0,0,0,null,52]
[{"$f":"+Declarations!A54&\"\"","v":""},{"$f":"IF(LEN($A54),IF(LEN(Declarations!$B54)>0,Declarations!$B54,\"#\"&$A54),\"\")","v":""},"...","","00:00:00",0,"","",0,{"$f":"IF(LEN($A54)>0,IF(LEN(Declarations!$F54)>0,Declarations!$F54,conftype),\"\")","v":""},null,null,0,0,0,0,0,0,0,0,0,0,0,0,0,null,53]
[{"$f":"+Declarations!A55&\"\"","v":""},{"$f":"IF(LEN($A55),IF(LEN(Declarations!$B55)>0,Declarations!$B55,\"#\"&$A55),\"\")","v":""},"...","","00:00:00",0,"","",0,{"$f":"IF(LEN($A55)>0,IF(LEN(Declarations!$F55)>0,Declarations!$F55,conftype),\"\")","v":""},null,null,0,0,0,0,0,0,0,0,0,0,0,0,0,null,54]
[{"$f":"+Declarations!A56&\"\"","v":""},{"$f":"IF(LEN($A56),IF(LEN(Declarations!$B56)>0,Declarations!$B56,\"#\"&$A56),\"\")","v":""},"...","","00:00:00",0,"","",0,{"$f":"IF(LEN($A56)>0,IF(LEN(Declarations!$F56)>0,Declarations!$F56,conftype),\"\")","v":""},null,null,0,0,0,0,0,0,0,0,0,0,0,0,0,null,55]
[{"$f":"+Declarations!A57&\"\"","v":""},{"$f":"IF(LEN($A57),IF(LEN(Declarations!$B57)>0,Declarations!$B57,\"#\"&$A57),\"\")","v":""},"...","","00:00:00",0,"","",0,{"$f":"IF(LEN($A57)>0,IF(LEN(Declarations!$F57)>0,Declarations!$F57,conftype),\"\")","v":""},null,null,0,0,0,0,0,0,0,0,0,0,0,0,0,null,56]
[{"$f":"+Declarations!A58&\"\"","v":""},{"$f":"IF(LEN($A58),IF(LEN(Declarations!$B58)>0,Declarations!$B58,\"#\"&$A58),\"\")","v":""},"...","","00:00:00",0,"","",0,{"$f":"IF(LEN($A58)>0,IF(LEN(Declarations!$F58)>0,Declarations!$F58,conftype),\"\")","v":""},null,null,0,0,0,0,0,0,0,0,0,0,0,0,0,null,57]
[{"$f":"+Declarations!A59&\"\"","v":""},{"$f":"IF(LEN($A59),IF(LEN(Declarations!$B59)>0,Declarations!$B59,\"#\"&$A59),\"\")","v":""},"...","","00:00:00",0,"","",0,{"$f":"IF(LEN($A59)>0,IF(LEN(Declarations!$F59)>0,Declarations!$F59,conftype),\"\")","v":""},null,null,0,0,0,0,0,0,0,0,0,0,0,0,0,null,58]
[{"$f":"+Declarations!A60&\"\"","v":""},{"$f":"IF(LEN($A60),IF(LEN(Declarations!$B60)>0,Declarations!$B60,\"#\"&$A60),\"\")","v":""},"...","","00:00:00",0,"","",0,{"$f":"IF(LEN($A60)>0,IF(LEN(Declarations!$F60)>0,Declarations!$F60,conftype),\"\")","v":""},null,null,0,0,0,0,0,0,0,0,0,0,0,0,0,null,59]
[{"$f":"+Declarations!A61&\"\"","v":""},{"$f":"IF(LEN($A61),IF(LEN(Declarations!$B61)>0,Declarations!$B61,\"#\"&$A61),\"\")","v":""},"...","","00:00:00",0,"","",0,{"$f":"IF(LEN($A61)>0,IF(LEN(Declarations!$F61)>0,Declarations!$F61,conftype),\"\")","v":""},null,null,0,0,0,0,0,0,0,0,0,0,0,0,0,null,60]
[{"$f":"+Declarations!A62&\"\"","v":""},{"$f":"IF(LEN($A62),IF(LEN(Declarations!$B62)>0,Declarations!$B62,\"#\"&$A62),\"\")","v":""},"...","","00:00:00",0,"","",0,{"$f":"IF(LEN($A62)>0,IF(LEN(Declarations!$F62)>0,Declarations!$F62,conftype),\"\")","v":""},null,null,0,0,0,0,0,0,0,0,0,0,0,0,0,null,61]
[{"$f":"+Declarations!A63&\"\"","v":""},{"$f":"IF(LEN($A63),IF(LEN(Declarations!$B63)>0,Declarations!$B63,\"#\"&$A63),\"\")","v":""},"...","","00:00:00",0,"","",0,{"$f":"IF(LEN($A63)>0,IF(LEN(Declarations!$F63)>0,Declarations!$F63,conftype),\"\")","v":""},null,null,0,0,0,0,0,0,0,0,0,0,0,0,0,null,62]
[{"$f":"+Declarations!A64&\"\"","v":""},{"$f":"IF(LEN($A64),IF(LEN(Declarations!$B64)>0,Declarations!$B64,\"#\"&$A64),\"\")","v":""},"...","","00:00:00",0,"","",0,{"$f":"IF(LEN($A64)>0,IF(LEN(Declarations!$F64)>0,Declarations!$F64,conftype),\"\")","v":""},null,null,0,0,0,0,0,0,0,0,0,0,0,0,0,null,63]
[{"$f":"+Declarations!A65&\"\"","v":""},{"$f":"IF(LEN($A65),IF(LEN(Declarations!$B65)>0,Declarations!$B65,\"#\"&$A65),\"\")","v":""},"...","","00:00:00",0,"","",0,{"$f":"IF(LEN($A65)>0,IF(LEN(Declarations!$F65)>0,Declarations!$F65,conftype),\"\")","v":""},null,null,0,0,0,0,0,0,0,0,0,0,0,0,0,null,64]
[{"$f":"+Declarations!A66&\"\"","v":""},{"$f":"IF(LEN($A66),IF(LEN(Declarations!$B66)>0,Declarations!$B66,\"#\"&$A66),\"\")","v":""},{"$f":"IF(LEN(INDEX(DECLARATIONS,$AA66,3))>0,INDEX(DECLARATIONS,$AA66,3),\"...\")","v":"..."},"",{"$f":"IF(ISNA($AA66),0,INDEX(DECLARATIONS,$AA66,5))","v":"00:00:00"},{"$f":"IF(ISNA($AA66),0,INDEX(DECLARATIONS,$AA66,7))","v":0},{"$f":"UPPER(IF(ISNA($AA66),\"\",INDEX(DECLARATIONS,$AA66,4)))","v":""},{"$f":"IF(AND(A66>0,ISTEXT(B66)),IF(SECNAME=\"YES\",LEFT(B66&\" \",FIND(\" \",B66&\" \")+2)&IF(F66>0,\" (\"&F66&\")\",\"\"), B66&IF(F66>0,\" (\"&F66&\")\",\"\")),\"#\"&$A66)","v":""},{"$f":"IF(LEN($A66)>0,IF(LEN($J66)>0,MATCH(J66,MatchNames,0),EventIndex),0)","v":0},{"$f":"IF(LEN($A66)>0,IF(LEN(Declarations!$F66)>0,Declarations!$F66,conftype),\"\")","v":""},null,null,0,{"$f":"IF(ISNA(VLOOKUP($A66,JumpData,2,FALSE)),0,VLOOKUP($A66,JumpData,2,FALSE))","v":0},{"$f":"IF(ISNA(VLOOKUP($A66,RunData,2,FALSE)),0,VLOOKUP($A66,RunData,2,FALSE))","v":0},{"$f":"IF(ISNA(VLOOKUP($A66,ThrowData,2,FALSE)),0,VLOOKUP($A66,ThrowData,2,FALSE))","v":0},{"$f":"IF(ISNA(VLOOKUP($A66,SprintData,4,FALSE)),0,VLOOKUP($A66,SprintData,4,FALSE))+V66","v":0},{"$f":"IF(ISNA(VLOOKUP($A66,JumpData,4,FALSE)),0,VLOOKUP($A66,JumpData,4,FALSE))+W66","v":0},{"$f":"IF(ISNA(VLOOKUP($A66,RunData,4,FALSE)),0,VLOOKUP($A66,RunData,4,FALSE))+X66","v":0},{"$f":"IF(ISNA(VLOOKUP($A66,ThrowData,4,FALSE)),0,VLOOKUP($A66,ThrowData,4,FALSE))+Y66","v":0},{"$f":"+Q66+R66+S66+T66","v":0},{"$f":"IF(AND($F66>0,NOT(M66),Flexing),FlexPC,0)","v":0},{"$f":"IF(AND($F66>0,NOT(N66),Flexing),FlexPC,0)","v":0},{"$f":"IF(AND($F66>0,NOT(O66),Flexing),FlexPC,0)","v":0},{"$f":"IF(AND($F66>0,NOT(P66),Flexing),FlexPC,0)","v":0},null,65]
[{"$f":"+Declarations!A67&\"\"","v":""},{"$f":"IF(LEN($A67),IF(LEN(Declarations!$B67)>0,Declarations!$B67,\"#\"&$A67),\"\")","v":""},"...","","00:00:00",0,"","",0,{"$f":"IF(LEN($A67)>0,IF(LEN(Declarations!$F67)>0,Declarations!$F67,conftype),\"\")","v":""},null,null,0,0,0,0,0,0,0,0,0,0,0,0,0,null,{"$f":"ROW()-1","v":66}]
[{"$f":"+Declarations!A68&\"\"","v":""},{"$f":"IF(LEN($A68),IF(LEN(Declarations!$B68)>0,Declarations!$B68,\"#\"&$A68),\"\")","v":""},"...","","00:00:00",0,"","",0,{"$f":"IF(LEN($A68)>0,IF(LEN(Declarations!$F68)>0,Declarations!$F68,conftype),\"\")","v":""},null,null,0,0,0,0,0,0,0,0,0,0,0,0,0,null,67]
[{"$f":"+Declarations!A69&\"\"","v":""},{"$f":"IF(LEN($A69),IF(LEN(Declarations!$B69)>0,Declarations!$B69,\"#\"&$A69),\"\")","v":""},"...","","00:00:00",0,"","",0,{"$f":"IF(LEN($A69)>0,IF(LEN(Declarations!$F69)>0,Declarations!$F69,conftype),\"\")","v":""},null,null,0,0,0,0,0,0,0,0,0,0,0,0,0,null,68]
[{"$f":"+Declarations!A70&\"\"","v":""},{"$f":"IF(LEN($A70),IF(LEN(Declarations!$B70)>0,Declarations!$B70,\"#\"&$A70),\"\")","v":""},"...","","00:00:00",0,"","",0,{"$f":"IF(LEN($A70)>0,IF(LEN(Declarations!$F70)>0,Declarations!$F70,conftype),\"\")","v":""},null,null,0,0,0,0,0,0,0,0,0,0,0,0,0,null,69]
[{"$f":"+Declarations!A71&\"\"","v":""},{"$f":"IF(LEN($A71),IF(LEN(Declarations!$B71)>0,Declarations!$B71,\"#\"&$A71),\"\")","v":""},"...",{"$f":"IF(OR(G71=\"G\",G71=\"F\"),\"F\",IF(OR(G71=\"B\",G71=\"M\"),\"M\",\"\"))","v":""},"00:00:00",0,"","",0,{"$f":"IF(LEN($A71)>0,IF(LEN(Declarations!$F71)>0,Declarations!$F71,conftype),\"\")","v":""},null,null,0,0,0,0,0,0,0,0,0,0,0,0,0,null,70]
[{"$f":"+Declarations!A72&\"\"","v":""},{"$f":"IF(LEN($A72),IF(LEN(Declarations!$B72)>0,Declarations!$B72,\"#\"&$A72),\"\")","v":""},"...","","00:00:00",0,"","",0,{"$f":"IF(LEN($A72)>0,IF(LEN(Declarations!$F72)>0,Declarations!$F72,conftype),\"\")","v":""},null,null,0,0,0,0,0,0,0,0,0,0,0,0,0,null,71]
[{"$f":"+Declarations!A73&\"\"","v":""},{"$f":"IF(LEN($A73),IF(LEN(Declarations!$B73)>0,Declarations!$B73,\"#\"&$A73),\"\")","v":""},"...","","00:00:00",0,"","",0,{"$f":"IF(LEN($A73)>0,IF(LEN(Declarations!$F73)>0,Declarations!$F73,conftype),\"\")","v":""},null,null,0,0,0,0,0,0,0,0,0,0,0,0,0,null,72]
[{"$f":"+Declarations!A74&\"\"","v":""},{"$f":"IF(LEN($A74),IF(LEN(Declarations!$B74)>0,Declarations!$B74,\"#\"&$A74),\"\")","v":""},"...","","00:00:00",0,"","",0,{"$f":"IF(LEN($A74)>0,IF(LEN(Declarations!$F74)>0,Declarations!$F74,conftype),\"\")","v":""},null,null,0,0,0,0,0,0,0,0,0,0,0,0,0,null,73]
[{"$f":"+Declarations!A75&\"\"","v":""},{"$f":"IF(LEN($A75),IF(LEN(Declarations!$B75)>0,Declarations!$B75,\"#\"&$A75),\"\")","v":""},"...","","00:00:00",0,"","",0,{"$f":"IF(LEN($A75)>0,IF(LEN(Declarations!$F75)>0,Declarations!$F75,conftype),\"\")","v":""},null,null,0,0,0,0,0,0,0,0,0,0,0,0,0,null,74]
[{"$f":"+Declarations!A76&\"\"","v":""},{"$f":"IF(LEN($A76),IF(LEN(Declarations!$B76)>0,Declarations!$B76,\"#\"&$A76),\"\")","v":""},"...","","00:00:00",0,"","",0,{"$f":"IF(LEN($A76)>0,IF(LEN(Declarations!$F76)>0,Declarations!$F76,conftype),\"\")","v":""},null,null,0,0,0,0,0,0,0,0,0,0,0,0,0,null,75]
[{"$f":"+Declarations!A77&\"\"","v":""},{"$f":"IF(LEN($A77),IF(LEN(Declarations!$B77)>0,Declarations!$B77,\"#\"&$A77),\"\")","v":""},"...","","00:00:00",0,"","",0,{"$f":"IF(LEN($A77)>0,IF(LEN(Declarations!$F77)>0,Declarations!$F77,conftype),\"\")","v":""},null,null,0,0,0,0,0,0,0,0,0,0,0,0,0,null,76]
[{"$f":"+Declarations!A78&\"\"","v":""},{"$f":"IF(LEN($A78),IF(LEN(Declarations!$B78)>0,Declarations!$B78,\"#\"&$A78),\"\")","v":""},"...","","00:00:00",0,"","",0,{"$f":"IF(LEN($A78)>0,IF(LEN(Declarations!$F78)>0,Declarations!$F78,conftype),\"\")","v":""},null,null,0,0,0,0,0,0,0,0,0,0,0,0,0,null,77]
[{"$f":"+Declarations!A79&\"\"","v":""},{"$f":"IF(LEN($A79),IF(LEN(Declarations!$B79)>0,Declarations!$B79,\"#\"&$A79),\"\")","v":""},"...","","00:00:00",0,"","",0,{"$f":"IF(LEN($A79)>0,IF(LEN(Declarations!$F79)>0,Declarations!$F79,conftype),\"\")","v":""},null,null,0,0,0,0,0,0,0,0,0,0,0,0,0,null,78]
[{"$f":"+Declarations!A80&\"\"","v":""},{"$f":"IF(LEN($A80),IF(LEN(Declarations!$B80)>0,Declarations!$B80,\"#\"&$A80),\"\")","v":""},"...","","00:00:00",0,"","",0,{"$f":"IF(LEN($A80)>0,IF(LEN(Declarations!$F80)>0,Declarations!$F80,conftype),\"\")","v":""},null,null,0,0,0,0,0,0,0,0,0,0,0,0,0,null,79]
[{"$f":"+Declarations!A81&\"\"","v":""},{"$f":"IF(LEN($A81),IF(LEN(Declarations!$B81)>0,Declarations!$B81,\"#\"&$A81),\"\")","v":""},"...","","00:00:00",0,"","",0,{"$f":"IF(LEN($A81)>0,IF(LEN(Declarations!$F81)>0,Declarations!$F81,conftype),\"\")","v":""},null,null,0,0,0,0,0,0,0,0,0,0,0,0,0,null,80]
[{"$f":"+Declarations!A82&\"\"","v":""},{"$f":"IF(LEN($A82),IF(LEN(Declarations!$B82)>0,Declarations!$B82,\"#\"&$A82),\"\")","v":""},"...","","00:00:00",0,"","",0,{"$f":"IF(LEN($A82)>0,IF(LEN(Declarations!$F82)>0,Declarations!$F82,conftype),\"\")","v":""},null,null,0,0,0,0,0,0,0,0,0,0,0,0,0,null,81]
[{"$f":"+Declarations!A83&\"\"","v":""},{"$f":"IF(LEN($A83),IF(LEN(Declarations!$B83)>0,Declarations!$B83,\"#\"&$A83),\"\")","v":""},"...","","00:00:00",0,"","",0,{"$f":"IF(LEN($A83)>0,IF(LEN(Declarations!$F83)>0,Declarations!$F83,conftype),\"\")","v":""},null,null,0,0,0,0,0,0,0,0,0,0,0,0,0,null,82]
[{"$f":"+Declarations!A84&\"\"","v":""},{"$f":"IF(LEN($A84),IF(LEN(Declarations!$B84)>0,Declarations!$B84,\"#\"&$A84),\"\")","v":""},"...","","00:00:00",0,"","",0,{"$f":"IF(LEN($A84)>0,IF(LEN(Declarations!$F84)>0,Declarations!$F84,conftype),\"\")","v":""},null,null,0,0,0,0,0,0,0,0,0,0,0,0,0,null,83]
[{"$f":"+Declarations!A85&\"\"","v":""},{"$f":"IF(LEN($A85),IF(LEN(Declarations!$B85)>0,Declarations!$B85,\"#\"&$A85),\"\")","v":""},"...","","00:00:00",0,"","",0,{"$f":"IF(LEN($A85)>0,IF(LEN(Declarations!$F85)>0,Declarations!$F85,conftype),\"\")","v":""},null,null,0,0,0,0,0,0,0,0,0,0,0,0,0,null,84]
[{"$f":"+Declarations!A86&\"\"","v":""},{"$f":"IF(LEN($A86),IF(LEN(Declarations!$B86)>0,Declarations!$B86,\"#\"&$A86),\"\")","v":""},"...","","00:00:00",0,"","",0,{"$f":"IF(LEN($A86)>0,IF(LEN(Declarations!$F86)>0,Declarations!$F86,conftype),\"\")","v":""},null,null,0,0,0,0,0,0,0,0,0,0,0,0,0,null,85]
[{"$f":"+Declarations!A87&\"\"","v":""},{"$f":"IF(LEN($A87),IF(LEN(Declarations!$B87)>0,Declarations!$B87,\"#\"&$A87),\"\")","v":""},"...","","00:00:00",0,"","",0,{"$f":"IF(LEN($A87)>0,IF(LEN(Declarations!$F87)>0,Declarations!$F87,conftype),\"\")","v":""},null,null,0,0,0,0,0,0,0,0,0,0,0,0,0,null,86]
[{"$f":"+Declarations!A88&\"\"","v":""},{"$f":"IF(LEN($A88),IF(LEN(Declarations!$B88)>0,Declarations!$B88,\"#\"&$A88),\"\")","v":""},"...","","00:00:00",0,"","",0,{"$f":"IF(LEN($A88)>0,IF(LEN(Declarations!$F88)>0,Declarations!$F88,conftype),\"\")","v":""},null,null,0,0,0,0,0,0,0,0,0,0,0,0,0,null,87]
[{"$f":"+Declarations!A89&\"\"","v":""},{"$f":"IF(LEN($A89),IF(LEN(Declarations!$B89)>0,Declarations!$B89,\"#\"&$A89),\"\")","v":""},"...","","00:00:00",0,"","",0,{"$f":"IF(LEN($A89)>0,IF(LEN(Declarations!$F89)>0,Declarations!$F89,conftype),\"\")","v":""},null,null,0,0,0,0,0,0,0,0,0,0,0,0,0,null,88]
[{"$f":"+Declarations!A90&\"\"","v":""},{"$f":"IF(LEN($A90),IF(LEN(Declarations!$B90)>0,Declarations!$B90,\"#\"&$A90),\"\")","v":""},"...","","00:00:00",0,"","",0,{"$f":"IF(LEN($A90)>0,IF(LEN(Declarations!$F90)>0,Declarations!$F90,conftype),\"\")","v":""},null,null,0,0,0,0,0,0,0,0,0,0,0,0,0,null,89]
[{"$f":"+Declarations!A91&\"\"","v":""},{"$f":"IF(LEN($A91),IF(LEN(Declarations!$B91)>0,Declarations!$B91,\"#\"&$A91),\"\")","v":""},"...","","00:00:00",0,"","",0,{"$f":"IF(LEN($A91)>0,IF(LEN(Declarations!$F91)>0,Declarations!$F91,conftype),\"\")","v":""},null,null,0,0,0,0,0,0,0,0,0,0,0,0,0,null,90]
[{"$f":"+Declarations!A92&\"\"","v":""},{"$f":"IF(LEN($A92),IF(LEN(Declarations!$B92)>0,Declarations!$B92,\"#\"&$A92),\"\")","v":""},"...","","00:00:00",0,"","",0,{"$f":"IF(LEN($A92)>0,IF(LEN(Declarations!$F92)>0,Declarations!$F92,conftype),\"\")","v":""},null,null,0,0,0,0,0,0,0,0,0,0,0,0,0,null,91]
[{"$f":"+Declarations!A93&\"\"","v":""},{"$f":"IF(LEN($A93),IF(LEN(Declarations!$B93)>0,Declarations!$B93,\"#\"&$A93),\"\")","v":""},"...","","00:00:00",0,"","",0,{"$f":"IF(LEN($A93)>0,IF(LEN(Declarations!$F93)>0,Declarations!$F93,conftype),\"\")","v":""},null,null,0,0,0,0,0,0,0,0,0,0,0,0,0,null,92]
[{"$f":"+Declarations!A94&\"\"","v":""},{"$f":"IF(LEN($A94),IF(LEN(Declarations!$B94)>0,Declarations!$B94,\"#\"&$A94),\"\")","v":""},"...","","00:00:00",0,"","",0,{"$f":"IF(LEN($A94)>0,IF(LEN(Declarations!$F94)>0,Declarations!$F94,conftype),\"\")","v":""},null,null,0,0,0,0,0,0,0,0,0,0,0,0,0,null,93]
[{"$f":"+Declarations!A95&\"\"","v":""},{"$f":"IF(LEN($A95),IF(LEN(Declarations!$B95)>0,Declarations!$B95,\"#\"&$A95),\"\")","v":""},"...","","00:00:00",0,"","",0,{"$f":"IF(LEN($A95)>0,IF(LEN(Declarations!$F95)>0,Declarations!$F95,conftype),\"\")","v":""},null,null,0,0,0,0,0,0,0,0,0,0,0,0,0,null,94]
[{"$f":"+Declarations!A96&\"\"","v":""},{"$f":"IF(LEN($A96),IF(LEN(Declarations!$B96)>0,Declarations!$B96,\"#\"&$A96),\"\")","v":""},"...","","00:00:00",0,"","",0,{"$f":"IF(LEN($A96)>0,IF(LEN(Declarations!$F96)>0,Declarations!$F96,conftype),\"\")","v":""},null,null,0,0,0,0,0,0,0,0,0,0,0,0,0,null,95]
[{"$f":"+Declarations!A97&\"\"","v":""},{"$f":"IF(LEN($A97),IF(LEN(Declarations!$B97)>0,Declarations!$B97,\"#\"&$A97),\"\")","v":""},"...","","00:00:00",0,"","",0,{"$f":"IF(LEN($A97)>0,IF(LEN(Declarations!$F97)>0,Declarations!$F97,conftype),\"\")","v":""},null,null,0,0,0,0,0,0,0,0,0,0,0,0,0,null,96]
[{"$f":"+Declarations!A98&\"\"","v":""},{"$f":"IF(LEN($A98),IF(LEN(Declarations!$B98)>0,Declarations!$B98,\"#\"&$A98),\"\")","v":""},"...","","00:00:00",0,"","",0,{"$f":"IF(LEN($A98)>0,IF(LEN(Declarations!$F98)>0,Declarations!$F98,conftype),\"\")","v":""},null,null,0,0,0,0,0,0,0,0,0,0,0,0,0,null,97]
[{"$f":"+Declarations!A99&\"\"","v":""},{"$f":"IF(LEN($A99),IF(LEN(Declarations!$B99)>0,Declarations!$B99,\"#\"&$A99),\"\")","v":""},"...","","00:00:00",0,"","",0,{"$f":"IF(LEN($A99)>0,IF(LEN(Declarations!$F99)>0,Declarations!$F99,conftype),\"\")","v":""},null,null,0,0,0,0,0,0,0,0,0,0,0,0,0,null,98]
[{"$f":"+Declarations!A100&\"\"","v":""},{"$f":"IF(LEN($A100),IF(LEN(Declarations!$B100)>0,Declarations!$B100,\"#\"&$A100),\"\")","v":""},"...","","00:00:00",0,"","",0,{"$f":"IF(LEN($A100)>0,IF(LEN(Declarations!$F100)>0,Declarations!$F100,conftype),\"\")","v":""},null,null,0,0,0,0,0,0,0,0,0,0,0,0,0,null,99]
[{"$f":"+Declarations!A101&\"\"","v":""},{"$f":"IF(LEN($A101),IF(LEN(Declarations!$B101)>0,Declarations!$B101,\"#\"&$A101),\"\")","v":""},"...","","00:00:00",0,"","",0,{"$f":"IF(LEN($A101)>0,IF(LEN(Declarations!$F101)>0,Declarations!$F101,conftype),\"\")","v":""},null,null,0,0,0,0,0,0,0,0,0,0,0,0,0,null,100]
[{"$f":"+Declarations!A102&\"\"","v":""},{"$f":"IF(LEN($A102),IF(LEN(Declarations!$B102)>0,Declarations!$B102,\"#\"&$A102),\"\")","v":""},"...","","00:00:00",0,"","",0,{"$f":"IF(LEN($A102)>0,IF(LEN(Declarations!$F102)>0,Declarations!$F102,conftype),\"\")","v":""},null,null,0,0,0,0,0,0,0,0,0,0,0,0,0,null,101]
[{"$f":"+Declarations!A103&\"\"","v":""},{"$f":"IF(LEN($A103),IF(LEN(Declarations!$B103)>0,Declarations!$B103,\"#\"&$A103),\"\")","v":""},"...","","00:00:00",0,"","",0,{"$f":"IF(LEN($A103)>0,IF(LEN(Declarations!$F103)>0,Declarations!$F103,conftype),\"\")","v":""},null,null,0,0,0,0,0,0,0,0,0,0,0,0,0,null,102]
[{"$f":"+Declarations!A104&\"\"","v":""},{"$f":"IF(LEN($A104),IF(LEN(Declarations!$B104)>0,Declarations!$B104,\"#\"&$A104),\"\")","v":""},"...","","00:00:00",0,"","",0,{"$f":"IF(LEN($A104)>0,IF(LEN(Declarations!$F104)>0,Declarations!$F104,conftype),\"\")","v":""},null,null,0,0,0,0,0,0,0,0,0,0,0,0,0,null,103]
[{"$f":"+Declarations!A105&\"\"","v":""},{"$f":"IF(LEN($A105),IF(LEN(Declarations!$B105)>0,Declarations!$B105,\"#\"&$A105),\"\")","v":""},"...","","00:00:00",0,"","",0,{"$f":"IF(LEN($A105)>0,IF(LEN(Declarations!$F105)>0,Declarations!$F105,conftype),\"\")","v":""},null,null,0,0,0,0,0,0,0,0,0,0,0,0,0,null,104]
[{"$f":"+Declarations!A106&\"\"","v":""},{"$f":"IF(LEN($A106),IF(LEN(Declarations!$B106)>0,Declarations!$B106,\"#\"&$A106),\"\")","v":""},"...","","00:00:00",0,"","",0,{"$f":"IF(LEN($A106)>0,IF(LEN(Declarations!$F106)>0,Declarations!$F106,conftype),\"\")","v":""},null,null,0,0,0,0,0,0,0,0,0,0,0,0,0,null,105]
[{"$f":"+Declarations!A107&\"\"","v":""},{"$f":"IF(LEN($A107),IF(LEN(Declarations!$B107)>0,Declarations!$B107,\"#\"&$A107),\"\")","v":""},"...","","00:00:00",0,"","",0,{"$f":"IF(LEN($A107)>0,IF(LEN(Declarations!$F107)>0,Declarations!$F107,conftype),\"\")","v":""},null,null,0,0,0,0,0,0,0,0,0,0,0,0,0,null,106]
[{"$f":"+Declarations!A108&\"\"","v":""},{"$f":"IF(LEN($A108),IF(LEN(Declarations!$B108)>0,Declarations!$B108,\"#\"&$A108),\"\")","v":""},"...","","00:00:00",0,"","",0,{"$f":"IF(LEN($A108)>0,IF(LEN(Declarations!$F108)>0,Declarations!$F108,conftype),\"\")","v":""},null,null,0,0,0,0,0,0,0,0,0,0,0,0,0,null,107]
[{"$f":"+Declarations!A109&\"\"","v":""},{"$f":"IF(LEN($A109),IF(LEN(Declarations!$B109)>0,Declarations!$B109,\"#\"&$A109),\"\")","v":""},"...","","00:00:00",0,"","",0,{"$f":"IF(LEN($A109)>0,IF(LEN(Declarations!$F109)>0,Declarations!$F109,conftype),\"\")","v":""},null,null,0,0,0,0,0,0,0,0,0,0,0,0,0,null,108]
[{"$f":"+Declarations!A110&\"\"","v":""},{"$f":"IF(LEN($A110),IF(LEN(Declarations!$B110)>0,Declarations!$B110,\"#\"&$A110),\"\")","v":""},"...","","00:00:00",0,"","",0,{"$f":"IF(LEN($A110)>0,IF(LEN(Declarations!$F110)>0,Declarations!$F110,conftype),\"\")","v":""},null,null,0,0,0,0,0,0,0,0,0,0,0,0,0,null,109]
[{"$f":"+Declarations!A111&\"\"","v":""},{"$f":"IF(LEN($A111),IF(LEN(Declarations!$B111)>0,Declarations!$B111,\"#\"&$A111),\"\")","v":""},"...","","00:00:00",0,"","",0,{"$f":"IF(LEN($A111)>0,IF(LEN(Declarations!$F111)>0,Declarations!$F111,conftype),\"\")","v":""},null,null,{"$f":"IF(ISNA(VLOOKUP($A111,SprintData,2,FALSE)),0,VLOOKUP($A111,SprintData,2,FALSE))","v":0},0,0,0,0,0,0,0,0,0,0,0,0,null,110]
[{"$f":"+Declarations!A112&\"\"","v":""},{"$f":"IF(LEN($A112),IF(LEN(Declarations!$B112)>0,Declarations!$B112,\"#\"&$A112),\"\")","v":""},"...","","00:00:00",0,"","",0,{"$f":"IF(LEN($A112)>0,IF(LEN(Declarations!$F112)>0,Declarations!$F112,conftype),\"\")","v":""},null,null,0,0,0,0,0,0,0,0,0,0,0,0,0,null,111]
[{"$f":"+Declarations!A113&\"\"","v":""},{"$f":"IF(LEN($A113),IF(LEN(Declarations!$B113)>0,Declarations!$B113,\"#\"&$A113),\"\")","v":""},"...","","00:00:00",0,"","",0,{"$f":"IF(LEN($A113)>0,IF(LEN(Declarations!$F113)>0,Declarations!$F113,conftype),\"\")","v":""},null,null,0,0,0,0,0,0,0,0,0,0,0,0,0,null,112]
[{"$f":"+Declarations!A114&\"\"","v":""},{"$f":"IF(LEN($A114),IF(LEN(Declarations!$B114)>0,Declarations!$B114,\"#\"&$A114),\"\")","v":""},"...","","00:00:00",0,"","",0,{"$f":"IF(LEN($A114)>0,IF(LEN(Declarations!$F114)>0,Declarations!$F114,conftype),\"\")","v":""},null,null,0,0,0,0,0,0,0,0,0,0,0,0,0,null,113]
[{"$f":"+Declarations!A115&\"\"","v":""},{"$f":"IF(LEN($A115),IF(LEN(Declarations!$B115)>0,Declarations!$B115,\"#\"&$A115),\"\")","v":""},"...","","00:00:00",0,"","",0,{"$f":"IF(LEN($A115)>0,IF(LEN(Declarations!$F115)>0,Declarations!$F115,conftype),\"\")","v":""},null,null,0,0,0,0,0,0,0,0,0,0,0,0,0,null,114]
[{"$f":"+Declarations!A116&\"\"","v":""},{"$f":"IF(LEN($A116),IF(LEN(Declarations!$B116)>0,Declarations!$B116,\"#\"&$A116),\"\")","v":""},"...","","00:00:00",0,"","",0,{"$f":"IF(LEN($A116)>0,IF(LEN(Declarations!$F116)>0,Declarations!$F116,conftype),\"\")","v":""},null,null,0,0,0,0,0,0,0,0,0,0,0,0,0,null,115]
[{"$f":"+Declarations!A117&\"\"","v":""},{"$f":"IF(LEN($A117),IF(LEN(Declarations!$B117)>0,Declarations!$B117,\"#\"&$A117),\"\")","v":""},"...","","00:00:00",0,"","",0,{"$f":"IF(LEN($A117)>0,IF(LEN(Declarations!$F117)>0,Declarations!$F117,conftype),\"\")","v":""},null,null,0,0,0,0,0,0,0,0,0,0,0,0,0,null,116]
[{"$f":"+Declarations!A118&\"\"","v":""},{"$f":"IF(LEN($A118),IF(LEN(Declarations!$B118)>0,Declarations!$B118,\"#\"&$A118),\"\")","v":""},"...","","00:00:00",0,"","",0,{"$f":"IF(LEN($A118)>0,IF(LEN(Declarations!$F118)>0,Declarations!$F118,conftype),\"\")","v":""},null,null,0,0,0,0,0,0,0,0,0,0,0,0,0,null,117]
[{"$f":"+Declarations!A119&\"\"","v":""},{"$f":"IF(LEN($A119),IF(LEN(Declarations!$B119)>0,Declarations!$B119,\"#\"&$A119),\"\")","v":""},"...","","00:00:00",0,"","",0,{"$f":"IF(LEN($A119)>0,IF(LEN(Declarations!$F119)>0,Declarations!$F119,conftype),\"\")","v":""},null,null,0,0,0,0,0,0,0,0,0,0,0,0,0,null,118]
[{"$f":"+Declarations!A120&\"\"","v":""},{"$f":"IF(LEN($A120),IF(LEN(Declarations!$B120)>0,Declarations!$B120,\"#\"&$A120),\"\")","v":""},"...","","00:00:00",0,"","",0,{"$f":"IF(LEN($A120)>0,IF(LEN(Declarations!$F120)>0,Declarations!$F120,conftype),\"\")","v":""},null,null,0,0,0,0,0,0,0,0,0,0,0,0,0,null,119]
[{"$f":"+Declarations!A121&\"\"","v":""},{"$f":"IF(LEN($A121),IF(LEN(Declarations!$B121)>0,Declarations!$B121,\"#\"&$A121),\"\")","v":""},"...","","00:00:00",0,"","",0,{"$f":"IF(LEN($A121)>0,IF(LEN(Declarations!$F121)>0,Declarations!$F121,conftype),\"\")","v":""},null,null,0,0,0,0,0,0,0,0,0,0,0,0,0,null,120]
[{"$f":"+Declarations!A122&\"\"","v":""},{"$f":"IF(LEN($A122),IF(LEN(Declarations!$B122)>0,Declarations!$B122,\"#\"&$A122),\"\")","v":""},"...","","00:00:00",0,"","",0,{"$f":"IF(LEN($A122)>0,IF(LEN(Declarations!$F122)>0,Declarations!$F122,conftype),\"\")","v":""},null,null,0,0,0,0,0,0,0,0,0,0,0,0,0,null,121]
[{"$f":"+Declarations!A123&\"\"","v":""},{"$f":"IF(LEN($A123),IF(LEN(Declarations!$B123)>0,Declarations!$B123,\"#\"&$A123),\"\")","v":""},"...","","00:00:00",0,"","",0,{"$f":"IF(LEN($A123)>0,IF(LEN(Declarations!$F123)>0,Declarations!$F123,conftype),\"\")","v":""},null,null,0,0,0,0,0,0,0,0,0,0,0,0,0,null,122]
[{"$f":"+Declarations!A124&\"\"","v":""},{"$f":"IF(LEN($A124),IF(LEN(Declarations!$B124)>0,Declarations!$B124,\"#\"&$A124),\"\")","v":""},"...","","00:00:00",0,"","",0,{"$f":"IF(LEN($A124)>0,IF(LEN(Declarations!$F124)>0,Declarations!$F124,conftype),\"\")","v":""},null,null,0,0,0,0,0,0,0,0,0,0,0,0,0,null,123]
[{"$f":"+Declarations!A125&\"\"","v":""},{"$f":"IF(LEN($A125),IF(LEN(Declarations!$B125)>0,Declarations!$B125,\"#\"&$A125),\"\")","v":""},"...","","00:00:00",0,"","",0,{"$f":"IF(LEN($A125)>0,IF(LEN(Declarations!$F125)>0,Declarations!$F125,conftype),\"\")","v":""},null,null,0,0,0,0,0,0,0,0,0,0,0,0,0,null,124]
[{"$f":"+Declarations!A126&\"\"","v":""},{"$f":"IF(LEN($A126),IF(LEN(Declarations!$B126)>0,Declarations!$B126,\"#\"&$A126),\"\")","v":""},"...","","00:00:00",0,"","",0,{"$f":"IF(LEN($A126)>0,IF(LEN(Declarations!$F126)>0,Declarations!$F126,conftype),\"\")","v":""},null,null,0,0,0,0,0,0,0,0,0,0,0,0,0,null,125]
[{"$f":"+Declarations!A127&\"\"","v":""},{"$f":"IF(LEN($A127),IF(LEN(Declarations!$B127)>0,Declarations!$B127,\"#\"&$A127),\"\")","v":""},"...","","00:00:00",0,"","",0,{"$f":"IF(LEN($A127)>0,IF(LEN(Declarations!$F127)>0,Declarations!$F127,conftype),\"\")","v":""},null,null,0,0,0,0,0,0,0,0,0,0,0,0,0,null,126]
[{"$f":"+Declarations!A128&\"\"","v":""},{"$f":"IF(LEN($A128),IF(LEN(Declarations!$B128)>0,Declarations!$B128,\"#\"&$A128),\"\")","v":""},"...","","00:00:00",0,"","",0,{"$f":"IF(LEN($A128)>0,IF(LEN(Declarations!$F128)>0,Declarations!$F128,conftype),\"\")","v":""},null,null,0,0,0,0,0,0,0,0,0,0,0,0,0,null,127]
[{"$f":"+Declarations!A129&\"\"","v":""},{"$f":"IF(LEN($A129),IF(LEN(Declarations!$B129)>0,Declarations!$B129,\"#\"&$A129),\"\")","v":""},"...","","00:00:00",0,"","",0,{"$f":"IF(LEN($A129)>0,IF(LEN(Declarations!$F129)>0,Declarations!$F129,conftype),\"\")","v":""},null,null,0,0,0,0,0,0,0,0,0,0,0,0,0,null,128]
[{"$f":"+Declarations!A130&\"\"","v":""},{"$f":"IF(LEN($A130),IF(LEN(Declarations!$B130)>0,Declarations!$B130,\"#\"&$A130),\"\")","v":""},{"$f":"IF(LEN(INDEX(DECLARATIONS,$AA130,3))>0,INDEX(DECLARATIONS,$AA130,3),\"...\")","v":"..."},"",{"$f":"IF(ISNA($AA130),0,INDEX(DECLARATIONS,$AA130,5))","v":"00:00:00"},{"$f":"IF(ISNA($AA130),0,INDEX(DECLARATIONS,$AA130,7))","v":0},{"$f":"UPPER(IF(ISNA($AA130),\"\",INDEX(DECLARATIONS,$AA130,4)))","v":""},{"$f":"IF(AND(A130>0,ISTEXT(B130)),IF(SECNAME=\"YES\",LEFT(B130&\" \",FIND(\" \",B130&\" \")+2)&IF(F130>0,\" (\"&F130&\")\",\"\"), B130&IF(F130>0,\" (\"&F130&\")\",\"\")),\"#\"&$A130)","v":""},{"$f":"IF(LEN($A130)>0,IF(LEN($J130)>0,MATCH(J130,MatchNames,0),EventIndex),0)","v":0},{"$f":"IF(LEN($A130)>0,IF(LEN(Declarations!$F130)>0,Declarations!$F130,conftype),\"\")","v":""},null,null,0,{"$f":"IF(ISNA(VLOOKUP($A130,JumpData,2,FALSE)),0,VLOOKUP($A130,JumpData,2,FALSE))","v":0},{"$f":"IF(ISNA(VLOOKUP($A130,RunData,2,FALSE)),0,VLOOKUP($A130,RunData,2,FALSE))","v":0},{"$f":"IF(ISNA(VLOOKUP($A130,ThrowData,2,FALSE)),0,VLOOKUP($A130,ThrowData,2,FALSE))","v":0},{"$f":"IF(ISNA(VLOOKUP($A130,SprintData,4,FALSE)),0,VLOOKUP($A130,SprintData,4,FALSE))+V130","v":0},{"$f":"IF(ISNA(VLOOKUP($A130,JumpData,4,FALSE)),0,VLOOKUP($A130,JumpData,4,FALSE))+W130","v":0},{"$f":"IF(ISNA(VLOOKUP($A130,RunData,4,FALSE)),0,VLOOKUP($A130,RunData,4,FALSE))+X130","v":0},{"$f":"IF(ISNA(VLOOKUP($A130,ThrowData,4,FALSE)),0,VLOOKUP($A130,ThrowData,4,FALSE))+Y130","v":0},{"$f":"+Q130+R130+S130+T130","v":0},{"$f":"IF(AND($F130>0,NOT(M130),Flexing),FlexPC,0)","v":0},{"$f":"IF(AND($F130>0,NOT(N130),Flexing),FlexPC,0)","v":0},{"$f":"IF(AND($F130>0,NOT(O130),Flexing),FlexPC,0)","v":0},{"$f":"IF(AND($F130>0,NOT(P130),Flexing),FlexPC,0)","v":0},null,129]
[{"$f":"+Declarations!A131&\"\"","v":""},{"$f":"IF(LEN($A131),IF(LEN(Declarations!$B131)>0,Declarations!$B131,\"#\"&$A131),\"\")","v":""},"...","","00:00:00",0,"","",0,{"$f":"IF(LEN($A131)>0,IF(LEN(Declarations!$F131)>0,Declarations!$F131,conftype),\"\")","v":""},null,null,0,0,0,0,0,0,0,0,0,0,0,0,0,null,{"$f":"ROW()-1","v":130}]
[{"$f":"+Declarations!A132&\"\"","v":""},{"$f":"IF(LEN($A132),IF(LEN(Declarations!$B132)>0,Declarations!$B132,\"#\"&$A132),\"\")","v":""},"...","","00:00:00",0,"","",0,{"$f":"IF(LEN($A132)>0,IF(LEN(Declarations!$F132)>0,Declarations!$F132,conftype),\"\")","v":""},null,null,0,0,0,0,0,0,0,0,0,0,0,0,0,null,131]
[{"$f":"+Declarations!A133&\"\"","v":""},{"$f":"IF(LEN($A133),IF(LEN(Declarations!$B133)>0,Declarations!$B133,\"#\"&$A133),\"\")","v":""},"...","","00:00:00",0,"","",0,{"$f":"IF(LEN($A133)>0,IF(LEN(Declarations!$F133)>0,Declarations!$F133,conftype),\"\")","v":""},null,null,0,0,0,0,0,0,0,0,0,0,0,0,0,null,132]
[{"$f":"+Declarations!A134&\"\"","v":""},{"$f":"IF(LEN($A134),IF(LEN(Declarations!$B134)>0,Declarations!$B134,\"#\"&$A134),\"\")","v":""},"...","","00:00:00",0,"","",0,{"$f":"IF(LEN($A134)>0,IF(LEN(Declarations!$F134)>0,Declarations!$F134,conftype),\"\")","v":""},null,null,0,0,0,0,0,0,0,0,0,0,0,0,0,null,133]
[{"$f":"+Declarations!A135&\"\"","v":""},{"$f":"IF(LEN($A135),IF(LEN(Declarations!$B135)>0,Declarations!$B135,\"#\"&$A135),\"\")","v":""},"...",{"$f":"IF(OR(G135=\"G\",G135=\"F\"),\"F\",IF(OR(G135=\"B\",G135=\"M\"),\"M\",\"\"))","v":""},"00:00:00",0,"","",0,{"$f":"IF(LEN($A135)>0,IF(LEN(Declarations!$F135)>0,Declarations!$F135,conftype),\"\")","v":""},null,null,0,0,0,0,0,0,0,0,0,0,0,0,0,null,134]
[{"$f":"+Declarations!A136&\"\"","v":""},{"$f":"IF(LEN($A136),IF(LEN(Declarations!$B136)>0,Declarations!$B136,\"#\"&$A136),\"\")","v":""},"...","","00:00:00",0,"","",0,{"$f":"IF(LEN($A136)>0,IF(LEN(Declarations!$F136)>0,Declarations!$F136,conftype),\"\")","v":""},null,null,0,0,0,0,0,0,0,0,0,0,0,0,0,null,135]
[{"$f":"+Declarations!A137&\"\"","v":""},{"$f":"IF(LEN($A137),IF(LEN(Declarations!$B137)>0,Declarations!$B137,\"#\"&$A137),\"\")","v":""},"...","","00:00:00",0,"","",0,{"$f":"IF(LEN($A137)>0,IF(LEN(Declarations!$F137)>0,Declarations!$F137,conftype),\"\")","v":""},null,null,0,0,0,0,0,0,0,0,0,0,0,0,0,null,136]
[{"$f":"+Declarations!A138&\"\"","v":""},{"$f":"IF(LEN($A138),IF(LEN(Declarations!$B138)>0,Declarations!$B138,\"#\"&$A138),\"\")","v":""},"...","","00:00:00",0,"","",0,{"$f":"IF(LEN($A138)>0,IF(LEN(Declarations!$F138)>0,Declarations!$F138,conftype),\"\")","v":""},null,null,0,0,0,0,0,0,0,0,0,0,0,0,0,null,137]
[{"$f":"+Declarations!A139&\"\"","v":""},{"$f":"IF(LEN($A139),IF(LEN(Declarations!$B139)>0,Declarations!$B139,\"#\"&$A139),\"\")","v":""},"...","","00:00:00",0,"","",0,{"$f":"IF(LEN($A139)>0,IF(LEN(Declarations!$F139)>0,Declarations!$F139,conftype),\"\")","v":""},null,null,0,0,0,0,0,0,0,0,0,0,0,0,0,null,138]
[{"$f":"+Declarations!A140&\"\"","v":""},{"$f":"IF(LEN($A140),IF(LEN(Declarations!$B140)>0,Declarations!$B140,\"#\"&$A140),\"\")","v":""},"...","","00:00:00",0,"","",0,{"$f":"IF(LEN($A140)>0,IF(LEN(Declarations!$F140)>0,Declarations!$F140,conftype),\"\")","v":""},null,null,0,0,0,0,0,0,0,0,0,0,0,0,0,null,139]
[{"$f":"+Declarations!A141&\"\"","v":""},{"$f":"IF(LEN($A141),IF(LEN(Declarations!$B141)>0,Declarations!$B141,\"#\"&$A141),\"\")","v":""},"...","","00:00:00",0,"","",0,{"$f":"IF(LEN($A141)>0,IF(LEN(Declarations!$F141)>0,Declarations!$F141,conftype),\"\")","v":""},null,null,0,0,0,0,0,0,0,0,0,0,0,0,0,null,140]
[{"$f":"+Declarations!A142&\"\"","v":""},{"$f":"IF(LEN($A142),IF(LEN(Declarations!$B142)>0,Declarations!$B142,\"#\"&$A142),\"\")","v":""},"...","","00:00:00",0,"","",0,{"$f":"IF(LEN($A142)>0,IF(LEN(Declarations!$F142)>0,Declarations!$F142,conftype),\"\")","v":""},null,null,0,0,0,0,0,0,0,0,0,0,0,0,0,null,141]
[{"$f":"+Declarations!A143&\"\"","v":""},{"$f":"IF(LEN($A143),IF(LEN(Declarations!$B143)>0,Declarations!$B143,\"#\"&$A143),\"\")","v":""},"...","","00:00:00",0,"","",0,{"$f":"IF(LEN($A143)>0,IF(LEN(Declarations!$F143)>0,Declarations!$F143,conftype),\"\")","v":""},null,null,0,0,0,0,0,0,0,0,0,0,0,0,0,null,142]
[{"$f":"+Declarations!A144&\"\"","v":""},{"$f":"IF(LEN($A144),IF(LEN(Declarations!$B144)>0,Declarations!$B144,\"#\"&$A144),\"\")","v":""},"...","","00:00:00",0,"","",0,{"$f":"IF(LEN($A144)>0,IF(LEN(Declarations!$F144)>0,Declarations!$F144,conftype),\"\")","v":""},null,null,0,0,0,0,0,0,0,0,0,0,0,0,0,null,143]
[{"$f":"+Declarations!A145&\"\"","v":""},{"$f":"IF(LEN($A145),IF(LEN(Declarations!$B145)>0,Declarations!$B145,\"#\"&$A145),\"\")","v":""},"...","","00:00:00",0,"","",0,{"$f":"IF(LEN($A145)>0,IF(LEN(Declarations!$F145)>0,Declarations!$F145,conftype),\"\")","v":""},null,null,0,0,0,0,0,0,0,0,0,0,0,0,0,null,144]
[{"$f":"+Declarations!A146&\"\"","v":""},{"$f":"IF(LEN($A146),IF(LEN(Declarations!$B146)>0,Declarations!$B146,\"#\"&$A146),\"\")","v":""},"...","","00:00:00",0,"","",0,{"$f":"IF(LEN($A146)>0,IF(LEN(Declarations!$F146)>0,Declarations!$F146,conftype),\"\")","v":""},null,null,0,0,0,0,0,0,0,0,0,0,0,0,0,null,145]
[{"$f":"+Declarations!A147&\"\"","v":""},{"$f":"IF(LEN($A147),IF(LEN(Declarations!$B147)>0,Declarations!$B147,\"#\"&$A147),\"\")","v":""},"...","","00:00:00",0,"","",0,{"$f":"IF(LEN($A147)>0,IF(LEN(Declarations!$F147)>0,Declarations!$F147,conftype),\"\")","v":""},null,null,0,0,0,0,0,0,0,0,0,0,0,0,0,null,146]
[{"$f":"+Declarations!A148&\"\"","v":""},{"$f":"IF(LEN($A148),IF(LEN(Declarations!$B148)>0,Declarations!$B148,\"#\"&$A148),\"\")","v":""},"...","","00:00:00",0,"","",0,{"$f":"IF(LEN($A148)>0,IF(LEN(Declarations!$F148)>0,Declarations!$F148,conftype),\"\")","v":""},null,null,0,0,0,0,0,0,0,0,0,0,0,0,0,null,147]
[{"$f":"+Declarations!A149&\"\"","v":""},{"$f":"IF(LEN($A149),IF(LEN(Declarations!$B149)>0,Declarations!$B149,\"#\"&$A149),\"\")","v":""},"...","","00:00:00",0,"","",0,{"$f":"IF(LEN($A149)>0,IF(LEN(Declarations!$F149)>0,Declarations!$F149,conftype),\"\")","v":""},null,null,0,0,0,0,0,0,0,0,0,0,0,0,0,null,148]
[{"$f":"+Declarations!A150&\"\"","v":""},{"$f":"IF(LEN($A150),IF(LEN(Declarations!$B150)>0,Declarations!$B150,\"#\"&$A150),\"\")","v":""},"...","","00:00:00",0,"","",0,{"$f":"IF(LEN($A150)>0,IF(LEN(Declarations!$F150)>0,Declarations!$F150,conftype),\"\")","v":""},null,null,0,0,0,0,0,0,0,0,0,0,0,0,0,null,149]
[{"$f":"+Declarations!A151&\"\"","v":""},{"$f":"IF(LEN($A151),IF(LEN(Declarations!$B151)>0,Declarations!$B151,\"#\"&$A151),\"\")","v":""},"...","","00:00:00",0,"","",0,{"$f":"IF(LEN($A151)>0,IF(LEN(Declarations!$F151)>0,Declarations!$F151,conftype),\"\")","v":""},null,null,0,0,0,0,0,0,0,0,0,0,0,0,0,null,150]
[{"$f":"+Declarations!A152&\"\"","v":""},{"$f":"IF(LEN($A152),IF(LEN(Declarations!$B152)>0,Declarations!$B152,\"#\"&$A152),\"\")","v":""},"...","","00:00:00",0,"","",0,{"$f":"IF(LEN($A152)>0,IF(LEN(Declarations!$F152)>0,Declarations!$F152,conftype),\"\")","v":""},null,null,0,0,0,0,0,0,0,0,0,0,0,0,0,null,151]
[{"$f":"+Declarations!A153&\"\"","v":""},{"$f":"IF(LEN($A153),IF(LEN(Declarations!$B153)>0,Declarations!$B153,\"#\"&$A153),\"\")","v":""},"...","","00:00:00",0,"","",0,{"$f":"IF(LEN($A153)>0,IF(LEN(Declarations!$F153)>0,Declarations!$F153,conftype),\"\")","v":""},null,null,0,0,0,0,0,0,0,0,0,0,0,0,0,null,152]
[{"$f":"+Declarations!A154&\"\"","v":""},{"$f":"IF(LEN($A154),IF(LEN(Declarations!$B154)>0,Declarations!$B154,\"#\"&$A154),\"\")","v":""},"...","","00:00:00",0,"","",0,{"$f":"IF(LEN($A154)>0,IF(LEN(Declarations!$F154)>0,Declarations!$F154,conftype),\"\")","v":""},null,null,0,0,0,0,0,0,0,0,0,0,0,0,0,null,153]
[{"$f":"+Declarations!A155&\"\"","v":""},{"$f":"IF(LEN($A155),IF(LEN(Declarations!$B155)>0,Declarations!$B155,\"#\"&$A155),\"\")","v":""},"...","","00:00:00",0,"","",0,{"$f":"IF(LEN($A155)>0,IF(LEN(Declarations!$F155)>0,Declarations!$F155,conftype),\"\")","v":""},null,null,0,0,0,0,0,0,0,0,0,0,0,0,0,null,154]
[{"$f":"+Declarations!A156&\"\"","v":""},{"$f":"IF(LEN($A156),IF(LEN(Declarations!$B156)>0,Declarations!$B156,\"#\"&$A156),\"\")","v":""},"...","","00:00:00",0,"","",0,{"$f":"IF(LEN($A156)>0,IF(LEN(Declarations!$F156)>0,Declarations!$F156,conftype),\"\")","v":""},null,null,0,0,0,0,0,0,0,0,0,0,0,0,0,null,155]
[{"$f":"+Declarations!A157&\"\"","v":""},{"$f":"IF(LEN($A157),IF(LEN(Declarations!$B157)>0,Declarations!$B157,\"#\"&$A157),\"\")","v":""},"...","","00:00:00",0,"","",0,{"$f":"IF(LEN($A157)>0,IF(LEN(Declarations!$F157)>0,Declarations!$F157,conftype),\"\")","v":""},null,null,0,0,0,0,0,0,0,0,0,0,0,0,0,null,156]
[{"$f":"+Declarations!A158&\"\"","v":""},{"$f":"IF(LEN($A158),IF(LEN(Declarations!$B158)>0,Declarations!$B158,\"#\"&$A158),\"\")","v":""},"...","","00:00:00",0,"","",0,{"$f":"IF(LEN($A158)>0,IF(LEN(Declarations!$F158)>0,Declarations!$F158,conftype),\"\")","v":""},null,null,0,0,0,0,0,0,0,0,0,0,0,0,0,null,157]
[{"$f":"+Declarations!A159&\"\"","v":""},{"$f":"IF(LEN($A159),IF(LEN(Declarations!$B159)>0,Declarations!$B159,\"#\"&$A159),\"\")","v":""},"...","","00:00:00",0,"","",0,{"$f":"IF(LEN($A159)>0,IF(LEN(Declarations!$F159)>0,Declarations!$F159,conftype),\"\")","v":""},null,null,0,0,0,0,0,0,0,0,0,0,0,0,0,null,158]
[{"$f":"+Declarations!A160&\"\"","v":""},{"$f":"IF(LEN($A160),IF(LEN(Declarations!$B160)>0,Declarations!$B160,\"#\"&$A160),\"\")","v":""},"...","","00:00:00",0,"","",0,{"$f":"IF(LEN($A160)>0,IF(LEN(Declarations!$F160)>0,Declarations!$F160,conftype),\"\")","v":""},null,null,0,0,0,0,0,0,0,0,0,0,0,0,0,null,159]
[{"$f":"+Declarations!A161&\"\"","v":""},{"$f":"IF(LEN($A161),IF(LEN(Declarations!$B161)>0,Declarations!$B161,\"#\"&$A161),\"\")","v":""},"...","","00:00:00",0,"","",0,{"$f":"IF(LEN($A161)>0,IF(LEN(Declarations!$F161)>0,Declarations!$F161,conftype),\"\")","v":""},null,null,0,0,0,0,0,0,0,0,0,0,0,0,0,null,160]
[{"$f":"+Declarations!A162&\"\"","v":""},{"$f":"IF(LEN($A162),IF(LEN(Declarations!$B162)>0,Declarations!$B162,\"#\"&$A162),\"\")","v":""},"...","","00:00:00",0,"","",0,{"$f":"IF(LEN($A162)>0,IF(LEN(Declarations!$F162)>0,Declarations!$F162,conftype),\"\")","v":""},null,null,0,0,0,0,0,0,0,0,0,0,0,0,0,null,161]
[{"$f":"+Declarations!A163&\"\"","v":""},{"$f":"IF(LEN($A163),IF(LEN(Declarations!$B163)>0,Declarations!$B163,\"#\"&$A163),\"\")","v":""},"...","","00:00:00",0,"","",0,{"$f":"IF(LEN($A163)>0,IF(LEN(Declarations!$F163)>0,Declarations!$F163,conftype),\"\")","v":""},null,null,0,0,0,0,0,0,0,0,0,0,0,0,0,null,162]
[{"$f":"+Declarations!A164&\"\"","v":""},{"$f":"IF(LEN($A164),IF(LEN(Declarations!$B164)>0,Declarations!$B164,\"#\"&$A164),\"\")","v":""},"...","","00:00:00",0,"","",0,{"$f":"IF(LEN($A164)>0,IF(LEN(Declarations!$F164)>0,Declarations!$F164,conftype),\"\")","v":""},null,null,0,0,0,0,0,0,0,0,0,0,0,0,0,null,163]
[{"$f":"+Declarations!A165&\"\"","v":""},{"$f":"IF(LEN($A165),IF(LEN(Declarations!$B165)>0,Declarations!$B165,\"#\"&$A165),\"\")","v":""},"...","","00:00:00",0,"","",0,{"$f":"IF(LEN($A165)>0,IF(LEN(Declarations!$F165)>0,Declarations!$F165,conftype),\"\")","v":""},null,null,0,0,0,0,0,0,0,0,0,0,0,0,0,null,164]
[{"$f":"+Declarations!A166&\"\"","v":""},{"$f":"IF(LEN($A166),IF(LEN(Declarations!$B166)>0,Declarations!$B166,\"#\"&$A166),\"\")","v":""},"...","","00:00:00",0,"","",0,{"$f":"IF(LEN($A166)>0,IF(LEN(Declarations!$F166)>0,Declarations!$F166,conftype),\"\")","v":""},null,null,0,0,0,0,0,0,0,0,0,0,0,0,0,null,165]
[{"$f":"+Declarations!A167&\"\"","v":""},{"$f":"IF(LEN($A167),IF(LEN(Declarations!$B167)>0,Declarations!$B167,\"#\"&$A167),\"\")","v":""},"...","","00:00:00",0,"","",0,{"$f":"IF(LEN($A167)>0,IF(LEN(Declarations!$F167)>0,Declarations!$F167,conftype),\"\")","v":""},null,null,0,0,0,0,0,0,0,0,0,0,0,0,0,null,166]
[{"$f":"+Declarations!A168&\"\"","v":""},{"$f":"IF(LEN($A168),IF(LEN(Declarations!$B168)>0,Declarations!$B168,\"#\"&$A168),\"\")","v":""},"...","","00:00:00",0,"","",0,{"$f":"IF(LEN($A168)>0,IF(LEN(Declarations!$F168)>0,Declarations!$F168,conftype),\"\")","v":""},null,null,0,0,0,0,0,0,0,0,0,0,0,0,0,null,167]
[{"$f":"+Declarations!A169&\"\"","v":""},{"$f":"IF(LEN($A169),IF(LEN(Declarations!$B169)>0,Declarations!$B169,\"#\"&$A169),\"\")","v":""},"...","","00:00:00",0,"","",0,{"$f":"IF(LEN($A169)>0,IF(LEN(Declarations!$F169)>0,Declarations!$F169,conftype),\"\")","v":""},null,null,0,0,0,0,0,0,0,0,0,0,0,0,0,null,168]
[{"$f":"+Declarations!A170&\"\"","v":""},{"$f":"IF(LEN($A170),IF(LEN(Declarations!$B170)>0,Declarations!$B170,\"#\"&$A170),\"\")","v":""},"...","","00:00:00",0,"","",0,{"$f":"IF(LEN($A170)>0,IF(LEN(Declarations!$F170)>0,Declarations!$F170,conftype),\"\")","v":""},null,null,0,0,0,0,0,0,0,0,0,0,0,0,0,null,169]
[{"$f":"+Declarations!A171&\"\"","v":""},{"$f":"IF(LEN($A171),IF(LEN(Declarations!$B171)>0,Declarations!$B171,\"#\"&$A171),\"\")","v":""},"...","","00:00:00",0,"","",0,{"$f":"IF(LEN($A171)>0,IF(LEN(Declarations!$F171)>0,Declarations!$F171,conftype),\"\")","v":""},null,null,0,0,0,0,0,0,0,0,0,0,0,0,0,null,170]
[{"$f":"+Declarations!A172&\"\"","v":""},{"$f":"IF(LEN($A172),IF(LEN(Declarations!$B172)>0,Declarations!$B172,\"#\"&$A172),\"\")","v":""},"...","","00:00:00",0,"","",0,{"$f":"IF(LEN($A172)>0,IF(LEN(Declarations!$F172)>0,Declarations!$F172,conftype),\"\")","v":""},null,null,0,0,0,0,0,0,0,0,0,0,0,0,0,null,171]
[{"$f":"+Declarations!A173&\"\"","v":""},{"$f":"IF(LEN($A173),IF(LEN(Declarations!$B173)>0,Declarations!$B173,\"#\"&$A173),\"\")","v":""},"...","","00:00:00",0,"","",0,{"$f":"IF(LEN($A173)>0,IF(LEN(Declarations!$F173)>0,Declarations!$F173,conftype),\"\")","v":""},null,null,0,0,0,0,0,0,0,0,0,0,0,0,0,null,172]
[{"$f":"+Declarations!A174&\"\"","v":""},{"$f":"IF(LEN($A174),IF(LEN(Declarations!$B174)>0,Declarations!$B174,\"#\"&$A174),\"\")","v":""},"...","","00:00:00",0,"","",0,{"$f":"IF(LEN($A174)>0,IF(LEN(Declarations!$F174)>0,Declarations!$F174,conftype),\"\")","v":""},null,null,0,0,0,0,0,0,0,0,0,0,0,0,0,null,173]
[{"$f":"+Declarations!A175&\"\"","v":""},{"$f":"IF(LEN($A175),IF(LEN(Declarations!$B175)>0,Declarations!$B175,\"#\"&$A175),\"\")","v":""},"...","","00:00:00",0,"","",0,{"$f":"IF(LEN($A175)>0,IF(LEN(Declarations!$F175)>0,Declarations!$F175,conftype),\"\")","v":""},null,null,{"$f":"IF(ISNA(VLOOKUP($A175,SprintData,2,FALSE)),0,VLOOKUP($A175,SprintData,2,FALSE))","v":0},0,0,0,0,0,0,0,0,0,0,0,0,null,174]
[{"$f":"+Declarations!A176&\"\"","v":""},{"$f":"IF(LEN($A176),IF(LEN(Declarations!$B176)>0,Declarations!$B176,\"#\"&$A176),\"\")","v":""},"...","","00:00:00",0,"","",0,{"$f":"IF(LEN($A176)>0,IF(LEN(Declarations!$F176)>0,Declarations!$F176,conftype),\"\")","v":""},null,null,0,0,0,0,0,0,0,0,0,0,0,0,0,null,175]
[{"$f":"+Declarations!A177&\"\"","v":""},{"$f":"IF(LEN($A177),IF(LEN(Declarations!$B177)>0,Declarations!$B177,\"#\"&$A177),\"\")","v":""},"...","","00:00:00",0,"","",0,{"$f":"IF(LEN($A177)>0,IF(LEN(Declarations!$F177)>0,Declarations!$F177,conftype),\"\")","v":""},null,null,0,0,0,0,0,0,0,0,0,0,0,0,0,null,176]
[{"$f":"+Declarations!A178&\"\"","v":""},{"$f":"IF(LEN($A178),IF(LEN(Declarations!$B178)>0,Declarations!$B178,\"#\"&$A178),\"\")","v":""},"...","","00:00:00",0,"","",0,{"$f":"IF(LEN($A178)>0,IF(LEN(Declarations!$F178)>0,Declarations!$F178,conftype),\"\")","v":""},null,null,0,0,0,0,0,0,0,0,0,0,0,0,0,null,177]
[{"$f":"+Declarations!A179&\"\"","v":""},{"$f":"IF(LEN($A179),IF(LEN(Declarations!$B179)>0,Declarations!$B179,\"#\"&$A179),\"\")","v":""},"...","","00:00:00",0,"","",0,{"$f":"IF(LEN($A179)>0,IF(LEN(Declarations!$F179)>0,Declarations!$F179,conftype),\"\")","v":""},null,null,0,0,0,0,0,0,0,0,0,0,0,0,0,null,178]
[{"$f":"+Declarations!A180&\"\"","v":""},{"$f":"IF(LEN($A180),IF(LEN(Declarations!$B180)>0,Declarations!$B180,\"#\"&$A180),\"\")","v":""},"...","","00:00:00",0,"","",0,{"$f":"IF(LEN($A180)>0,IF(LEN(Declarations!$F180)>0,Declarations!$F180,conftype),\"\")","v":""},null,null,0,0,0,0,0,0,0,0,0,0,0,0,0,null,179]
[{"$f":"+Declarations!A181&\"\"","v":""},{"$f":"IF(LEN($A181),IF(LEN(Declarations!$B181)>0,Declarations!$B181,\"#\"&$A181),\"\")","v":""},"...","","00:00:00",0,"","",0,{"$f":"IF(LEN($A181)>0,IF(LEN(Declarations!$F181)>0,Declarations!$F181,conftype),\"\")","v":""},null,null,0,0,0,0,0,0,0,0,0,0,0,0,0,null,180]
[{"$f":"+Declarations!A182&\"\"","v":""},{"$f":"IF(LEN($A182),IF(LEN(Declarations!$B182)>0,Declarations!$B182,\"#\"&$A182),\"\")","v":""},"...","","00:00:00",0,"","",0,{"$f":"IF(LEN($A182)>0,IF(LEN(Declarations!$F182)>0,Declarations!$F182,conftype),\"\")","v":""},null,null,0,0,0,0,0,0,0,0,0,0,0,0,0,null,181]
[{"$f":"+Declarations!A183&\"\"","v":""},{"$f":"IF(LEN($A183),IF(LEN(Declarations!$B183)>0,Declarations!$B183,\"#\"&$A183),\"\")","v":""},"...","","00:00:00",0,"","",0,{"$f":"IF(LEN($A183)>0,IF(LEN(Declarations!$F183)>0,Declarations!$F183,conftype),\"\")","v":""},null,null,0,0,0,0,0,0,0,0,0,0,0,0,0,null,182]
[{"$f":"+Declarations!A184&\"\"","v":""},{"$f":"IF(LEN($A184),IF(LEN(Declarations!$B184)>0,Declarations!$B184,\"#\"&$A184),\"\")","v":""},"...","","00:00:00",0,"","",0,{"$f":"IF(LEN($A184)>0,IF(LEN(Declarations!$F184)>0,Declarations!$F184,conftype),\"\")","v":""},null,null,0,0,0,0,0,0,0,0,0,0,0,0,0,null,183]
[{"$f":"+Declarations!A185&\"\"","v":""},{"$f":"IF(LEN($A185),IF(LEN(Declarations!$B185)>0,Declarations!$B185,\"#\"&$A185),\"\")","v":""},"...","","00:00:00",0,"","",0,{"$f":"IF(LEN($A185)>0,IF(LEN(Declarations!$F185)>0,Declarations!$F185,conftype),\"\")","v":""},null,null,0,0,0,0,0,0,0,0,0,0,0,0,0,null,184]
[{"$f":"+Declarations!A186&\"\"","v":""},{"$f":"IF(LEN($A186),IF(LEN(Declarations!$B186)>0,Declarations!$B186,\"#\"&$A186),\"\")","v":""},"...","","00:00:00",0,"","",0,{"$f":"IF(LEN($A186)>0,IF(LEN(Declarations!$F186)>0,Declarations!$F186,conftype),\"\")","v":""},null,null,0,0,0,0,0,0,0,0,0,0,0,0,0,null,185]
[{"$f":"+Declarations!A187&\"\"","v":""},{"$f":"IF(LEN($A187),IF(LEN(Declarations!$B187)>0,Declarations!$B187,\"#\"&$A187),\"\")","v":""},"...","","00:00:00",0,"","",0,{"$f":"IF(LEN($A187)>0,IF(LEN(Declarations!$F187)>0,Declarations!$F187,conftype),\"\")","v":""},null,null,0,0,0,0,0,0,0,0,0,0,0,0,0,null,186]
[{"$f":"+Declarations!A188&\"\"","v":""},{"$f":"IF(LEN($A188),IF(LEN(Declarations!$B188)>0,Declarations!$B188,\"#\"&$A188),\"\")","v":""},"...","","00:00:00",0,"","",0,{"$f":"IF(LEN($A188)>0,IF(LEN(Declarations!$F188)>0,Declarations!$F188,conftype),\"\")","v":""},null,null,0,0,0,0,0,0,0,0,0,0,0,0,0,null,187]
[{"$f":"+Declarations!A189&\"\"","v":""},{"$f":"IF(LEN($A189),IF(LEN(Declarations!$B189)>0,Declarations!$B189,\"#\"&$A189),\"\")","v":""},"...","","00:00:00",0,"","",0,{"$f":"IF(LEN($A189)>0,IF(LEN(Declarations!$F189)>0,Declarations!$F189,conftype),\"\")","v":""},null,null,0,0,0,0,0,0,0,0,0,0,0,0,0,null,188]
[{"$f":"+Declarations!A190&\"\"","v":""},{"$f":"IF(LEN($A190),IF(LEN(Declarations!$B190)>0,Declarations!$B190,\"#\"&$A190),\"\")","v":""},"...","","00:00:00",0,"","",0,{"$f":"IF(LEN($A190)>0,IF(LEN(Declarations!$F190)>0,Declarations!$F190,conftype),\"\")","v":""},null,null,0,0,0,0,0,0,0,0,0,0,0,0,0,null,189]
[{"$f":"+Declarations!A191&\"\"","v":""},{"$f":"IF(LEN($A191),IF(LEN(Declarations!$B191)>0,Declarations!$B191,\"#\"&$A191),\"\")","v":""},"...","","00:00:00",0,"","",0,{"$f":"IF(LEN($A191)>0,IF(LEN(Declarations!$F191)>0,Declarations!$F191,conftype),\"\")","v":""},null,null,0,0,0,0,0,0,0,0,0,0,0,0,0,null,190]
[{"$f":"+Declarations!A192&\"\"","v":""},{"$f":"IF(LEN($A192),IF(LEN(Declarations!$B192)>0,Declarations!$B192,\"#\"&$A192),\"\")","v":""},"...","","00:00:00",0,"","",0,{"$f":"IF(LEN($A192)>0,IF(LEN(Declarations!$F192)>0,Declarations!$F192,conftype),\"\")","v":""},null,null,0,0,0,0,0,0,0,0,0,0,0,0,0,null,191]
[{"$f":"+Declarations!A193&\"\"","v":""},{"$f":"IF(LEN($A193),IF(LEN(Declarations!$B193)>0,Declarations!$B193,\"#\"&$A193),\"\")","v":""},"...","","00:00:00",0,"","",0,{"$f":"IF(LEN($A193)>0,IF(LEN(Declarations!$F193)>0,Declarations!$F193,conftype),\"\")","v":""},null,null,0,0,0,0,0,0,0,0,0,0,0,0,0,null,192]
[{"$f":"+Declarations!A194&\"\"","v":""},{"$f":"IF(LEN($A194),IF(LEN(Declarations!$B194)>0,Declarations!$B194,\"#\"&$A194),\"\")","v":""},{"$f":"IF(LEN(INDEX(DECLARATIONS,$AA194,3))>0,INDEX(DECLARATIONS,$AA194,3),\"...\")","v":"..."},"",{"$f":"IF(ISNA($AA194),0,INDEX(DECLARATIONS,$AA194,5))","v":"00:00:00"},{"$f":"IF(ISNA($AA194),0,INDEX(DECLARATIONS,$AA194,7))","v":0},{"$f":"UPPER(IF(ISNA($AA194),\"\",INDEX(DECLARATIONS,$AA194,4)))","v":""},{"$f":"IF(AND(A194>0,ISTEXT(B194)),IF(SECNAME=\"YES\",LEFT(B194&\" \",FIND(\" \",B194&\" \")+2)&IF(F194>0,\" (\"&F194&\")\",\"\"), B194&IF(F194>0,\" (\"&F194&\")\",\"\")),\"#\"&$A194)","v":""},{"$f":"IF(LEN($A194)>0,IF(LEN($J194)>0,MATCH(J194,MatchNames,0),EventIndex),0)","v":0},{"$f":"IF(LEN($A194)>0,IF(LEN(Declarations!$F194)>0,Declarations!$F194,conftype),\"\")","v":""},null,null,0,{"$f":"IF(ISNA(VLOOKUP($A194,JumpData,2,FALSE)),0,VLOOKUP($A194,JumpData,2,FALSE))","v":0},{"$f":"IF(ISNA(VLOOKUP($A194,RunData,2,FALSE)),0,VLOOKUP($A194,RunData,2,FALSE))","v":0},{"$f":"IF(ISNA(VLOOKUP($A194,ThrowData,2,FALSE)),0,VLOOKUP($A194,ThrowData,2,FALSE))","v":0},{"$f":"IF(ISNA(VLOOKUP($A194,SprintData,4,FALSE)),0,VLOOKUP($A194,SprintData,4,FALSE))+V194","v":0},{"$f":"IF(ISNA(VLOOKUP($A194,JumpData,4,FALSE)),0,VLOOKUP($A194,JumpData,4,FALSE))+W194","v":0},{"$f":"IF(ISNA(VLOOKUP($A194,RunData,4,FALSE)),0,VLOOKUP($A194,RunData,4,FALSE))+X194","v":0},{"$f":"IF(ISNA(VLOOKUP($A194,ThrowData,4,FALSE)),0,VLOOKUP($A194,ThrowData,4,FALSE))+Y194","v":0},{"$f":"+Q194+R194+S194+T194","v":0},{"$f":"IF(AND($F194>0,NOT(M194),Flexing),FlexPC,0)","v":0},{"$f":"IF(AND($F194>0,NOT(N194),Flexing),FlexPC,0)","v":0},{"$f":"IF(AND($F194>0,NOT(O194),Flexing),FlexPC,0)","v":0},{"$f":"IF(AND($F194>0,NOT(P194),Flexing),FlexPC,0)","v":0},null,193]
[{"$f":"+Declarations!A195&\"\"","v":""},{"$f":"IF(LEN($A195),IF(LEN(Declarations!$B195)>0,Declarations!$B195,\"#\"&$A195),\"\")","v":""},"...","","00:00:00",0,"","",0,{"$f":"IF(LEN($A195)>0,IF(LEN(Declarations!$F195)>0,Declarations!$F195,conftype),\"\")","v":""},null,null,0,0,0,0,0,0,0,0,0,0,0,0,0,null,{"$f":"ROW()-1","v":194}]
[{"$f":"+Declarations!A196&\"\"","v":""},{"$f":"IF(LEN($A196),IF(LEN(Declarations!$B196)>0,Declarations!$B196,\"#\"&$A196),\"\")","v":""},"...","","00:00:00",0,"","",0,{"$f":"IF(LEN($A196)>0,IF(LEN(Declarations!$F196)>0,Declarations!$F196,conftype),\"\")","v":""},null,null,0,0,0,0,0,0,0,0,0,0,0,0,0,null,195]
[{"$f":"+Declarations!A197&\"\"","v":""},{"$f":"IF(LEN($A197),IF(LEN(Declarations!$B197)>0,Declarations!$B197,\"#\"&$A197),\"\")","v":""},"...","","00:00:00",0,"","",0,{"$f":"IF(LEN($A197)>0,IF(LEN(Declarations!$F197)>0,Declarations!$F197,conftype),\"\")","v":""},null,null,0,0,0,0,0,0,0,0,0,0,0,0,0,null,196]
[{"$f":"+Declarations!A198&\"\"","v":""},{"$f":"IF(LEN($A198),IF(LEN(Declarations!$B198)>0,Declarations!$B198,\"#\"&$A198),\"\")","v":""},"...","","00:00:00",0,"","",0,{"$f":"IF(LEN($A198)>0,IF(LEN(Declarations!$F198)>0,Declarations!$F198,conftype),\"\")","v":""},null,null,0,0,0,0,0,0,0,0,0,0,0,0,0,null,197]
[{"$f":"+Declarations!A199&\"\"","v":""},{"$f":"IF(LEN($A199),IF(LEN(Declarations!$B199)>0,Declarations!$B199,\"#\"&$A199),\"\")","v":""},"...",{"$f":"IF(OR(G199=\"G\",G199=\"F\"),\"F\",IF(OR(G199=\"B\",G199=\"M\"),\"M\",\"\"))","v":""},"00:00:00",0,"","",0,{"$f":"IF(LEN($A199)>0,IF(LEN(Declarations!$F199)>0,Declarations!$F199,conftype),\"\")","v":""},null,null,0,0,0,0,0,0,0,0,0,0,0,0,0,null,198]
[{"$f":"+Declarations!A200&\"\"","v":""},{"$f":"IF(LEN($A200),IF(LEN(Declarations!$B200)>0,Declarations!$B200,\"#\"&$A200),\"\")","v":""},"...","","00:00:00",0,"","",0,{"$f":"IF(LEN($A200)>0,IF(LEN(Declarations!$F200)>0,Declarations!$F200,conftype),\"\")","v":""},null,null,0,0,0,0,0,0,0,0,0,0,0,0,0,null,199]
[{"$f":"+Declarations!A201&\"\"","v":""},{"$f":"IF(LEN($A201),IF(LEN(Declarations!$B201)>0,Declarations!$B201,\"#\"&$A201),\"\")","v":""},"...","","00:00:00",0,"","",0,{"$f":"IF(LEN($A201)>0,IF(LEN(Declarations!$F201)>0,Declarations!$F201,conftype),\"\")","v":""},null,null,0,0,0,0,0,0,0,0,0,0,0,0,0,null,200]
[{"$f":"+Declarations!A202&\"\"","v":""},{"$f":"IF(LEN($A202),IF(LEN(Declarations!$B202)>0,Declarations!$B202,\"#\"&$A202),\"\")","v":""},"...","","00:00:00",0,"","",0,{"$f":"IF(LEN($A202)>0,IF(LEN(Declarations!$F202)>0,Declarations!$F202,conftype),\"\")","v":""},null,null,0,0,0,0,0,0,0,0,0,0,0,0,0,null,201]
[{"$f":"+Declarations!A203&\"\"","v":""},{"$f":"IF(LEN($A203),IF(LEN(Declarations!$B203)>0,Declarations!$B203,\"#\"&$A203),\"\")","v":""},"...","","00:00:00",0,"","",0,{"$f":"IF(LEN($A203)>0,IF(LEN(Declarations!$F203)>0,Declarations!$F203,conftype),\"\")","v":""},null,null,0,0,0,0,0,0,0,0,0,0,0,0,0,null,202]
[{"$f":"+Declarations!A204&\"\"","v":""},{"$f":"IF(LEN($A204),IF(LEN(Declarations!$B204)>0,Declarations!$B204,\"#\"&$A204),\"\")","v":""},"...","","00:00:00",0,"","",0,{"$f":"IF(LEN($A204)>0,IF(LEN(Declarations!$F204)>0,Declarations!$F204,conftype),\"\")","v":""},null,null,0,0,0,0,0,0,0,0,0,0,0,0,0,null,203]
[{"$f":"+Declarations!A205&\"\"","v":""},{"$f":"IF(LEN($A205),IF(LEN(Declarations!$B205)>0,Declarations!$B205,\"#\"&$A205),\"\")","v":""},"...","","00:00:00",0,"","",0,{"$f":"IF(LEN($A205)>0,IF(LEN(Declarations!$F205)>0,Declarations!$F205,conftype),\"\")","v":""},null,null,0,0,0,0,0,0,0,0,0,0,0,0,0,null,204]
[{"$f":"+Declarations!A206&\"\"","v":""},{"$f":"IF(LEN($A206),IF(LEN(Declarations!$B206)>0,Declarations!$B206,\"#\"&$A206),\"\")","v":""},"...","","00:00:00",0,"","",0,{"$f":"IF(LEN($A206)>0,IF(LEN(Declarations!$F206)>0,Declarations!$F206,conftype),\"\")","v":""},null,null,0,0,0,0,0,0,0,0,0,0,0,0,0,null,205]
[{"$f":"+Declarations!A207&\"\"","v":""},{"$f":"IF(LEN($A207),IF(LEN(Declarations!$B207)>0,Declarations!$B207,\"#\"&$A207),\"\")","v":""},"...","","00:00:00",0,"","",0,{"$f":"IF(LEN($A207)>0,IF(LEN(Declarations!$F207)>0,Declarations!$F207,conftype),\"\")","v":""},null,null,0,0,0,0,0,0,0,0,0,0,0,0,0,null,206]
[{"$f":"+Declarations!A208&\"\"","v":""},{"$f":"IF(LEN($A208),IF(LEN(Declarations!$B208)>0,Declarations!$B208,\"#\"&$A208),\"\")","v":""},"...","","00:00:00",0,"","",0,{"$f":"IF(LEN($A208)>0,IF(LEN(Declarations!$F208)>0,Declarations!$F208,conftype),\"\")","v":""},null,null,0,0,0,0,0,0,0,0,0,0,0,0,0,null,207]
[{"$f":"+Declarations!A209&\"\"","v":""},{"$f":"IF(LEN($A209),IF(LEN(Declarations!$B209)>0,Declarations!$B209,\"#\"&$A209),\"\")","v":""},"...","","00:00:00",0,"","",0,{"$f":"IF(LEN($A209)>0,IF(LEN(Declarations!$F209)>0,Declarations!$F209,conftype),\"\")","v":""},null,null,0,0,0,0,0,0,0,0,0,0,0,0,0,null,208]
[{"$f":"+Declarations!A210&\"\"","v":""},{"$f":"IF(LEN($A210),IF(LEN(Declarations!$B210)>0,Declarations!$B210,\"#\"&$A210),\"\")","v":""},"...","","00:00:00",0,"","",0,{"$f":"IF(LEN($A210)>0,IF(LEN(Declarations!$F210)>0,Declarations!$F210,conftype),\"\")","v":""},null,null,0,0,0,0,0,0,0,0,0,0,0,0,0,null,209]
[{"$f":"+Declarations!A211&\"\"","v":""},{"$f":"IF(LEN($A211),IF(LEN(Declarations!$B211)>0,Declarations!$B211,\"#\"&$A211),\"\")","v":""},"...","","00:00:00",0,"","",0,{"$f":"IF(LEN($A211)>0,IF(LEN(Declarations!$F211)>0,Declarations!$F211,conftype),\"\")","v":""},null,null,0,0,0,0,0,0,0,0,0,0,0,0,0,null,210]
[{"$f":"+Declarations!A212&\"\"","v":""},{"$f":"IF(LEN($A212),IF(LEN(Declarations!$B212)>0,Declarations!$B212,\"#\"&$A212),\"\")","v":""},"...","","00:00:00",0,"","",0,{"$f":"IF(LEN($A212)>0,IF(LEN(Declarations!$F212)>0,Declarations!$F212,conftype),\"\")","v":""},null,null,0,0,0,0,0,0,0,0,0,0,0,0,0,null,211]
[{"$f":"+Declarations!A213&\"\"","v":""},{"$f":"IF(LEN($A213),IF(LEN(Declarations!$B213)>0,Declarations!$B213,\"#\"&$A213),\"\")","v":""},"...","","00:00:00",0,"","",0,{"$f":"IF(LEN($A213)>0,IF(LEN(Declarations!$F213)>0,Declarations!$F213,conftype),\"\")","v":""},null,null,0,0,0,0,0,0,0,0,0,0,0,0,0,null,212]
[{"$f":"+Declarations!A214&\"\"","v":""},{"$f":"IF(LEN($A214),IF(LEN(Declarations!$B214)>0,Declarations!$B214,\"#\"&$A214),\"\")","v":""},"...","","00:00:00",0,"","",0,{"$f":"IF(LEN($A214)>0,IF(LEN(Declarations!$F214)>0,Declarations!$F214,conftype),\"\")","v":""},null,null,0,0,0,0,0,0,0,0,0,0,0,0,0,null,213]
[{"$f":"+Declarations!A215&\"\"","v":""},{"$f":"IF(LEN($A215),IF(LEN(Declarations!$B215)>0,Declarations!$B215,\"#\"&$A215),\"\")","v":""},"...","","00:00:00",0,"","",0,{"$f":"IF(LEN($A215)>0,IF(LEN(Declarations!$F215)>0,Declarations!$F215,conftype),\"\")","v":""},null,null,0,0,0,0,0,0,0,0,0,0,0,0,0,null,214]
[{"$f":"+Declarations!A216&\"\"","v":""},{"$f":"IF(LEN($A216),IF(LEN(Declarations!$B216)>0,Declarations!$B216,\"#\"&$A216),\"\")","v":""},"...","","00:00:00",0,"","",0,{"$f":"IF(LEN($A216)>0,IF(LEN(Declarations!$F216)>0,Declarations!$F216,conftype),\"\")","v":""},null,null,0,0,0,0,0,0,0,0,0,0,0,0,0,null,215]
[{"$f":"+Declarations!A217&\"\"","v":""},{"$f":"IF(LEN($A217),IF(LEN(Declarations!$B217)>0,Declarations!$B217,\"#\"&$A217),\"\")","v":""},"...","","00:00:00",0,"","",0,{"$f":"IF(LEN($A217)>0,IF(LEN(Declarations!$F217)>0,Declarations!$F217,conftype),\"\")","v":""},null,null,0,0,0,0,0,0,0,0,0,0,0,0,0,null,216]
[{"$f":"+Declarations!A218&\"\"","v":""},{"$f":"IF(LEN($A218),IF(LEN(Declarations!$B218)>0,Declarations!$B218,\"#\"&$A218),\"\")","v":""},"...","","00:00:00",0,"","",0,{"$f":"IF(LEN($A218)>0,IF(LEN(Declarations!$F218)>0,Declarations!$F218,conftype),\"\")","v":""},null,null,0,0,0,0,0,0,0,0,0,0,0,0,0,null,217]
[{"$f":"+Declarations!A219&\"\"","v":""},{"$f":"IF(LEN($A219),IF(LEN(Declarations!$B219)>0,Declarations!$B219,\"#\"&$A219),\"\")","v":""},"...","","00:00:00",0,"","",0,{"$f":"IF(LEN($A219)>0,IF(LEN(Declarations!$F219)>0,Declarations!$F219,conftype),\"\")","v":""},null,null,0,0,0,0,0,0,0,0,0,0,0,0,0,null,218]
[{"$f":"+Declarations!A220&\"\"","v":""},{"$f":"IF(LEN($A220),IF(LEN(Declarations!$B220)>0,Declarations!$B220,\"#\"&$A220),\"\")","v":""},"...","","00:00:00",0,"","",0,{"$f":"IF(LEN($A220)>0,IF(LEN(Declarations!$F220)>0,Declarations!$F220,conftype),\"\")","v":""},null,null,0,0,0,0,0,0,0,0,0,0,0,0,0,null,219]
[{"$f":"+Declarations!A221&\"\"","v":""},{"$f":"IF(LEN($A221),IF(LEN(Declarations!$B221)>0,Declarations!$B221,\"#\"&$A221),\"\")","v":""},"...","","00:00:00",0,"","",0,{"$f":"IF(LEN($A221)>0,IF(LEN(Declarations!$F221)>0,Declarations!$F221,conftype),\"\")","v":""},null,null,0,0,0,0,0,0,0,0,0,0,0,0,0,null,220]
[{"$f":"+Declarations!A222&\"\"","v":""},{"$f":"IF(LEN($A222),IF(LEN(Declarations!$B222)>0,Declarations!$B222,\"#\"&$A222),\"\")","v":""},"...","","00:00:00",0,"","",0,{"$f":"IF(LEN($A222)>0,IF(LEN(Declarations!$F222)>0,Declarations!$F222,conftype),\"\")","v":""},null,null,0,0,0,0,0,0,0,0,0,0,0,0,0,null,221]
[{"$f":"+Declarations!A223&\"\"","v":""},{"$f":"IF(LEN($A223),IF(LEN(Declarations!$B223)>0,Declarations!$B223,\"#\"&$A223),\"\")","v":""},"...","","00:00:00",0,"","",0,{"$f":"IF(LEN($A223)>0,IF(LEN(Declarations!$F223)>0,Declarations!$F223,conftype),\"\")","v":""},null,null,0,0,0,0,0,0,0,0,0,0,0,0,0,null,222]
[{"$f":"+Declarations!A224&\"\"","v":""},{"$f":"IF(LEN($A224),IF(LEN(Declarations!$B224)>0,Declarations!$B224,\"#\"&$A224),\"\")","v":""},"...","","00:00:00",0,"","",0,{"$f":"IF(LEN($A224)>0,IF(LEN(Declarations!$F224)>0,Declarations!$F224,conftype),\"\")","v":""},null,null,0,0,0,0,0,0,0,0,0,0,0,0,0,null,223]
[{"$f":"+Declarations!A225&\"\"","v":""},{"$f":"IF(LEN($A225),IF(LEN(Declarations!$B225)>0,Declarations!$B225,\"#\"&$A225),\"\")","v":""},"...","","00:00:00",0,"","",0,{"$f":"IF(LEN($A225)>0,IF(LEN(Declarations!$F225)>0,Declarations!$F225,conftype),\"\")","v":""},null,null,0,0,0,0,0,0,0,0,0,0,0,0,0,null,224]
[{"$f":"+Declarations!A226&\"\"","v":""},{"$f":"IF(LEN($A226),IF(LEN(Declarations!$B226)>0,Declarations!$B226,\"#\"&$A226),\"\")","v":""},"...","","00:00:00",0,"","",0,{"$f":"IF(LEN($A226)>0,IF(LEN(Declarations!$F226)>0,Declarations!$F226,conftype),\"\")","v":""},null,null,0,0,0,0,0,0,0,0,0,0,0,0,0,null,225]
[{"$f":"+Declarations!A227&\"\"","v":""},{"$f":"IF(LEN($A227),IF(LEN(Declarations!$B227)>0,Declarations!$B227,\"#\"&$A227),\"\")","v":""},"...","","00:00:00",0,"","",0,{"$f":"IF(LEN($A227)>0,IF(LEN(Declarations!$F227)>0,Declarations!$F227,conftype),\"\")","v":""},null,null,0,0,0,0,0,0,0,0,0,0,0,0,0,null,226]
[{"$f":"+Declarations!A228&\"\"","v":""},{"$f":"IF(LEN($A228),IF(LEN(Declarations!$B228)>0,Declarations!$B228,\"#\"&$A228),\"\")","v":""},"...","","00:00:00",0,"","",0,{"$f":"IF(LEN($A228)>0,IF(LEN(Declarations!$F228)>0,Declarations!$F228,conftype),\"\")","v":""},null,null,0,0,0,0,0,0,0,0,0,0,0,0,0,null,227]
[{"$f":"+Declarations!A229&\"\"","v":""},{"$f":"IF(LEN($A229),IF(LEN(Declarations!$B229)>0,Declarations!$B229,\"#\"&$A229),\"\")","v":""},"...","","00:00:00",0,"","",0,{"$f":"IF(LEN($A229)>0,IF(LEN(Declarations!$F229)>0,Declarations!$F229,conftype),\"\")","v":""},null,null,0,0,0,0,0,0,0,0,0,0,0,0,0,null,228]
[{"$f":"+Declarations!A230&\"\"","v":""},{"$f":"IF(LEN($A230),IF(LEN(Declarations!$B230)>0,Declarations!$B230,\"#\"&$A230),\"\")","v":""},"...","","00:00:00",0,"","",0,{"$f":"IF(LEN($A230)>0,IF(LEN(Declarations!$F230)>0,Declarations!$F230,conftype),\"\")","v":""},null,null,0,0,0,0,0,0,0,0,0,0,0,0,0,null,229]
[{"$f":"+Declarations!A231&\"\"","v":""},{"$f":"IF(LEN($A231),IF(LEN(Declarations!$B231)>0,Declarations!$B231,\"#\"&$A231),\"\")","v":""},"...","","00:00:00",0,"","",0,{"$f":"IF(LEN($A231)>0,IF(LEN(Declarations!$F231)>0,Declarations!$F231,conftype),\"\")","v":""},null,null,0,0,0,0,0,0,0,0,0,0,0,0,0,null,230]
[{"$f":"+Declarations!A232&\"\"","v":""},{"$f":"IF(LEN($A232),IF(LEN(Declarations!$B232)>0,Declarations!$B232,\"#\"&$A232),\"\")","v":""},"...","","00:00:00",0,"","",0,{"$f":"IF(LEN($A232)>0,IF(LEN(Declarations!$F232)>0,Declarations!$F232,conftype),\"\")","v":""},null,null,0,0,0,0,0,0,0,0,0,0,0,0,0,null,231]
[{"$f":"+Declarations!A233&\"\"","v":""},{"$f":"IF(LEN($A233),IF(LEN(Declarations!$B233)>0,Declarations!$B233,\"#\"&$A233),\"\")","v":""},"...","","00:00:00",0,"","",0,{"$f":"IF(LEN($A233)>0,IF(LEN(Declarations!$F233)>0,Declarations!$F233,conftype),\"\")","v":""},null,null,0,0,0,0,0,0,0,0,0,0,0,0,0,null,232]
[{"$f":"+Declarations!A234&\"\"","v":""},{"$f":"IF(LEN($A234),IF(LEN(Declarations!$B234)>0,Declarations!$B234,\"#\"&$A234),\"\")","v":""},"...","","00:00:00",0,"","",0,{"$f":"IF(LEN($A234)>0,IF(LEN(Declarations!$F234)>0,Declarations!$F234,conftype),\"\")","v":""},null,null,0,0,0,0,0,0,0,0,0,0,0,0,0,null,233]
[{"$f":"+Declarations!A235&\"\"","v":""},{"$f":"IF(LEN($A235),IF(LEN(Declarations!$B235)>0,Declarations!$B235,\"#\"&$A235),\"\")","v":""},"...","","00:00:00",0,"","",0,{"$f":"IF(LEN($A235)>0,IF(LEN(Declarations!$F235)>0,Declarations!$F235,conftype),\"\")","v":""},null,null,0,0,0,0,0,0,0,0,0,0,0,0,0,null,234]
[{"$f":"+Declarations!A236&\"\"","v":""},{"$f":"IF(LEN($A236),IF(LEN(Declarations!$B236)>0,Declarations!$B236,\"#\"&$A236),\"\")","v":""},"...","","00:00:00",0,"","",0,{"$f":"IF(LEN($A236)>0,IF(LEN(Declarations!$F236)>0,Declarations!$F236,conftype),\"\")","v":""},null,null,0,0,0,0,0,0,0,0,0,0,0,0,0,null,235]
[{"$f":"+Declarations!A237&\"\"","v":""},{"$f":"IF(LEN($A237),IF(LEN(Declarations!$B237)>0,Declarations!$B237,\"#\"&$A237),\"\")","v":""},"...","","00:00:00",0,"","",0,{"$f":"IF(LEN($A237)>0,IF(LEN(Declarations!$F237)>0,Declarations!$F237,conftype),\"\")","v":""},null,null,0,0,0,0,0,0,0,0,0,0,0,0,0,null,236]
[{"$f":"+Declarations!A238&\"\"","v":""},{"$f":"IF(LEN($A238),IF(LEN(Declarations!$B238)>0,Declarations!$B238,\"#\"&$A238),\"\")","v":""},"...","","00:00:00",0,"","",0,{"$f":"IF(LEN($A238)>0,IF(LEN(Declarations!$F238)>0,Declarations!$F238,conftype),\"\")","v":""},null,null,0,0,0,0,0,0,0,0,0,0,0,0,0,null,237]
[{"$f":"+Declarations!A239&\"\"","v":""},{"$f":"IF(LEN($A239),IF(LEN(Declarations!$B239)>0,Declarations!$B239,\"#\"&$A239),\"\")","v":""},"...","","00:00:00",0,"","",0,{"$f":"IF(LEN($A239)>0,IF(LEN(Declarations!$F239)>0,Declarations!$F239,conftype),\"\")","v":""},null,null,{"$f":"IF(ISNA(VLOOKUP($A239,SprintData,2,FALSE)),0,VLOOKUP($A239,SprintData,2,FALSE))","v":0},0,0,0,0,0,0,0,0,0,0,0,0,null,238]
[{"$f":"+Declarations!A240&\"\"","v":""},{"$f":"IF(LEN($A240),IF(LEN(Declarations!$B240)>0,Declarations!$B240,\"#\"&$A240),\"\")","v":""},"...","","00:00:00",0,"","",0,{"$f":"IF(LEN($A240)>0,IF(LEN(Declarations!$F240)>0,Declarations!$F240,conftype),\"\")","v":""},null,null,0,0,0,0,0,0,0,0,0,0,0,0,0,null,239]
[{"$f":"+Declarations!A241&\"\"","v":""},{"$f":"IF(LEN($A241),IF(LEN(Declarations!$B241)>0,Declarations!$B241,\"#\"&$A241),\"\")","v":""},"...","","00:00:00",0,"","",0,{"$f":"IF(LEN($A241)>0,IF(LEN(Declarations!$F241)>0,Declarations!$F241,conftype),\"\")","v":""},null,null,0,0,0,0,0,0,0,0,0,0,0,0,0,null,240]
[{"$f":"+Declarations!A242&\"\"","v":""},{"$f":"IF(LEN($A242),IF(LEN(Declarations!$B242)>0,Declarations!$B242,\"#\"&$A242),\"\")","v":""},"...","","00:00:00",0,"","",0,{"$f":"IF(LEN($A242)>0,IF(LEN(Declarations!$F242)>0,Declarations!$F242,conftype),\"\")","v":""},null,null,0,0,0,0,0,0,0,0,0,0,0,0,0,null,241]
[{"$f":"+Declarations!A243&\"\"","v":""},{"$f":"IF(LEN($A243),IF(LEN(Declarations!$B243)>0,Declarations!$B243,\"#\"&$A243),\"\")","v":""},"...","","00:00:00",0,"","",0,{"$f":"IF(LEN($A243)>0,IF(LEN(Declarations!$F243)>0,Declarations!$F243,conftype),\"\")","v":""},null,null,0,0,0,0,0,0,0,0,0,0,0,0,0,null,242]
[{"$f":"+Declarations!A244&\"\"","v":""},{"$f":"IF(LEN($A244),IF(LEN(Declarations!$B244)>0,Declarations!$B244,\"#\"&$A244),\"\")","v":""},"...","","00:00:00",0,"","",0,{"$f":"IF(LEN($A244)>0,IF(LEN(Declarations!$F244)>0,Declarations!$F244,conftype),\"\")","v":""},null,null,0,0,0,0,0,0,0,0,0,0,0,0,0,null,243]
[{"$f":"+Declarations!A245&\"\"","v":""},{"$f":"IF(LEN($A245),IF(LEN(Declarations!$B245)>0,Declarations!$B245,\"#\"&$A245),\"\")","v":""},"...","","00:00:00",0,"","",0,{"$f":"IF(LEN($A245)>0,IF(LEN(Declarations!$F245)>0,Declarations!$F245,conftype),\"\")","v":""},null,null,0,0,0,0,0,0,0,0,0,0,0,0,0,null,244]
[{"$f":"+Declarations!A246&\"\"","v":""},{"$f":"IF(LEN($A246),IF(LEN(Declarations!$B246)>0,Declarations!$B246,\"#\"&$A246),\"\")","v":""},"...","","00:00:00",0,"","",0,{"$f":"IF(LEN($A246)>0,IF(LEN(Declarations!$F246)>0,Declarations!$F246,conftype),\"\")","v":""},null,null,0,0,0,0,0,0,0,0,0,0,0,0,0,null,245]
[{"$f":"+Declarations!A247&\"\"","v":""},{"$f":"IF(LEN($A247),IF(LEN(Declarations!$B247)>0,Declarations!$B247,\"#\"&$A247),\"\")","v":""},"...","","00:00:00",0,"","",0,{"$f":"IF(LEN($A247)>0,IF(LEN(Declarations!$F247)>0,Declarations!$F247,conftype),\"\")","v":""},null,null,0,0,0,0,0,0,0,0,0,0,0,0,0,null,246]
[{"$f":"+Declarations!A248&\"\"","v":""},{"$f":"IF(LEN($A248),IF(LEN(Declarations!$B248)>0,Declarations!$B248,\"#\"&$A248),\"\")","v":""},"...","","00:00:00",0,"","",0,{"$f":"IF(LEN($A248)>0,IF(LEN(Declarations!$F248)>0,Declarations!$F248,conftype),\"\")","v":""},null,null,0,0,0,0,0,0,0,0,0,0,0,0,0,null,247]
[{"$f":"+Declarations!A249&\"\"","v":""},{"$f":"IF(LEN($A249),IF(LEN(Declarations!$B249)>0,Declarations!$B249,\"#\"&$A249),\"\")","v":""},"...","","00:00:00",0,"","",0,{"$f":"IF(LEN($A249)>0,IF(LEN(Declarations!$F249)>0,Declarations!$F249,conftype),\"\")","v":""},null,null,0,0,0,0,0,0,0,0,0,0,0,0,0,null,248]
[{"$f":"+Declarations!A250&\"\"","v":""},{"$f":"IF(LEN($A250),IF(LEN(Declarations!$B250)>0,Declarations!$B250,\"#\"&$A250),\"\")","v":""},"...","","00:00:00",0,"","",0,{"$f":"IF(LEN($A250)>0,IF(LEN(Declarations!$F250)>0,Declarations!$F250,conftype),\"\")","v":""},null,null,0,0,0,0,0,0,0,0,0,0,0,0,0,null,249]
[{"$f":"+Declarations!A251&\"\"","v":""},{"$f":"IF(LEN($A251),IF(LEN(Declarations!$B251)>0,Declarations!$B251,\"#\"&$A251),\"\")","v":""},"...","","00:00:00",0,"","",0,{"$f":"IF(LEN($A251)>0,IF(LEN(Declarations!$F251)>0,Declarations!$F251,conftype),\"\")","v":""},null,null,0,0,0,0,0,0,0,0,0,0,0,0,0,null,250]
[{"$f":"+Declarations!A252&\"\"","v":""},{"$f":"IF(LEN($A252),IF(LEN(Declarations!$B252)>0,Declarations!$B252,\"#\"&$A252),\"\")","v":""},"...","","00:00:00",0,"","",0,{"$f":"IF(LEN($A252)>0,IF(LEN(Declarations!$F252)>0,Declarations!$F252,conftype),\"\")","v":""},null,null,0,0,0,0,0,0,0,0,0,0,0,0,0,null,251]
[{"$f":"+Declarations!A253&\"\"","v":""},{"$f":"IF(LEN($A253),IF(LEN(Declarations!$B253)>0,Declarations!$B253,\"#\"&$A253),\"\")","v":""},"...","","00:00:00",0,"","",0,{"$f":"IF(LEN($A253)>0,IF(LEN(Declarations!$F253)>0,Declarations!$F253,conftype),\"\")","v":""},null,null,0,0,0,0,0,0,0,0,0,0,0,0,0,null,252]
[{"$f":"+Declarations!A254&\"\"","v":""},{"$f":"IF(LEN($A254),IF(LEN(Declarations!$B254)>0,Declarations!$B254,\"#\"&$A254),\"\")","v":""},"...","","00:00:00",0,"","",0,{"$f":"IF(LEN($A254)>0,IF(LEN(Declarations!$F254)>0,Declarations!$F254,conftype),\"\")","v":""},null,null,0,0,0,0,0,0,0,0,0,0,0,0,0,null,253]
[{"$f":"+Declarations!A255&\"\"","v":""},{"$f":"IF(LEN($A255),IF(LEN(Declarations!$B255)>0,Declarations!$B255,\"#\"&$A255),\"\")","v":""},"...","","00:00:00",0,"","",0,{"$f":"IF(LEN($A255)>0,IF(LEN(Declarations!$F255)>0,Declarations!$F255,conftype),\"\")","v":""},null,null,0,0,0,0,0,0,0,0,0,0,0,0,0,null,254]
[{"$f":"+Declarations!A256&\"\"","v":""},{"$f":"IF(LEN($A256),IF(LEN(Declarations!$B256)>0,Declarations!$B256,\"#\"&$A256),\"\")","v":""},"...","","00:00:00",0,"","",0,{"$f":"IF(LEN($A256)>0,IF(LEN(Declarations!$F256)>0,Declarations!$F256,conftype),\"\")","v":""},null,null,0,0,0,0,0,0,0,0,0,0,0,0,0,null,255]
[{"$f":"+Declarations!A257&\"\"","v":""},{"$f":"IF(LEN($A257),IF(LEN(Declarations!$B257)>0,Declarations!$B257,\"#\"&$A257),\"\")","v":""},"...","","00:00:00",0,"","",0,{"$f":"IF(LEN($A257)>0,IF(LEN(Declarations!$F257)>0,Declarations!$F257,conftype),\"\")","v":""},null,null,0,0,0,0,0,0,0,0,0,0,0,0,0,null,256]
[{"$f":"+Declarations!A258&\"\"","v":""},{"$f":"IF(LEN($A258),IF(LEN(Declarations!$B258)>0,Declarations!$B258,\"#\"&$A258),\"\")","v":""},{"$f":"IF(LEN(INDEX(DECLARATIONS,$AA258,3))>0,INDEX(DECLARATIONS,$AA258,3),\"...\")","v":"..."},"",{"$f":"IF(ISNA($AA258),0,INDEX(DECLARATIONS,$AA258,5))","v":"00:00:00"},{"$f":"IF(ISNA($AA258),0,INDEX(DECLARATIONS,$AA258,7))","v":0},{"$f":"UPPER(IF(ISNA($AA258),\"\",INDEX(DECLARATIONS,$AA258,4)))","v":""},{"$f":"IF(AND(A258>0,ISTEXT(B258)),IF(SECNAME=\"YES\",LEFT(B258&\" \",FIND(\" \",B258&\" \")+2)&IF(F258>0,\" (\"&F258&\")\",\"\"), B258&IF(F258>0,\" (\"&F258&\")\",\"\")),\"#\"&$A258)","v":""},{"$f":"IF(LEN($A258)>0,IF(LEN($J258)>0,MATCH(J258,MatchNames,0),EventIndex),0)","v":0},{"$f":"IF(LEN($A258)>0,IF(LEN(Declarations!$F258)>0,Declarations!$F258,conftype),\"\")","v":""},null,null,0,{"$f":"IF(ISNA(VLOOKUP($A258,JumpData,2,FALSE)),0,VLOOKUP($A258,JumpData,2,FALSE))","v":0},{"$f":"IF(ISNA(VLOOKUP($A258,RunData,2,FALSE)),0,VLOOKUP($A258,RunData,2,FALSE))","v":0},{"$f":"IF(ISNA(VLOOKUP($A258,ThrowData,2,FALSE)),0,VLOOKUP($A258,ThrowData,2,FALSE))","v":0},{"$f":"IF(ISNA(VLOOKUP($A258,SprintData,4,FALSE)),0,VLOOKUP($A258,SprintData,4,FALSE))+V258","v":0},{"$f":"IF(ISNA(VLOOKUP($A258,JumpData,4,FALSE)),0,VLOOKUP($A258,JumpData,4,FALSE))+W258","v":0},{"$f":"IF(ISNA(VLOOKUP($A258,RunData,4,FALSE)),0,VLOOKUP($A258,RunData,4,FALSE))+X258","v":0},{"$f":"IF(ISNA(VLOOKUP($A258,ThrowData,4,FALSE)),0,VLOOKUP($A258,ThrowData,4,FALSE))+Y258","v":0},{"$f":"+Q258+R258+S258+T258","v":0},{"$f":"IF(AND($F258>0,NOT(M258),Flexing),FlexPC,0)","v":0},{"$f":"IF(AND($F258>0,NOT(N258),Flexing),FlexPC,0)","v":0},{"$f":"IF(AND($F258>0,NOT(O258),Flexing),FlexPC,0)","v":0},{"$f":"IF(AND($F258>0,NOT(P258),Flexing),FlexPC,0)","v":0},null,257]
[{"$f":"+Declarations!A259&\"\"","v":""},{"$f":"IF(LEN($A259),IF(LEN(Declarations!$B259)>0,Declarations!$B259,\"#\"&$A259),\"\")","v":""},"...","","00:00:00",0,"","",0,{"$f":"IF(LEN($A259)>0,IF(LEN(Declarations!$F259)>0,Declarations!$F259,conftype),\"\")","v":""},null,null,0,0,0,0,0,0,0,0,0,0,0,0,0,null,{"$f":"ROW()-1","v":258}]
[{"$f":"+Declarations!A260&\"\"","v":""},{"$f":"IF(LEN($A260),IF(LEN(Declarations!$B260)>0,Declarations!$B260,\"#\"&$A260),\"\")","v":""},"...","","00:00:00",0,"","",0,{"$f":"IF(LEN($A260)>0,IF(LEN(Declarations!$F260)>0,Declarations!$F260,conftype),\"\")","v":""},null,null,0,0,0,0,0,0,0,0,0,0,0,0,0,null,259]
[{"$f":"+Declarations!A261&\"\"","v":""},{"$f":"IF(LEN($A261),IF(LEN(Declarations!$B261)>0,Declarations!$B261,\"#\"&$A261),\"\")","v":""},"...","","00:00:00",0,"","",0,{"$f":"IF(LEN($A261)>0,IF(LEN(Declarations!$F261)>0,Declarations!$F261,conftype),\"\")","v":""},null,null,0,0,0,0,0,0,0,0,0,0,0,0,0,null,260]
[{"$f":"+Declarations!A262&\"\"","v":""},{"$f":"IF(LEN($A262),IF(LEN(Declarations!$B262)>0,Declarations!$B262,\"#\"&$A262),\"\")","v":""},"...","","00:00:00",0,"","",0,{"$f":"IF(LEN($A262)>0,IF(LEN(Declarations!$F262)>0,Declarations!$F262,conftype),\"\")","v":""},null,null,0,0,0,0,0,0,0,0,0,0,0,0,0,null,261]
[{"$f":"+Declarations!A263&\"\"","v":""},{"$f":"IF(LEN($A263),IF(LEN(Declarations!$B263)>0,Declarations!$B263,\"#\"&$A263),\"\")","v":""},"...",{"$f":"IF(OR(G263=\"G\",G263=\"F\"),\"F\",IF(OR(G263=\"B\",G263=\"M\"),\"M\",\"\"))","v":""},"00:00:00",0,"","",0,{"$f":"IF(LEN($A263)>0,IF(LEN(Declarations!$F263)>0,Declarations!$F263,conftype),\"\")","v":""},null,null,0,0,0,0,0,0,0,0,0,0,0,0,0,null,262]
[{"$f":"+Declarations!A264&\"\"","v":""},{"$f":"IF(LEN($A264),IF(LEN(Declarations!$B264)>0,Declarations!$B264,\"#\"&$A264),\"\")","v":""},"...","","00:00:00",0,"","",0,{"$f":"IF(LEN($A264)>0,IF(LEN(Declarations!$F264)>0,Declarations!$F264,conftype),\"\")","v":""},null,null,0,0,0,0,0,0,0,0,0,0,0,0,0,null,263]
[{"$f":"+Declarations!A265&\"\"","v":""},{"$f":"IF(LEN($A265),IF(LEN(Declarations!$B265)>0,Declarations!$B265,\"#\"&$A265),\"\")","v":""},"...","","00:00:00",0,"","",0,{"$f":"IF(LEN($A265)>0,IF(LEN(Declarations!$F265)>0,Declarations!$F265,conftype),\"\")","v":""},null,null,0,0,0,0,0,0,0,0,0,0,0,0,0,null,264]
[{"$f":"+Declarations!A266&\"\"","v":""},{"$f":"IF(LEN($A266),IF(LEN(Declarations!$B266)>0,Declarations!$B266,\"#\"&$A266),\"\")","v":""},"...","","00:00:00",0,"","",0,{"$f":"IF(LEN($A266)>0,IF(LEN(Declarations!$F266)>0,Declarations!$F266,conftype),\"\")","v":""},null,null,0,0,0,0,0,0,0,0,0,0,0,0,0,null,265]
[{"$f":"+Declarations!A267&\"\"","v":""},{"$f":"IF(LEN($A267),IF(LEN(Declarations!$B267)>0,Declarations!$B267,\"#\"&$A267),\"\")","v":""},"...","","00:00:00",0,"","",0,{"$f":"IF(LEN($A267)>0,IF(LEN(Declarations!$F267)>0,Declarations!$F267,conftype),\"\")","v":""},null,null,0,0,0,0,0,0,0,0,0,0,0,0,0,null,266]
[{"$f":"+Declarations!A268&\"\"","v":""},{"$f":"IF(LEN($A268),IF(LEN(Declarations!$B268)>0,Declarations!$B268,\"#\"&$A268),\"\")","v":""},"...","","00:00:00",0,"","",0,{"$f":"IF(LEN($A268)>0,IF(LEN(Declarations!$F268)>0,Declarations!$F268,conftype),\"\")","v":""},null,null,0,0,0,0,0,0,0,0,0,0,0,0,0,null,267]
[{"$f":"+Declarations!A269&\"\"","v":""},{"$f":"IF(LEN($A269),IF(LEN(Declarations!$B269)>0,Declarations!$B269,\"#\"&$A269),\"\")","v":""},"...","","00:00:00",0,"","",0,{"$f":"IF(LEN($A269)>0,IF(LEN(Declarations!$F269)>0,Declarations!$F269,conftype),\"\")","v":""},null,null,0,0,0,0,0,0,0,0,0,0,0,0,0,null,268]
[{"$f":"+Declarations!A270&\"\"","v":""},{"$f":"IF(LEN($A270),IF(LEN(Declarations!$B270)>0,Declarations!$B270,\"#\"&$A270),\"\")","v":""},"...","","00:00:00",0,"","",0,{"$f":"IF(LEN($A270)>0,IF(LEN(Declarations!$F270)>0,Declarations!$F270,conftype),\"\")","v":""},null,null,0,0,0,0,0,0,0,0,0,0,0,0,0,null,269]
[{"$f":"+Declarations!A271&\"\"","v":""},{"$f":"IF(LEN($A271),IF(LEN(Declarations!$B271)>0,Declarations!$B271,\"#\"&$A271),\"\")","v":""},"...","","00:00:00",0,"","",0,{"$f":"IF(LEN($A271)>0,IF(LEN(Declarations!$F271)>0,Declarations!$F271,conftype),\"\")","v":""},null,null,0,0,0,0,0,0,0,0,0,0,0,0,0,null,270]
[{"$f":"+Declarations!A272&\"\"","v":""},{"$f":"IF(LEN($A272),IF(LEN(Declarations!$B272)>0,Declarations!$B272,\"#\"&$A272),\"\")","v":""},"...","","00:00:00",0,"","",0,{"$f":"IF(LEN($A272)>0,IF(LEN(Declarations!$F272)>0,Declarations!$F272,conftype),\"\")","v":""},null,null,0,0,0,0,0,0,0,0,0,0,0,0,0,null,271]
[{"$f":"+Declarations!A273&\"\"","v":""},{"$f":"IF(LEN($A273),IF(LEN(Declarations!$B273)>0,Declarations!$B273,\"#\"&$A273),\"\")","v":""},"...","","00:00:00",0,"","",0,{"$f":"IF(LEN($A273)>0,IF(LEN(Declarations!$F273)>0,Declarations!$F273,conftype),\"\")","v":""},null,null,0,0,0,0,0,0,0,0,0,0,0,0,0,null,272]
[{"$f":"+Declarations!A274&\"\"","v":""},{"$f":"IF(LEN($A274),IF(LEN(Declarations!$B274)>0,Declarations!$B274,\"#\"&$A274),\"\")","v":""},"...","","00:00:00",0,"","",0,{"$f":"IF(LEN($A274)>0,IF(LEN(Declarations!$F274)>0,Declarations!$F274,conftype),\"\")","v":""},null,null,0,0,0,0,0,0,0,0,0,0,0,0,0,null,273]
[{"$f":"+Declarations!A275&\"\"","v":""},{"$f":"IF(LEN($A275),IF(LEN(Declarations!$B275)>0,Declarations!$B275,\"#\"&$A275),\"\")","v":""},"...","","00:00:00",0,"","",0,{"$f":"IF(LEN($A275)>0,IF(LEN(Declarations!$F275)>0,Declarations!$F275,conftype),\"\")","v":""},null,null,0,0,0,0,0,0,0,0,0,0,0,0,0,null,274]
[{"$f":"+Declarations!A276&\"\"","v":""},{"$f":"IF(LEN($A276),IF(LEN(Declarations!$B276)>0,Declarations!$B276,\"#\"&$A276),\"\")","v":""},"...","","00:00:00",0,"","",0,{"$f":"IF(LEN($A276)>0,IF(LEN(Declarations!$F276)>0,Declarations!$F276,conftype),\"\")","v":""},null,null,0,0,0,0,0,0,0,0,0,0,0,0,0,null,275]
[{"$f":"+Declarations!A277&\"\"","v":""},{"$f":"IF(LEN($A277),IF(LEN(Declarations!$B277)>0,Declarations!$B277,\"#\"&$A277),\"\")","v":""},"...","","00:00:00",0,"","",0,{"$f":"IF(LEN($A277)>0,IF(LEN(Declarations!$F277)>0,Declarations!$F277,conftype),\"\")","v":""},null,null,0,0,0,0,0,0,0,0,0,0,0,0,0,null,276]
[{"$f":"+Declarations!A278&\"\"","v":""},{"$f":"IF(LEN($A278),IF(LEN(Declarations!$B278)>0,Declarations!$B278,\"#\"&$A278),\"\")","v":""},"...","","00:00:00",0,"","",0,{"$f":"IF(LEN($A278)>0,IF(LEN(Declarations!$F278)>0,Declarations!$F278,conftype),\"\")","v":""},null,null,0,0,0,0,0,0,0,0,0,0,0,0,0,null,277]
[{"$f":"+Declarations!A279&\"\"","v":""},{"$f":"IF(LEN($A279),IF(LEN(Declarations!$B279)>0,Declarations!$B279,\"#\"&$A279),\"\")","v":""},"...","","00:00:00",0,"","",0,{"$f":"IF(LEN($A279)>0,IF(LEN(Declarations!$F279)>0,Declarations!$F279,conftype),\"\")","v":""},null,null,0,0,0,0,0,0,0,0,0,0,0,0,0,null,278]
[{"$f":"+Declarations!A280&\"\"","v":""},{"$f":"IF(LEN($A280),IF(LEN(Declarations!$B280)>0,Declarations!$B280,\"#\"&$A280),\"\")","v":""},"...","","00:00:00",0,"","",0,{"$f":"IF(LEN($A280)>0,IF(LEN(Declarations!$F280)>0,Declarations!$F280,conftype),\"\")","v":""},null,null,0,0,0,0,0,0,0,0,0,0,0,0,0,null,279]
[{"$f":"+Declarations!A281&\"\"","v":""},{"$f":"IF(LEN($A281),IF(LEN(Declarations!$B281)>0,Declarations!$B281,\"#\"&$A281),\"\")","v":""},"...","","00:00:00",0,"","",0,{"$f":"IF(LEN($A281)>0,IF(LEN(Declarations!$F281)>0,Declarations!$F281,conftype),\"\")","v":""},null,null,0,0,0,0,0,0,0,0,0,0,0,0,0,null,280]
[{"$f":"+Declarations!A282&\"\"","v":""},{"$f":"IF(LEN($A282),IF(LEN(Declarations!$B282)>0,Declarations!$B282,\"#\"&$A282),\"\")","v":""},"...","","00:00:00",0,"","",0,{"$f":"IF(LEN($A282)>0,IF(LEN(Declarations!$F282)>0,Declarations!$F282,conftype),\"\")","v":""},null,null,0,0,0,0,0,0,0,0,0,0,0,0,0,null,281]
[{"$f":"+Declarations!A283&\"\"","v":""},{"$f":"IF(LEN($A283),IF(LEN(Declarations!$B283)>0,Declarations!$B283,\"#\"&$A283),\"\")","v":""},"...","","00:00:00",0,"","",0,{"$f":"IF(LEN($A283)>0,IF(LEN(Declarations!$F283)>0,Declarations!$F283,conftype),\"\")","v":""},null,null,0,0,0,0,0,0,0,0,0,0,0,0,0,null,282]
[{"$f":"+Declarations!A284&\"\"","v":""},{"$f":"IF(LEN($A284),IF(LEN(Declarations!$B284)>0,Declarations!$B284,\"#\"&$A284),\"\")","v":""},"...","","00:00:00",0,"","",0,{"$f":"IF(LEN($A284)>0,IF(LEN(Declarations!$F284)>0,Declarations!$F284,conftype),\"\")","v":""},null,null,0,0,0,0,0,0,0,0,0,0,0,0,0,null,283]
[{"$f":"+Declarations!A285&\"\"","v":""},{"$f":"IF(LEN($A285),IF(LEN(Declarations!$B285)>0,Declarations!$B285,\"#\"&$A285),\"\")","v":""},"...","","00:00:00",0,"","",0,{"$f":"IF(LEN($A285)>0,IF(LEN(Declarations!$F285)>0,Declarations!$F285,conftype),\"\")","v":""},null,null,0,0,0,0,0,0,0,0,0,0,0,0,0,null,284]
[{"$f":"+Declarations!A286&\"\"","v":""},{"$f":"IF(LEN($A286),IF(LEN(Declarations!$B286)>0,Declarations!$B286,\"#\"&$A286),\"\")","v":""},"...","","00:00:00",0,"","",0,{"$f":"IF(LEN($A286)>0,IF(LEN(Declarations!$F286)>0,Declarations!$F286,conftype),\"\")","v":""},null,null,0,0,0,0,0,0,0,0,0,0,0,0,0,null,285]
[{"$f":"+Declarations!A287&\"\"","v":""},{"$f":"IF(LEN($A287),IF(LEN(Declarations!$B287)>0,Declarations!$B287,\"#\"&$A287),\"\")","v":""},"...","","00:00:00",0,"","",0,{"$f":"IF(LEN($A287)>0,IF(LEN(Declarations!$F287)>0,Declarations!$F287,conftype),\"\")","v":""},null,null,0,0,0,0,0,0,0,0,0,0,0,0,0,null,286]
[{"$f":"+Declarations!A288&\"\"","v":""},{"$f":"IF(LEN($A288),IF(LEN(Declarations!$B288)>0,Declarations!$B288,\"#\"&$A288),\"\")","v":""},"...","","00:00:00",0,"","",0,{"$f":"IF(LEN($A288)>0,IF(LEN(Declarations!$F288)>0,Declarations!$F288,conftype),\"\")","v":""},null,null,0,0,0,0,0,0,0,0,0,0,0,0,0,null,287]
[{"$f":"+Declarations!A289&\"\"","v":""},{"$f":"IF(LEN($A289),IF(LEN(Declarations!$B289)>0,Declarations!$B289,\"#\"&$A289),\"\")","v":""},"...","","00:00:00",0,"","",0,{"$f":"IF(LEN($A289)>0,IF(LEN(Declarations!$F289)>0,Declarations!$F289,conftype),\"\")","v":""},null,null,0,0,0,0,0,0,0,0,0,0,0,0,0,null,288]
[{"$f":"+Declarations!A290&\"\"","v":""},{"$f":"IF(LEN($A290),IF(LEN(Declarations!$B290)>0,Declarations!$B290,\"#\"&$A290),\"\")","v":""},"...","","00:00:00",0,"","",0,{"$f":"IF(LEN($A290)>0,IF(LEN(Declarations!$F290)>0,Declarations!$F290,conftype),\"\")","v":""},null,null,0,0,0,0,0,0,0,0,0,0,0,0,0,null,289]
[{"$f":"+Declarations!A291&\"\"","v":""},{"$f":"IF(LEN($A291),IF(LEN(Declarations!$B291)>0,Declarations!$B291,\"#\"&$A291),\"\")","v":""},"...","","00:00:00",0,"","",0,{"$f":"IF(LEN($A291)>0,IF(LEN(Declarations!$F291)>0,Declarations!$F291,conftype),\"\")","v":""},null,null,0,0,0,0,0,0,0,0,0,0,0,0,0,null,290]
[{"$f":"+Declarations!A292&\"\"","v":""},{"$f":"IF(LEN($A292),IF(LEN(Declarations!$B292)>0,Declarations!$B292,\"#\"&$A292),\"\")","v":""},"...","","00:00:00",0,"","",0,{"$f":"IF(LEN($A292)>0,IF(LEN(Declarations!$F292)>0,Declarations!$F292,conftype),\"\")","v":""},null,null,0,0,0,0,0,0,0,0,0,0,0,0,0,null,291]
[{"$f":"+Declarations!A293&\"\"","v":""},{"$f":"IF(LEN($A293),IF(LEN(Declarations!$B293)>0,Declarations!$B293,\"#\"&$A293),\"\")","v":""},"...","","00:00:00",0,"","",0,{"$f":"IF(LEN($A293)>0,IF(LEN(Declarations!$F293)>0,Declarations!$F293,conftype),\"\")","v":""},null,null,0,0,0,0,0,0,0,0,0,0,0,0,0,null,292]
[{"$f":"+Declarations!A294&\"\"","v":""},{"$f":"IF(LEN($A294),IF(LEN(Declarations!$B294)>0,Declarations!$B294,\"#\"&$A294),\"\")","v":""},"...","","00:00:00",0,"","",0,{"$f":"IF(LEN($A294)>0,IF(LEN(Declarations!$F294)>0,Declarations!$F294,conftype),\"\")","v":""},null,null,0,0,0,0,0,0,0,0,0,0,0,0,0,null,293]
[{"$f":"+Declarations!A295&\"\"","v":""},{"$f":"IF(LEN($A295),IF(LEN(Declarations!$B295)>0,Declarations!$B295,\"#\"&$A295),\"\")","v":""},"...","","00:00:00",0,"","",0,{"$f":"IF(LEN($A295)>0,IF(LEN(Declarations!$F295)>0,Declarations!$F295,conftype),\"\")","v":""},null,null,0,0,0,0,0,0,0,0,0,0,0,0,0,null,294]
[{"$f":"+Declarations!A296&\"\"","v":""},{"$f":"IF(LEN($A296),IF(LEN(Declarations!$B296)>0,Declarations!$B296,\"#\"&$A296),\"\")","v":""},"...","","00:00:00",0,"","",0,{"$f":"IF(LEN($A296)>0,IF(LEN(Declarations!$F296)>0,Declarations!$F296,conftype),\"\")","v":""},null,null,0,0,0,0,0,0,0,0,0,0,0,0,0,null,295]
[{"$f":"+Declarations!A297&\"\"","v":""},{"$f":"IF(LEN($A297),IF(LEN(Declarations!$B297)>0,Declarations!$B297,\"#\"&$A297),\"\")","v":""},"...","","00:00:00",0,"","",0,{"$f":"IF(LEN($A297)>0,IF(LEN(Declarations!$F297)>0,Declarations!$F297,conftype),\"\")","v":""},null,null,0,0,0,0,0,0,0,0,0,0,0,0,0,null,296]
[{"$f":"+Declarations!A298&\"\"","v":""},{"$f":"IF(LEN($A298),IF(LEN(Declarations!$B298)>0,Declarations!$B298,\"#\"&$A298),\"\")","v":""},"...","","00:00:00",0,"","",0,{"$f":"IF(LEN($A298)>0,IF(LEN(Declarations!$F298)>0,Declarations!$F298,conftype),\"\")","v":""},null,null,0,0,0,0,0,0,0,0,0,0,0,0,0,null,297]
[{"$f":"+Declarations!A299&\"\"","v":""},{"$f":"IF(LEN($A299),IF(LEN(Declarations!$B299)>0,Declarations!$B299,\"#\"&$A299),\"\")","v":""},"...","","00:00:00",0,"","",0,{"$f":"IF(LEN($A299)>0,IF(LEN(Declarations!$F299)>0,Declarations!$F299,conftype),\"\")","v":""},null,null,0,0,0,0,0,0,0,0,0,0,0,0,0,null,298]
[{"$f":"+Declarations!A300&\"\"","v":""},{"$f":"IF(LEN($A300),IF(LEN(Declarations!$B300)>0,Declarations!$B300,\"#\"&$A300),\"\")","v":""},"...","","00:00:00",0,"","",0,{"$f":"IF(LEN($A300)>0,IF(LEN(Declarations!$F300)>0,Declarations!$F300,conftype),\"\")","v":""},null,null,0,0,0,0,0,0,0,0,0,0,0,0,0,null,299]
[{"$f":"+Declarations!A301&\"\"","v":""},{"$f":"IF(LEN($A301),IF(LEN(Declarations!$B301)>0,Declarations!$B301,\"#\"&$A301),\"\")","v":""},"...","","00:00:00",0,"","",0,{"$f":"IF(LEN($A301)>0,IF(LEN(Declarations!$F301)>0,Declarations!$F301,conftype),\"\")","v":""},null,null,0,0,0,0,0,0,0,0,0,0,0,0,0,null,300]
[{"$f":"+Declarations!A302&\"\"","v":""},{"$f":"IF(LEN($A302),IF(LEN(Declarations!$B302)>0,Declarations!$B302,\"#\"&$A302),\"\")","v":""},"...","","00:00:00",0,"","",0,{"$f":"IF(LEN($A302)>0,IF(LEN(Declarations!$F302)>0,Declarations!$F302,conftype),\"\")","v":""},null,null,0,0,0,0,0,0,0,0,0,0,0,0,0,null,301]
[{"$f":"+Declarations!A303&\"\"","v":""},{"$f":"IF(LEN($A303),IF(LEN(Declarations!$B303)>0,Declarations!$B303,\"#\"&$A303),\"\")","v":""},"...","","00:00:00",0,"","",0,{"$f":"IF(LEN($A303)>0,IF(LEN(Declarations!$F303)>0,Declarations!$F303,conftype),\"\")","v":""},null,null,{"$f":"IF(ISNA(VLOOKUP($A303,SprintData,2,FALSE)),0,VLOOKUP($A303,SprintData,2,FALSE))","v":0},0,0,0,0,0,0,0,0,0,0,0,0,null,302]
[{"$f":"+Declarations!A304&\"\"","v":""},{"$f":"IF(LEN($A304),IF(LEN(Declarations!$B304)>0,Declarations!$B304,\"#\"&$A304),\"\")","v":""},"...","","00:00:00",0,"","",0,{"$f":"IF(LEN($A304)>0,IF(LEN(Declarations!$F304)>0,Declarations!$F304,conftype),\"\")","v":""},null,null,0,0,0,0,0,0,0,0,0,0,0,0,0,null,303]
[{"$f":"+Declarations!A305&\"\"","v":""},{"$f":"IF(LEN($A305),IF(LEN(Declarations!$B305)>0,Declarations!$B305,\"#\"&$A305),\"\")","v":""},"...","","00:00:00",0,"","",0,{"$f":"IF(LEN($A305)>0,IF(LEN(Declarations!$F305)>0,Declarations!$F305,conftype),\"\")","v":""},null,null,0,0,0,0,0,0,0,0,0,0,0,0,0,null,304]
[{"$f":"+Declarations!A306&\"\"","v":""},{"$f":"IF(LEN($A306),IF(LEN(Declarations!$B306)>0,Declarations!$B306,\"#\"&$A306),\"\")","v":""},"...","","00:00:00",0,"","",0,{"$f":"IF(LEN($A306)>0,IF(LEN(Declarations!$F306)>0,Declarations!$F306,conftype),\"\")","v":""},null,null,0,0,0,0,0,0,0,0,0,0,0,0,0,null,305]
[{"$f":"+Declarations!A307&\"\"","v":""},{"$f":"IF(LEN($A307),IF(LEN(Declarations!$B307)>0,Declarations!$B307,\"#\"&$A307),\"\")","v":""},"...","","00:00:00",0,"","",0,{"$f":"IF(LEN($A307)>0,IF(LEN(Declarations!$F307)>0,Declarations!$F307,conftype),\"\")","v":""},null,null,0,0,0,0,0,0,0,0,0,0,0,0,0,null,306]
[{"$f":"+Declarations!A308&\"\"","v":""},{"$f":"IF(LEN($A308),IF(LEN(Declarations!$B308)>0,Declarations!$B308,\"#\"&$A308),\"\")","v":""},"...","","00:00:00",0,"","",0,{"$f":"IF(LEN($A308)>0,IF(LEN(Declarations!$F308)>0,Declarations!$F308,conftype),\"\")","v":""},null,null,0,0,0,0,0,0,0,0,0,0,0,0,0,null,307]
[{"$f":"+Declarations!A309&\"\"","v":""},{"$f":"IF(LEN($A309),IF(LEN(Declarations!$B309)>0,Declarations!$B309,\"#\"&$A309),\"\")","v":""},"...","","00:00:00",0,"","",0,{"$f":"IF(LEN($A309)>0,IF(LEN(Declarations!$F309)>0,Declarations!$F309,conftype),\"\")","v":""},null,null,0,0,0,0,0,0,0,0,0,0,0,0,0,null,308]
[{"$f":"+Declarations!A310&\"\"","v":""},{"$f":"IF(LEN($A310),IF(LEN(Declarations!$B310)>0,Declarations!$B310,\"#\"&$A310),\"\")","v":""},"...","","00:00:00",0,"","",0,{"$f":"IF(LEN($A310)>0,IF(LEN(Declarations!$F310)>0,Declarations!$F310,conftype),\"\")","v":""},null,null,0,0,0,0,0,0,0,0,0,0,0,0,0,null,309]
[{"$f":"+Declarations!A311&\"\"","v":""},{"$f":"IF(LEN($A311),IF(LEN(Declarations!$B311)>0,Declarations!$B311,\"#\"&$A311),\"\")","v":""},"...","","00:00:00",0,"","",0,{"$f":"IF(LEN($A311)>0,IF(LEN(Declarations!$F311)>0,Declarations!$F311,conftype),\"\")","v":""},null,null,0,0,0,0,0,0,0,0,0,0,0,0,0,null,310]
[{"$f":"+Declarations!A312&\"\"","v":""},{"$f":"IF(LEN($A312),IF(LEN(Declarations!$B312)>0,Declarations!$B312,\"#\"&$A312),\"\")","v":""},"...","","00:00:00",0,"","",0,{"$f":"IF(LEN($A312)>0,IF(LEN(Declarations!$F312)>0,Declarations!$F312,conftype),\"\")","v":""},null,null,0,0,0,0,0,0,0,0,0,0,0,0,0,null,311]
[{"$f":"+Declarations!A313&\"\"","v":""},{"$f":"IF(LEN($A313),IF(LEN(Declarations!$B313)>0,Declarations!$B313,\"#\"&$A313),\"\")","v":""},"...","","00:00:00",0,"","",0,{"$f":"IF(LEN($A313)>0,IF(LEN(Declarations!$F313)>0,Declarations!$F313,conftype),\"\")","v":""},null,null,0,0,0,0,0,0,0,0,0,0,0,0,0,null,312]
[{"$f":"+Declarations!A314&\"\"","v":""},{"$f":"IF(LEN($A314),IF(LEN(Declarations!$B314)>0,Declarations!$B314,\"#\"&$A314),\"\")","v":""},"...","","00:00:00",0,"","",0,{"$f":"IF(LEN($A314)>0,IF(LEN(Declarations!$F314)>0,Declarations!$F314,conftype),\"\")","v":""},null,null,0,0,0,0,0,0,0,0,0,0,0,0,0,null,313]
[{"$f":"+Declarations!A315&\"\"","v":""},{"$f":"IF(LEN($A315),IF(LEN(Declarations!$B315)>0,Declarations!$B315,\"#\"&$A315),\"\")","v":""},"...","","00:00:00",0,"","",0,{"$f":"IF(LEN($A315)>0,IF(LEN(Declarations!$F315)>0,Declarations!$F315,conftype),\"\")","v":""},null,null,0,0,0,0,0,0,0,0,0,0,0,0,0,null,314]
[{"$f":"+Declarations!A316&\"\"","v":""},{"$f":"IF(LEN($A316),IF(LEN(Declarations!$B316)>0,Declarations!$B316,\"#\"&$A316),\"\")","v":""},"...","","00:00:00",0,"","",0,{"$f":"IF(LEN($A316)>0,IF(LEN(Declarations!$F316)>0,Declarations!$F316,conftype),\"\")","v":""},null,null,0,0,0,0,0,0,0,0,0,0,0,0,0,null,315]
[{"$f":"+Declarations!A317&\"\"","v":""},{"$f":"IF(LEN($A317),IF(LEN(Declarations!$B317)>0,Declarations!$B317,\"#\"&$A317),\"\")","v":""},"...","","00:00:00",0,"","",0,{"$f":"IF(LEN($A317)>0,IF(LEN(Declarations!$F317)>0,Declarations!$F317,conftype),\"\")","v":""},null,null,0,0,0,0,0,0,0,0,0,0,0,0,0,null,316]
[{"$f":"+Declarations!A318&\"\"","v":""},{"$f":"IF(LEN($A318),IF(LEN(Declarations!$B318)>0,Declarations!$B318,\"#\"&$A318),\"\")","v":""},"...","","00:00:00",0,"","",0,{"$f":"IF(LEN($A318)>0,IF(LEN(Declarations!$F318)>0,Declarations!$F318,conftype),\"\")","v":""},null,null,0,0,0,0,0,0,0,0,0,0,0,0,0,null,317]
[{"$f":"+Declarations!A319&\"\"","v":""},{"$f":"IF(LEN($A319),IF(LEN(Declarations!$B319)>0,Declarations!$B319,\"#\"&$A319),\"\")","v":""},"...","","00:00:00",0,"","",0,{"$f":"IF(LEN($A319)>0,IF(LEN(Declarations!$F319)>0,Declarations!$F319,conftype),\"\")","v":""},null,null,0,0,0,0,0,0,0,0,0,0,0,0,0,null,318]
[{"$f":"+Declarations!A320&\"\"","v":""},{"$f":"IF(LEN($A320),IF(LEN(Declarations!$B320)>0,Declarations!$B320,\"#\"&$A320),\"\")","v":""},"...","","00:00:00",0,"","",0,{"$f":"IF(LEN($A320)>0,IF(LEN(Declarations!$F320)>0,Declarations!$F320,conftype),\"\")","v":""},null,null,0,0,0,0,0,0,0,0,0,0,0,0,0,null,319]
[{"$f":"+Declarations!A321&\"\"","v":""},{"$f":"IF(LEN($A321),IF(LEN(Declarations!$B321)>0,Declarations!$B321,\"#\"&$A321),\"\")","v":""},"...","","00:00:00",0,"","",0,{"$f":"IF(LEN($A321)>0,IF(LEN(Declarations!$F321)>0,Declarations!$F321,conftype),\"\")","v":""},null,null,0,0,0,0,0,0,0,0,0,0,0,0,0,null,320]
[{"$f":"+Declarations!A322&\"\"","v":""},{"$f":"IF(LEN($A322),IF(LEN(Declarations!$B322)>0,Declarations!$B322,\"#\"&$A322),\"\")","v":""},{"$f":"IF(LEN(INDEX(DECLARATIONS,$AA322,3))>0,INDEX(DECLARATIONS,$AA322,3),\"...\")","v":"..."},"",{"$f":"IF(ISNA($AA322),0,INDEX(DECLARATIONS,$AA322,5))","v":"00:00:00"},{"$f":"IF(ISNA($AA322),0,INDEX(DECLARATIONS,$AA322,7))","v":0},{"$f":"UPPER(IF(ISNA($AA322),\"\",INDEX(DECLARATIONS,$AA322,4)))","v":""},{"$f":"IF(AND(A322>0,ISTEXT(B322)),IF(SECNAME=\"YES\",LEFT(B322&\" \",FIND(\" \",B322&\" \")+2)&IF(F322>0,\" (\"&F322&\")\",\"\"), B322&IF(F322>0,\" (\"&F322&\")\",\"\")),\"#\"&$A322)","v":""},{"$f":"IF(LEN($A322)>0,IF(LEN($J322)>0,MATCH(J322,MatchNames,0),EventIndex),0)","v":0},{"$f":"IF(LEN($A322)>0,IF(LEN(Declarations!$F322)>0,Declarations!$F322,conftype),\"\")","v":""},null,null,0,{"$f":"IF(ISNA(VLOOKUP($A322,JumpData,2,FALSE)),0,VLOOKUP($A322,JumpData,2,FALSE))","v":0},{"$f":"IF(ISNA(VLOOKUP($A322,RunData,2,FALSE)),0,VLOOKUP($A322,RunData,2,FALSE))","v":0},{"$f":"IF(ISNA(VLOOKUP($A322,ThrowData,2,FALSE)),0,VLOOKUP($A322,ThrowData,2,FALSE))","v":0},{"$f":"IF(ISNA(VLOOKUP($A322,SprintData,4,FALSE)),0,VLOOKUP($A322,SprintData,4,FALSE))+V322","v":0},{"$f":"IF(ISNA(VLOOKUP($A322,JumpData,4,FALSE)),0,VLOOKUP($A322,JumpData,4,FALSE))+W322","v":0},{"$f":"IF(ISNA(VLOOKUP($A322,RunData,4,FALSE)),0,VLOOKUP($A322,RunData,4,FALSE))+X322","v":0},{"$f":"IF(ISNA(VLOOKUP($A322,ThrowData,4,FALSE)),0,VLOOKUP($A322,ThrowData,4,FALSE))+Y322","v":0},{"$f":"+Q322+R322+S322+T322","v":0},{"$f":"IF(AND($F322>0,NOT(M322),Flexing),FlexPC,0)","v":0},{"$f":"IF(AND($F322>0,NOT(N322),Flexing),FlexPC,0)","v":0},{"$f":"IF(AND($F322>0,NOT(O322),Flexing),FlexPC,0)","v":0},{"$f":"IF(AND($F322>0,NOT(P322),Flexing),FlexPC,0)","v":0},null,321]
[{"$f":"+Declarations!A323&\"\"","v":""},{"$f":"IF(LEN($A323),IF(LEN(Declarations!$B323)>0,Declarations!$B323,\"#\"&$A323),\"\")","v":""},"...","","00:00:00",0,"","",0,{"$f":"IF(LEN($A323)>0,IF(LEN(Declarations!$F323)>0,Declarations!$F323,conftype),\"\")","v":""},null,null,0,0,0,0,0,0,0,0,0,0,0,0,0,null,{"$f":"ROW()-1","v":322}]
[{"$f":"+Declarations!A324&\"\"","v":""},{"$f":"IF(LEN($A324),IF(LEN(Declarations!$B324)>0,Declarations!$B324,\"#\"&$A324),\"\")","v":""},"...","","00:00:00",0,"","",0,{"$f":"IF(LEN($A324)>0,IF(LEN(Declarations!$F324)>0,Declarations!$F324,conftype),\"\")","v":""},null,null,0,0,0,0,0,0,0,0,0,0,0,0,0,null,323]
[{"$f":"+Declarations!A325&\"\"","v":""},{"$f":"IF(LEN($A325),IF(LEN(Declarations!$B325)>0,Declarations!$B325,\"#\"&$A325),\"\")","v":""},"...","","00:00:00",0,"","",0,{"$f":"IF(LEN($A325)>0,IF(LEN(Declarations!$F325)>0,Declarations!$F325,conftype),\"\")","v":""},null,null,0,0,0,0,0,0,0,0,0,0,0,0,0,null,324]
[{"$f":"+Declarations!A326&\"\"","v":""},{"$f":"IF(LEN($A326),IF(LEN(Declarations!$B326)>0,Declarations!$B326,\"#\"&$A326),\"\")","v":""},"...","","00:00:00",0,"","",0,{"$f":"IF(LEN($A326)>0,IF(LEN(Declarations!$F326)>0,Declarations!$F326,conftype),\"\")","v":""},null,null,0,0,0,0,0,0,0,0,0,0,0,0,0,null,325]
[{"$f":"+Declarations!A327&\"\"","v":""},{"$f":"IF(LEN($A327),IF(LEN(Declarations!$B327)>0,Declarations!$B327,\"#\"&$A327),\"\")","v":""},"...",{"$f":"IF(OR(G327=\"G\",G327=\"F\"),\"F\",IF(OR(G327=\"B\",G327=\"M\"),\"M\",\"\"))","v":""},"00:00:00",0,"","",0,{"$f":"IF(LEN($A327)>0,IF(LEN(Declarations!$F327)>0,Declarations!$F327,conftype),\"\")","v":""},null,null,0,0,0,0,0,0,0,0,0,0,0,0,0,null,326]
[{"$f":"+Declarations!A328&\"\"","v":""},{"$f":"IF(LEN($A328),IF(LEN(Declarations!$B328)>0,Declarations!$B328,\"#\"&$A328),\"\")","v":""},"...","","00:00:00",0,"","",0,{"$f":"IF(LEN($A328)>0,IF(LEN(Declarations!$F328)>0,Declarations!$F328,conftype),\"\")","v":""},null,null,0,0,0,0,0,0,0,0,0,0,0,0,0,null,327]
[{"$f":"+Declarations!A329&\"\"","v":""},{"$f":"IF(LEN($A329),IF(LEN(Declarations!$B329)>0,Declarations!$B329,\"#\"&$A329),\"\")","v":""},"...","","00:00:00",0,"","",0,{"$f":"IF(LEN($A329)>0,IF(LEN(Declarations!$F329)>0,Declarations!$F329,conftype),\"\")","v":""},null,null,0,0,0,0,0,0,0,0,0,0,0,0,0,null,328]
[{"$f":"+Declarations!A330&\"\"","v":""},{"$f":"IF(LEN($A330),IF(LEN(Declarations!$B330)>0,Declarations!$B330,\"#\"&$A330),\"\")","v":""},"...","","00:00:00",0,"","",0,{"$f":"IF(LEN($A330)>0,IF(LEN(Declarations!$F330)>0,Declarations!$F330,conftype),\"\")","v":""},null,null,0,0,0,0,0,0,0,0,0,0,0,0,0,null,329]
[{"$f":"+Declarations!A331&\"\"","v":""},{"$f":"IF(LEN($A331),IF(LEN(Declarations!$B331)>0,Declarations!$B331,\"#\"&$A331),\"\")","v":""},"...","","00:00:00",0,"","",0,{"$f":"IF(LEN($A331)>0,IF(LEN(Declarations!$F331)>0,Declarations!$F331,conftype),\"\")","v":""},null,null,0,0,0,0,0,0,0,0,0,0,0,0,0,null,330]
[{"$f":"+Declarations!A332&\"\"","v":""},{"$f":"IF(LEN($A332),IF(LEN(Declarations!$B332)>0,Declarations!$B332,\"#\"&$A332),\"\")","v":""},"...","","00:00:00",0,"","",0,{"$f":"IF(LEN($A332)>0,IF(LEN(Declarations!$F332)>0,Declarations!$F332,conftype),\"\")","v":""},null,null,0,0,0,0,0,0,0,0,0,0,0,0,0,null,331]
[{"$f":"+Declarations!A333&\"\"","v":""},{"$f":"IF(LEN($A333),IF(LEN(Declarations!$B333)>0,Declarations!$B333,\"#\"&$A333),\"\")","v":""},"...","","00:00:00",0,"","",0,{"$f":"IF(LEN($A333)>0,IF(LEN(Declarations!$F333)>0,Declarations!$F333,conftype),\"\")","v":""},null,null,0,0,0,0,0,0,0,0,0,0,0,0,0,null,332]
[{"$f":"+Declarations!A334&\"\"","v":""},{"$f":"IF(LEN($A334),IF(LEN(Declarations!$B334)>0,Declarations!$B334,\"#\"&$A334),\"\")","v":""},"...","","00:00:00",0,"","",0,{"$f":"IF(LEN($A334)>0,IF(LEN(Declarations!$F334)>0,Declarations!$F334,conftype),\"\")","v":""},null,null,0,0,0,0,0,0,0,0,0,0,0,0,0,null,333]
[{"$f":"+Declarations!A335&\"\"","v":""},{"$f":"IF(LEN($A335),IF(LEN(Declarations!$B335)>0,Declarations!$B335,\"#\"&$A335),\"\")","v":""},"...","","00:00:00",0,"","",0,{"$f":"IF(LEN($A335)>0,IF(LEN(Declarations!$F335)>0,Declarations!$F335,conftype),\"\")","v":""},null,null,0,0,0,0,0,0,0,0,0,0,0,0,0,null,334]
[{"$f":"+Declarations!A336&\"\"","v":""},{"$f":"IF(LEN($A336),IF(LEN(Declarations!$B336)>0,Declarations!$B336,\"#\"&$A336),\"\")","v":""},"...","","00:00:00",0,"","",0,{"$f":"IF(LEN($A336)>0,IF(LEN(Declarations!$F336)>0,Declarations!$F336,conftype),\"\")","v":""},null,null,0,0,0,0,0,0,0,0,0,0,0,0,0,null,335]
[{"$f":"+Declarations!A337&\"\"","v":""},{"$f":"IF(LEN($A337),IF(LEN(Declarations!$B337)>0,Declarations!$B337,\"#\"&$A337),\"\")","v":""},"...","","00:00:00",0,"","",0,{"$f":"IF(LEN($A337)>0,IF(LEN(Declarations!$F337)>0,Declarations!$F337,conftype),\"\")","v":""},null,null,0,0,0,0,0,0,0,0,0,0,0,0,0,null,336]
[{"$f":"+Declarations!A338&\"\"","v":""},{"$f":"IF(LEN($A338),IF(LEN(Declarations!$B338)>0,Declarations!$B338,\"#\"&$A338),\"\")","v":""},"...","","00:00:00",0,"","",0,{"$f":"IF(LEN($A338)>0,IF(LEN(Declarations!$F338)>0,Declarations!$F338,conftype),\"\")","v":""},null,null,0,0,0,0,0,0,0,0,0,0,0,0,0,null,337]
[{"$f":"+Declarations!A339&\"\"","v":""},{"$f":"IF(LEN($A339),IF(LEN(Declarations!$B339)>0,Declarations!$B339,\"#\"&$A339),\"\")","v":""},"...","","00:00:00",0,"","",0,{"$f":"IF(LEN($A339)>0,IF(LEN(Declarations!$F339)>0,Declarations!$F339,conftype),\"\")","v":""},null,null,0,0,0,0,0,0,0,0,0,0,0,0,0,null,338]
[{"$f":"+Declarations!A340&\"\"","v":""},{"$f":"IF(LEN($A340),IF(LEN(Declarations!$B340)>0,Declarations!$B340,\"#\"&$A340),\"\")","v":""},"...","","00:00:00",0,"","",0,{"$f":"IF(LEN($A340)>0,IF(LEN(Declarations!$F340)>0,Declarations!$F340,conftype),\"\")","v":""},null,null,0,0,0,0,0,0,0,0,0,0,0,0,0,null,339]
[{"$f":"+Declarations!A341&\"\"","v":""},{"$f":"IF(LEN($A341),IF(LEN(Declarations!$B341)>0,Declarations!$B341,\"#\"&$A341),\"\")","v":""},"...","","00:00:00",0,"","",0,{"$f":"IF(LEN($A341)>0,IF(LEN(Declarations!$F341)>0,Declarations!$F341,conftype),\"\")","v":""},null,null,0,0,0,0,0,0,0,0,0,0,0,0,0,null,340]
[{"$f":"+Declarations!A342&\"\"","v":""},{"$f":"IF(LEN($A342),IF(LEN(Declarations!$B342)>0,Declarations!$B342,\"#\"&$A342),\"\")","v":""},"...","","00:00:00",0,"","",0,{"$f":"IF(LEN($A342)>0,IF(LEN(Declarations!$F342)>0,Declarations!$F342,conftype),\"\")","v":""},null,null,0,0,0,0,0,0,0,0,0,0,0,0,0,null,341]
[{"$f":"+Declarations!A343&\"\"","v":""},{"$f":"IF(LEN($A343),IF(LEN(Declarations!$B343)>0,Declarations!$B343,\"#\"&$A343),\"\")","v":""},"...","","00:00:00",0,"","",0,{"$f":"IF(LEN($A343)>0,IF(LEN(Declarations!$F343)>0,Declarations!$F343,conftype),\"\")","v":""},null,null,0,0,0,0,0,0,0,0,0,0,0,0,0,null,342]
[{"$f":"+Declarations!A344&\"\"","v":""},{"$f":"IF(LEN($A344),IF(LEN(Declarations!$B344)>0,Declarations!$B344,\"#\"&$A344),\"\")","v":""},"...","","00:00:00",0,"","",0,{"$f":"IF(LEN($A344)>0,IF(LEN(Declarations!$F344)>0,Declarations!$F344,conftype),\"\")","v":""},null,null,0,0,0,0,0,0,0,0,0,0,0,0,0,null,343]
[{"$f":"+Declarations!A345&\"\"","v":""},{"$f":"IF(LEN($A345),IF(LEN(Declarations!$B345)>0,Declarations!$B345,\"#\"&$A345),\"\")","v":""},"...","","00:00:00",0,"","",0,{"$f":"IF(LEN($A345)>0,IF(LEN(Declarations!$F345)>0,Declarations!$F345,conftype),\"\")","v":""},null,null,0,0,0,0,0,0,0,0,0,0,0,0,0,null,344]
[{"$f":"+Declarations!A346&\"\"","v":""},{"$f":"IF(LEN($A346),IF(LEN(Declarations!$B346)>0,Declarations!$B346,\"#\"&$A346),\"\")","v":""},"...","","00:00:00",0,"","",0,{"$f":"IF(LEN($A346)>0,IF(LEN(Declarations!$F346)>0,Declarations!$F346,conftype),\"\")","v":""},null,null,0,0,0,0,0,0,0,0,0,0,0,0,0,null,345]
[{"$f":"+Declarations!A347&\"\"","v":""},{"$f":"IF(LEN($A347),IF(LEN(Declarations!$B347)>0,Declarations!$B347,\"#\"&$A347),\"\")","v":""},"...","","00:00:00",0,"","",0,{"$f":"IF(LEN($A347)>0,IF(LEN(Declarations!$F347)>0,Declarations!$F347,conftype),\"\")","v":""},null,null,0,0,0,0,0,0,0,0,0,0,0,0,0,null,346]
[{"$f":"+Declarations!A348&\"\"","v":""},{"$f":"IF(LEN($A348),IF(LEN(Declarations!$B348)>0,Declarations!$B348,\"#\"&$A348),\"\")","v":""},"...","","00:00:00",0,"","",0,{"$f":"IF(LEN($A348)>0,IF(LEN(Declarations!$F348)>0,Declarations!$F348,conftype),\"\")","v":""},null,null,0,0,0,0,0,0,0,0,0,0,0,0,0,null,347]
[{"$f":"+Declarations!A349&\"\"","v":""},{"$f":"IF(LEN($A349),IF(LEN(Declarations!$B349)>0,Declarations!$B349,\"#\"&$A349),\"\")","v":""},"...","","00:00:00",0,"","",0,{"$f":"IF(LEN($A349)>0,IF(LEN(Declarations!$F349)>0,Declarations!$F349,conftype),\"\")","v":""},null,null,0,0,0,0,0,0,0,0,0,0,0,0,0,null,348]
[{"$f":"+Declarations!A350&\"\"","v":""},{"$f":"IF(LEN($A350),IF(LEN(Declarations!$B350)>0,Declarations!$B350,\"#\"&$A350),\"\")","v":""},"...","","00:00:00",0,"","",0,{"$f":"IF(LEN($A350)>0,IF(LEN(Declarations!$F350)>0,Declarations!$F350,conftype),\"\")","v":""},null,null,0,0,0,0,0,0,0,0,0,0,0,0,0,null,349]
[{"$f":"+Declarations!A351&\"\"","v":""},{"$f":"IF(LEN($A351),IF(LEN(Declarations!$B351)>0,Declarations!$B351,\"#\"&$A351),\"\")","v":""},"...","","00:00:00",0,"","",0,{"$f":"IF(LEN($A351)>0,IF(LEN(Declarations!$F351)>0,Declarations!$F351,conftype),\"\")","v":""},null,null,0,0,0,0,0,0,0,0,0,0,0,0,0,null,350]
[{"$f":"+Declarations!A352&\"\"","v":""},{"$f":"IF(LEN($A352),IF(LEN(Declarations!$B352)>0,Declarations!$B352,\"#\"&$A352),\"\")","v":""},"...","","00:00:00",0,"","",0,{"$f":"IF(LEN($A352)>0,IF(LEN(Declarations!$F352)>0,Declarations!$F352,conftype),\"\")","v":""},null,null,0,0,0,0,0,0,0,0,0,0,0,0,0,null,351]
[{"$f":"+Declarations!A353&\"\"","v":""},{"$f":"IF(LEN($A353),IF(LEN(Declarations!$B353)>0,Declarations!$B353,\"#\"&$A353),\"\")","v":""},"...","","00:00:00",0,"","",0,{"$f":"IF(LEN($A353)>0,IF(LEN(Declarations!$F353)>0,Declarations!$F353,conftype),\"\")","v":""},null,null,0,0,0,0,0,0,0,0,0,0,0,0,0,null,352]
[{"$f":"+Declarations!A354&\"\"","v":""},{"$f":"IF(LEN($A354),IF(LEN(Declarations!$B354)>0,Declarations!$B354,\"#\"&$A354),\"\")","v":""},"...","","00:00:00",0,"","",0,{"$f":"IF(LEN($A354)>0,IF(LEN(Declarations!$F354)>0,Declarations!$F354,conftype),\"\")","v":""},null,null,0,0,0,0,0,0,0,0,0,0,0,0,0,null,353]
[{"$f":"+Declarations!A355&\"\"","v":""},{"$f":"IF(LEN($A355),IF(LEN(Declarations!$B355)>0,Declarations!$B355,\"#\"&$A355),\"\")","v":""},"...","","00:00:00",0,"","",0,{"$f":"IF(LEN($A355)>0,IF(LEN(Declarations!$F355)>0,Declarations!$F355,conftype),\"\")","v":""},null,null,0,0,0,0,0,0,0,0,0,0,0,0,0,null,354]
[{"$f":"+Declarations!A356&\"\"","v":""},{"$f":"IF(LEN($A356),IF(LEN(Declarations!$B356)>0,Declarations!$B356,\"#\"&$A356),\"\")","v":""},"...","","00:00:00",0,"","",0,{"$f":"IF(LEN($A356)>0,IF(LEN(Declarations!$F356)>0,Declarations!$F356,conftype),\"\")","v":""},null,null,0,0,0,0,0,0,0,0,0,0,0,0,0,null,355]
[{"$f":"+Declarations!A357&\"\"","v":""},{"$f":"IF(LEN($A357),IF(LEN(Declarations!$B357)>0,Declarations!$B357,\"#\"&$A357),\"\")","v":""},"...","","00:00:00",0,"","",0,{"$f":"IF(LEN($A357)>0,IF(LEN(Declarations!$F357)>0,Declarations!$F357,conftype),\"\")","v":""},null,null,0,0,0,0,0,0,0,0,0,0,0,0,0,null,356]
[{"$f":"+Declarations!A358&\"\"","v":""},{"$f":"IF(LEN($A358),IF(LEN(Declarations!$B358)>0,Declarations!$B358,\"#\"&$A358),\"\")","v":""},"...","","00:00:00",0,"","",0,{"$f":"IF(LEN($A358)>0,IF(LEN(Declarations!$F358)>0,Declarations!$F358,conftype),\"\")","v":""},null,null,0,0,0,0,0,0,0,0,0,0,0,0,0,null,357]
[{"$f":"+Declarations!A359&\"\"","v":""},{"$f":"IF(LEN($A359),IF(LEN(Declarations!$B359)>0,Declarations!$B359,\"#\"&$A359),\"\")","v":""},"...","","00:00:00",0,"","",0,{"$f":"IF(LEN($A359)>0,IF(LEN(Declarations!$F359)>0,Declarations!$F359,conftype),\"\")","v":""},null,null,0,0,0,0,0,0,0,0,0,0,0,0,0,null,358]
[{"$f":"+Declarations!A360&\"\"","v":""},{"$f":"IF(LEN($A360),IF(LEN(Declarations!$B360)>0,Declarations!$B360,\"#\"&$A360),\"\")","v":""},"...","","00:00:00",0,"","",0,{"$f":"IF(LEN($A360)>0,IF(LEN(Declarations!$F360)>0,Declarations!$F360,conftype),\"\")","v":""},null,null,0,0,0,0,0,0,0,0,0,0,0,0,0,null,359]
[{"$f":"+Declarations!A361&\"\"","v":""},{"$f":"IF(LEN($A361),IF(LEN(Declarations!$B361)>0,Declarations!$B361,\"#\"&$A361),\"\")","v":""},"...","","00:00:00",0,"","",0,{"$f":"IF(LEN($A361)>0,IF(LEN(Declarations!$F361)>0,Declarations!$F361,conftype),\"\")","v":""},null,null,0,0,0,0,0,0,0,0,0,0,0,0,0,null,360]
[{"$f":"+Declarations!A362&\"\"","v":""},{"$f":"IF(LEN($A362),IF(LEN(Declarations!$B362)>0,Declarations!$B362,\"#\"&$A362),\"\")","v":""},"...","","00:00:00",0,"","",0,{"$f":"IF(LEN($A362)>0,IF(LEN(Declarations!$F362)>0,Declarations!$F362,conftype),\"\")","v":""},null,null,0,0,0,0,0,0,0,0,0,0,0,0,0,null,361]
[{"$f":"+Declarations!A363&\"\"","v":""},{"$f":"IF(LEN($A363),IF(LEN(Declarations!$B363)>0,Declarations!$B363,\"#\"&$A363),\"\")","v":""},"...","","00:00:00",0,"","",0,{"$f":"IF(LEN($A363)>0,IF(LEN(Declarations!$F363)>0,Declarations!$F363,conftype),\"\")","v":""},null,null,0,0,0,0,0,0,0,0,0,0,0,0,0,null,362]
[{"$f":"+Declarations!A364&\"\"","v":""},{"$f":"IF(LEN($A364),IF(LEN(Declarations!$B364)>0,Declarations!$B364,\"#\"&$A364),\"\")","v":""},"...","","00:00:00",0,"","",0,{"$f":"IF(LEN($A364)>0,IF(LEN(Declarations!$F364)>0,Declarations!$F364,conftype),\"\")","v":""},null,null,0,0,0,0,0,0,0,0,0,0,0,0,0,null,363]
[{"$f":"+Declarations!A365&\"\"","v":""},{"$f":"IF(LEN($A365),IF(LEN(Declarations!$B365)>0,Declarations!$B365,\"#\"&$A365),\"\")","v":""},"...","","00:00:00",0,"","",0,{"$f":"IF(LEN($A365)>0,IF(LEN(Declarations!$F365)>0,Declarations!$F365,conftype),\"\")","v":""},null,null,0,0,0,0,0,0,0,0,0,0,0,0,0,null,364]
[{"$f":"+Declarations!A366&\"\"","v":""},{"$f":"IF(LEN($A366),IF(LEN(Declarations!$B366)>0,Declarations!$B366,\"#\"&$A366),\"\")","v":""},"...","","00:00:00",0,"","",0,{"$f":"IF(LEN($A366)>0,IF(LEN(Declarations!$F366)>0,Declarations!$F366,conftype),\"\")","v":""},null,null,0,0,0,0,0,0,0,0,0,0,0,0,0,null,365]
[{"$f":"+Declarations!A367&\"\"","v":""},{"$f":"IF(LEN($A367),IF(LEN(Declarations!$B367)>0,Declarations!$B367,\"#\"&$A367),\"\")","v":""},"...","","00:00:00",0,"","",0,{"$f":"IF(LEN($A367)>0,IF(LEN(Declarations!$F367)>0,Declarations!$F367,conftype),\"\")","v":""},null,null,{"$f":"IF(ISNA(VLOOKUP($A367,SprintData,2,FALSE)),0,VLOOKUP($A367,SprintData,2,FALSE))","v":0},0,0,0,0,0,0,0,0,0,0,0,0,null,366]
[{"$f":"+Declarations!A368&\"\"","v":""},{"$f":"IF(LEN($A368),IF(LEN(Declarations!$B368)>0,Declarations!$B368,\"#\"&$A368),\"\")","v":""},"...","","00:00:00",0,"","",0,{"$f":"IF(LEN($A368)>0,IF(LEN(Declarations!$F368)>0,Declarations!$F368,conftype),\"\")","v":""},null,null,0,0,0,0,0,0,0,0,0,0,0,0,0,null,367]
[{"$f":"+Declarations!A369&\"\"","v":""},{"$f":"IF(LEN($A369),IF(LEN(Declarations!$B369)>0,Declarations!$B369,\"#\"&$A369),\"\")","v":""},"...","","00:00:00",0,"","",0,{"$f":"IF(LEN($A369)>0,IF(LEN(Declarations!$F369)>0,Declarations!$F369,conftype),\"\")","v":""},null,null,0,0,0,0,0,0,0,0,0,0,0,0,0,null,368]
[{"$f":"+Declarations!A370&\"\"","v":""},{"$f":"IF(LEN($A370),IF(LEN(Declarations!$B370)>0,Declarations!$B370,\"#\"&$A370),\"\")","v":""},"...","","00:00:00",0,"","",0,{"$f":"IF(LEN($A370)>0,IF(LEN(Declarations!$F370)>0,Declarations!$F370,conftype),\"\")","v":""},null,null,0,0,0,0,0,0,0,0,0,0,0,0,0,null,369]
[{"$f":"+Declarations!A371&\"\"","v":""},{"$f":"IF(LEN($A371),IF(LEN(Declarations!$B371)>0,Declarations!$B371,\"#\"&$A371),\"\")","v":""},"...","","00:00:00",0,"","",0,{"$f":"IF(LEN($A371)>0,IF(LEN(Declarations!$F371)>0,Declarations!$F371,conftype),\"\")","v":""},null,null,0,0,0,0,0,0,0,0,0,0,0,0,0,null,370]
[{"$f":"+Declarations!A372&\"\"","v":""},{"$f":"IF(LEN($A372),IF(LEN(Declarations!$B372)>0,Declarations!$B372,\"#\"&$A372),\"\")","v":""},"...","","00:00:00",0,"","",0,{"$f":"IF(LEN($A372)>0,IF(LEN(Declarations!$F372)>0,Declarations!$F372,conftype),\"\")","v":""},null,null,0,0,0,0,0,0,0,0,0,0,0,0,0,null,371]
[{"$f":"+Declarations!A373&\"\"","v":""},{"$f":"IF(LEN($A373),IF(LEN(Declarations!$B373)>0,Declarations!$B373,\"#\"&$A373),\"\")","v":""},"...","","00:00:00",0,"","",0,{"$f":"IF(LEN($A373)>0,IF(LEN(Declarations!$F373)>0,Declarations!$F373,conftype),\"\")","v":""},null,null,0,0,0,0,0,0,0,0,0,0,0,0,0,null,372]
[{"$f":"+Declarations!A374&\"\"","v":""},{"$f":"IF(LEN($A374),IF(LEN(Declarations!$B374)>0,Declarations!$B374,\"#\"&$A374),\"\")","v":""},"...","","00:00:00",0,"","",0,{"$f":"IF(LEN($A374)>0,IF(LEN(Declarations!$F374)>0,Declarations!$F374,conftype),\"\")","v":""},null,null,0,0,0,0,0,0,0,0,0,0,0,0,0,null,373]
[{"$f":"+Declarations!A375&\"\"","v":""},{"$f":"IF(LEN($A375),IF(LEN(Declarations!$B375)>0,Declarations!$B375,\"#\"&$A375),\"\")","v":""},"...","","00:00:00",0,"","",0,{"$f":"IF(LEN($A375)>0,IF(LEN(Declarations!$F375)>0,Declarations!$F375,conftype),\"\")","v":""},null,null,0,0,0,0,0,0,0,0,0,0,0,0,0,null,374]
[{"$f":"+Declarations!A376&\"\"","v":""},{"$f":"IF(LEN($A376),IF(LEN(Declarations!$B376)>0,Declarations!$B376,\"#\"&$A376),\"\")","v":""},"...","","00:00:00",0,"","",0,{"$f":"IF(LEN($A376)>0,IF(LEN(Declarations!$F376)>0,Declarations!$F376,conftype),\"\")","v":""},null,null,0,0,0,0,0,0,0,0,0,0,0,0,0,null,375]
[{"$f":"+Declarations!A377&\"\"","v":""},{"$f":"IF(LEN($A377),IF(LEN(Declarations!$B377)>0,Declarations!$B377,\"#\"&$A377),\"\")","v":""},"...","","00:00:00",0,"","",0,{"$f":"IF(LEN($A377)>0,IF(LEN(Declarations!$F377)>0,Declarations!$F377,conftype),\"\")","v":""},null,null,0,0,0,0,0,0,0,0,0,0,0,0,0,null,376]
[{"$f":"+Declarations!A378&\"\"","v":""},{"$f":"IF(LEN($A378),IF(LEN(Declarations!$B378)>0,Declarations!$B378,\"#\"&$A378),\"\")","v":""},"...","","00:00:00",0,"","",0,{"$f":"IF(LEN($A378)>0,IF(LEN(Declarations!$F378)>0,Declarations!$F378,conftype),\"\")","v":""},null,null,0,0,0,0,0,0,0,0,0,0,0,0,0,null,377]
[{"$f":"+Declarations!A379&\"\"","v":""},{"$f":"IF(LEN($A379),IF(LEN(Declarations!$B379)>0,Declarations!$B379,\"#\"&$A379),\"\")","v":""},"...","","00:00:00",0,"","",0,{"$f":"IF(LEN($A379)>0,IF(LEN(Declarations!$F379)>0,Declarations!$F379,conftype),\"\")","v":""},null,null,0,0,0,0,0,0,0,0,0,0,0,0,0,null,378]
[{"$f":"+Declarations!A380&\"\"","v":""},{"$f":"IF(LEN($A380),IF(LEN(Declarations!$B380)>0,Declarations!$B380,\"#\"&$A380),\"\")","v":""},"...","","00:00:00",0,"","",0,{"$f":"IF(LEN($A380)>0,IF(LEN(Declarations!$F380)>0,Declarations!$F380,conftype),\"\")","v":""},null,null,0,0,0,0,0,0,0,0,0,0,0,0,0,null,379]
[{"$f":"+Declarations!A381&\"\"","v":""},{"$f":"IF(LEN($A381),IF(LEN(Declarations!$B381)>0,Declarations!$B381,\"#\"&$A381),\"\")","v":""},"...","","00:00:00",0,"","",0,{"$f":"IF(LEN($A381)>0,IF(LEN(Declarations!$F381)>0,Declarations!$F381,conftype),\"\")","v":""},null,null,0,0,0,0,0,0,0,0,0,0,0,0,0,null,380]
[{"$f":"+Declarations!A382&\"\"","v":""},{"$f":"IF(LEN($A382),IF(LEN(Declarations!$B382)>0,Declarations!$B382,\"#\"&$A382),\"\")","v":""},"...","","00:00:00",0,"","",0,{"$f":"IF(LEN($A382)>0,IF(LEN(Declarations!$F382)>0,Declarations!$F382,conftype),\"\")","v":""},null,null,0,0,0,0,0,0,0,0,0,0,0,0,0,null,381]
[{"$f":"+Declarations!A383&\"\"","v":""},{"$f":"IF(LEN($A383),IF(LEN(Declarations!$B383)>0,Declarations!$B383,\"#\"&$A383),\"\")","v":""},"...","","00:00:00",0,"","",0,{"$f":"IF(LEN($A383)>0,IF(LEN(Declarations!$F383)>0,Declarations!$F383,conftype),\"\")","v":""},null,null,0,0,0,0,0,0,0,0,0,0,0,0,0,null,382]
[{"$f":"+Declarations!A384&\"\"","v":""},{"$f":"IF(LEN($A384),IF(LEN(Declarations!$B384)>0,Declarations!$B384,\"#\"&$A384),\"\")","v":""},"...","","00:00:00",0,"","",0,{"$f":"IF(LEN($A384)>0,IF(LEN(Declarations!$F384)>0,Declarations!$F384,conftype),\"\")","v":""},null,null,0,0,0,0,0,0,0,0,0,0,0,0,0,null,383]
[{"$f":"+Declarations!A385&\"\"","v":""},{"$f":"IF(LEN($A385),IF(LEN(Declarations!$B385)>0,Declarations!$B385,\"#\"&$A385),\"\")","v":""},"...","","00:00:00",0,"","",0,{"$f":"IF(LEN($A385)>0,IF(LEN(Declarations!$F385)>0,Declarations!$F385,conftype),\"\")","v":""},null,null,0,0,0,0,0,0,0,0,0,0,0,0,0,null,384]
[{"$f":"+Declarations!A386&\"\"","v":""},{"$f":"IF(LEN($A386),IF(LEN(Declarations!$B386)>0,Declarations!$B386,\"#\"&$A386),\"\")","v":""},{"$f":"IF(LEN(INDEX(DECLARATIONS,$AA386,3))>0,INDEX(DECLARATIONS,$AA386,3),\"...\")","v":"..."},"",{"$f":"IF(ISNA($AA386),0,INDEX(DECLARATIONS,$AA386,5))","v":"00:00:00"},{"$f":"IF(ISNA($AA386),0,INDEX(DECLARATIONS,$AA386,7))","v":0},{"$f":"UPPER(IF(ISNA($AA386),\"\",INDEX(DECLARATIONS,$AA386,4)))","v":""},{"$f":"IF(AND(A386>0,ISTEXT(B386)),IF(SECNAME=\"YES\",LEFT(B386&\" \",FIND(\" \",B386&\" \")+2)&IF(F386>0,\" (\"&F386&\")\",\"\"), B386&IF(F386>0,\" (\"&F386&\")\",\"\")),\"#\"&$A386)","v":""},{"$f":"IF(LEN($A386)>0,IF(LEN($J386)>0,MATCH(J386,MatchNames,0),EventIndex),0)","v":0},{"$f":"IF(LEN($A386)>0,IF(LEN(Declarations!$F386)>0,Declarations!$F386,conftype),\"\")","v":""},null,null,0,{"$f":"IF(ISNA(VLOOKUP($A386,JumpData,2,FALSE)),0,VLOOKUP($A386,JumpData,2,FALSE))","v":0},{"$f":"IF(ISNA(VLOOKUP($A386,RunData,2,FALSE)),0,VLOOKUP($A386,RunData,2,FALSE))","v":0},{"$f":"IF(ISNA(VLOOKUP($A386,ThrowData,2,FALSE)),0,VLOOKUP($A386,ThrowData,2,FALSE))","v":0},{"$f":"IF(ISNA(VLOOKUP($A386,SprintData,4,FALSE)),0,VLOOKUP($A386,SprintData,4,FALSE))+V386","v":0},{"$f":"IF(ISNA(VLOOKUP($A386,JumpData,4,FALSE)),0,VLOOKUP($A386,JumpData,4,FALSE))+W386","v":0},{"$f":"IF(ISNA(VLOOKUP($A386,RunData,4,FALSE)),0,VLOOKUP($A386,RunData,4,FALSE))+X386","v":0},{"$f":"IF(ISNA(VLOOKUP($A386,ThrowData,4,FALSE)),0,VLOOKUP($A386,ThrowData,4,FALSE))+Y386","v":0},{"$f":"+Q386+R386+S386+T386","v":0},{"$f":"IF(AND($F386>0,NOT(M386),Flexing),FlexPC,0)","v":0},{"$f":"IF(AND($F386>0,NOT(N386),Flexing),FlexPC,0)","v":0},{"$f":"IF(AND($F386>0,NOT(O386),Flexing),FlexPC,0)","v":0},{"$f":"IF(AND($F386>0,NOT(P386),Flexing),FlexPC,0)","v":0},null,385]
[{"$f":"+Declarations!A387&\"\"","v":""},{"$f":"IF(LEN($A387),IF(LEN(Declarations!$B387)>0,Declarations!$B387,\"#\"&$A387),\"\")","v":""},"...","","00:00:00",0,"","",0,{"$f":"IF(LEN($A387)>0,IF(LEN(Declarations!$F387)>0,Declarations!$F387,conftype),\"\")","v":""},null,null,0,0,0,0,0,0,0,0,0,0,0,0,0,null,{"$f":"ROW()-1","v":386}]
[{"$f":"+Declarations!A388&\"\"","v":""},{"$f":"IF(LEN($A388),IF(LEN(Declarations!$B388)>0,Declarations!$B388,\"#\"&$A388),\"\")","v":""},"...","","00:00:00",0,"","",0,{"$f":"IF(LEN($A388)>0,IF(LEN(Declarations!$F388)>0,Declarations!$F388,conftype),\"\")","v":""},null,null,0,0,0,0,0,0,0,0,0,0,0,0,0,null,387]
[{"$f":"+Declarations!A389&\"\"","v":""},{"$f":"IF(LEN($A389),IF(LEN(Declarations!$B389)>0,Declarations!$B389,\"#\"&$A389),\"\")","v":""},"...","","00:00:00",0,"","",0,{"$f":"IF(LEN($A389)>0,IF(LEN(Declarations!$F389)>0,Declarations!$F389,conftype),\"\")","v":""},null,null,0,0,0,0,0,0,0,0,0,0,0,0,0,null,388]
[{"$f":"+Declarations!A390&\"\"","v":""},{"$f":"IF(LEN($A390),IF(LEN(Declarations!$B390)>0,Declarations!$B390,\"#\"&$A390),\"\")","v":""},"...","","00:00:00",0,"","",0,{"$f":"IF(LEN($A390)>0,IF(LEN(Declarations!$F390)>0,Declarations!$F390,conftype),\"\")","v":""},null,null,0,0,0,0,0,0,0,0,0,0,0,0,0,null,389]
[{"$f":"+Declarations!A391&\"\"","v":""},{"$f":"IF(LEN($A391),IF(LEN(Declarations!$B391)>0,Declarations!$B391,\"#\"&$A391),\"\")","v":""},"...",{"$f":"IF(OR(G391=\"G\",G391=\"F\"),\"F\",IF(OR(G391=\"B\",G391=\"M\"),\"M\",\"\"))","v":""},"00:00:00",0,"","",0,{"$f":"IF(LEN($A391)>0,IF(LEN(Declarations!$F391)>0,Declarations!$F391,conftype),\"\")","v":""},null,null,0,0,0,0,0,0,0,0,0,0,0,0,0,null,390]
[{"$f":"+Declarations!A392&\"\"","v":""},{"$f":"IF(LEN($A392),IF(LEN(Declarations!$B392)>0,Declarations!$B392,\"#\"&$A392),\"\")","v":""},"...","","00:00:00",0,"","",0,{"$f":"IF(LEN($A392)>0,IF(LEN(Declarations!$F392)>0,Declarations!$F392,conftype),\"\")","v":""},null,null,0,0,0,0,0,0,0,0,0,0,0,0,0,null,391]
[{"$f":"+Declarations!A393&\"\"","v":""},{"$f":"IF(LEN($A393),IF(LEN(Declarations!$B393)>0,Declarations!$B393,\"#\"&$A393),\"\")","v":""},"...","","00:00:00",0,"","",0,{"$f":"IF(LEN($A393)>0,IF(LEN(Declarations!$F393)>0,Declarations!$F393,conftype),\"\")","v":""},null,null,0,0,0,0,0,0,0,0,0,0,0,0,0,null,392]
[{"$f":"+Declarations!A394&\"\"","v":""},{"$f":"IF(LEN($A394),IF(LEN(Declarations!$B394)>0,Declarations!$B394,\"#\"&$A394),\"\")","v":""},"...","","00:00:00",0,"","",0,{"$f":"IF(LEN($A394)>0,IF(LEN(Declarations!$F394)>0,Declarations!$F394,conftype),\"\")","v":""},null,null,0,0,0,0,0,0,0,0,0,0,0,0,0,null,393]
[{"$f":"+Declarations!A395&\"\"","v":""},{"$f":"IF(LEN($A395),IF(LEN(Declarations!$B395)>0,Declarations!$B395,\"#\"&$A395),\"\")","v":""},"...","","00:00:00",0,"","",0,{"$f":"IF(LEN($A395)>0,IF(LEN(Declarations!$F395)>0,Declarations!$F395,conftype),\"\")","v":""},null,null,0,0,0,0,0,0,0,0,0,0,0,0,0,null,394]
[{"$f":"+Declarations!A396&\"\"","v":""},{"$f":"IF(LEN($A396),IF(LEN(Declarations!$B396)>0,Declarations!$B396,\"#\"&$A396),\"\")","v":""},"...","","00:00:00",0,"","",0,{"$f":"IF(LEN($A396)>0,IF(LEN(Declarations!$F396)>0,Declarations!$F396,conftype),\"\")","v":""},null,null,0,0,0,0,0,0,0,0,0,0,0,0,0,null,395]
[{"$f":"+Declarations!A397&\"\"","v":""},{"$f":"IF(LEN($A397),IF(LEN(Declarations!$B397)>0,Declarations!$B397,\"#\"&$A397),\"\")","v":""},"...","","00:00:00",0,"","",0,{"$f":"IF(LEN($A397)>0,IF(LEN(Declarations!$F397)>0,Declarations!$F397,conftype),\"\")","v":""},null,null,0,0,0,0,0,0,0,0,0,0,0,0,0,null,396]
[{"$f":"+Declarations!A398&\"\"","v":""},{"$f":"IF(LEN($A398),IF(LEN(Declarations!$B398)>0,Declarations!$B398,\"#\"&$A398),\"\")","v":""},"...","","00:00:00",0,"","",0,{"$f":"IF(LEN($A398)>0,IF(LEN(Declarations!$F398)>0,Declarations!$F398,conftype),\"\")","v":""},null,null,0,0,0,0,0,0,0,0,0,0,0,0,0,null,397]
[{"$f":"+Declarations!A399&\"\"","v":""},{"$f":"IF(LEN($A399),IF(LEN(Declarations!$B399)>0,Declarations!$B399,\"#\"&$A399),\"\")","v":""},"...","","00:00:00",0,"","",0,{"$f":"IF(LEN($A399)>0,IF(LEN(Declarations!$F399)>0,Declarations!$F399,conftype),\"\")","v":""},null,null,0,0,0,0,0,0,0,0,0,0,0,0,0,null,398]
[{"$f":"+Declarations!A400&\"\"","v":""},{"$f":"IF(LEN($A400),IF(LEN(Declarations!$B400)>0,Declarations!$B400,\"#\"&$A400),\"\")","v":""},"...","","00:00:00",0,"","",0,{"$f":"IF(LEN($A400)>0,IF(LEN(Declarations!$F400)>0,Declarations!$F400,conftype),\"\")","v":""},null,null,0,0,0,0,0,0,0,0,0,0,0,0,0,null,399]
[{"$f":"+Declarations!A401&\"\"","v":""},{"$f":"IF(LEN($A401),IF(LEN(Declarations!$B401)>0,Declarations!$B401,\"#\"&$A401),\"\")","v":""},"...","","00:00:00",0,"","",0,{"$f":"IF(LEN($A401)>0,IF(LEN(Declarations!$F401)>0,Declarations!$F401,conftype),\"\")","v":""},null,null,0,0,0,0,0,0,0,0,0,0,0,0,0,null,400]
[{"$f":"+Declarations!A402&\"\"","v":""},{"$f":"IF(LEN($A402),IF(LEN(Declarations!$B402)>0,Declarations!$B402,\"#\"&$A402),\"\")","v":""},"...","","00:00:00",0,"","",0,{"$f":"IF(LEN($A402)>0,IF(LEN(Declarations!$F402)>0,Declarations!$F402,conftype),\"\")","v":""},null,null,0,0,0,0,0,0,0,0,0,0,0,0,0,null,401]
[{"$f":"+Declarations!A403&\"\"","v":""},{"$f":"IF(LEN($A403),IF(LEN(Declarations!$B403)>0,Declarations!$B403,\"#\"&$A403),\"\")","v":""},"...","","00:00:00",0,"","",0,{"$f":"IF(LEN($A403)>0,IF(LEN(Declarations!$F403)>0,Declarations!$F403,conftype),\"\")","v":""},null,null,0,0,0,0,0,0,0,0,0,0,0,0,0,null,402]
[{"$f":"+Declarations!A404&\"\"","v":""},{"$f":"IF(LEN($A404),IF(LEN(Declarations!$B404)>0,Declarations!$B404,\"#\"&$A404),\"\")","v":""},"...","","00:00:00",0,"","",0,{"$f":"IF(LEN($A404)>0,IF(LEN(Declarations!$F404)>0,Declarations!$F404,conftype),\"\")","v":""},null,null,0,0,0,0,0,0,0,0,0,0,0,0,0,null,403]
[{"$f":"+Declarations!A405&\"\"","v":""},{"$f":"IF(LEN($A405),IF(LEN(Declarations!$B405)>0,Declarations!$B405,\"#\"&$A405),\"\")","v":""},"...","","00:00:00",0,"","",0,{"$f":"IF(LEN($A405)>0,IF(LEN(Declarations!$F405)>0,Declarations!$F405,conftype),\"\")","v":""},null,null,0,0,0,0,0,0,0,0,0,0,0,0,0,null,404]
[{"$f":"+Declarations!A406&\"\"","v":""},{"$f":"IF(LEN($A406),IF(LEN(Declarations!$B406)>0,Declarations!$B406,\"#\"&$A406),\"\")","v":""},"...","","00:00:00",0,"","",0,{"$f":"IF(LEN($A406)>0,IF(LEN(Declarations!$F406)>0,Declarations!$F406,conftype),\"\")","v":""},null,null,0,0,0,0,0,0,0,0,0,0,0,0,0,null,405]
[{"$f":"+Declarations!A407&\"\"","v":""},{"$f":"IF(LEN($A407),IF(LEN(Declarations!$B407)>0,Declarations!$B407,\"#\"&$A407),\"\")","v":""},"...","","00:00:00",0,"","",0,{"$f":"IF(LEN($A407)>0,IF(LEN(Declarations!$F407)>0,Declarations!$F407,conftype),\"\")","v":""},null,null,0,0,0,0,0,0,0,0,0,0,0,0,0,null,406]
[{"$f":"+Declarations!A408&\"\"","v":""},{"$f":"IF(LEN($A408),IF(LEN(Declarations!$B408)>0,Declarations!$B408,\"#\"&$A408),\"\")","v":""},"...","","00:00:00",0,"","",0,{"$f":"IF(LEN($A408)>0,IF(LEN(Declarations!$F408)>0,Declarations!$F408,conftype),\"\")","v":""},null,null,0,0,0,0,0,0,0,0,0,0,0,0,0,null,407]
[{"$f":"+Declarations!A409&\"\"","v":""},{"$f":"IF(LEN($A409),IF(LEN(Declarations!$B409)>0,Declarations!$B409,\"#\"&$A409),\"\")","v":""},"...","","00:00:00",0,"","",0,{"$f":"IF(LEN($A409)>0,IF(LEN(Declarations!$F409)>0,Declarations!$F409,conftype),\"\")","v":""},null,null,0,0,0,0,0,0,0,0,0,0,0,0,0,null,408]
[{"$f":"+Declarations!A410&\"\"","v":""},{"$f":"IF(LEN($A410),IF(LEN(Declarations!$B410)>0,Declarations!$B410,\"#\"&$A410),\"\")","v":""},"...","","00:00:00",0,"","",0,{"$f":"IF(LEN($A410)>0,IF(LEN(Declarations!$F410)>0,Declarations!$F410,conftype),\"\")","v":""},null,null,0,0,0,0,0,0,0,0,0,0,0,0,0,null,409]
[{"$f":"+Declarations!A411&\"\"","v":""},{"$f":"IF(LEN($A411),IF(LEN(Declarations!$B411)>0,Declarations!$B411,\"#\"&$A411),\"\")","v":""},"...","","00:00:00",0,"","",0,{"$f":"IF(LEN($A411)>0,IF(LEN(Declarations!$F411)>0,Declarations!$F411,conftype),\"\")","v":""},null,null,0,0,0,0,0,0,0,0,0,0,0,0,0,null,410]
[{"$f":"+Declarations!A412&\"\"","v":""},{"$f":"IF(LEN($A412),IF(LEN(Declarations!$B412)>0,Declarations!$B412,\"#\"&$A412),\"\")","v":""},"...","","00:00:00",0,"","",0,{"$f":"IF(LEN($A412)>0,IF(LEN(Declarations!$F412)>0,Declarations!$F412,conftype),\"\")","v":""},null,null,0,0,0,0,0,0,0,0,0,0,0,0,0,null,411]
[{"$f":"+Declarations!A413&\"\"","v":""},{"$f":"IF(LEN($A413),IF(LEN(Declarations!$B413)>0,Declarations!$B413,\"#\"&$A413),\"\")","v":""},"...","","00:00:00",0,"","",0,{"$f":"IF(LEN($A413)>0,IF(LEN(Declarations!$F413)>0,Declarations!$F413,conftype),\"\")","v":""},null,null,0,0,0,0,0,0,0,0,0,0,0,0,0,null,412]
[{"$f":"+Declarations!A414&\"\"","v":""},{"$f":"IF(LEN($A414),IF(LEN(Declarations!$B414)>0,Declarations!$B414,\"#\"&$A414),\"\")","v":""},"...","","00:00:00",0,"","",0,{"$f":"IF(LEN($A414)>0,IF(LEN(Declarations!$F414)>0,Declarations!$F414,conftype),\"\")","v":""},null,null,0,0,0,0,0,0,0,0,0,0,0,0,0,null,413]
[{"$f":"+Declarations!A415&\"\"","v":""},{"$f":"IF(LEN($A415),IF(LEN(Declarations!$B415)>0,Declarations!$B415,\"#\"&$A415),\"\")","v":""},"...","","00:00:00",0,"","",0,{"$f":"IF(LEN($A415)>0,IF(LEN(Declarations!$F415)>0,Declarations!$F415,conftype),\"\")","v":""},null,null,0,0,0,0,0,0,0,0,0,0,0,0,0,null,414]
[{"$f":"+Declarations!A416&\"\"","v":""},{"$f":"IF(LEN($A416),IF(LEN(Declarations!$B416)>0,Declarations!$B416,\"#\"&$A416),\"\")","v":""},"...","","00:00:00",0,"","",0,{"$f":"IF(LEN($A416)>0,IF(LEN(Declarations!$F416)>0,Declarations!$F416,conftype),\"\")","v":""},null,null,0,0,0,0,0,0,0,0,0,0,0,0,0,null,415]
[{"$f":"+Declarations!A417&\"\"","v":""},{"$f":"IF(LEN($A417),IF(LEN(Declarations!$B417)>0,Declarations!$B417,\"#\"&$A417),\"\")","v":""},"...","","00:00:00",0,"","",0,{"$f":"IF(LEN($A417)>0,IF(LEN(Declarations!$F417)>0,Declarations!$F417,conftype),\"\")","v":""},null,null,0,0,0,0,0,0,0,0,0,0,0,0,0,null,416]
[{"$f":"+Declarations!A418&\"\"","v":""},{"$f":"IF(LEN($A418),IF(LEN(Declarations!$B418)>0,Declarations!$B418,\"#\"&$A418),\"\")","v":""},"...","","00:00:00",0,"","",0,{"$f":"IF(LEN($A418)>0,IF(LEN(Declarations!$F418)>0,Declarations!$F418,conftype),\"\")","v":""},null,null,0,0,0,0,0,0,0,0,0,0,0,0,0,null,417]
[{"$f":"+Declarations!A419&\"\"","v":""},{"$f":"IF(LEN($A419),IF(LEN(Declarations!$B419)>0,Declarations!$B419,\"#\"&$A419),\"\")","v":""},"...","","00:00:00",0,"","",0,{"$f":"IF(LEN($A419)>0,IF(LEN(Declarations!$F419)>0,Declarations!$F419,conftype),\"\")","v":""},null,null,0,0,0,0,0,0,0,0,0,0,0,0,0,null,418]
[{"$f":"+Declarations!A420&\"\"","v":""},{"$f":"IF(LEN($A420),IF(LEN(Declarations!$B420)>0,Declarations!$B420,\"#\"&$A420),\"\")","v":""},"...","","00:00:00",0,"","",0,{"$f":"IF(LEN($A420)>0,IF(LEN(Declarations!$F420)>0,Declarations!$F420,conftype),\"\")","v":""},null,null,0,0,0,0,0,0,0,0,0,0,0,0,0,null,419]
[{"$f":"+Declarations!A421&\"\"","v":""},{"$f":"IF(LEN($A421),IF(LEN(Declarations!$B421)>0,Declarations!$B421,\"#\"&$A421),\"\")","v":""},"...","","00:00:00",0,"","",0,{"$f":"IF(LEN($A421)>0,IF(LEN(Declarations!$F421)>0,Declarations!$F421,conftype),\"\")","v":""},null,null,0,0,0,0,0,0,0,0,0,0,0,0,0,null,420]
[{"$f":"+Declarations!A422&\"\"","v":""},{"$f":"IF(LEN($A422),IF(LEN(Declarations!$B422)>0,Declarations!$B422,\"#\"&$A422),\"\")","v":""},"...","","00:00:00",0,"","",0,{"$f":"IF(LEN($A422)>0,IF(LEN(Declarations!$F422)>0,Declarations!$F422,conftype),\"\")","v":""},null,null,0,0,0,0,0,0,0,0,0,0,0,0,0,null,421]
[{"$f":"+Declarations!A423&\"\"","v":""},{"$f":"IF(LEN($A423),IF(LEN(Declarations!$B423)>0,Declarations!$B423,\"#\"&$A423),\"\")","v":""},"...","","00:00:00",0,"","",0,{"$f":"IF(LEN($A423)>0,IF(LEN(Declarations!$F423)>0,Declarations!$F423,conftype),\"\")","v":""},null,null,0,0,0,0,0,0,0,0,0,0,0,0,0,null,422]
[{"$f":"+Declarations!A424&\"\"","v":""},{"$f":"IF(LEN($A424),IF(LEN(Declarations!$B424)>0,Declarations!$B424,\"#\"&$A424),\"\")","v":""},"...","","00:00:00",0,"","",0,{"$f":"IF(LEN($A424)>0,IF(LEN(Declarations!$F424)>0,Declarations!$F424,conftype),\"\")","v":""},null,null,0,0,0,0,0,0,0,0,0,0,0,0,0,null,423]
[{"$f":"+Declarations!A425&\"\"","v":""},{"$f":"IF(LEN($A425),IF(LEN(Declarations!$B425)>0,Declarations!$B425,\"#\"&$A425),\"\")","v":""},"...","","00:00:00",0,"","",0,{"$f":"IF(LEN($A425)>0,IF(LEN(Declarations!$F425)>0,Declarations!$F425,conftype),\"\")","v":""},null,null,0,0,0,0,0,0,0,0,0,0,0,0,0,null,424]
[{"$f":"+Declarations!A426&\"\"","v":""},{"$f":"IF(LEN($A426),IF(LEN(Declarations!$B426)>0,Declarations!$B426,\"#\"&$A426),\"\")","v":""},"...","","00:00:00",0,"","",0,{"$f":"IF(LEN($A426)>0,IF(LEN(Declarations!$F426)>0,Declarations!$F426,conftype),\"\")","v":""},null,null,0,0,0,0,0,0,0,0,0,0,0,0,0,null,425]
[{"$f":"+Declarations!A427&\"\"","v":""},{"$f":"IF(LEN($A427),IF(LEN(Declarations!$B427)>0,Declarations!$B427,\"#\"&$A427),\"\")","v":""},"...","","00:00:00",0,"","",0,{"$f":"IF(LEN($A427)>0,IF(LEN(Declarations!$F427)>0,Declarations!$F427,conftype),\"\")","v":""},null,null,0,0,0,0,0,0,0,0,0,0,0,0,0,null,426]
[{"$f":"+Declarations!A428&\"\"","v":""},{"$f":"IF(LEN($A428),IF(LEN(Declarations!$B428)>0,Declarations!$B428,\"#\"&$A428),\"\")","v":""},"...","","00:00:00",0,"","",0,{"$f":"IF(LEN($A428)>0,IF(LEN(Declarations!$F428)>0,Declarations!$F428,conftype),\"\")","v":""},null,null,0,0,0,0,0,0,0,0,0,0,0,0,0,null,427]
[{"$f":"+Declarations!A429&\"\"","v":""},{"$f":"IF(LEN($A429),IF(LEN(Declarations!$B429)>0,Declarations!$B429,\"#\"&$A429),\"\")","v":""},"...","","00:00:00",0,"","",0,{"$f":"IF(LEN($A429)>0,IF(LEN(Declarations!$F429)>0,Declarations!$F429,conftype),\"\")","v":""},null,null,0,0,0,0,0,0,0,0,0,0,0,0,0,null,428]
[{"$f":"+Declarations!A430&\"\"","v":""},{"$f":"IF(LEN($A430),IF(LEN(Declarations!$B430)>0,Declarations!$B430,\"#\"&$A430),\"\")","v":""},"...","","00:00:00",0,"","",0,{"$f":"IF(LEN($A430)>0,IF(LEN(Declarations!$F430)>0,Declarations!$F430,conftype),\"\")","v":""},null,null,0,0,0,0,0,0,0,0,0,0,0,0,0,null,429]
[{"$f":"+Declarations!A431&\"\"","v":""},{"$f":"IF(LEN($A431),IF(LEN(Declarations!$B431)>0,Declarations!$B431,\"#\"&$A431),\"\")","v":""},"...","","00:00:00",0,"","",0,{"$f":"IF(LEN($A431)>0,IF(LEN(Declarations!$F431)>0,Declarations!$F431,conftype),\"\")","v":""},null,null,{"$f":"IF(ISNA(VLOOKUP($A431,SprintData,2,FALSE)),0,VLOOKUP($A431,SprintData,2,FALSE))","v":0},0,0,0,0,0,0,0,0,0,0,0,0,null,430]
[{"$f":"+Declarations!A432&\"\"","v":""},{"$f":"IF(LEN($A432),IF(LEN(Declarations!$B432)>0,Declarations!$B432,\"#\"&$A432),\"\")","v":""},"...","","00:00:00",0,"","",0,{"$f":"IF(LEN($A432)>0,IF(LEN(Declarations!$F432)>0,Declarations!$F432,conftype),\"\")","v":""},null,null,0,0,0,0,0,0,0,0,0,0,0,0,0,null,431]
[{"$f":"+Declarations!A433&\"\"","v":""},{"$f":"IF(LEN($A433),IF(LEN(Declarations!$B433)>0,Declarations!$B433,\"#\"&$A433),\"\")","v":""},"...","","00:00:00",0,"","",0,{"$f":"IF(LEN($A433)>0,IF(LEN(Declarations!$F433)>0,Declarations!$F433,conftype),\"\")","v":""},null,null,0,0,0,0,0,0,0,0,0,0,0,0,0,null,432]
[{"$f":"+Declarations!A434&\"\"","v":""},{"$f":"IF(LEN($A434),IF(LEN(Declarations!$B434)>0,Declarations!$B434,\"#\"&$A434),\"\")","v":""},"...","","00:00:00",0,"","",0,{"$f":"IF(LEN($A434)>0,IF(LEN(Declarations!$F434)>0,Declarations!$F434,conftype),\"\")","v":""},null,null,0,0,0,0,0,0,0,0,0,0,0,0,0,null,433]
[{"$f":"+Declarations!A435&\"\"","v":""},{"$f":"IF(LEN($A435),IF(LEN(Declarations!$B435)>0,Declarations!$B435,\"#\"&$A435),\"\")","v":""},"...","","00:00:00",0,"","",0,{"$f":"IF(LEN($A435)>0,IF(LEN(Declarations!$F435)>0,Declarations!$F435,conftype),\"\")","v":""},null,null,0,0,0,0,0,0,0,0,0,0,0,0,0,null,434]
[{"$f":"+Declarations!A436&\"\"","v":""},{"$f":"IF(LEN($A436),IF(LEN(Declarations!$B436)>0,Declarations!$B436,\"#\"&$A436),\"\")","v":""},"...","","00:00:00",0,"","",0,{"$f":"IF(LEN($A436)>0,IF(LEN(Declarations!$F436)>0,Declarations!$F436,conftype),\"\")","v":""},null,null,0,0,0,0,0,0,0,0,0,0,0,0,0,null,435]
[{"$f":"+Declarations!A437&\"\"","v":""},{"$f":"IF(LEN($A437),IF(LEN(Declarations!$B437)>0,Declarations!$B437,\"#\"&$A437),\"\")","v":""},"...","","00:00:00",0,"","",0,{"$f":"IF(LEN($A437)>0,IF(LEN(Declarations!$F437)>0,Declarations!$F437,conftype),\"\")","v":""},null,null,0,0,0,0,0,0,0,0,0,0,0,0,0,null,436]
[{"$f":"+Declarations!A438&\"\"","v":""},{"$f":"IF(LEN($A438),IF(LEN(Declarations!$B438)>0,Declarations!$B438,\"#\"&$A438),\"\")","v":""},"...","","00:00:00",0,"","",0,{"$f":"IF(LEN($A438)>0,IF(LEN(Declarations!$F438)>0,Declarations!$F438,conftype),\"\")","v":""},null,null,0,0,0,0,0,0,0,0,0,0,0,0,0,null,437]
[{"$f":"+Declarations!A439&\"\"","v":""},{"$f":"IF(LEN($A439),IF(LEN(Declarations!$B439)>0,Declarations!$B439,\"#\"&$A439),\"\")","v":""},"...","","00:00:00",0,"","",0,{"$f":"IF(LEN($A439)>0,IF(LEN(Declarations!$F439)>0,Declarations!$F439,conftype),\"\")","v":""},null,null,0,0,0,0,0,0,0,0,0,0,0,0,0,null,438]
[{"$f":"+Declarations!A440&\"\"","v":""},{"$f":"IF(LEN($A440),IF(LEN(Declarations!$B440)>0,Declarations!$B440,\"#\"&$A440),\"\")","v":""},"...","","00:00:00",0,"","",0,{"$f":"IF(LEN($A440)>0,IF(LEN(Declarations!$F440)>0,Declarations!$F440,conftype),\"\")","v":""},null,null,0,0,0,0,0,0,0,0,0,0,0,0,0,null,439]
[{"$f":"+Declarations!A441&\"\"","v":""},{"$f":"IF(LEN($A441),IF(LEN(Declarations!$B441)>0,Declarations!$B441,\"#\"&$A441),\"\")","v":""},"...","","00:00:00",0,"","",0,{"$f":"IF(LEN($A441)>0,IF(LEN(Declarations!$F441)>0,Declarations!$F441,conftype),\"\")","v":""},null,null,0,0,0,0,0,0,0,0,0,0,0,0,0,null,440]
[{"$f":"+Declarations!A442&\"\"","v":""},{"$f":"IF(LEN($A442),IF(LEN(Declarations!$B442)>0,Declarations!$B442,\"#\"&$A442),\"\")","v":""},"...","","00:00:00",0,"","",0,{"$f":"IF(LEN($A442)>0,IF(LEN(Declarations!$F442)>0,Declarations!$F442,conftype),\"\")","v":""},null,null,0,0,0,0,0,0,0,0,0,0,0,0,0,null,441]
[{"$f":"+Declarations!A443&\"\"","v":""},{"$f":"IF(LEN($A443),IF(LEN(Declarations!$B443)>0,Declarations!$B443,\"#\"&$A443),\"\")","v":""},"...","","00:00:00",0,"","",0,{"$f":"IF(LEN($A443)>0,IF(LEN(Declarations!$F443)>0,Declarations!$F443,conftype),\"\")","v":""},null,null,0,0,0,0,0,0,0,0,0,0,0,0,0,null,442]
[{"$f":"+Declarations!A444&\"\"","v":""},{"$f":"IF(LEN($A444),IF(LEN(Declarations!$B444)>0,Declarations!$B444,\"#\"&$A444),\"\")","v":""},"...","","00:00:00",0,"","",0,{"$f":"IF(LEN($A444)>0,IF(LEN(Declarations!$F444)>0,Declarations!$F444,conftype),\"\")","v":""},null,null,0,0,0,0,0,0,0,0,0,0,0,0,0,null,443]
[{"$f":"+Declarations!A445&\"\"","v":""},{"$f":"IF(LEN($A445),IF(LEN(Declarations!$B445)>0,Declarations!$B445,\"#\"&$A445),\"\")","v":""},"...","","00:00:00",0,"","",0,{"$f":"IF(LEN($A445)>0,IF(LEN(Declarations!$F445)>0,Declarations!$F445,conftype),\"\")","v":""},null,null,0,0,0,0,0,0,0,0,0,0,0,0,0,null,444]
[{"$f":"+Declarations!A446&\"\"","v":""},{"$f":"IF(LEN($A446),IF(LEN(Declarations!$B446)>0,Declarations!$B446,\"#\"&$A446),\"\")","v":""},"...","","00:00:00",0,"","",0,{"$f":"IF(LEN($A446)>0,IF(LEN(Declarations!$F446)>0,Declarations!$F446,conftype),\"\")","v":""},null,null,0,0,0,0,0,0,0,0,0,0,0,0,0,null,445]
[{"$f":"+Declarations!A447&\"\"","v":""},{"$f":"IF(LEN($A447),IF(LEN(Declarations!$B447)>0,Declarations!$B447,\"#\"&$A447),\"\")","v":""},"...","","00:00:00",0,"","",0,{"$f":"IF(LEN($A447)>0,IF(LEN(Declarations!$F447)>0,Declarations!$F447,conftype),\"\")","v":""},null,null,0,0,0,0,0,0,0,0,0,0,0,0,0,null,446]
[{"$f":"+Declarations!A448&\"\"","v":""},{"$f":"IF(LEN($A448),IF(LEN(Declarations!$B448)>0,Declarations!$B448,\"#\"&$A448),\"\")","v":""},"...","","00:00:00",0,"","",0,{"$f":"IF(LEN($A448)>0,IF(LEN(Declarations!$F448)>0,Declarations!$F448,conftype),\"\")","v":""},null,null,0,0,0,0,0,0,0,0,0,0,0,0,0,null,447]
[{"$f":"+Declarations!A449&\"\"","v":""},{"$f":"IF(LEN($A449),IF(LEN(Declarations!$B449)>0,Declarations!$B449,\"#\"&$A449),\"\")","v":""},"...","","00:00:00",0,"","",0,{"$f":"IF(LEN($A449)>0,IF(LEN(Declarations!$F449)>0,Declarations!$F449,conftype),\"\")","v":""},null,null,0,0,0,0,0,0,0,0,0,0,0,0,0,null,448]
[{"$f":"+Declarations!A450&\"\"","v":""},{"$f":"IF(LEN($A450),IF(LEN(Declarations!$B450)>0,Declarations!$B450,\"#\"&$A450),\"\")","v":""},{"$f":"IF(LEN(INDEX(DECLARATIONS,$AA450,3))>0,INDEX(DECLARATIONS,$AA450,3),\"...\")","v":"..."},"",{"$f":"IF(ISNA($AA450),0,INDEX(DECLARATIONS,$AA450,5))","v":"00:00:00"},{"$f":"IF(ISNA($AA450),0,INDEX(DECLARATIONS,$AA450,7))","v":0},{"$f":"UPPER(IF(ISNA($AA450),\"\",INDEX(DECLARATIONS,$AA450,4)))","v":""},{"$f":"IF(AND(A450>0,ISTEXT(B450)),IF(SECNAME=\"YES\",LEFT(B450&\" \",FIND(\" \",B450&\" \")+2)&IF(F450>0,\" (\"&F450&\")\",\"\"), B450&IF(F450>0,\" (\"&F450&\")\",\"\")),\"#\"&$A450)","v":""},{"$f":"IF(LEN($A450)>0,IF(LEN($J450)>0,MATCH(J450,MatchNames,0),EventIndex),0)","v":0},{"$f":"IF(LEN($A450)>0,IF(LEN(Declarations!$F450)>0,Declarations!$F450,conftype),\"\")","v":""},null,null,0,{"$f":"IF(ISNA(VLOOKUP($A450,JumpData,2,FALSE)),0,VLOOKUP($A450,JumpData,2,FALSE))","v":0},{"$f":"IF(ISNA(VLOOKUP($A450,RunData,2,FALSE)),0,VLOOKUP($A450,RunData,2,FALSE))","v":0},{"$f":"IF(ISNA(VLOOKUP($A450,ThrowData,2,FALSE)),0,VLOOKUP($A450,ThrowData,2,FALSE))","v":0},{"$f":"IF(ISNA(VLOOKUP($A450,SprintData,4,FALSE)),0,VLOOKUP($A450,SprintData,4,FALSE))+V450","v":0},{"$f":"IF(ISNA(VLOOKUP($A450,JumpData,4,FALSE)),0,VLOOKUP($A450,JumpData,4,FALSE))+W450","v":0},{"$f":"IF(ISNA(VLOOKUP($A450,RunData,4,FALSE)),0,VLOOKUP($A450,RunData,4,FALSE))+X450","v":0},{"$f":"IF(ISNA(VLOOKUP($A450,ThrowData,4,FALSE)),0,VLOOKUP($A450,ThrowData,4,FALSE))+Y450","v":0},{"$f":"+Q450+R450+S450+T450","v":0},{"$f":"IF(AND($F450>0,NOT(M450),Flexing),FlexPC,0)","v":0},{"$f":"IF(AND($F450>0,NOT(N450),Flexing),FlexPC,0)","v":0},{"$f":"IF(AND($F450>0,NOT(O450),Flexing),FlexPC,0)","v":0},{"$f":"IF(AND($F450>0,NOT(P450),Flexing),FlexPC,0)","v":0},null,449]
[{"$f":"+Declarations!A451&\"\"","v":""},{"$f":"IF(LEN($A451),IF(LEN(Declarations!$B451)>0,Declarations!$B451,\"#\"&$A451),\"\")","v":""},"...","","00:00:00",0,"","",0,{"$f":"IF(LEN($A451)>0,IF(LEN(Declarations!$F451)>0,Declarations!$F451,conftype),\"\")","v":""},null,null,0,0,0,0,0,0,0,0,0,0,0,0,0,null,{"$f":"ROW()-1","v":450}]
[{"$f":"+Declarations!A452&\"\"","v":""},{"$f":"IF(LEN($A452),IF(LEN(Declarations!$B452)>0,Declarations!$B452,\"#\"&$A452),\"\")","v":""},"...","","00:00:00",0,"","",0,{"$f":"IF(LEN($A452)>0,IF(LEN(Declarations!$F452)>0,Declarations!$F452,conftype),\"\")","v":""},null,null,0,0,0,0,0,0,0,0,0,0,0,0,0,null,451]
[{"$f":"+Declarations!A453&\"\"","v":""},{"$f":"IF(LEN($A453),IF(LEN(Declarations!$B453)>0,Declarations!$B453,\"#\"&$A453),\"\")","v":""},"...","","00:00:00",0,"","",0,{"$f":"IF(LEN($A453)>0,IF(LEN(Declarations!$F453)>0,Declarations!$F453,conftype),\"\")","v":""},null,null,0,0,0,0,0,0,0,0,0,0,0,0,0,null,452]
[{"$f":"+Declarations!A454&\"\"","v":""},{"$f":"IF(LEN($A454),IF(LEN(Declarations!$B454)>0,Declarations!$B454,\"#\"&$A454),\"\")","v":""},"...","","00:00:00",0,"","",0,{"$f":"IF(LEN($A454)>0,IF(LEN(Declarations!$F454)>0,Declarations!$F454,conftype),\"\")","v":""},null,null,0,0,0,0,0,0,0,0,0,0,0,0,0,null,453]
[{"$f":"+Declarations!A455&\"\"","v":""},{"$f":"IF(LEN($A455),IF(LEN(Declarations!$B455)>0,Declarations!$B455,\"#\"&$A455),\"\")","v":""},"...",{"$f":"IF(OR(G455=\"G\",G455=\"F\"),\"F\",IF(OR(G455=\"B\",G455=\"M\"),\"M\",\"\"))","v":""},"00:00:00",0,"","",0,{"$f":"IF(LEN($A455)>0,IF(LEN(Declarations!$F455)>0,Declarations!$F455,conftype),\"\")","v":""},null,null,0,0,0,0,0,0,0,0,0,0,0,0,0,null,454]
[{"$f":"+Declarations!A456&\"\"","v":""},{"$f":"IF(LEN($A456),IF(LEN(Declarations!$B456)>0,Declarations!$B456,\"#\"&$A456),\"\")","v":""},"...","","00:00:00",0,"","",0,{"$f":"IF(LEN($A456)>0,IF(LEN(Declarations!$F456)>0,Declarations!$F456,conftype),\"\")","v":""},null,null,0,0,0,0,0,0,0,0,0,0,0,0,0,null,455]
[{"$f":"+Declarations!A457&\"\"","v":""},{"$f":"IF(LEN($A457),IF(LEN(Declarations!$B457)>0,Declarations!$B457,\"#\"&$A457),\"\")","v":""},"...","","00:00:00",0,"","",0,{"$f":"IF(LEN($A457)>0,IF(LEN(Declarations!$F457)>0,Declarations!$F457,conftype),\"\")","v":""},null,null,0,0,0,0,0,0,0,0,0,0,0,0,0,null,456]
[{"$f":"+Declarations!A458&\"\"","v":""},{"$f":"IF(LEN($A458),IF(LEN(Declarations!$B458)>0,Declarations!$B458,\"#\"&$A458),\"\")","v":""},"...","","00:00:00",0,"","",0,{"$f":"IF(LEN($A458)>0,IF(LEN(Declarations!$F458)>0,Declarations!$F458,conftype),\"\")","v":""},null,null,0,0,0,0,0,0,0,0,0,0,0,0,0,null,457]
[{"$f":"+Declarations!A459&\"\"","v":""},{"$f":"IF(LEN($A459),IF(LEN(Declarations!$B459)>0,Declarations!$B459,\"#\"&$A459),\"\")","v":""},"...","","00:00:00",0,"","",0,{"$f":"IF(LEN($A459)>0,IF(LEN(Declarations!$F459)>0,Declarations!$F459,conftype),\"\")","v":""},null,null,0,0,0,0,0,0,0,0,0,0,0,0,0,null,458]
[{"$f":"+Declarations!A460&\"\"","v":""},{"$f":"IF(LEN($A460),IF(LEN(Declarations!$B460)>0,Declarations!$B460,\"#\"&$A460),\"\")","v":""},"...","","00:00:00",0,"","",0,{"$f":"IF(LEN($A460)>0,IF(LEN(Declarations!$F460)>0,Declarations!$F460,conftype),\"\")","v":""},null,null,0,0,0,0,0,0,0,0,0,0,0,0,0,null,459]
[{"$f":"+Declarations!A461&\"\"","v":""},{"$f":"IF(LEN($A461),IF(LEN(Declarations!$B461)>0,Declarations!$B461,\"#\"&$A461),\"\")","v":""},"...","","00:00:00",0,"","",0,{"$f":"IF(LEN($A461)>0,IF(LEN(Declarations!$F461)>0,Declarations!$F461,conftype),\"\")","v":""},null,null,0,0,0,0,0,0,0,0,0,0,0,0,0,null,460]
[{"$f":"+Declarations!A462&\"\"","v":""},{"$f":"IF(LEN($A462),IF(LEN(Declarations!$B462)>0,Declarations!$B462,\"#\"&$A462),\"\")","v":""},"...","","00:00:00",0,"","",0,{"$f":"IF(LEN($A462)>0,IF(LEN(Declarations!$F462)>0,Declarations!$F462,conftype),\"\")","v":""},null,null,0,0,0,0,0,0,0,0,0,0,0,0,0,null,461]
[{"$f":"+Declarations!A463&\"\"","v":""},{"$f":"IF(LEN($A463),IF(LEN(Declarations!$B463)>0,Declarations!$B463,\"#\"&$A463),\"\")","v":""},"...","","00:00:00",0,"","",0,{"$f":"IF(LEN($A463)>0,IF(LEN(Declarations!$F463)>0,Declarations!$F463,conftype),\"\")","v":""},null,null,0,0,0,0,0,0,0,0,0,0,0,0,0,null,462]
[{"$f":"+Declarations!A464&\"\"","v":""},{"$f":"IF(LEN($A464),IF(LEN(Declarations!$B464)>0,Declarations!$B464,\"#\"&$A464),\"\")","v":""},"...","","00:00:00",0,"","",0,{"$f":"IF(LEN($A464)>0,IF(LEN(Declarations!$F464)>0,Declarations!$F464,conftype),\"\")","v":""},null,null,0,0,0,0,0,0,0,0,0,0,0,0,0,null,463]
[{"$f":"+Declarations!A465&\"\"","v":""},{"$f":"IF(LEN($A465),IF(LEN(Declarations!$B465)>0,Declarations!$B465,\"#\"&$A465),\"\")","v":""},"...","","00:00:00",0,"","",0,{"$f":"IF(LEN($A465)>0,IF(LEN(Declarations!$F465)>0,Declarations!$F465,conftype),\"\")","v":""},null,null,0,0,0,0,0,0,0,0,0,0,0,0,0,null,464]
[{"$f":"+Declarations!A466&\"\"","v":""},{"$f":"IF(LEN($A466),IF(LEN(Declarations!$B466)>0,Declarations!$B466,\"#\"&$A466),\"\")","v":""},"...","","00:00:00",0,"","",0,{"$f":"IF(LEN($A466)>0,IF(LEN(Declarations!$F466)>0,Declarations!$F466,conftype),\"\")","v":""},null,null,0,0,0,0,0,0,0,0,0,0,0,0,0,null,465]
[{"$f":"+Declarations!A467&\"\"","v":""},{"$f":"IF(LEN($A467),IF(LEN(Declarations!$B467)>0,Declarations!$B467,\"#\"&$A467),\"\")","v":""},"...","","00:00:00",0,"","",0,{"$f":"IF(LEN($A467)>0,IF(LEN(Declarations!$F467)>0,Declarations!$F467,conftype),\"\")","v":""},null,null,0,0,0,0,0,0,0,0,0,0,0,0,0,null,466]
[{"$f":"+Declarations!A468&\"\"","v":""},{"$f":"IF(LEN($A468),IF(LEN(Declarations!$B468)>0,Declarations!$B468,\"#\"&$A468),\"\")","v":""},"...","","00:00:00",0,"","",0,{"$f":"IF(LEN($A468)>0,IF(LEN(Declarations!$F468)>0,Declarations!$F468,conftype),\"\")","v":""},null,null,0,0,0,0,0,0,0,0,0,0,0,0,0,null,467]
[{"$f":"+Declarations!A469&\"\"","v":""},{"$f":"IF(LEN($A469),IF(LEN(Declarations!$B469)>0,Declarations!$B469,\"#\"&$A469),\"\")","v":""},"...","","00:00:00",0,"","",0,{"$f":"IF(LEN($A469)>0,IF(LEN(Declarations!$F469)>0,Declarations!$F469,conftype),\"\")","v":""},null,null,0,0,0,0,0,0,0,0,0,0,0,0,0,null,468]
[{"$f":"+Declarations!A470&\"\"","v":""},{"$f":"IF(LEN($A470),IF(LEN(Declarations!$B470)>0,Declarations!$B470,\"#\"&$A470),\"\")","v":""},"...","","00:00:00",0,"","",0,{"$f":"IF(LEN($A470)>0,IF(LEN(Declarations!$F470)>0,Declarations!$F470,conftype),\"\")","v":""},null,null,0,0,0,0,0,0,0,0,0,0,0,0,0,null,469]
[{"$f":"+Declarations!A471&\"\"","v":""},{"$f":"IF(LEN($A471),IF(LEN(Declarations!$B471)>0,Declarations!$B471,\"#\"&$A471),\"\")","v":""},"...","","00:00:00",0,"","",0,{"$f":"IF(LEN($A471)>0,IF(LEN(Declarations!$F471)>0,Declarations!$F471,conftype),\"\")","v":""},null,null,0,0,0,0,0,0,0,0,0,0,0,0,0,null,470]
[{"$f":"+Declarations!A472&\"\"","v":""},{"$f":"IF(LEN($A472),IF(LEN(Declarations!$B472)>0,Declarations!$B472,\"#\"&$A472),\"\")","v":""},"...","","00:00:00",0,"","",0,{"$f":"IF(LEN($A472)>0,IF(LEN(Declarations!$F472)>0,Declarations!$F472,conftype),\"\")","v":""},null,null,0,0,0,0,0,0,0,0,0,0,0,0,0,null,471]
[{"$f":"+Declarations!A473&\"\"","v":""},{"$f":"IF(LEN($A473),IF(LEN(Declarations!$B473)>0,Declarations!$B473,\"#\"&$A473),\"\")","v":""},"...","","00:00:00",0,"","",0,{"$f":"IF(LEN($A473)>0,IF(LEN(Declarations!$F473)>0,Declarations!$F473,conftype),\"\")","v":""},null,null,0,0,0,0,0,0,0,0,0,0,0,0,0,null,472]
[{"$f":"+Declarations!A474&\"\"","v":""},{"$f":"IF(LEN($A474),IF(LEN(Declarations!$B474)>0,Declarations!$B474,\"#\"&$A474),\"\")","v":""},"...","","00:00:00",0,"","",0,{"$f":"IF(LEN($A474)>0,IF(LEN(Declarations!$F474)>0,Declarations!$F474,conftype),\"\")","v":""},null,null,0,0,0,0,0,0,0,0,0,0,0,0,0,null,473]
[{"$f":"+Declarations!A475&\"\"","v":""},{"$f":"IF(LEN($A475),IF(LEN(Declarations!$B475)>0,Declarations!$B475,\"#\"&$A475),\"\")","v":""},"...","","00:00:00",0,"","",0,{"$f":"IF(LEN($A475)>0,IF(LEN(Declarations!$F475)>0,Declarations!$F475,conftype),\"\")","v":""},null,null,0,0,0,0,0,0,0,0,0,0,0,0,0,null,474]
[{"$f":"+Declarations!A476&\"\"","v":""},{"$f":"IF(LEN($A476),IF(LEN(Declarations!$B476)>0,Declarations!$B476,\"#\"&$A476),\"\")","v":""},"...","","00:00:00",0,"","",0,{"$f":"IF(LEN($A476)>0,IF(LEN(Declarations!$F476)>0,Declarations!$F476,conftype),\"\")","v":""},null,null,0,0,0,0,0,0,0,0,0,0,0,0,0,null,475]
[{"$f":"+Declarations!A477&\"\"","v":""},{"$f":"IF(LEN($A477),IF(LEN(Declarations!$B477)>0,Declarations!$B477,\"#\"&$A477),\"\")","v":""},"...","","00:00:00",0,"","",0,{"$f":"IF(LEN($A477)>0,IF(LEN(Declarations!$F477)>0,Declarations!$F477,conftype),\"\")","v":""},null,null,0,0,0,0,0,0,0,0,0,0,0,0,0,null,476]
[{"$f":"+Declarations!A478&\"\"","v":""},{"$f":"IF(LEN($A478),IF(LEN(Declarations!$B478)>0,Declarations!$B478,\"#\"&$A478),\"\")","v":""},"...","","00:00:00",0,"","",0,{"$f":"IF(LEN($A478)>0,IF(LEN(Declarations!$F478)>0,Declarations!$F478,conftype),\"\")","v":""},null,null,0,0,0,0,0,0,0,0,0,0,0,0,0,null,477]
[{"$f":"+Declarations!A479&\"\"","v":""},{"$f":"IF(LEN($A479),IF(LEN(Declarations!$B479)>0,Declarations!$B479,\"#\"&$A479),\"\")","v":""},"...","","00:00:00",0,"","",0,{"$f":"IF(LEN($A479)>0,IF(LEN(Declarations!$F479)>0,Declarations!$F479,conftype),\"\")","v":""},null,null,0,0,0,0,0,0,0,0,0,0,0,0,0,null,478]
[{"$f":"+Declarations!A480&\"\"","v":""},{"$f":"IF(LEN($A480),IF(LEN(Declarations!$B480)>0,Declarations!$B480,\"#\"&$A480),\"\")","v":""},"...","","00:00:00",0,"","",0,{"$f":"IF(LEN($A480)>0,IF(LEN(Declarations!$F480)>0,Declarations!$F480,conftype),\"\")","v":""},null,null,0,0,0,0,0,0,0,0,0,0,0,0,0,null,479]
[{"$f":"+Declarations!A481&\"\"","v":""},{"$f":"IF(LEN($A481),IF(LEN(Declarations!$B481)>0,Declarations!$B481,\"#\"&$A481),\"\")","v":""},"...","","00:00:00",0,"","",0,{"$f":"IF(LEN($A481)>0,IF(LEN(Declarations!$F481)>0,Declarations!$F481,conftype),\"\")","v":""},null,null,0,0,0,0,0,0,0,0,0,0,0,0,0,null,480]
[{"$f":"+Declarations!A482&\"\"","v":""},{"$f":"IF(LEN($A482),IF(LEN(Declarations!$B482)>0,Declarations!$B482,\"#\"&$A482),\"\")","v":""},"...","","00:00:00",0,"","",0,{"$f":"IF(LEN($A482)>0,IF(LEN(Declarations!$F482)>0,Declarations!$F482,conftype),\"\")","v":""},null,null,0,0,0,0,0,0,0,0,0,0,0,0,0,null,481]
[{"$f":"+Declarations!A483&\"\"","v":""},{"$f":"IF(LEN($A483),IF(LEN(Declarations!$B483)>0,Declarations!$B483,\"#\"&$A483),\"\")","v":""},"...","","00:00:00",0,"","",0,{"$f":"IF(LEN($A483)>0,IF(LEN(Declarations!$F483)>0,Declarations!$F483,conftype),\"\")","v":""},null,null,0,0,0,0,0,0,0,0,0,0,0,0,0,null,482]
[{"$f":"+Declarations!A484&\"\"","v":""},{"$f":"IF(LEN($A484),IF(LEN(Declarations!$B484)>0,Declarations!$B484,\"#\"&$A484),\"\")","v":""},"...","","00:00:00",0,"","",0,{"$f":"IF(LEN($A484)>0,IF(LEN(Declarations!$F484)>0,Declarations!$F484,conftype),\"\")","v":""},null,null,0,0,0,0,0,0,0,0,0,0,0,0,0,null,483]
[{"$f":"+Declarations!A485&\"\"","v":""},{"$f":"IF(LEN($A485),IF(LEN(Declarations!$B485)>0,Declarations!$B485,\"#\"&$A485),\"\")","v":""},"...","","00:00:00",0,"","",0,{"$f":"IF(LEN($A485)>0,IF(LEN(Declarations!$F485)>0,Declarations!$F485,conftype),\"\")","v":""},null,null,0,0,0,0,0,0,0,0,0,0,0,0,0,null,484]
[{"$f":"+Declarations!A486&\"\"","v":""},{"$f":"IF(LEN($A486),IF(LEN(Declarations!$B486)>0,Declarations!$B486,\"#\"&$A486),\"\")","v":""},"...","","00:00:00",0,"","",0,{"$f":"IF(LEN($A486)>0,IF(LEN(Declarations!$F486)>0,Declarations!$F486,conftype),\"\")","v":""},null,null,0,0,0,0,0,0,0,0,0,0,0,0,0,null,485]
[{"$f":"+Declarations!A487&\"\"","v":""},{"$f":"IF(LEN($A487),IF(LEN(Declarations!$B487)>0,Declarations!$B487,\"#\"&$A487),\"\")","v":""},"...","","00:00:00",0,"","",0,{"$f":"IF(LEN($A487)>0,IF(LEN(Declarations!$F487)>0,Declarations!$F487,conftype),\"\")","v":""},null,null,0,0,0,0,0,0,0,0,0,0,0,0,0,null,486]
[{"$f":"+Declarations!A488&\"\"","v":""},{"$f":"IF(LEN($A488),IF(LEN(Declarations!$B488)>0,Declarations!$B488,\"#\"&$A488),\"\")","v":""},"...","","00:00:00",0,"","",0,{"$f":"IF(LEN($A488)>0,IF(LEN(Declarations!$F488)>0,Declarations!$F488,conftype),\"\")","v":""},null,null,0,0,0,0,0,0,0,0,0,0,0,0,0,null,487]
[{"$f":"+Declarations!A489&\"\"","v":""},{"$f":"IF(LEN($A489),IF(LEN(Declarations!$B489)>0,Declarations!$B489,\"#\"&$A489),\"\")","v":""},"...","","00:00:00",0,"","",0,{"$f":"IF(LEN($A489)>0,IF(LEN(Declarations!$F489)>0,Declarations!$F489,conftype),\"\")","v":""},null,null,0,0,0,0,0,0,0,0,0,0,0,0,0,null,488]
[{"$f":"+Declarations!A490&\"\"","v":""},{"$f":"IF(LEN($A490),IF(LEN(Declarations!$B490)>0,Declarations!$B490,\"#\"&$A490),\"\")","v":""},"...","","00:00:00",0,"","",0,{"$f":"IF(LEN($A490)>0,IF(LEN(Declarations!$F490)>0,Declarations!$F490,conftype),\"\")","v":""},null,null,0,0,0,0,0,0,0,0,0,0,0,0,0,null,489]
[{"$f":"+Declarations!A491&\"\"","v":""},{"$f":"IF(LEN($A491),IF(LEN(Declarations!$B491)>0,Declarations!$B491,\"#\"&$A491),\"\")","v":""},"...","","00:00:00",0,"","",0,{"$f":"IF(LEN($A491)>0,IF(LEN(Declarations!$F491)>0,Declarations!$F491,conftype),\"\")","v":""},null,null,0,0,0,0,0,0,0,0,0,0,0,0,0,null,490]
[{"$f":"+Declarations!A492&\"\"","v":""},{"$f":"IF(LEN($A492),IF(LEN(Declarations!$B492)>0,Declarations!$B492,\"#\"&$A492),\"\")","v":""},"...","","00:00:00",0,"","",0,{"$f":"IF(LEN($A492)>0,IF(LEN(Declarations!$F492)>0,Declarations!$F492,conftype),\"\")","v":""},null,null,0,0,0,0,0,0,0,0,0,0,0,0,0,null,491]
[{"$f":"+Declarations!A493&\"\"","v":""},{"$f":"IF(LEN($A493),IF(LEN(Declarations!$B493)>0,Declarations!$B493,\"#\"&$A493),\"\")","v":""},"...","","00:00:00",0,"","",0,{"$f":"IF(LEN($A493)>0,IF(LEN(Declarations!$F493)>0,Declarations!$F493,conftype),\"\")","v":""},null,null,0,0,0,0,0,0,0,0,0,0,0,0,0,null,492]
[{"$f":"+Declarations!A494&\"\"","v":""},{"$f":"IF(LEN($A494),IF(LEN(Declarations!$B494)>0,Declarations!$B494,\"#\"&$A494),\"\")","v":""},"...","","00:00:00",0,"","",0,{"$f":"IF(LEN($A494)>0,IF(LEN(Declarations!$F494)>0,Declarations!$F494,conftype),\"\")","v":""},null,null,0,0,0,0,0,0,0,0,0,0,0,0,0,null,493]
[{"$f":"+Declarations!A495&\"\"","v":""},{"$f":"IF(LEN($A495),IF(LEN(Declarations!$B495)>0,Declarations!$B495,\"#\"&$A495),\"\")","v":""},"...","","00:00:00",0,"","",0,{"$f":"IF(LEN($A495)>0,IF(LEN(Declarations!$F495)>0,Declarations!$F495,conftype),\"\")","v":""},null,null,{"$f":"IF(ISNA(VLOOKUP($A495,SprintData,2,FALSE)),0,VLOOKUP($A495,SprintData,2,FALSE))","v":0},0,0,0,0,0,0,0,0,0,0,0,0,null,494]
[{"$f":"+Declarations!A496&\"\"","v":""},{"$f":"IF(LEN($A496),IF(LEN(Declarations!$B496)>0,Declarations!$B496,\"#\"&$A496),\"\")","v":""},"...","","00:00:00",0,"","",0,{"$f":"IF(LEN($A496)>0,IF(LEN(Declarations!$F496)>0,Declarations!$F496,conftype),\"\")","v":""},null,null,0,0,0,0,0,0,0,0,0,0,0,0,0,null,495]
[{"$f":"+Declarations!A497&\"\"","v":""},{"$f":"IF(LEN($A497),IF(LEN(Declarations!$B497)>0,Declarations!$B497,\"#\"&$A497),\"\")","v":""},"...","","00:00:00",0,"","",0,{"$f":"IF(LEN($A497)>0,IF(LEN(Declarations!$F497)>0,Declarations!$F497,conftype),\"\")","v":""},null,null,0,0,0,0,0,0,0,0,0,0,0,0,0,null,496]
[{"$f":"+Declarations!A498&\"\"","v":""},{"$f":"IF(LEN($A498),IF(LEN(Declarations!$B498)>0,Declarations!$B498,\"#\"&$A498),\"\")","v":""},"...","","00:00:00",0,"","",0,{"$f":"IF(LEN($A498)>0,IF(LEN(Declarations!$F498)>0,Declarations!$F498,conftype),\"\")","v":""},null,null,0,0,0,0,0,0,0,0,0,0,0,0,0,null,497]
[{"$f":"+Declarations!A499&\"\"","v":""},{"$f":"IF(LEN($A499),IF(LEN(Declarations!$B499)>0,Declarations!$B499,\"#\"&$A499),\"\")","v":""},"...","","00:00:00",0,"","",0,{"$f":"IF(LEN($A499)>0,IF(LEN(Declarations!$F499)>0,Declarations!$F499,conftype),\"\")","v":""},null,null,0,0,0,0,0,0,0,0,0,0,0,0,0,null,498]
[{"$f":"+Declarations!A500&\"\"","v":""},{"$f":"IF(LEN($A500),IF(LEN(Declarations!$B500)>0,Declarations!$B500,\"#\"&$A500),\"\")","v":""},"...","","00:00:00",0,"","",0,{"$f":"IF(LEN($A500)>0,IF(LEN(Declarations!$F500)>0,Declarations!$F500,conftype),\"\")","v":""},null,null,0,0,0,0,0,0,0,0,0,0,0,0,0,null,499]
[{"$f":"+Declarations!A501&\"\"","v":""},{"$f":"IF(LEN($A501),IF(LEN(Declarations!$B501)>0,Declarations!$B501,\"#\"&$A501),\"\")","v":""},"...","","00:00:00",0,"","",0,{"$f":"IF(LEN($A501)>0,IF(LEN(Declarations!$F501)>0,Declarations!$F501,conftype),\"\")","v":""},null,null,0,0,0,0,0,0,0,0,0,0,0,0,0,null,500]
[{"$f":"+Declarations!A502&\"\"","v":""},{"$f":"IF(LEN($A502),IF(LEN(Declarations!$B502)>0,Declarations!$B502,\"#\"&$A502),\"\")","v":""},"...","","00:00:00",0,"","",0,{"$f":"IF(LEN($A502)>0,IF(LEN(Declarations!$F502)>0,Declarations!$F502,conftype),\"\")","v":""},null,null,0,0,0,0,0,0,0,0,0,0,0,0,0,null,501]
[{"$f":"+Declarations!A503&\"\"","v":""},{"$f":"IF(LEN($A503),IF(LEN(Declarations!$B503)>0,Declarations!$B503,\"#\"&$A503),\"\")","v":""},"...","","00:00:00",0,"","",0,{"$f":"IF(LEN($A503)>0,IF(LEN(Declarations!$F503)>0,Declarations!$F503,conftype),\"\")","v":""},null,null,0,0,0,0,0,0,0,0,0,0,0,0,0,null,502]
[{"$f":"+Declarations!A504&\"\"","v":""},{"$f":"IF(LEN($A504),IF(LEN(Declarations!$B504)>0,Declarations!$B504,\"#\"&$A504),\"\")","v":""},"...","","00:00:00",0,"","",0,{"$f":"IF(LEN($A504)>0,IF(LEN(Declarations!$F504)>0,Declarations!$F504,conftype),\"\")","v":""},null,null,0,0,0,0,0,0,0,0,0,0,0,0,0,null,503]
[{"$f":"+Declarations!A505&\"\"","v":""},{"$f":"IF(LEN($A505),IF(LEN(Declarations!$B505)>0,Declarations!$B505,\"#\"&$A505),\"\")","v":""},"...","","00:00:00",0,"","",0,{"$f":"IF(LEN($A505)>0,IF(LEN(Declarations!$F505)>0,Declarations!$F505,conftype),\"\")","v":""},null,null,0,0,0,0,0,0,0,0,0,0,0,0,0,null,504]
[{"$f":"+Declarations!A506&\"\"","v":""},{"$f":"IF(LEN($A506),IF(LEN(Declarations!$B506)>0,Declarations!$B506,\"#\"&$A506),\"\")","v":""},"...","","00:00:00",0,"","",0,{"$f":"IF(LEN($A506)>0,IF(LEN(Declarations!$F506)>0,Declarations!$F506,conftype),\"\")","v":""},null,null,0,0,0,0,0,0,0,0,0,0,0,0,0,null,505]
[{"$f":"+Declarations!A507&\"\"","v":""},{"$f":"IF(LEN($A507),IF(LEN(Declarations!$B507)>0,Declarations!$B507,\"#\"&$A507),\"\")","v":""},"...","","00:00:00",0,"","",0,{"$f":"IF(LEN($A507)>0,IF(LEN(Declarations!$F507)>0,Declarations!$F507,conftype),\"\")","v":""},null,null,0,0,0,0,0,0,0,0,0,0,0,0,0,null,506]
[{"$f":"+Declarations!A508&\"\"","v":""},{"$f":"IF(LEN($A508),IF(LEN(Declarations!$B508)>0,Declarations!$B508,\"#\"&$A508),\"\")","v":""},"...","","00:00:00",0,"","",0,{"$f":"IF(LEN($A508)>0,IF(LEN(Declarations!$F508)>0,Declarations!$F508,conftype),\"\")","v":""},null,null,0,0,0,0,0,0,0,0,0,0,0,0,0,null,507]
[{"$f":"+Declarations!A509&\"\"","v":""},{"$f":"IF(LEN($A509),IF(LEN(Declarations!$B509)>0,Declarations!$B509,\"#\"&$A509),\"\")","v":""},"...","","00:00:00",0,"","",0,{"$f":"IF(LEN($A509)>0,IF(LEN(Declarations!$F509)>0,Declarations!$F509,conftype),\"\")","v":""},null,null,0,0,0,0,0,0,0,0,0,0,0,0,0,null,508]
[{"$f":"+Declarations!A510&\"\"","v":""},{"$f":"IF(LEN($A510),IF(LEN(Declarations!$B510)>0,Declarations!$B510,\"#\"&$A510),\"\")","v":""},"...","","00:00:00",0,"","",0,{"$f":"IF(LEN($A510)>0,IF(LEN(Declarations!$F510)>0,Declarations!$F510,conftype),\"\")","v":""},null,null,0,0,0,0,0,0,0,0,0,0,0,0,0,null,509]
[{"$f":"+Declarations!A511&\"\"","v":""},{"$f":"IF(LEN($A511),IF(LEN(Declarations!$B511)>0,Declarations!$B511,\"#\"&$A511),\"\")","v":""},"...","","00:00:00",0,"","",0,{"$f":"IF(LEN($A511)>0,IF(LEN(Declarations!$F511)>0,Declarations!$F511,conftype),\"\")","v":""},null,null,0,0,0,0,0,0,0,0,0,0,0,0,0,null,510]
[{"$f":"+Declarations!A512&\"\"","v":""},{"$f":"IF(LEN($A512),IF(LEN(Declarations!$B512)>0,Declarations!$B512,\"#\"&$A512),\"\")","v":""},"...","","00:00:00",0,"","",0,{"$f":"IF(LEN($A512)>0,IF(LEN(Declarations!$F512)>0,Declarations!$F512,conftype),\"\")","v":""},null,null,0,0,0,0,0,0,0,0,0,0,0,0,0,null,511]
[{"$f":"+Declarations!A513&\"\"","v":""},{"$f":"IF(LEN($A513),IF(LEN(Declarations!$B513)>0,Declarations!$B513,\"#\"&$A513),\"\")","v":""},"...","","00:00:00",0,"","",0,{"$f":"IF(LEN($A513)>0,IF(LEN(Declarations!$F513)>0,Declarations!$F513,conftype),\"\")","v":""},null,null,0,0,0,0,0,0,0,0,0,0,0,0,0,null,512]
[{"$f":"+Declarations!A514&\"\"","v":""},{"$f":"IF(LEN($A514),IF(LEN(Declarations!$B514)>0,Declarations!$B514,\"#\"&$A514),\"\")","v":""},{"$f":"IF(LEN(INDEX(DECLARATIONS,$AA514,3))>0,INDEX(DECLARATIONS,$AA514,3),\"...\")","v":"..."},"",{"$f":"IF(ISNA($AA514),0,INDEX(DECLARATIONS,$AA514,5))","v":"00:00:00"},{"$f":"IF(ISNA($AA514),0,INDEX(DECLARATIONS,$AA514,7))","v":0},{"$f":"UPPER(IF(ISNA($AA514),\"\",INDEX(DECLARATIONS,$AA514,4)))","v":""},{"$f":"IF(AND(A514>0,ISTEXT(B514)),IF(SECNAME=\"YES\",LEFT(B514&\" \",FIND(\" \",B514&\" \")+2)&IF(F514>0,\" (\"&F514&\")\",\"\"), B514&IF(F514>0,\" (\"&F514&\")\",\"\")),\"#\"&$A514)","v":""},{"$f":"IF(LEN($A514)>0,IF(LEN($J514)>0,MATCH(J514,MatchNames,0),EventIndex),0)","v":0},{"$f":"IF(LEN($A514)>0,IF(LEN(Declarations!$F514)>0,Declarations!$F514,conftype),\"\")","v":""},null,null,0,{"$f":"IF(ISNA(VLOOKUP($A514,JumpData,2,FALSE)),0,VLOOKUP($A514,JumpData,2,FALSE))","v":0},{"$f":"IF(ISNA(VLOOKUP($A514,RunData,2,FALSE)),0,VLOOKUP($A514,RunData,2,FALSE))","v":0},{"$f":"IF(ISNA(VLOOKUP($A514,ThrowData,2,FALSE)),0,VLOOKUP($A514,ThrowData,2,FALSE))","v":0},{"$f":"IF(ISNA(VLOOKUP($A514,SprintData,4,FALSE)),0,VLOOKUP($A514,SprintData,4,FALSE))+V514","v":0},{"$f":"IF(ISNA(VLOOKUP($A514,JumpData,4,FALSE)),0,VLOOKUP($A514,JumpData,4,FALSE))+W514","v":0},{"$f":"IF(ISNA(VLOOKUP($A514,RunData,4,FALSE)),0,VLOOKUP($A514,RunData,4,FALSE))+X514","v":0},{"$f":"IF(ISNA(VLOOKUP($A514,ThrowData,4,FALSE)),0,VLOOKUP($A514,ThrowData,4,FALSE))+Y514","v":0},{"$f":"+Q514+R514+S514+T514","v":0},{"$f":"IF(AND($F514>0,NOT(M514),Flexing),FlexPC,0)","v":0},{"$f":"IF(AND($F514>0,NOT(N514),Flexing),FlexPC,0)","v":0},{"$f":"IF(AND($F514>0,NOT(O514),Flexing),FlexPC,0)","v":0},{"$f":"IF(AND($F514>0,NOT(P514),Flexing),FlexPC,0)","v":0},null,513]
[{"$f":"+Declarations!A515&\"\"","v":""},{"$f":"IF(LEN($A515),IF(LEN(Declarations!$B515)>0,Declarations!$B515,\"#\"&$A515),\"\")","v":""},"...","","00:00:00",0,"","",0,{"$f":"IF(LEN($A515)>0,IF(LEN(Declarations!$F515)>0,Declarations!$F515,conftype),\"\")","v":""},null,null,0,0,0,0,0,0,0,0,0,0,0,0,0,null,{"$f":"ROW()-1","v":514}]
[{"$f":"+Declarations!A516&\"\"","v":""},{"$f":"IF(LEN($A516),IF(LEN(Declarations!$B516)>0,Declarations!$B516,\"#\"&$A516),\"\")","v":""},"...","","00:00:00",0,"","",0,{"$f":"IF(LEN($A516)>0,IF(LEN(Declarations!$F516)>0,Declarations!$F516,conftype),\"\")","v":""},null,null,0,0,0,0,0,0,0,0,0,0,0,0,0,null,515]
[{"$f":"+Declarations!A517&\"\"","v":""},{"$f":"IF(LEN($A517),IF(LEN(Declarations!$B517)>0,Declarations!$B517,\"#\"&$A517),\"\")","v":""},"...","","00:00:00",0,"","",0,{"$f":"IF(LEN($A517)>0,IF(LEN(Declarations!$F517)>0,Declarations!$F517,conftype),\"\")","v":""},null,null,0,0,0,0,0,0,0,0,0,0,0,0,0,null,516]
[{"$f":"+Declarations!A518&\"\"","v":""},{"$f":"IF(LEN($A518),IF(LEN(Declarations!$B518)>0,Declarations!$B518,\"#\"&$A518),\"\")","v":""},"...","","00:00:00",0,"","",0,{"$f":"IF(LEN($A518)>0,IF(LEN(Declarations!$F518)>0,Declarations!$F518,conftype),\"\")","v":""},null,null,0,0,0,0,0,0,0,0,0,0,0,0,0,null,517]
[{"$f":"+Declarations!A519&\"\"","v":""},{"$f":"IF(LEN($A519),IF(LEN(Declarations!$B519)>0,Declarations!$B519,\"#\"&$A519),\"\")","v":""},"...",{"$f":"IF(OR(G519=\"G\",G519=\"F\"),\"F\",IF(OR(G519=\"B\",G519=\"M\"),\"M\",\"\"))","v":""},"00:00:00",0,"","",0,{"$f":"IF(LEN($A519)>0,IF(LEN(Declarations!$F519)>0,Declarations!$F519,conftype),\"\")","v":""},null,null,0,0,0,0,0,0,0,0,0,0,0,0,0,null,518]
[{"$f":"+Declarations!A520&\"\"","v":""},{"$f":"IF(LEN($A520),IF(LEN(Declarations!$B520)>0,Declarations!$B520,\"#\"&$A520),\"\")","v":""},"...","","00:00:00",0,"","",0,{"$f":"IF(LEN($A520)>0,IF(LEN(Declarations!$F520)>0,Declarations!$F520,conftype),\"\")","v":""},null,null,0,0,0,0,0,0,0,0,0,0,0,0,0,null,519]
[{"$f":"+Declarations!A521&\"\"","v":""},{"$f":"IF(LEN($A521),IF(LEN(Declarations!$B521)>0,Declarations!$B521,\"#\"&$A521),\"\")","v":""},"...","","00:00:00",0,"","",0,{"$f":"IF(LEN($A521)>0,IF(LEN(Declarations!$F521)>0,Declarations!$F521,conftype),\"\")","v":""},null,null,0,0,0,0,0,0,0,0,0,0,0,0,0,null,520]
[{"$f":"+Declarations!A522&\"\"","v":""},{"$f":"IF(LEN($A522),IF(LEN(Declarations!$B522)>0,Declarations!$B522,\"#\"&$A522),\"\")","v":""},"...","","00:00:00",0,"","",0,{"$f":"IF(LEN($A522)>0,IF(LEN(Declarations!$F522)>0,Declarations!$F522,conftype),\"\")","v":""},null,null,0,0,0,0,0,0,0,0,0,0,0,0,0,null,521]
[{"$f":"+Declarations!A523&\"\"","v":""},{"$f":"IF(LEN($A523),IF(LEN(Declarations!$B523)>0,Declarations!$B523,\"#\"&$A523),\"\")","v":""},"...","","00:00:00",0,"","",0,{"$f":"IF(LEN($A523)>0,IF(LEN(Declarations!$F523)>0,Declarations!$F523,conftype),\"\")","v":""},null,null,0,0,0,0,0,0,0,0,0,0,0,0,0,null,522]
[{"$f":"+Declarations!A524&\"\"","v":""},{"$f":"IF(LEN($A524),IF(LEN(Declarations!$B524)>0,Declarations!$B524,\"#\"&$A524),\"\")","v":""},"...","","00:00:00",0,"","",0,{"$f":"IF(LEN($A524)>0,IF(LEN(Declarations!$F524)>0,Declarations!$F524,conftype),\"\")","v":""},null,null,0,0,0,0,0,0,0,0,0,0,0,0,0,null,523]
[{"$f":"+Declarations!A525&\"\"","v":""},{"$f":"IF(LEN($A525),IF(LEN(Declarations!$B525)>0,Declarations!$B525,\"#\"&$A525),\"\")","v":""},"...","","00:00:00",0,"","",0,{"$f":"IF(LEN($A525)>0,IF(LEN(Declarations!$F525)>0,Declarations!$F525,conftype),\"\")","v":""},null,null,0,0,0,0,0,0,0,0,0,0,0,0,0,null,524]
[{"$f":"+Declarations!A526&\"\"","v":""},{"$f":"IF(LEN($A526),IF(LEN(Declarations!$B526)>0,Declarations!$B526,\"#\"&$A526),\"\")","v":""},"...","","00:00:00",0,"","",0,{"$f":"IF(LEN($A526)>0,IF(LEN(Declarations!$F526)>0,Declarations!$F526,conftype),\"\")","v":""},null,null,0,0,0,0,0,0,0,0,0,0,0,0,0,null,525]
[{"$f":"+Declarations!A527&\"\"","v":""},{"$f":"IF(LEN($A527),IF(LEN(Declarations!$B527)>0,Declarations!$B527,\"#\"&$A527),\"\")","v":""},"...","","00:00:00",0,"","",0,{"$f":"IF(LEN($A527)>0,IF(LEN(Declarations!$F527)>0,Declarations!$F527,conftype),\"\")","v":""},null,null,0,0,0,0,0,0,0,0,0,0,0,0,0,null,526]
[{"$f":"+Declarations!A528&\"\"","v":""},{"$f":"IF(LEN($A528),IF(LEN(Declarations!$B528)>0,Declarations!$B528,\"#\"&$A528),\"\")","v":""},"...","","00:00:00",0,"","",0,{"$f":"IF(LEN($A528)>0,IF(LEN(Declarations!$F528)>0,Declarations!$F528,conftype),\"\")","v":""},null,null,0,0,0,0,0,0,0,0,0,0,0,0,0,null,527]
[{"$f":"+Declarations!A529&\"\"","v":""},{"$f":"IF(LEN($A529),IF(LEN(Declarations!$B529)>0,Declarations!$B529,\"#\"&$A529),\"\")","v":""},"...","","00:00:00",0,"","",0,{"$f":"IF(LEN($A529)>0,IF(LEN(Declarations!$F529)>0,Declarations!$F529,conftype),\"\")","v":""},null,null,0,0,0,0,0,0,0,0,0,0,0,0,0,null,528]
[{"$f":"+Declarations!A530&\"\"","v":""},{"$f":"IF(LEN($A530),IF(LEN(Declarations!$B530)>0,Declarations!$B530,\"#\"&$A530),\"\")","v":""},"...","","00:00:00",0,"","",0,{"$f":"IF(LEN($A530)>0,IF(LEN(Declarations!$F530)>0,Declarations!$F530,conftype),\"\")","v":""},null,null,0,0,0,0,0,0,0,0,0,0,0,0,0,null,529]
[{"$f":"+Declarations!A531&\"\"","v":""},{"$f":"IF(LEN($A531),IF(LEN(Declarations!$B531)>0,Declarations!$B531,\"#\"&$A531),\"\")","v":""},"...","","00:00:00",0,"","",0,{"$f":"IF(LEN($A531)>0,IF(LEN(Declarations!$F531)>0,Declarations!$F531,conftype),\"\")","v":""},null,null,0,0,0,0,0,0,0,0,0,0,0,0,0,null,530]
[{"$f":"+Declarations!A532&\"\"","v":""},{"$f":"IF(LEN($A532),IF(LEN(Declarations!$B532)>0,Declarations!$B532,\"#\"&$A532),\"\")","v":""},"...","","00:00:00",0,"","",0,{"$f":"IF(LEN($A532)>0,IF(LEN(Declarations!$F532)>0,Declarations!$F532,conftype),\"\")","v":""},null,null,0,0,0,0,0,0,0,0,0,0,0,0,0,null,531]
[{"$f":"+Declarations!A533&\"\"","v":""},{"$f":"IF(LEN($A533),IF(LEN(Declarations!$B533)>0,Declarations!$B533,\"#\"&$A533),\"\")","v":""},"...","","00:00:00",0,"","",0,{"$f":"IF(LEN($A533)>0,IF(LEN(Declarations!$F533)>0,Declarations!$F533,conftype),\"\")","v":""},null,null,0,0,0,0,0,0,0,0,0,0,0,0,0,null,532]
[{"$f":"+Declarations!A534&\"\"","v":""},{"$f":"IF(LEN($A534),IF(LEN(Declarations!$B534)>0,Declarations!$B534,\"#\"&$A534),\"\")","v":""},"...","","00:00:00",0,"","",0,{"$f":"IF(LEN($A534)>0,IF(LEN(Declarations!$F534)>0,Declarations!$F534,conftype),\"\")","v":""},null,null,0,0,0,0,0,0,0,0,0,0,0,0,0,null,533]
[{"$f":"+Declarations!A535&\"\"","v":""},{"$f":"IF(LEN($A535),IF(LEN(Declarations!$B535)>0,Declarations!$B535,\"#\"&$A535),\"\")","v":""},"...","","00:00:00",0,"","",0,{"$f":"IF(LEN($A535)>0,IF(LEN(Declarations!$F535)>0,Declarations!$F535,conftype),\"\")","v":""},null,null,0,0,0,0,0,0,0,0,0,0,0,0,0,null,534]
[{"$f":"+Declarations!A536&\"\"","v":""},{"$f":"IF(LEN($A536),IF(LEN(Declarations!$B536)>0,Declarations!$B536,\"#\"&$A536),\"\")","v":""},"...","","00:00:00",0,"","",0,{"$f":"IF(LEN($A536)>0,IF(LEN(Declarations!$F536)>0,Declarations!$F536,conftype),\"\")","v":""},null,null,0,0,0,0,0,0,0,0,0,0,0,0,0,null,535]
[{"$f":"+Declarations!A537&\"\"","v":""},{"$f":"IF(LEN($A537),IF(LEN(Declarations!$B537)>0,Declarations!$B537,\"#\"&$A537),\"\")","v":""},"...","","00:00:00",0,"","",0,{"$f":"IF(LEN($A537)>0,IF(LEN(Declarations!$F537)>0,Declarations!$F537,conftype),\"\")","v":""},null,null,0,0,0,0,0,0,0,0,0,0,0,0,0,null,536]
[{"$f":"+Declarations!A538&\"\"","v":""},{"$f":"IF(LEN($A538),IF(LEN(Declarations!$B538)>0,Declarations!$B538,\"#\"&$A538),\"\")","v":""},"...","","00:00:00",0,"","",0,{"$f":"IF(LEN($A538)>0,IF(LEN(Declarations!$F538)>0,Declarations!$F538,conftype),\"\")","v":""},null,null,0,0,0,0,0,0,0,0,0,0,0,0,0,null,537]
[{"$f":"+Declarations!A539&\"\"","v":""},{"$f":"IF(LEN($A539),IF(LEN(Declarations!$B539)>0,Declarations!$B539,\"#\"&$A539),\"\")","v":""},"...","","00:00:00",0,"","",0,{"$f":"IF(LEN($A539)>0,IF(LEN(Declarations!$F539)>0,Declarations!$F539,conftype),\"\")","v":""},null,null,0,0,0,0,0,0,0,0,0,0,0,0,0,null,538]
[{"$f":"+Declarations!A540&\"\"","v":""},{"$f":"IF(LEN($A540),IF(LEN(Declarations!$B540)>0,Declarations!$B540,\"#\"&$A540),\"\")","v":""},"...","","00:00:00",0,"","",0,{"$f":"IF(LEN($A540)>0,IF(LEN(Declarations!$F540)>0,Declarations!$F540,conftype),\"\")","v":""},null,null,0,0,0,0,0,0,0,0,0,0,0,0,0,null,539]
[{"$f":"+Declarations!A541&\"\"","v":""},{"$f":"IF(LEN($A541),IF(LEN(Declarations!$B541)>0,Declarations!$B541,\"#\"&$A541),\"\")","v":""},"...","","00:00:00",0,"","",0,{"$f":"IF(LEN($A541)>0,IF(LEN(Declarations!$F541)>0,Declarations!$F541,conftype),\"\")","v":""},null,null,0,0,0,0,0,0,0,0,0,0,0,0,0,null,540]
[{"$f":"+Declarations!A542&\"\"","v":""},{"$f":"IF(LEN($A542),IF(LEN(Declarations!$B542)>0,Declarations!$B542,\"#\"&$A542),\"\")","v":""},"...","","00:00:00",0,"","",0,{"$f":"IF(LEN($A542)>0,IF(LEN(Declarations!$F542)>0,Declarations!$F542,conftype),\"\")","v":""},null,null,0,0,0,0,0,0,0,0,0,0,0,0,0,null,541]
[{"$f":"+Declarations!A543&\"\"","v":""},{"$f":"IF(LEN($A543),IF(LEN(Declarations!$B543)>0,Declarations!$B543,\"#\"&$A543),\"\")","v":""},"...","","00:00:00",0,"","",0,{"$f":"IF(LEN($A543)>0,IF(LEN(Declarations!$F543)>0,Declarations!$F543,conftype),\"\")","v":""},null,null,0,0,0,0,0,0,0,0,0,0,0,0,0,null,542]
[{"$f":"+Declarations!A544&\"\"","v":""},{"$f":"IF(LEN($A544),IF(LEN(Declarations!$B544)>0,Declarations!$B544,\"#\"&$A544),\"\")","v":""},"...","","00:00:00",0,"","",0,{"$f":"IF(LEN($A544)>0,IF(LEN(Declarations!$F544)>0,Declarations!$F544,conftype),\"\")","v":""},null,null,0,0,0,0,0,0,0,0,0,0,0,0,0,null,543]
[{"$f":"+Declarations!A545&\"\"","v":""},{"$f":"IF(LEN($A545),IF(LEN(Declarations!$B545)>0,Declarations!$B545,\"#\"&$A545),\"\")","v":""},"...","","00:00:00",0,"","",0,{"$f":"IF(LEN($A545)>0,IF(LEN(Declarations!$F545)>0,Declarations!$F545,conftype),\"\")","v":""},null,null,0,0,0,0,0,0,0,0,0,0,0,0,0,null,544]
[{"$f":"+Declarations!A546&\"\"","v":""},{"$f":"IF(LEN($A546),IF(LEN(Declarations!$B546)>0,Declarations!$B546,\"#\"&$A546),\"\")","v":""},"...","","00:00:00",0,"","",0,{"$f":"IF(LEN($A546)>0,IF(LEN(Declarations!$F546)>0,Declarations!$F546,conftype),\"\")","v":""},null,null,0,0,0,0,0,0,0,0,0,0,0,0,0,null,545]
[{"$f":"+Declarations!A547&\"\"","v":""},{"$f":"IF(LEN($A547),IF(LEN(Declarations!$B547)>0,Declarations!$B547,\"#\"&$A547),\"\")","v":""},"...","","00:00:00",0,"","",0,{"$f":"IF(LEN($A547)>0,IF(LEN(Declarations!$F547)>0,Declarations!$F547,conftype),\"\")","v":""},null,null,0,0,0,0,0,0,0,0,0,0,0,0,0,null,546]
[{"$f":"+Declarations!A548&\"\"","v":""},{"$f":"IF(LEN($A548),IF(LEN(Declarations!$B548)>0,Declarations!$B548,\"#\"&$A548),\"\")","v":""},"...","","00:00:00",0,"","",0,{"$f":"IF(LEN($A548)>0,IF(LEN(Declarations!$F548)>0,Declarations!$F548,conftype),\"\")","v":""},null,null,0,0,0,0,0,0,0,0,0,0,0,0,0,null,547]
[{"$f":"+Declarations!A549&\"\"","v":""},{"$f":"IF(LEN($A549),IF(LEN(Declarations!$B549)>0,Declarations!$B549,\"#\"&$A549),\"\")","v":""},"...","","00:00:00",0,"","",0,{"$f":"IF(LEN($A549)>0,IF(LEN(Declarations!$F549)>0,Declarations!$F549,conftype),\"\")","v":""},null,null,0,0,0,0,0,0,0,0,0,0,0,0,0,null,548]
[{"$f":"+Declarations!A550&\"\"","v":""},{"$f":"IF(LEN($A550),IF(LEN(Declarations!$B550)>0,Declarations!$B550,\"#\"&$A550),\"\")","v":""},"...","","00:00:00",0,"","",0,{"$f":"IF(LEN($A550)>0,IF(LEN(Declarations!$F550)>0,Declarations!$F550,conftype),\"\")","v":""},null,null,0,0,0,0,0,0,0,0,0,0,0,0,0,null,549]
[{"$f":"+Declarations!A551&\"\"","v":""},{"$f":"IF(LEN($A551),IF(LEN(Declarations!$B551)>0,Declarations!$B551,\"#\"&$A551),\"\")","v":""},"...","","00:00:00",0,"","",0,{"$f":"IF(LEN($A551)>0,IF(LEN(Declarations!$F551)>0,Declarations!$F551,conftype),\"\")","v":""},null,null,0,0,0,0,0,0,0,0,0,0,0,0,0,null,550]
[{"$f":"+Declarations!A552&\"\"","v":""},{"$f":"IF(LEN($A552),IF(LEN(Declarations!$B552)>0,Declarations!$B552,\"#\"&$A552),\"\")","v":""},"...","","00:00:00",0,"","",0,{"$f":"IF(LEN($A552)>0,IF(LEN(Declarations!$F552)>0,Declarations!$F552,conftype),\"\")","v":""},null,null,0,0,0,0,0,0,0,0,0,0,0,0,0,null,551]
[{"$f":"+Declarations!A553&\"\"","v":""},{"$f":"IF(LEN($A553),IF(LEN(Declarations!$B553)>0,Declarations!$B553,\"#\"&$A553),\"\")","v":""},"...","","00:00:00",0,"","",0,{"$f":"IF(LEN($A553)>0,IF(LEN(Declarations!$F553)>0,Declarations!$F553,conftype),\"\")","v":""},null,null,0,0,0,0,0,0,0,0,0,0,0,0,0,null,552]
[{"$f":"+Declarations!A554&\"\"","v":""},{"$f":"IF(LEN($A554),IF(LEN(Declarations!$B554)>0,Declarations!$B554,\"#\"&$A554),\"\")","v":""},"...","","00:00:00",0,"","",0,{"$f":"IF(LEN($A554)>0,IF(LEN(Declarations!$F554)>0,Declarations!$F554,conftype),\"\")","v":""},null,null,0,0,0,0,0,0,0,0,0,0,0,0,0,null,553]
[{"$f":"+Declarations!A555&\"\"","v":""},{"$f":"IF(LEN($A555),IF(LEN(Declarations!$B555)>0,Declarations!$B555,\"#\"&$A555),\"\")","v":""},"...","","00:00:00",0,"","",0,{"$f":"IF(LEN($A555)>0,IF(LEN(Declarations!$F555)>0,Declarations!$F555,conftype),\"\")","v":""},null,null,0,0,0,0,0,0,0,0,0,0,0,0,0,null,554]
[{"$f":"+Declarations!A556&\"\"","v":""},{"$f":"IF(LEN($A556),IF(LEN(Declarations!$B556)>0,Declarations!$B556,\"#\"&$A556),\"\")","v":""},"...","","00:00:00",0,"","",0,{"$f":"IF(LEN($A556)>0,IF(LEN(Declarations!$F556)>0,Declarations!$F556,conftype),\"\")","v":""},null,null,0,0,0,0,0,0,0,0,0,0,0,0,0,null,555]
[{"$f":"+Declarations!A557&\"\"","v":""},{"$f":"IF(LEN($A557),IF(LEN(Declarations!$B557)>0,Declarations!$B557,\"#\"&$A557),\"\")","v":""},"...","","00:00:00",0,"","",0,{"$f":"IF(LEN($A557)>0,IF(LEN(Declarations!$F557)>0,Declarations!$F557,conftype),\"\")","v":""},null,null,0,0,0,0,0,0,0,0,0,0,0,0,0,null,556]
[{"$f":"+Declarations!A558&\"\"","v":""},{"$f":"IF(LEN($A558),IF(LEN(Declarations!$B558)>0,Declarations!$B558,\"#\"&$A558),\"\")","v":""},"...","","00:00:00",0,"","",0,{"$f":"IF(LEN($A558)>0,IF(LEN(Declarations!$F558)>0,Declarations!$F558,conftype),\"\")","v":""},null,null,0,0,0,0,0,0,0,0,0,0,0,0,0,null,557]
[{"$f":"+Declarations!A559&\"\"","v":""},{"$f":"IF(LEN($A559),IF(LEN(Declarations!$B559)>0,Declarations!$B559,\"#\"&$A559),\"\")","v":""},"...","","00:00:00",0,"","",0,{"$f":"IF(LEN($A559)>0,IF(LEN(Declarations!$F559)>0,Declarations!$F559,conftype),\"\")","v":""},null,null,{"$f":"IF(ISNA(VLOOKUP($A559,SprintData,2,FALSE)),0,VLOOKUP($A559,SprintData,2,FALSE))","v":0},0,0,0,0,0,0,0,0,0,0,0,0,null,558]
[{"$f":"+Declarations!A560&\"\"","v":""},{"$f":"IF(LEN($A560),IF(LEN(Declarations!$B560)>0,Declarations!$B560,\"#\"&$A560),\"\")","v":""},"...","","00:00:00",0,"","",0,{"$f":"IF(LEN($A560)>0,IF(LEN(Declarations!$F560)>0,Declarations!$F560,conftype),\"\")","v":""},null,null,0,0,0,0,0,0,0,0,0,0,0,0,0,null,559]
[{"$f":"+Declarations!A561&\"\"","v":""},{"$f":"IF(LEN($A561),IF(LEN(Declarations!$B561)>0,Declarations!$B561,\"#\"&$A561),\"\")","v":""},"...","","00:00:00",0,"","",0,{"$f":"IF(LEN($A561)>0,IF(LEN(Declarations!$F561)>0,Declarations!$F561,conftype),\"\")","v":""},null,null,0,0,0,0,0,0,0,0,0,0,0,0,0,null,560]
[{"$f":"+Declarations!A562&\"\"","v":""},{"$f":"IF(LEN($A562),IF(LEN(Declarations!$B562)>0,Declarations!$B562,\"#\"&$A562),\"\")","v":""},"...","","00:00:00",0,"","",0,{"$f":"IF(LEN($A562)>0,IF(LEN(Declarations!$F562)>0,Declarations!$F562,conftype),\"\")","v":""},null,null,0,0,0,0,0,0,0,0,0,0,0,0,0,null,561]
[{"$f":"+Declarations!A563&\"\"","v":""},{"$f":"IF(LEN($A563),IF(LEN(Declarations!$B563)>0,Declarations!$B563,\"#\"&$A563),\"\")","v":""},"...","","00:00:00",0,"","",0,{"$f":"IF(LEN($A563)>0,IF(LEN(Declarations!$F563)>0,Declarations!$F563,conftype),\"\")","v":""},null,null,0,0,0,0,0,0,0,0,0,0,0,0,0,null,562]
[{"$f":"+Declarations!A564&\"\"","v":""},{"$f":"IF(LEN($A564),IF(LEN(Declarations!$B564)>0,Declarations!$B564,\"#\"&$A564),\"\")","v":""},"...","","00:00:00",0,"","",0,{"$f":"IF(LEN($A564)>0,IF(LEN(Declarations!$F564)>0,Declarations!$F564,conftype),\"\")","v":""},null,null,0,0,0,0,0,0,0,0,0,0,0,0,0,null,563]
[{"$f":"+Declarations!A565&\"\"","v":""},{"$f":"IF(LEN($A565),IF(LEN(Declarations!$B565)>0,Declarations!$B565,\"#\"&$A565),\"\")","v":""},"...","","00:00:00",0,"","",0,{"$f":"IF(LEN($A565)>0,IF(LEN(Declarations!$F565)>0,Declarations!$F565,conftype),\"\")","v":""},null,null,0,0,0,0,0,0,0,0,0,0,0,0,0,null,564]
[{"$f":"+Declarations!A566&\"\"","v":""},{"$f":"IF(LEN($A566),IF(LEN(Declarations!$B566)>0,Declarations!$B566,\"#\"&$A566),\"\")","v":""},"...","","00:00:00",0,"","",0,{"$f":"IF(LEN($A566)>0,IF(LEN(Declarations!$F566)>0,Declarations!$F566,conftype),\"\")","v":""},null,null,0,0,0,0,0,0,0,0,0,0,0,0,0,null,565]
[{"$f":"+Declarations!A567&\"\"","v":""},{"$f":"IF(LEN($A567),IF(LEN(Declarations!$B567)>0,Declarations!$B567,\"#\"&$A567),\"\")","v":""},"...","","00:00:00",0,"","",0,{"$f":"IF(LEN($A567)>0,IF(LEN(Declarations!$F567)>0,Declarations!$F567,conftype),\"\")","v":""},null,null,0,0,0,0,0,0,0,0,0,0,0,0,0,null,566]
[{"$f":"+Declarations!A568&\"\"","v":""},{"$f":"IF(LEN($A568),IF(LEN(Declarations!$B568)>0,Declarations!$B568,\"#\"&$A568),\"\")","v":""},"...","","00:00:00",0,"","",0,{"$f":"IF(LEN($A568)>0,IF(LEN(Declarations!$F568)>0,Declarations!$F568,conftype),\"\")","v":""},null,null,0,0,0,0,0,0,0,0,0,0,0,0,0,null,567]
[{"$f":"+Declarations!A569&\"\"","v":""},{"$f":"IF(LEN($A569),IF(LEN(Declarations!$B569)>0,Declarations!$B569,\"#\"&$A569),\"\")","v":""},"...","","00:00:00",0,"","",0,{"$f":"IF(LEN($A569)>0,IF(LEN(Declarations!$F569)>0,Declarations!$F569,conftype),\"\")","v":""},null,null,0,0,0,0,0,0,0,0,0,0,0,0,0,null,568]
[{"$f":"+Declarations!A570&\"\"","v":""},{"$f":"IF(LEN($A570),IF(LEN(Declarations!$B570)>0,Declarations!$B570,\"#\"&$A570),\"\")","v":""},"...","","00:00:00",0,"","",0,{"$f":"IF(LEN($A570)>0,IF(LEN(Declarations!$F570)>0,Declarations!$F570,conftype),\"\")","v":""},null,null,0,0,0,0,0,0,0,0,0,0,0,0,0,null,569]
[{"$f":"+Declarations!A571&\"\"","v":""},{"$f":"IF(LEN($A571),IF(LEN(Declarations!$B571)>0,Declarations!$B571,\"#\"&$A571),\"\")","v":""},"...","","00:00:00",0,"","",0,{"$f":"IF(LEN($A571)>0,IF(LEN(Declarations!$F571)>0,Declarations!$F571,conftype),\"\")","v":""},null,null,0,0,0,0,0,0,0,0,0,0,0,0,0,null,570]
[{"$f":"+Declarations!A572&\"\"","v":""},{"$f":"IF(LEN($A572),IF(LEN(Declarations!$B572)>0,Declarations!$B572,\"#\"&$A572),\"\")","v":""},"...","","00:00:00",0,"","",0,{"$f":"IF(LEN($A572)>0,IF(LEN(Declarations!$F572)>0,Declarations!$F572,conftype),\"\")","v":""},null,null,0,0,0,0,0,0,0,0,0,0,0,0,0,null,571]
[{"$f":"+Declarations!A573&\"\"","v":""},{"$f":"IF(LEN($A573),IF(LEN(Declarations!$B573)>0,Declarations!$B573,\"#\"&$A573),\"\")","v":""},"...","","00:00:00",0,"","",0,{"$f":"IF(LEN($A573)>0,IF(LEN(Declarations!$F573)>0,Declarations!$F573,conftype),\"\")","v":""},null,null,0,0,0,0,0,0,0,0,0,0,0,0,0,null,572]
[{"$f":"+Declarations!A574&\"\"","v":""},{"$f":"IF(LEN($A574),IF(LEN(Declarations!$B574)>0,Declarations!$B574,\"#\"&$A574),\"\")","v":""},"...","","00:00:00",0,"","",0,{"$f":"IF(LEN($A574)>0,IF(LEN(Declarations!$F574)>0,Declarations!$F574,conftype),\"\")","v":""},null,null,0,0,0,0,0,0,0,0,0,0,0,0,0,null,573]
[{"$f":"+Declarations!A575&\"\"","v":""},{"$f":"IF(LEN($A575),IF(LEN(Declarations!$B575)>0,Declarations!$B575,\"#\"&$A575),\"\")","v":""},"...","","00:00:00",0,"","",0,{"$f":"IF(LEN($A575)>0,IF(LEN(Declarations!$F575)>0,Declarations!$F575,conftype),\"\")","v":""},null,null,0,0,0,0,0,0,0,0,0,0,0,0,0,null,574]
[{"$f":"+Declarations!A576&\"\"","v":""},{"$f":"IF(LEN($A576),IF(LEN(Declarations!$B576)>0,Declarations!$B576,\"#\"&$A576),\"\")","v":""},"...","","00:00:00",0,"","",0,{"$f":"IF(LEN($A576)>0,IF(LEN(Declarations!$F576)>0,Declarations!$F576,conftype),\"\")","v":""},null,null,0,0,0,0,0,0,0,0,0,0,0,0,0,null,575]
[{"$f":"+Declarations!A577&\"\"","v":""},{"$f":"IF(LEN($A577),IF(LEN(Declarations!$B577)>0,Declarations!$B577,\"#\"&$A577),\"\")","v":""},"...","","00:00:00",0,"","",0,{"$f":"IF(LEN($A577)>0,IF(LEN(Declarations!$F577)>0,Declarations!$F577,conftype),\"\")","v":""},null,null,0,0,0,0,0,0,0,0,0,0,0,0,0,null,576]
[{"$f":"+Declarations!A578&\"\"","v":""},{"$f":"IF(LEN($A578),IF(LEN(Declarations!$B578)>0,Declarations!$B578,\"#\"&$A578),\"\")","v":""},{"$f":"IF(LEN(INDEX(DECLARATIONS,$AA578,3))>0,INDEX(DECLARATIONS,$AA578,3),\"...\")","v":"..."},"",{"$f":"IF(ISNA($AA578),0,INDEX(DECLARATIONS,$AA578,5))","v":"00:00:00"},{"$f":"IF(ISNA($AA578),0,INDEX(DECLARATIONS,$AA578,7))","v":0},{"$f":"UPPER(IF(ISNA($AA578),\"\",INDEX(DECLARATIONS,$AA578,4)))","v":""},{"$f":"IF(AND(A578>0,ISTEXT(B578)),IF(SECNAME=\"YES\",LEFT(B578&\" \",FIND(\" \",B578&\" \")+2)&IF(F578>0,\" (\"&F578&\")\",\"\"), B578&IF(F578>0,\" (\"&F578&\")\",\"\")),\"#\"&$A578)","v":""},{"$f":"IF(LEN($A578)>0,IF(LEN($J578)>0,MATCH(J578,MatchNames,0),EventIndex),0)","v":0},{"$f":"IF(LEN($A578)>0,IF(LEN(Declarations!$F578)>0,Declarations!$F578,conftype),\"\")","v":""},null,null,0,{"$f":"IF(ISNA(VLOOKUP($A578,JumpData,2,FALSE)),0,VLOOKUP($A578,JumpData,2,FALSE))","v":0},{"$f":"IF(ISNA(VLOOKUP($A578,RunData,2,FALSE)),0,VLOOKUP($A578,RunData,2,FALSE))","v":0},{"$f":"IF(ISNA(VLOOKUP($A578,ThrowData,2,FALSE)),0,VLOOKUP($A578,ThrowData,2,FALSE))","v":0},{"$f":"IF(ISNA(VLOOKUP($A578,SprintData,4,FALSE)),0,VLOOKUP($A578,SprintData,4,FALSE))+V578","v":0},{"$f":"IF(ISNA(VLOOKUP($A578,JumpData,4,FALSE)),0,VLOOKUP($A578,JumpData,4,FALSE))+W578","v":0},{"$f":"IF(ISNA(VLOOKUP($A578,RunData,4,FALSE)),0,VLOOKUP($A578,RunData,4,FALSE))+X578","v":0},{"$f":"IF(ISNA(VLOOKUP($A578,ThrowData,4,FALSE)),0,VLOOKUP($A578,ThrowData,4,FALSE))+Y578","v":0},{"$f":"+Q578+R578+S578+T578","v":0},{"$f":"IF(AND($F578>0,NOT(M578),Flexing),FlexPC,0)","v":0},{"$f":"IF(AND($F578>0,NOT(N578),Flexing),FlexPC,0)","v":0},{"$f":"IF(AND($F578>0,NOT(O578),Flexing),FlexPC,0)","v":0},{"$f":"IF(AND($F578>0,NOT(P578),Flexing),FlexPC,0)","v":0},null,577]
[{"$f":"+Declarations!A579&\"\"","v":""},{"$f":"IF(LEN($A579),IF(LEN(Declarations!$B579)>0,Declarations!$B579,\"#\"&$A579),\"\")","v":""},"...","","00:00:00",0,"","",0,{"$f":"IF(LEN($A579)>0,IF(LEN(Declarations!$F579)>0,Declarations!$F579,conftype),\"\")","v":""},null,null,0,0,0,0,0,0,0,0,0,0,0,0,0,null,{"$f":"ROW()-1","v":578}]
[{"$f":"+Declarations!A580&\"\"","v":""},{"$f":"IF(LEN($A580),IF(LEN(Declarations!$B580)>0,Declarations!$B580,\"#\"&$A580),\"\")","v":""},"...","","00:00:00",0,"","",0,{"$f":"IF(LEN($A580)>0,IF(LEN(Declarations!$F580)>0,Declarations!$F580,conftype),\"\")","v":""},null,null,0,0,0,0,0,0,0,0,0,0,0,0,0,null,579]
[{"$f":"+Declarations!A581&\"\"","v":""},{"$f":"IF(LEN($A581),IF(LEN(Declarations!$B581)>0,Declarations!$B581,\"#\"&$A581),\"\")","v":""},"...","","00:00:00",0,"","",0,{"$f":"IF(LEN($A581)>0,IF(LEN(Declarations!$F581)>0,Declarations!$F581,conftype),\"\")","v":""},null,null,0,0,0,0,0,0,0,0,0,0,0,0,0,null,580]
[{"$f":"+Declarations!A582&\"\"","v":""},{"$f":"IF(LEN($A582),IF(LEN(Declarations!$B582)>0,Declarations!$B582,\"#\"&$A582),\"\")","v":""},"...","","00:00:00",0,"","",0,{"$f":"IF(LEN($A582)>0,IF(LEN(Declarations!$F582)>0,Declarations!$F582,conftype),\"\")","v":""},null,null,0,0,0,0,0,0,0,0,0,0,0,0,0,null,581]
[{"$f":"+Declarations!A583&\"\"","v":""},{"$f":"IF(LEN($A583),IF(LEN(Declarations!$B583)>0,Declarations!$B583,\"#\"&$A583),\"\")","v":""},"...",{"$f":"IF(OR(G583=\"G\",G583=\"F\"),\"F\",IF(OR(G583=\"B\",G583=\"M\"),\"M\",\"\"))","v":""},"00:00:00",0,"","",0,{"$f":"IF(LEN($A583)>0,IF(LEN(Declarations!$F583)>0,Declarations!$F583,conftype),\"\")","v":""},null,null,0,0,0,0,0,0,0,0,0,0,0,0,0,null,582]
[{"$f":"+Declarations!A584&\"\"","v":""},{"$f":"IF(LEN($A584),IF(LEN(Declarations!$B584)>0,Declarations!$B584,\"#\"&$A584),\"\")","v":""},"...","","00:00:00",0,"","",0,{"$f":"IF(LEN($A584)>0,IF(LEN(Declarations!$F584)>0,Declarations!$F584,conftype),\"\")","v":""},null,null,0,0,0,0,0,0,0,0,0,0,0,0,0,null,583]
[{"$f":"+Declarations!A585&\"\"","v":""},{"$f":"IF(LEN($A585),IF(LEN(Declarations!$B585)>0,Declarations!$B585,\"#\"&$A585),\"\")","v":""},"...","","00:00:00",0,"","",0,{"$f":"IF(LEN($A585)>0,IF(LEN(Declarations!$F585)>0,Declarations!$F585,conftype),\"\")","v":""},null,null,0,0,0,0,0,0,0,0,0,0,0,0,0,null,584]
[{"$f":"+Declarations!A586&\"\"","v":""},{"$f":"IF(LEN($A586),IF(LEN(Declarations!$B586)>0,Declarations!$B586,\"#\"&$A586),\"\")","v":""},"...","","00:00:00",0,"","",0,{"$f":"IF(LEN($A586)>0,IF(LEN(Declarations!$F586)>0,Declarations!$F586,conftype),\"\")","v":""},null,null,0,0,0,0,0,0,0,0,0,0,0,0,0,null,585]
[{"$f":"+Declarations!A587&\"\"","v":""},{"$f":"IF(LEN($A587),IF(LEN(Declarations!$B587)>0,Declarations!$B587,\"#\"&$A587),\"\")","v":""},"...","","00:00:00",0,"","",0,{"$f":"IF(LEN($A587)>0,IF(LEN(Declarations!$F587)>0,Declarations!$F587,conftype),\"\")","v":""},null,null,0,0,0,0,0,0,0,0,0,0,0,0,0,null,586]
[{"$f":"+Declarations!A588&\"\"","v":""},{"$f":"IF(LEN($A588),IF(LEN(Declarations!$B588)>0,Declarations!$B588,\"#\"&$A588),\"\")","v":""},"...","","00:00:00",0,"","",0,{"$f":"IF(LEN($A588)>0,IF(LEN(Declarations!$F588)>0,Declarations!$F588,conftype),\"\")","v":""},null,null,0,0,0,0,0,0,0,0,0,0,0,0,0,null,587]
[{"$f":"+Declarations!A589&\"\"","v":""},{"$f":"IF(LEN($A589),IF(LEN(Declarations!$B589)>0,Declarations!$B589,\"#\"&$A589),\"\")","v":""},"...","","00:00:00",0,"","",0,{"$f":"IF(LEN($A589)>0,IF(LEN(Declarations!$F589)>0,Declarations!$F589,conftype),\"\")","v":""},null,null,0,0,0,0,0,0,0,0,0,0,0,0,0,null,588]
[{"$f":"+Declarations!A590&\"\"","v":""},{"$f":"IF(LEN($A590),IF(LEN(Declarations!$B590)>0,Declarations!$B590,\"#\"&$A590),\"\")","v":""},"...","","00:00:00",0,"","",0,{"$f":"IF(LEN($A590)>0,IF(LEN(Declarations!$F590)>0,Declarations!$F590,conftype),\"\")","v":""},null,null,0,0,0,0,0,0,0,0,0,0,0,0,0,null,589]
[{"$f":"+Declarations!A591&\"\"","v":""},{"$f":"IF(LEN($A591),IF(LEN(Declarations!$B591)>0,Declarations!$B591,\"#\"&$A591),\"\")","v":""},"...","","00:00:00",0,"","",0,{"$f":"IF(LEN($A591)>0,IF(LEN(Declarations!$F591)>0,Declarations!$F591,conftype),\"\")","v":""},null,null,0,0,0,0,0,0,0,0,0,0,0,0,0,null,590]
[{"$f":"+Declarations!A592&\"\"","v":""},{"$f":"IF(LEN($A592),IF(LEN(Declarations!$B592)>0,Declarations!$B592,\"#\"&$A592),\"\")","v":""},"...","","00:00:00",0,"","",0,{"$f":"IF(LEN($A592)>0,IF(LEN(Declarations!$F592)>0,Declarations!$F592,conftype),\"\")","v":""},null,null,0,0,0,0,0,0,0,0,0,0,0,0,0,null,591]
[{"$f":"+Declarations!A593&\"\"","v":""},{"$f":"IF(LEN($A593),IF(LEN(Declarations!$B593)>0,Declarations!$B593,\"#\"&$A593),\"\")","v":""},"...","","00:00:00",0,"","",0,{"$f":"IF(LEN($A593)>0,IF(LEN(Declarations!$F593)>0,Declarations!$F593,conftype),\"\")","v":""},null,null,0,0,0,0,0,0,0,0,0,0,0,0,0,null,592]
[{"$f":"+Declarations!A594&\"\"","v":""},{"$f":"IF(LEN($A594),IF(LEN(Declarations!$B594)>0,Declarations!$B594,\"#\"&$A594),\"\")","v":""},"...","","00:00:00",0,"","",0,{"$f":"IF(LEN($A594)>0,IF(LEN(Declarations!$F594)>0,Declarations!$F594,conftype),\"\")","v":""},null,null,0,0,0,0,0,0,0,0,0,0,0,0,0,null,593]
[{"$f":"+Declarations!A595&\"\"","v":""},{"$f":"IF(LEN($A595),IF(LEN(Declarations!$B595)>0,Declarations!$B595,\"#\"&$A595),\"\")","v":""},"...","","00:00:00",0,"","",0,{"$f":"IF(LEN($A595)>0,IF(LEN(Declarations!$F595)>0,Declarations!$F595,conftype),\"\")","v":""},null,null,0,0,0,0,0,0,0,0,0,0,0,0,0,null,594]
[{"$f":"+Declarations!A596&\"\"","v":""},{"$f":"IF(LEN($A596),IF(LEN(Declarations!$B596)>0,Declarations!$B596,\"#\"&$A596),\"\")","v":""},"...","","00:00:00",0,"","",0,{"$f":"IF(LEN($A596)>0,IF(LEN(Declarations!$F596)>0,Declarations!$F596,conftype),\"\")","v":""},null,null,0,0,0,0,0,0,0,0,0,0,0,0,0,null,595]
[{"$f":"+Declarations!A597&\"\"","v":""},{"$f":"IF(LEN($A597),IF(LEN(Declarations!$B597)>0,Declarations!$B597,\"#\"&$A597),\"\")","v":""},"...","","00:00:00",0,"","",0,{"$f":"IF(LEN($A597)>0,IF(LEN(Declarations!$F597)>0,Declarations!$F597,conftype),\"\")","v":""},null,null,0,0,0,0,0,0,0,0,0,0,0,0,0,null,596]
[{"$f":"+Declarations!A598&\"\"","v":""},{"$f":"IF(LEN($A598),IF(LEN(Declarations!$B598)>0,Declarations!$B598,\"#\"&$A598),\"\")","v":""},"...","","00:00:00",0,"","",0,{"$f":"IF(LEN($A598)>0,IF(LEN(Declarations!$F598)>0,Declarations!$F598,conftype),\"\")","v":""},null,null,0,0,0,0,0,0,0,0,0,0,0,0,0,null,597]
[{"$f":"+Declarations!A599&\"\"","v":""},{"$f":"IF(LEN($A599),IF(LEN(Declarations!$B599)>0,Declarations!$B599,\"#\"&$A599),\"\")","v":""},"...","","00:00:00",0,"","",0,{"$f":"IF(LEN($A599)>0,IF(LEN(Declarations!$F599)>0,Declarations!$F599,conftype),\"\")","v":""},null,null,0,0,0,0,0,0,0,0,0,0,0,0,0,null,598]
[{"$f":"+Declarations!A600&\"\"","v":""},{"$f":"IF(LEN($A600),IF(LEN(Declarations!$B600)>0,Declarations!$B600,\"#\"&$A600),\"\")","v":""},"...","","00:00:00",0,"","",0,{"$f":"IF(LEN($A600)>0,IF(LEN(Declarations!$F600)>0,Declarations!$F600,conftype),\"\")","v":""},null,null,0,0,0,0,0,0,0,0,0,0,0,0,0,null,599]
[{"$f":"+Declarations!A601&\"\"","v":""},{"$f":"IF(LEN($A601),IF(LEN(Declarations!$B601)>0,Declarations!$B601,\"#\"&$A601),\"\")","v":""},"...","","00:00:00",0,"","",0,{"$f":"IF(LEN($A601)>0,IF(LEN(Declarations!$F601)>0,Declarations!$F601,conftype),\"\")","v":""},null,null,0,0,0,0,0,0,0,0,0,0,0,0,0,null,600]
[{"$f":"+Declarations!A602&\"\"","v":""},{"$f":"IF(LEN($A602),IF(LEN(Declarations!$B602)>0,Declarations!$B602,\"#\"&$A602),\"\")","v":""},"...","","00:00:00",0,"","",0,{"$f":"IF(LEN($A602)>0,IF(LEN(Declarations!$F602)>0,Declarations!$F602,conftype),\"\")","v":""},null,null,0,0,0,0,0,0,0,0,0,0,0,0,0,null,601]
[{"$f":"+Declarations!A603&\"\"","v":""},{"$f":"IF(LEN($A603),IF(LEN(Declarations!$B603)>0,Declarations!$B603,\"#\"&$A603),\"\")","v":""},"...","","00:00:00",0,"","",0,{"$f":"IF(LEN($A603)>0,IF(LEN(Declarations!$F603)>0,Declarations!$F603,conftype),\"\")","v":""},null,null,0,0,0,0,0,0,0,0,0,0,0,0,0,null,602]
[{"$f":"+Declarations!A604&\"\"","v":""},{"$f":"IF(LEN($A604),IF(LEN(Declarations!$B604)>0,Declarations!$B604,\"#\"&$A604),\"\")","v":""},"...","","00:00:00",0,"","",0,{"$f":"IF(LEN($A604)>0,IF(LEN(Declarations!$F604)>0,Declarations!$F604,conftype),\"\")","v":""},null,null,0,0,0,0,0,0,0,0,0,0,0,0,0,null,603]
[{"$f":"+Declarations!A605&\"\"","v":""},{"$f":"IF(LEN($A605),IF(LEN(Declarations!$B605)>0,Declarations!$B605,\"#\"&$A605),\"\")","v":""},"...","","00:00:00",0,"","",0,{"$f":"IF(LEN($A605)>0,IF(LEN(Declarations!$F605)>0,Declarations!$F605,conftype),\"\")","v":""},null,null,0,0,0,0,0,0,0,0,0,0,0,0,0,null,604]
[{"$f":"+Declarations!A606&\"\"","v":""},{"$f":"IF(LEN($A606),IF(LEN(Declarations!$B606)>0,Declarations!$B606,\"#\"&$A606),\"\")","v":""},"...","","00:00:00",0,"","",0,{"$f":"IF(LEN($A606)>0,IF(LEN(Declarations!$F606)>0,Declarations!$F606,conftype),\"\")","v":""},null,null,0,0,0,0,0,0,0,0,0,0,0,0,0,null,605]
[{"$f":"+Declarations!A607&\"\"","v":""},{"$f":"IF(LEN($A607),IF(LEN(Declarations!$B607)>0,Declarations!$B607,\"#\"&$A607),\"\")","v":""},"...","","00:00:00",0,"","",0,{"$f":"IF(LEN($A607)>0,IF(LEN(Declarations!$F607)>0,Declarations!$F607,conftype),\"\")","v":""},null,null,0,0,0,0,0,0,0,0,0,0,0,0,0,null,606]
[{"$f":"+Declarations!A608&\"\"","v":""},{"$f":"IF(LEN($A608),IF(LEN(Declarations!$B608)>0,Declarations!$B608,\"#\"&$A608),\"\")","v":""},"...","","00:00:00",0,"","",0,{"$f":"IF(LEN($A608)>0,IF(LEN(Declarations!$F608)>0,Declarations!$F608,conftype),\"\")","v":""},null,null,0,0,0,0,0,0,0,0,0,0,0,0,0,null,607]
[{"$f":"+Declarations!A609&\"\"","v":""},{"$f":"IF(LEN($A609),IF(LEN(Declarations!$B609)>0,Declarations!$B609,\"#\"&$A609),\"\")","v":""},"...","","00:00:00",0,"","",0,{"$f":"IF(LEN($A609)>0,IF(LEN(Declarations!$F609)>0,Declarations!$F609,conftype),\"\")","v":""},null,null,0,0,0,0,0,0,0,0,0,0,0,0,0,null,608]
[{"$f":"+Declarations!A610&\"\"","v":""},{"$f":"IF(LEN($A610),IF(LEN(Declarations!$B610)>0,Declarations!$B610,\"#\"&$A610),\"\")","v":""},"...","","00:00:00",0,"","",0,{"$f":"IF(LEN($A610)>0,IF(LEN(Declarations!$F610)>0,Declarations!$F610,conftype),\"\")","v":""},null,null,0,0,0,0,0,0,0,0,0,0,0,0,0,null,609]
[{"$f":"+Declarations!A611&\"\"","v":""},{"$f":"IF(LEN($A611),IF(LEN(Declarations!$B611)>0,Declarations!$B611,\"#\"&$A611),\"\")","v":""},"...","","00:00:00",0,"","",0,{"$f":"IF(LEN($A611)>0,IF(LEN(Declarations!$F611)>0,Declarations!$F611,conftype),\"\")","v":""},null,null,0,0,0,0,0,0,0,0,0,0,0,0,0,null,610]
[{"$f":"+Declarations!A612&\"\"","v":""},{"$f":"IF(LEN($A612),IF(LEN(Declarations!$B612)>0,Declarations!$B612,\"#\"&$A612),\"\")","v":""},"...","","00:00:00",0,"","",0,{"$f":"IF(LEN($A612)>0,IF(LEN(Declarations!$F612)>0,Declarations!$F612,conftype),\"\")","v":""},null,null,0,0,0,0,0,0,0,0,0,0,0,0,0,null,611]
[{"$f":"+Declarations!A613&\"\"","v":""},{"$f":"IF(LEN($A613),IF(LEN(Declarations!$B613)>0,Declarations!$B613,\"#\"&$A613),\"\")","v":""},"...","","00:00:00",0,"","",0,{"$f":"IF(LEN($A613)>0,IF(LEN(Declarations!$F613)>0,Declarations!$F613,conftype),\"\")","v":""},null,null,0,0,0,0,0,0,0,0,0,0,0,0,0,null,612]
[{"$f":"+Declarations!A614&\"\"","v":""},{"$f":"IF(LEN($A614),IF(LEN(Declarations!$B614)>0,Declarations!$B614,\"#\"&$A614),\"\")","v":""},"...","","00:00:00",0,"","",0,{"$f":"IF(LEN($A614)>0,IF(LEN(Declarations!$F614)>0,Declarations!$F614,conftype),\"\")","v":""},null,null,0,0,0,0,0,0,0,0,0,0,0,0,0,null,613]
[{"$f":"+Declarations!A615&\"\"","v":""},{"$f":"IF(LEN($A615),IF(LEN(Declarations!$B615)>0,Declarations!$B615,\"#\"&$A615),\"\")","v":""},"...","","00:00:00",0,"","",0,{"$f":"IF(LEN($A615)>0,IF(LEN(Declarations!$F615)>0,Declarations!$F615,conftype),\"\")","v":""},null,null,0,0,0,0,0,0,0,0,0,0,0,0,0,null,614]
[{"$f":"+Declarations!A616&\"\"","v":""},{"$f":"IF(LEN($A616),IF(LEN(Declarations!$B616)>0,Declarations!$B616,\"#\"&$A616),\"\")","v":""},"...","","00:00:00",0,"","",0,{"$f":"IF(LEN($A616)>0,IF(LEN(Declarations!$F616)>0,Declarations!$F616,conftype),\"\")","v":""},null,null,0,0,0,0,0,0,0,0,0,0,0,0,0,null,615]
[{"$f":"+Declarations!A617&\"\"","v":""},{"$f":"IF(LEN($A617),IF(LEN(Declarations!$B617)>0,Declarations!$B617,\"#\"&$A617),\"\")","v":""},"...","","00:00:00",0,"","",0,{"$f":"IF(LEN($A617)>0,IF(LEN(Declarations!$F617)>0,Declarations!$F617,conftype),\"\")","v":""},null,null,0,0,0,0,0,0,0,0,0,0,0,0,0,null,616]
[{"$f":"+Declarations!A618&\"\"","v":""},{"$f":"IF(LEN($A618),IF(LEN(Declarations!$B618)>0,Declarations!$B618,\"#\"&$A618),\"\")","v":""},"...","","00:00:00",0,"","",0,{"$f":"IF(LEN($A618)>0,IF(LEN(Declarations!$F618)>0,Declarations!$F618,conftype),\"\")","v":""},null,null,0,0,0,0,0,0,0,0,0,0,0,0,0,null,617]
[{"$f":"+Declarations!A619&\"\"","v":""},{"$f":"IF(LEN($A619),IF(LEN(Declarations!$B619)>0,Declarations!$B619,\"#\"&$A619),\"\")","v":""},"...","","00:00:00",0,"","",0,{"$f":"IF(LEN($A619)>0,IF(LEN(Declarations!$F619)>0,Declarations!$F619,conftype),\"\")","v":""},null,null,0,0,0,0,0,0,0,0,0,0,0,0,0,null,618]
[{"$f":"+Declarations!A620&\"\"","v":""},{"$f":"IF(LEN($A620),IF(LEN(Declarations!$B620)>0,Declarations!$B620,\"#\"&$A620),\"\")","v":""},"...","","00:00:00",0,"","",0,{"$f":"IF(LEN($A620)>0,IF(LEN(Declarations!$F620)>0,Declarations!$F620,conftype),\"\")","v":""},null,null,0,0,0,0,0,0,0,0,0,0,0,0,0,null,619]
[{"$f":"+Declarations!A621&\"\"","v":""},{"$f":"IF(LEN($A621),IF(LEN(Declarations!$B621)>0,Declarations!$B621,\"#\"&$A621),\"\")","v":""},"...","","00:00:00",0,"","",0,{"$f":"IF(LEN($A621)>0,IF(LEN(Declarations!$F621)>0,Declarations!$F621,conftype),\"\")","v":""},null,null,0,0,0,0,0,0,0,0,0,0,0,0,0,null,620]
[{"$f":"+Declarations!A622&\"\"","v":""},{"$f":"IF(LEN($A622),IF(LEN(Declarations!$B622)>0,Declarations!$B622,\"#\"&$A622),\"\")","v":""},"...","","00:00:00",0,"","",0,{"$f":"IF(LEN($A622)>0,IF(LEN(Declarations!$F622)>0,Declarations!$F622,conftype),\"\")","v":""},null,null,0,0,0,0,0,0,0,0,0,0,0,0,0,null,621]
[{"$f":"+Declarations!A623&\"\"","v":""},{"$f":"IF(LEN($A623),IF(LEN(Declarations!$B623)>0,Declarations!$B623,\"#\"&$A623),\"\")","v":""},"...","","00:00:00",0,"","",0,{"$f":"IF(LEN($A623)>0,IF(LEN(Declarations!$F623)>0,Declarations!$F623,conftype),\"\")","v":""},null,null,{"$f":"IF(ISNA(VLOOKUP($A623,SprintData,2,FALSE)),0,VLOOKUP($A623,SprintData,2,FALSE))","v":0},0,0,0,0,0,0,0,0,0,0,0,0,null,622]
[{"$f":"+Declarations!A624&\"\"","v":""},{"$f":"IF(LEN($A624),IF(LEN(Declarations!$B624)>0,Declarations!$B624,\"#\"&$A624),\"\")","v":""},"...","","00:00:00",0,"","",0,{"$f":"IF(LEN($A624)>0,IF(LEN(Declarations!$F624)>0,Declarations!$F624,conftype),\"\")","v":""},null,null,0,0,0,0,0,0,0,0,0,0,0,0,0,null,623]
[{"$f":"+Declarations!A625&\"\"","v":""},{"$f":"IF(LEN($A625),IF(LEN(Declarations!$B625)>0,Declarations!$B625,\"#\"&$A625),\"\")","v":""},"...","","00:00:00",0,"","",0,{"$f":"IF(LEN($A625)>0,IF(LEN(Declarations!$F625)>0,Declarations!$F625,conftype),\"\")","v":""},null,null,0,0,0,0,0,0,0,0,0,0,0,0,0,null,624]
[{"$f":"+Declarations!A626&\"\"","v":""},{"$f":"IF(LEN($A626),IF(LEN(Declarations!$B626)>0,Declarations!$B626,\"#\"&$A626),\"\")","v":""},"...","","00:00:00",0,"","",0,{"$f":"IF(LEN($A626)>0,IF(LEN(Declarations!$F626)>0,Declarations!$F626,conftype),\"\")","v":""},null,null,0,0,0,0,0,0,0,0,0,0,0,0,0,null,625]
[{"$f":"+Declarations!A627&\"\"","v":""},{"$f":"IF(LEN($A627),IF(LEN(Declarations!$B627)>0,Declarations!$B627,\"#\"&$A627),\"\")","v":""},"...","","00:00:00",0,"","",0,{"$f":"IF(LEN($A627)>0,IF(LEN(Declarations!$F627)>0,Declarations!$F627,conftype),\"\")","v":""},null,null,0,0,0,0,0,0,0,0,0,0,0,0,0,null,626]
[{"$f":"+Declarations!A628&\"\"","v":""},{"$f":"IF(LEN($A628),IF(LEN(Declarations!$B628)>0,Declarations!$B628,\"#\"&$A628),\"\")","v":""},"...","","00:00:00",0,"","",0,{"$f":"IF(LEN($A628)>0,IF(LEN(Declarations!$F628)>0,Declarations!$F628,conftype),\"\")","v":""},null,null,0,0,0,0,0,0,0,0,0,0,0,0,0,null,627]
[{"$f":"+Declarations!A629&\"\"","v":""},{"$f":"IF(LEN($A629),IF(LEN(Declarations!$B629)>0,Declarations!$B629,\"#\"&$A629),\"\")","v":""},"...","","00:00:00",0,"","",0,{"$f":"IF(LEN($A629)>0,IF(LEN(Declarations!$F629)>0,Declarations!$F629,conftype),\"\")","v":""},null,null,0,0,0,0,0,0,0,0,0,0,0,0,0,null,628]
[{"$f":"+Declarations!A630&\"\"","v":""},{"$f":"IF(LEN($A630),IF(LEN(Declarations!$B630)>0,Declarations!$B630,\"#\"&$A630),\"\")","v":""},"...","","00:00:00",0,"","",0,{"$f":"IF(LEN($A630)>0,IF(LEN(Declarations!$F630)>0,Declarations!$F630,conftype),\"\")","v":""},null,null,0,0,0,0,0,0,0,0,0,0,0,0,0,null,629]
[{"$f":"+Declarations!A631&\"\"","v":""},{"$f":"IF(LEN($A631),IF(LEN(Declarations!$B631)>0,Declarations!$B631,\"#\"&$A631),\"\")","v":""},"...","","00:00:00",0,"","",0,{"$f":"IF(LEN($A631)>0,IF(LEN(Declarations!$F631)>0,Declarations!$F631,conftype),\"\")","v":""},null,null,0,0,0,0,0,0,0,0,0,0,0,0,0,null,630]
[{"$f":"+Declarations!A632&\"\"","v":""},{"$f":"IF(LEN($A632),IF(LEN(Declarations!$B632)>0,Declarations!$B632,\"#\"&$A632),\"\")","v":""},"...","","00:00:00",0,"","",0,{"$f":"IF(LEN($A632)>0,IF(LEN(Declarations!$F632)>0,Declarations!$F632,conftype),\"\")","v":""},null,null,0,0,0,0,0,0,0,0,0,0,0,0,0,null,631]
[{"$f":"+Declarations!A633&\"\"","v":""},{"$f":"IF(LEN($A633),IF(LEN(Declarations!$B633)>0,Declarations!$B633,\"#\"&$A633),\"\")","v":""},"...","","00:00:00",0,"","",0,{"$f":"IF(LEN($A633)>0,IF(LEN(Declarations!$F633)>0,Declarations!$F633,conftype),\"\")","v":""},null,null,0,0,0,0,0,0,0,0,0,0,0,0,0,null,632]
[{"$f":"+Declarations!A634&\"\"","v":""},{"$f":"IF(LEN($A634),IF(LEN(Declarations!$B634)>0,Declarations!$B634,\"#\"&$A634),\"\")","v":""},"...","","00:00:00",0,"","",0,{"$f":"IF(LEN($A634)>0,IF(LEN(Declarations!$F634)>0,Declarations!$F634,conftype),\"\")","v":""},null,null,0,0,0,0,0,0,0,0,0,0,0,0,0,null,633]
[{"$f":"+Declarations!A635&\"\"","v":""},{"$f":"IF(LEN($A635),IF(LEN(Declarations!$B635)>0,Declarations!$B635,\"#\"&$A635),\"\")","v":""},"...","","00:00:00",0,"","",0,{"$f":"IF(LEN($A635)>0,IF(LEN(Declarations!$F635)>0,Declarations!$F635,conftype),\"\")","v":""},null,null,0,0,0,0,0,0,0,0,0,0,0,0,0,null,634]
[{"$f":"+Declarations!A636&\"\"","v":""},{"$f":"IF(LEN($A636),IF(LEN(Declarations!$B636)>0,Declarations!$B636,\"#\"&$A636),\"\")","v":""},"...","","00:00:00",0,"","",0,{"$f":"IF(LEN($A636)>0,IF(LEN(Declarations!$F636)>0,Declarations!$F636,conftype),\"\")","v":""},null,null,0,0,0,0,0,0,0,0,0,0,0,0,0,null,635]
[{"$f":"+Declarations!A637&\"\"","v":""},{"$f":"IF(LEN($A637),IF(LEN(Declarations!$B637)>0,Declarations!$B637,\"#\"&$A637),\"\")","v":""},"...","","00:00:00",0,"","",0,{"$f":"IF(LEN($A637)>0,IF(LEN(Declarations!$F637)>0,Declarations!$F637,conftype),\"\")","v":""},null,null,0,0,0,0,0,0,0,0,0,0,0,0,0,null,636]
[{"$f":"+Declarations!A638&\"\"","v":""},{"$f":"IF(LEN($A638),IF(LEN(Declarations!$B638)>0,Declarations!$B638,\"#\"&$A638),\"\")","v":""},"...","","00:00:00",0,"","",0,{"$f":"IF(LEN($A638)>0,IF(LEN(Declarations!$F638)>0,Declarations!$F638,conftype),\"\")","v":""},null,null,0,0,0,0,0,0,0,0,0,0,0,0,0,null,637]
[{"$f":"+Declarations!A639&\"\"","v":""},{"$f":"IF(LEN($A639),IF(LEN(Declarations!$B639)>0,Declarations!$B639,\"#\"&$A639),\"\")","v":""},"...","","00:00:00",0,"","",0,{"$f":"IF(LEN($A639)>0,IF(LEN(Declarations!$F639)>0,Declarations!$F639,conftype),\"\")","v":""},null,null,0,0,0,0,0,0,0,0,0,0,0,0,0,null,638]
[{"$f":"+Declarations!A640&\"\"","v":""},{"$f":"IF(LEN($A640),IF(LEN(Declarations!$B640)>0,Declarations!$B640,\"#\"&$A640),\"\")","v":""},"...","","00:00:00",0,"","",0,{"$f":"IF(LEN($A640)>0,IF(LEN(Declarations!$F640)>0,Declarations!$F640,conftype),\"\")","v":""},null,null,0,0,0,0,0,0,0,0,0,0,0,0,0,null,639]
[{"$f":"+Declarations!A641&\"\"","v":""},{"$f":"IF(LEN($A641),IF(LEN(Declarations!$B641)>0,Declarations!$B641,\"#\"&$A641),\"\")","v":""},"...","","00:00:00",0,"","",0,{"$f":"IF(LEN($A641)>0,IF(LEN(Declarations!$F641)>0,Declarations!$F641,conftype),\"\")","v":""},null,null,0,0,0,0,0,0,0,0,0,0,0,0,0,null,640]
[{"$f":"+Declarations!A642&\"\"","v":""},{"$f":"IF(LEN($A642),IF(LEN(Declarations!$B642)>0,Declarations!$B642,\"#\"&$A642),\"\")","v":""},{"$f":"IF(LEN(INDEX(DECLARATIONS,$AA642,3))>0,INDEX(DECLARATIONS,$AA642,3),\"...\")","v":"..."},"",{"$f":"IF(ISNA($AA642),0,INDEX(DECLARATIONS,$AA642,5))","v":"00:00:00"},{"$f":"IF(ISNA($AA642),0,INDEX(DECLARATIONS,$AA642,7))","v":0},{"$f":"UPPER(IF(ISNA($AA642),\"\",INDEX(DECLARATIONS,$AA642,4)))","v":""},{"$f":"IF(AND(A642>0,ISTEXT(B642)),IF(SECNAME=\"YES\",LEFT(B642&\" \",FIND(\" \",B642&\" \")+2)&IF(F642>0,\" (\"&F642&\")\",\"\"), B642&IF(F642>0,\" (\"&F642&\")\",\"\")),\"#\"&$A642)","v":""},{"$f":"IF(LEN($A642)>0,IF(LEN($J642)>0,MATCH(J642,MatchNames,0),EventIndex),0)","v":0},{"$f":"IF(LEN($A642)>0,IF(LEN(Declarations!$F642)>0,Declarations!$F642,conftype),\"\")","v":""},null,null,0,{"$f":"IF(ISNA(VLOOKUP($A642,JumpData,2,FALSE)),0,VLOOKUP($A642,JumpData,2,FALSE))","v":0},{"$f":"IF(ISNA(VLOOKUP($A642,RunData,2,FALSE)),0,VLOOKUP($A642,RunData,2,FALSE))","v":0},{"$f":"IF(ISNA(VLOOKUP($A642,ThrowData,2,FALSE)),0,VLOOKUP($A642,ThrowData,2,FALSE))","v":0},{"$f":"IF(ISNA(VLOOKUP($A642,SprintData,4,FALSE)),0,VLOOKUP($A642,SprintData,4,FALSE))+V642","v":0},{"$f":"IF(ISNA(VLOOKUP($A642,JumpData,4,FALSE)),0,VLOOKUP($A642,JumpData,4,FALSE))+W642","v":0},{"$f":"IF(ISNA(VLOOKUP($A642,RunData,4,FALSE)),0,VLOOKUP($A642,RunData,4,FALSE))+X642","v":0},{"$f":"IF(ISNA(VLOOKUP($A642,ThrowData,4,FALSE)),0,VLOOKUP($A642,ThrowData,4,FALSE))+Y642","v":0},{"$f":"+Q642+R642+S642+T642","v":0},{"$f":"IF(AND($F642>0,NOT(M642),Flexing),FlexPC,0)","v":0},{"$f":"IF(AND($F642>0,NOT(N642),Flexing),FlexPC,0)","v":0},{"$f":"IF(AND($F642>0,NOT(O642),Flexing),FlexPC,0)","v":0},{"$f":"IF(AND($F642>0,NOT(P642),Flexing),FlexPC,0)","v":0},null,641]
[{"$f":"+Declarations!A643&\"\"","v":""},{"$f":"IF(LEN($A643),IF(LEN(Declarations!$B643)>0,Declarations!$B643,\"#\"&$A643),\"\")","v":""},"...","","00:00:00",0,"","",0,{"$f":"IF(LEN($A643)>0,IF(LEN(Declarations!$F643)>0,Declarations!$F643,conftype),\"\")","v":""},null,null,0,0,0,0,0,0,0,0,0,0,0,0,0,null,{"$f":"ROW()-1","v":642}]
[{"$f":"+Declarations!A644&\"\"","v":""},{"$f":"IF(LEN($A644),IF(LEN(Declarations!$B644)>0,Declarations!$B644,\"#\"&$A644),\"\")","v":""},"...","","00:00:00",0,"","",0,{"$f":"IF(LEN($A644)>0,IF(LEN(Declarations!$F644)>0,Declarations!$F644,conftype),\"\")","v":""},null,null,0,0,0,0,0,0,0,0,0,0,0,0,0,null,643]
[{"$f":"+Declarations!A645&\"\"","v":""},{"$f":"IF(LEN($A645),IF(LEN(Declarations!$B645)>0,Declarations!$B645,\"#\"&$A645),\"\")","v":""},"...","","00:00:00",0,"","",0,{"$f":"IF(LEN($A645)>0,IF(LEN(Declarations!$F645)>0,Declarations!$F645,conftype),\"\")","v":""},null,null,0,0,0,0,0,0,0,0,0,0,0,0,0,null,644]
[{"$f":"+Declarations!A646&\"\"","v":""},{"$f":"IF(LEN($A646),IF(LEN(Declarations!$B646)>0,Declarations!$B646,\"#\"&$A646),\"\")","v":""},"...","","00:00:00",0,"","",0,{"$f":"IF(LEN($A646)>0,IF(LEN(Declarations!$F646)>0,Declarations!$F646,conftype),\"\")","v":""},null,null,0,0,0,0,0,0,0,0,0,0,0,0,0,null,645]
[{"$f":"+Declarations!A647&\"\"","v":""},{"$f":"IF(LEN($A647),IF(LEN(Declarations!$B647)>0,Declarations!$B647,\"#\"&$A647),\"\")","v":""},"...",{"$f":"IF(OR(G647=\"G\",G647=\"F\"),\"F\",IF(OR(G647=\"B\",G647=\"M\"),\"M\",\"\"))","v":""},"00:00:00",0,"","",0,{"$f":"IF(LEN($A647)>0,IF(LEN(Declarations!$F647)>0,Declarations!$F647,conftype),\"\")","v":""},null,null,0,0,0,0,0,0,0,0,0,0,0,0,0,null,646]
[{"$f":"+Declarations!A648&\"\"","v":""},{"$f":"IF(LEN($A648),IF(LEN(Declarations!$B648)>0,Declarations!$B648,\"#\"&$A648),\"\")","v":""},"...","","00:00:00",0,"","",0,{"$f":"IF(LEN($A648)>0,IF(LEN(Declarations!$F648)>0,Declarations!$F648,conftype),\"\")","v":""},null,null,0,0,0,0,0,0,0,0,0,0,0,0,0,null,647]
[{"$f":"+Declarations!A649&\"\"","v":""},{"$f":"IF(LEN($A649),IF(LEN(Declarations!$B649)>0,Declarations!$B649,\"#\"&$A649),\"\")","v":""},"...","","00:00:00",0,"","",0,{"$f":"IF(LEN($A649)>0,IF(LEN(Declarations!$F649)>0,Declarations!$F649,conftype),\"\")","v":""},null,null,0,0,0,0,0,0,0,0,0,0,0,0,0,null,648]
[{"$f":"+Declarations!A650&\"\"","v":""},{"$f":"IF(LEN($A650),IF(LEN(Declarations!$B650)>0,Declarations!$B650,\"#\"&$A650),\"\")","v":""},"...","","00:00:00",0,"","",0,{"$f":"IF(LEN($A650)>0,IF(LEN(Declarations!$F650)>0,Declarations!$F650,conftype),\"\")","v":""},null,null,0,0,0,0,0,0,0,0,0,0,0,0,0,null,649]
[{"$f":"+Declarations!A651&\"\"","v":""},{"$f":"IF(LEN($A651),IF(LEN(Declarations!$B651)>0,Declarations!$B651,\"#\"&$A651),\"\")","v":""},"...","","00:00:00",0,"","",0,{"$f":"IF(LEN($A651)>0,IF(LEN(Declarations!$F651)>0,Declarations!$F651,conftype),\"\")","v":""},null,null,0,0,0,0,0,0,0,0,0,0,0,0,0,null,650]
[{"$f":"+Declarations!A652&\"\"","v":""},{"$f":"IF(LEN($A652),IF(LEN(Declarations!$B652)>0,Declarations!$B652,\"#\"&$A652),\"\")","v":""},"...","","00:00:00",0,"","",0,{"$f":"IF(LEN($A652)>0,IF(LEN(Declarations!$F652)>0,Declarations!$F652,conftype),\"\")","v":""},null,null,0,0,0,0,0,0,0,0,0,0,0,0,0,null,651]
[{"$f":"+Declarations!A653&\"\"","v":""},{"$f":"IF(LEN($A653),IF(LEN(Declarations!$B653)>0,Declarations!$B653,\"#\"&$A653),\"\")","v":""},"...","","00:00:00",0,"","",0,{"$f":"IF(LEN($A653)>0,IF(LEN(Declarations!$F653)>0,Declarations!$F653,conftype),\"\")","v":""},null,null,0,0,0,0,0,0,0,0,0,0,0,0,0,null,652]
[{"$f":"+Declarations!A654&\"\"","v":""},{"$f":"IF(LEN($A654),IF(LEN(Declarations!$B654)>0,Declarations!$B654,\"#\"&$A654),\"\")","v":""},"...","","00:00:00",0,"","",0,{"$f":"IF(LEN($A654)>0,IF(LEN(Declarations!$F654)>0,Declarations!$F654,conftype),\"\")","v":""},null,null,0,0,0,0,0,0,0,0,0,0,0,0,0,null,653]
[{"$f":"+Declarations!A655&\"\"","v":""},{"$f":"IF(LEN($A655),IF(LEN(Declarations!$B655)>0,Declarations!$B655,\"#\"&$A655),\"\")","v":""},"...","","00:00:00",0,"","",0,{"$f":"IF(LEN($A655)>0,IF(LEN(Declarations!$F655)>0,Declarations!$F655,conftype),\"\")","v":""},null,null,0,0,0,0,0,0,0,0,0,0,0,0,0,null,654]
[{"$f":"+Declarations!A656&\"\"","v":""},{"$f":"IF(LEN($A656),IF(LEN(Declarations!$B656)>0,Declarations!$B656,\"#\"&$A656),\"\")","v":""},"...","","00:00:00",0,"","",0,{"$f":"IF(LEN($A656)>0,IF(LEN(Declarations!$F656)>0,Declarations!$F656,conftype),\"\")","v":""},null,null,0,0,0,0,0,0,0,0,0,0,0,0,0,null,655]
[{"$f":"+Declarations!A657&\"\"","v":""},{"$f":"IF(LEN($A657),IF(LEN(Declarations!$B657)>0,Declarations!$B657,\"#\"&$A657),\"\")","v":""},"...","","00:00:00",0,"","",0,{"$f":"IF(LEN($A657)>0,IF(LEN(Declarations!$F657)>0,Declarations!$F657,conftype),\"\")","v":""},null,null,0,0,0,0,0,0,0,0,0,0,0,0,0,null,656]
[{"$f":"+Declarations!A658&\"\"","v":""},{"$f":"IF(LEN($A658),IF(LEN(Declarations!$B658)>0,Declarations!$B658,\"#\"&$A658),\"\")","v":""},"...","","00:00:00",0,"","",0,{"$f":"IF(LEN($A658)>0,IF(LEN(Declarations!$F658)>0,Declarations!$F658,conftype),\"\")","v":""},null,null,0,0,0,0,0,0,0,0,0,0,0,0,0,null,657]
[{"$f":"+Declarations!A659&\"\"","v":""},{"$f":"IF(LEN($A659),IF(LEN(Declarations!$B659)>0,Declarations!$B659,\"#\"&$A659),\"\")","v":""},"...","","00:00:00",0,"","",0,{"$f":"IF(LEN($A659)>0,IF(LEN(Declarations!$F659)>0,Declarations!$F659,conftype),\"\")","v":""},null,null,0,0,0,0,0,0,0,0,0,0,0,0,0,null,658]
[{"$f":"+Declarations!A660&\"\"","v":""},{"$f":"IF(LEN($A660),IF(LEN(Declarations!$B660)>0,Declarations!$B660,\"#\"&$A660),\"\")","v":""},"...","","00:00:00",0,"","",0,{"$f":"IF(LEN($A660)>0,IF(LEN(Declarations!$F660)>0,Declarations!$F660,conftype),\"\")","v":""},null,null,0,0,0,0,0,0,0,0,0,0,0,0,0,null,659]
[{"$f":"+Declarations!A661&\"\"","v":""},{"$f":"IF(LEN($A661),IF(LEN(Declarations!$B661)>0,Declarations!$B661,\"#\"&$A661),\"\")","v":""},"...","","00:00:00",0,"","",0,{"$f":"IF(LEN($A661)>0,IF(LEN(Declarations!$F661)>0,Declarations!$F661,conftype),\"\")","v":""},null,null,0,0,0,0,0,0,0,0,0,0,0,0,0,null,660]
[{"$f":"+Declarations!A662&\"\"","v":""},{"$f":"IF(LEN($A662),IF(LEN(Declarations!$B662)>0,Declarations!$B662,\"#\"&$A662),\"\")","v":""},"...","","00:00:00",0,"","",0,{"$f":"IF(LEN($A662)>0,IF(LEN(Declarations!$F662)>0,Declarations!$F662,conftype),\"\")","v":""},null,null,0,0,0,0,0,0,0,0,0,0,0,0,0,null,661]
[{"$f":"+Declarations!A663&\"\"","v":""},{"$f":"IF(LEN($A663),IF(LEN(Declarations!$B663)>0,Declarations!$B663,\"#\"&$A663),\"\")","v":""},"...","","00:00:00",0,"","",0,{"$f":"IF(LEN($A663)>0,IF(LEN(Declarations!$F663)>0,Declarations!$F663,conftype),\"\")","v":""},null,null,0,0,0,0,0,0,0,0,0,0,0,0,0,null,662]
[{"$f":"+Declarations!A664&\"\"","v":""},{"$f":"IF(LEN($A664),IF(LEN(Declarations!$B664)>0,Declarations!$B664,\"#\"&$A664),\"\")","v":""},"...","","00:00:00",0,"","",0,{"$f":"IF(LEN($A664)>0,IF(LEN(Declarations!$F664)>0,Declarations!$F664,conftype),\"\")","v":""},null,null,0,0,0,0,0,0,0,0,0,0,0,0,0,null,663]
[{"$f":"+Declarations!A665&\"\"","v":""},{"$f":"IF(LEN($A665),IF(LEN(Declarations!$B665)>0,Declarations!$B665,\"#\"&$A665),\"\")","v":""},"...","","00:00:00",0,"","",0,{"$f":"IF(LEN($A665)>0,IF(LEN(Declarations!$F665)>0,Declarations!$F665,conftype),\"\")","v":""},null,null,0,0,0,0,0,0,0,0,0,0,0,0,0,null,664]
[{"$f":"+Declarations!A666&\"\"","v":""},{"$f":"IF(LEN($A666),IF(LEN(Declarations!$B666)>0,Declarations!$B666,\"#\"&$A666),\"\")","v":""},"...","","00:00:00",0,"","",0,{"$f":"IF(LEN($A666)>0,IF(LEN(Declarations!$F666)>0,Declarations!$F666,conftype),\"\")","v":""},null,null,0,0,0,0,0,0,0,0,0,0,0,0,0,null,665]
[{"$f":"+Declarations!A667&\"\"","v":""},{"$f":"IF(LEN($A667),IF(LEN(Declarations!$B667)>0,Declarations!$B667,\"#\"&$A667),\"\")","v":""},"...","","00:00:00",0,"","",0,{"$f":"IF(LEN($A667)>0,IF(LEN(Declarations!$F667)>0,Declarations!$F667,conftype),\"\")","v":""},null,null,0,0,0,0,0,0,0,0,0,0,0,0,0,null,666]
[{"$f":"+Declarations!A668&\"\"","v":""},{"$f":"IF(LEN($A668),IF(LEN(Declarations!$B668)>0,Declarations!$B668,\"#\"&$A668),\"\")","v":""},"...","","00:00:00",0,"","",0,{"$f":"IF(LEN($A668)>0,IF(LEN(Declarations!$F668)>0,Declarations!$F668,conftype),\"\")","v":""},null,null,0,0,0,0,0,0,0,0,0,0,0,0,0,null,667]
[{"$f":"+Declarations!A669&\"\"","v":""},{"$f":"IF(LEN($A669),IF(LEN(Declarations!$B669)>0,Declarations!$B669,\"#\"&$A669),\"\")","v":""},"...","","00:00:00",0,"","",0,{"$f":"IF(LEN($A669)>0,IF(LEN(Declarations!$F669)>0,Declarations!$F669,conftype),\"\")","v":""},null,null,0,0,0,0,0,0,0,0,0,0,0,0,0,null,668]
[{"$f":"+Declarations!A670&\"\"","v":""},{"$f":"IF(LEN($A670),IF(LEN(Declarations!$B670)>0,Declarations!$B670,\"#\"&$A670),\"\")","v":""},"...","","00:00:00",0,"","",0,{"$f":"IF(LEN($A670)>0,IF(LEN(Declarations!$F670)>0,Declarations!$F670,conftype),\"\")","v":""},null,null,0,0,0,0,0,0,0,0,0,0,0,0,0,null,669]
[{"$f":"+Declarations!A671&\"\"","v":""},{"$f":"IF(LEN($A671),IF(LEN(Declarations!$B671)>0,Declarations!$B671,\"#\"&$A671),\"\")","v":""},"...","","00:00:00",0,"","",0,{"$f":"IF(LEN($A671)>0,IF(LEN(Declarations!$F671)>0,Declarations!$F671,conftype),\"\")","v":""},null,null,0,0,0,0,0,0,0,0,0,0,0,0,0,null,670]
[{"$f":"+Declarations!A672&\"\"","v":""},{"$f":"IF(LEN($A672),IF(LEN(Declarations!$B672)>0,Declarations!$B672,\"#\"&$A672),\"\")","v":""},"...","","00:00:00",0,"","",0,{"$f":"IF(LEN($A672)>0,IF(LEN(Declarations!$F672)>0,Declarations!$F672,conftype),\"\")","v":""},null,null,0,0,0,0,0,0,0,0,0,0,0,0,0,null,671]
[{"$f":"+Declarations!A673&\"\"","v":""},{"$f":"IF(LEN($A673),IF(LEN(Declarations!$B673)>0,Declarations!$B673,\"#\"&$A673),\"\")","v":""},"...","","00:00:00",0,"","",0,{"$f":"IF(LEN($A673)>0,IF(LEN(Declarations!$F673)>0,Declarations!$F673,conftype),\"\")","v":""},null,null,0,0,0,0,0,0,0,0,0,0,0,0,0,null,672]
[{"$f":"+Declarations!A674&\"\"","v":""},{"$f":"IF(LEN($A674),IF(LEN(Declarations!$B674)>0,Declarations!$B674,\"#\"&$A674),\"\")","v":""},"...","","00:00:00",0,"","",0,{"$f":"IF(LEN($A674)>0,IF(LEN(Declarations!$F674)>0,Declarations!$F674,conftype),\"\")","v":""},null,null,0,0,0,0,0,0,0,0,0,0,0,0,0,null,673]
[{"$f":"+Declarations!A675&\"\"","v":""},{"$f":"IF(LEN($A675),IF(LEN(Declarations!$B675)>0,Declarations!$B675,\"#\"&$A675),\"\")","v":""},"...","","00:00:00",0,"","",0,{"$f":"IF(LEN($A675)>0,IF(LEN(Declarations!$F675)>0,Declarations!$F675,conftype),\"\")","v":""},null,null,0,0,0,0,0,0,0,0,0,0,0,0,0,null,674]
[{"$f":"+Declarations!A676&\"\"","v":""},{"$f":"IF(LEN($A676),IF(LEN(Declarations!$B676)>0,Declarations!$B676,\"#\"&$A676),\"\")","v":""},"...","","00:00:00",0,"","",0,{"$f":"IF(LEN($A676)>0,IF(LEN(Declarations!$F676)>0,Declarations!$F676,conftype),\"\")","v":""},null,null,0,0,0,0,0,0,0,0,0,0,0,0,0,null,675]
[{"$f":"+Declarations!A677&\"\"","v":""},{"$f":"IF(LEN($A677),IF(LEN(Declarations!$B677)>0,Declarations!$B677,\"#\"&$A677),\"\")","v":""},"...","","00:00:00",0,"","",0,{"$f":"IF(LEN($A677)>0,IF(LEN(Declarations!$F677)>0,Declarations!$F677,conftype),\"\")","v":""},null,null,0,0,0,0,0,0,0,0,0,0,0,0,0,null,676]
[{"$f":"+Declarations!A678&\"\"","v":""},{"$f":"IF(LEN($A678),IF(LEN(Declarations!$B678)>0,Declarations!$B678,\"#\"&$A678),\"\")","v":""},"...","","00:00:00",0,"","",0,{"$f":"IF(LEN($A678)>0,IF(LEN(Declarations!$F678)>0,Declarations!$F678,conftype),\"\")","v":""},null,null,0,0,0,0,0,0,0,0,0,0,0,0,0,null,677]
[{"$f":"+Declarations!A679&\"\"","v":""},{"$f":"IF(LEN($A679),IF(LEN(Declarations!$B679)>0,Declarations!$B679,\"#\"&$A679),\"\")","v":""},"...","","00:00:00",0,"","",0,{"$f":"IF(LEN($A679)>0,IF(LEN(Declarations!$F679)>0,Declarations!$F679,conftype),\"\")","v":""},null,null,0,0,0,0,0,0,0,0,0,0,0,0,0,null,678]
[{"$f":"+Declarations!A680&\"\"","v":""},{"$f":"IF(LEN($A680),IF(LEN(Declarations!$B680)>0,Declarations!$B680,\"#\"&$A680),\"\")","v":""},"...","","00:00:00",0,"","",0,{"$f":"IF(LEN($A680)>0,IF(LEN(Declarations!$F680)>0,Declarations!$F680,conftype),\"\")","v":""},null,null,0,0,0,0,0,0,0,0,0,0,0,0,0,null,679]
[{"$f":"+Declarations!A681&\"\"","v":""},{"$f":"IF(LEN($A681),IF(LEN(Declarations!$B681)>0,Declarations!$B681,\"#\"&$A681),\"\")","v":""},"...","","00:00:00",0,"","",0,{"$f":"IF(LEN($A681)>0,IF(LEN(Declarations!$F681)>0,Declarations!$F681,conftype),\"\")","v":""},null,null,0,0,0,0,0,0,0,0,0,0,0,0,0,null,680]
[{"$f":"+Declarations!A682&\"\"","v":""},{"$f":"IF(LEN($A682),IF(LEN(Declarations!$B682)>0,Declarations!$B682,\"#\"&$A682),\"\")","v":""},"...","","00:00:00",0,"","",0,{"$f":"IF(LEN($A682)>0,IF(LEN(Declarations!$F682)>0,Declarations!$F682,conftype),\"\")","v":""},null,null,0,0,0,0,0,0,0,0,0,0,0,0,0,null,681]
[{"$f":"+Declarations!A683&\"\"","v":""},{"$f":"IF(LEN($A683),IF(LEN(Declarations!$B683)>0,Declarations!$B683,\"#\"&$A683),\"\")","v":""},"...","","00:00:00",0,"","",0,{"$f":"IF(LEN($A683)>0,IF(LEN(Declarations!$F683)>0,Declarations!$F683,conftype),\"\")","v":""},null,null,0,0,0,0,0,0,0,0,0,0,0,0,0,null,682]
[{"$f":"+Declarations!A684&\"\"","v":""},{"$f":"IF(LEN($A684),IF(LEN(Declarations!$B684)>0,Declarations!$B684,\"#\"&$A684),\"\")","v":""},"...","","00:00:00",0,"","",0,{"$f":"IF(LEN($A684)>0,IF(LEN(Declarations!$F684)>0,Declarations!$F684,conftype),\"\")","v":""},null,null,0,0,0,0,0,0,0,0,0,0,0,0,0,null,683]
[{"$f":"+Declarations!A685&\"\"","v":""},{"$f":"IF(LEN($A685),IF(LEN(Declarations!$B685)>0,Declarations!$B685,\"#\"&$A685),\"\")","v":""},"...","","00:00:00",0,"","",0,{"$f":"IF(LEN($A685)>0,IF(LEN(Declarations!$F685)>0,Declarations!$F685,conftype),\"\")","v":""},null,null,0,0,0,0,0,0,0,0,0,0,0,0,0,null,684]
[{"$f":"+Declarations!A686&\"\"","v":""},{"$f":"IF(LEN($A686),IF(LEN(Declarations!$B686)>0,Declarations!$B686,\"#\"&$A686),\"\")","v":""},"...","","00:00:00",0,"","",0,{"$f":"IF(LEN($A686)>0,IF(LEN(Declarations!$F686)>0,Declarations!$F686,conftype),\"\")","v":""},null,null,0,0,0,0,0,0,0,0,0,0,0,0,0,null,685]
[{"$f":"+Declarations!A687&\"\"","v":""},{"$f":"IF(LEN($A687),IF(LEN(Declarations!$B687)>0,Declarations!$B687,\"#\"&$A687),\"\")","v":""},"...","","00:00:00",0,"","",0,{"$f":"IF(LEN($A687)>0,IF(LEN(Declarations!$F687)>0,Declarations!$F687,conftype),\"\")","v":""},null,null,{"$f":"IF(ISNA(VLOOKUP($A687,SprintData,2,FALSE)),0,VLOOKUP($A687,SprintData,2,FALSE))","v":0},0,0,0,0,0,0,0,0,0,0,0,0,null,686]
[{"$f":"+Declarations!A688&\"\"","v":""},{"$f":"IF(LEN($A688),IF(LEN(Declarations!$B688)>0,Declarations!$B688,\"#\"&$A688),\"\")","v":""},"...","","00:00:00",0,"","",0,{"$f":"IF(LEN($A688)>0,IF(LEN(Declarations!$F688)>0,Declarations!$F688,conftype),\"\")","v":""},null,null,0,0,0,0,0,0,0,0,0,0,0,0,0,null,687]
[{"$f":"+Declarations!A689&\"\"","v":""},{"$f":"IF(LEN($A689),IF(LEN(Declarations!$B689)>0,Declarations!$B689,\"#\"&$A689),\"\")","v":""},"...","","00:00:00",0,"","",0,{"$f":"IF(LEN($A689)>0,IF(LEN(Declarations!$F689)>0,Declarations!$F689,conftype),\"\")","v":""},null,null,0,0,0,0,0,0,0,0,0,0,0,0,0,null,688]
[{"$f":"+Declarations!A690&\"\"","v":""},{"$f":"IF(LEN($A690),IF(LEN(Declarations!$B690)>0,Declarations!$B690,\"#\"&$A690),\"\")","v":""},"...","","00:00:00",0,"","",0,{"$f":"IF(LEN($A690)>0,IF(LEN(Declarations!$F690)>0,Declarations!$F690,conftype),\"\")","v":""},null,null,0,0,0,0,0,0,0,0,0,0,0,0,0,null,689]
[{"$f":"+Declarations!A691&\"\"","v":""},{"$f":"IF(LEN($A691),IF(LEN(Declarations!$B691)>0,Declarations!$B691,\"#\"&$A691),\"\")","v":""},"...","","00:00:00",0,"","",0,{"$f":"IF(LEN($A691)>0,IF(LEN(Declarations!$F691)>0,Declarations!$F691,conftype),\"\")","v":""},null,null,0,0,0,0,0,0,0,0,0,0,0,0,0,null,690]
[{"$f":"+Declarations!A692&\"\"","v":""},{"$f":"IF(LEN($A692),IF(LEN(Declarations!$B692)>0,Declarations!$B692,\"#\"&$A692),\"\")","v":""},"...","","00:00:00",0,"","",0,{"$f":"IF(LEN($A692)>0,IF(LEN(Declarations!$F692)>0,Declarations!$F692,conftype),\"\")","v":""},null,null,0,0,0,0,0,0,0,0,0,0,0,0,0,null,691]
[{"$f":"+Declarations!A693&\"\"","v":""},{"$f":"IF(LEN($A693),IF(LEN(Declarations!$B693)>0,Declarations!$B693,\"#\"&$A693),\"\")","v":""},"...","","00:00:00",0,"","",0,{"$f":"IF(LEN($A693)>0,IF(LEN(Declarations!$F693)>0,Declarations!$F693,conftype),\"\")","v":""},null,null,0,0,0,0,0,0,0,0,0,0,0,0,0,null,692]
[{"$f":"+Declarations!A694&\"\"","v":""},{"$f":"IF(LEN($A694),IF(LEN(Declarations!$B694)>0,Declarations!$B694,\"#\"&$A694),\"\")","v":""},"...","","00:00:00",0,"","",0,{"$f":"IF(LEN($A694)>0,IF(LEN(Declarations!$F694)>0,Declarations!$F694,conftype),\"\")","v":""},null,null,0,0,0,0,0,0,0,0,0,0,0,0,0,null,693]
[{"$f":"+Declarations!A695&\"\"","v":""},{"$f":"IF(LEN($A695),IF(LEN(Declarations!$B695)>0,Declarations!$B695,\"#\"&$A695),\"\")","v":""},"...","","00:00:00",0,"","",0,{"$f":"IF(LEN($A695)>0,IF(LEN(Declarations!$F695)>0,Declarations!$F695,conftype),\"\")","v":""},null,null,0,0,0,0,0,0,0,0,0,0,0,0,0,null,694]
[{"$f":"+Declarations!A696&\"\"","v":""},{"$f":"IF(LEN($A696),IF(LEN(Declarations!$B696)>0,Declarations!$B696,\"#\"&$A696),\"\")","v":""},"...","","00:00:00",0,"","",0,{"$f":"IF(LEN($A696)>0,IF(LEN(Declarations!$F696)>0,Declarations!$F696,conftype),\"\")","v":""},null,null,0,0,0,0,0,0,0,0,0,0,0,0,0,null,695]
[{"$f":"+Declarations!A697&\"\"","v":""},{"$f":"IF(LEN($A697),IF(LEN(Declarations!$B697)>0,Declarations!$B697,\"#\"&$A697),\"\")","v":""},"...","","00:00:00",0,"","",0,{"$f":"IF(LEN($A697)>0,IF(LEN(Declarations!$F697)>0,Declarations!$F697,conftype),\"\")","v":""},null,null,0,0,0,0,0,0,0,0,0,0,0,0,0,null,696]
[{"$f":"+Declarations!A698&\"\"","v":""},{"$f":"IF(LEN($A698),IF(LEN(Declarations!$B698)>0,Declarations!$B698,\"#\"&$A698),\"\")","v":""},"...","","00:00:00",0,"","",0,{"$f":"IF(LEN($A698)>0,IF(LEN(Declarations!$F698)>0,Declarations!$F698,conftype),\"\")","v":""},null,null,0,0,0,0,0,0,0,0,0,0,0,0,0,null,697]
[{"$f":"+Declarations!A699&\"\"","v":""},{"$f":"IF(LEN($A699),IF(LEN(Declarations!$B699)>0,Declarations!$B699,\"#\"&$A699),\"\")","v":""},"...","","00:00:00",0,"","",0,{"$f":"IF(LEN($A699)>0,IF(LEN(Declarations!$F699)>0,Declarations!$F699,conftype),\"\")","v":""},null,null,0,0,0,0,0,0,0,0,0,0,0,0,0,null,698]
[{"$f":"+Declarations!A700&\"\"","v":""},{"$f":"IF(LEN($A700),IF(LEN(Declarations!$B700)>0,Declarations!$B700,\"#\"&$A700),\"\")","v":""},"...","","00:00:00",0,"","",0,{"$f":"IF(LEN($A700)>0,IF(LEN(Declarations!$F700)>0,Declarations!$F700,conftype),\"\")","v":""},null,null,0,0,0,0,0,0,0,0,0,0,0,0,0,null,699]
[{"$f":"+Declarations!A701&\"\"","v":""},{"$f":"IF(LEN($A701),IF(LEN(Declarations!$B701)>0,Declarations!$B701,\"#\"&$A701),\"\")","v":""},"...","","00:00:00",0,"","",0,{"$f":"IF(LEN($A701)>0,IF(LEN(Declarations!$F701)>0,Declarations!$F701,conftype),\"\")","v":""},null,null,0,0,0,0,0,0,0,0,0,0,0,0,0,null,700]
[{"$f":"+Declarations!A702&\"\"","v":""},{"$f":"IF(LEN($A702),IF(LEN(Declarations!$B702)>0,Declarations!$B702,\"#\"&$A702),\"\")","v":""},"...","","00:00:00",0,"","",0,{"$f":"IF(LEN($A702)>0,IF(LEN(Declarations!$F702)>0,Declarations!$F702,conftype),\"\")","v":""},null,null,0,0,0,0,0,0,0,0,0,0,0,0,0,null,701]
[{"$f":"+Declarations!A703&\"\"","v":""},{"$f":"IF(LEN($A703),IF(LEN(Declarations!$B703)>0,Declarations!$B703,\"#\"&$A703),\"\")","v":""},"...","","00:00:00",0,"","",0,{"$f":"IF(LEN($A703)>0,IF(LEN(Declarations!$F703)>0,Declarations!$F703,conftype),\"\")","v":""},null,null,0,0,0,0,0,0,0,0,0,0,0,0,0,null,702]
[{"$f":"+Declarations!A704&\"\"","v":""},{"$f":"IF(LEN($A704),IF(LEN(Declarations!$B704)>0,Declarations!$B704,\"#\"&$A704),\"\")","v":""},"...","","00:00:00",0,"","",0,{"$f":"IF(LEN($A704)>0,IF(LEN(Declarations!$F704)>0,Declarations!$F704,conftype),\"\")","v":""},null,null,0,0,0,0,0,0,0,0,0,0,0,0,0,null,703]
[{"$f":"+Declarations!A705&\"\"","v":""},{"$f":"IF(LEN($A705),IF(LEN(Declarations!$B705)>0,Declarations!$B705,\"#\"&$A705),\"\")","v":""},"...","","00:00:00",0,"","",0,{"$f":"IF(LEN($A705)>0,IF(LEN(Declarations!$F705)>0,Declarations!$F705,conftype),\"\")","v":""},null,null,0,0,0,0,0,0,0,0,0,0,0,0,0,null,704]
[{"$f":"+Declarations!A706&\"\"","v":""},{"$f":"IF(LEN($A706),IF(LEN(Declarations!$B706)>0,Declarations!$B706,\"#\"&$A706),\"\")","v":""},{"$f":"IF(LEN(INDEX(DECLARATIONS,$AA706,3))>0,INDEX(DECLARATIONS,$AA706,3),\"...\")","v":"..."},"",{"$f":"IF(ISNA($AA706),0,INDEX(DECLARATIONS,$AA706,5))","v":"00:00:00"},{"$f":"IF(ISNA($AA706),0,INDEX(DECLARATIONS,$AA706,7))","v":0},{"$f":"UPPER(IF(ISNA($AA706),\"\",INDEX(DECLARATIONS,$AA706,4)))","v":""},{"$f":"IF(AND(A706>0,ISTEXT(B706)),IF(SECNAME=\"YES\",LEFT(B706&\" \",FIND(\" \",B706&\" \")+2)&IF(F706>0,\" (\"&F706&\")\",\"\"), B706&IF(F706>0,\" (\"&F706&\")\",\"\")),\"#\"&$A706)","v":""},{"$f":"IF(LEN($A706)>0,IF(LEN($J706)>0,MATCH(J706,MatchNames,0),EventIndex),0)","v":0},{"$f":"IF(LEN($A706)>0,IF(LEN(Declarations!$F706)>0,Declarations!$F706,conftype),\"\")","v":""},null,null,0,{"$f":"IF(ISNA(VLOOKUP($A706,JumpData,2,FALSE)),0,VLOOKUP($A706,JumpData,2,FALSE))","v":0},{"$f":"IF(ISNA(VLOOKUP($A706,RunData,2,FALSE)),0,VLOOKUP($A706,RunData,2,FALSE))","v":0},{"$f":"IF(ISNA(VLOOKUP($A706,ThrowData,2,FALSE)),0,VLOOKUP($A706,ThrowData,2,FALSE))","v":0},{"$f":"IF(ISNA(VLOOKUP($A706,SprintData,4,FALSE)),0,VLOOKUP($A706,SprintData,4,FALSE))+V706","v":0},{"$f":"IF(ISNA(VLOOKUP($A706,JumpData,4,FALSE)),0,VLOOKUP($A706,JumpData,4,FALSE))+W706","v":0},{"$f":"IF(ISNA(VLOOKUP($A706,RunData,4,FALSE)),0,VLOOKUP($A706,RunData,4,FALSE))+X706","v":0},{"$f":"IF(ISNA(VLOOKUP($A706,ThrowData,4,FALSE)),0,VLOOKUP($A706,ThrowData,4,FALSE))+Y706","v":0},{"$f":"+Q706+R706+S706+T706","v":0},{"$f":"IF(AND($F706>0,NOT(M706),Flexing),FlexPC,0)","v":0},{"$f":"IF(AND($F706>0,NOT(N706),Flexing),FlexPC,0)","v":0},{"$f":"IF(AND($F706>0,NOT(O706),Flexing),FlexPC,0)","v":0},{"$f":"IF(AND($F706>0,NOT(P706),Flexing),FlexPC,0)","v":0},null,705]
[{"$f":"+Declarations!A707&\"\"","v":""},{"$f":"IF(LEN($A707),IF(LEN(Declarations!$B707)>0,Declarations!$B707,\"#\"&$A707),\"\")","v":""},"...","","00:00:00",0,"","",0,{"$f":"IF(LEN($A707)>0,IF(LEN(Declarations!$F707)>0,Declarations!$F707,conftype),\"\")","v":""},null,null,0,0,0,0,0,0,0,0,0,0,0,0,0,null,{"$f":"ROW()-1","v":706}]
[{"$f":"+Declarations!A708&\"\"","v":""},{"$f":"IF(LEN($A708),IF(LEN(Declarations!$B708)>0,Declarations!$B708,\"#\"&$A708),\"\")","v":""},"...","","00:00:00",0,"","",0,{"$f":"IF(LEN($A708)>0,IF(LEN(Declarations!$F708)>0,Declarations!$F708,conftype),\"\")","v":""},null,null,0,0,0,0,0,0,0,0,0,0,0,0,0,null,707]
[{"$f":"+Declarations!A709&\"\"","v":""},{"$f":"IF(LEN($A709),IF(LEN(Declarations!$B709)>0,Declarations!$B709,\"#\"&$A709),\"\")","v":""},"...","","00:00:00",0,"","",0,{"$f":"IF(LEN($A709)>0,IF(LEN(Declarations!$F709)>0,Declarations!$F709,conftype),\"\")","v":""},null,null,0,0,0,0,0,0,0,0,0,0,0,0,0,null,708]
[{"$f":"+Declarations!A710&\"\"","v":""},{"$f":"IF(LEN($A710),IF(LEN(Declarations!$B710)>0,Declarations!$B710,\"#\"&$A710),\"\")","v":""},"...","","00:00:00",0,"","",0,{"$f":"IF(LEN($A710)>0,IF(LEN(Declarations!$F710)>0,Declarations!$F710,conftype),\"\")","v":""},null,null,0,0,0,0,0,0,0,0,0,0,0,0,0,null,709]
[{"$f":"+Declarations!A711&\"\"","v":""},{"$f":"IF(LEN($A711),IF(LEN(Declarations!$B711)>0,Declarations!$B711,\"#\"&$A711),\"\")","v":""},"...",{"$f":"IF(OR(G711=\"G\",G711=\"F\"),\"F\",IF(OR(G711=\"B\",G711=\"M\"),\"M\",\"\"))","v":""},"00:00:00",0,"","",0,{"$f":"IF(LEN($A711)>0,IF(LEN(Declarations!$F711)>0,Declarations!$F711,conftype),\"\")","v":""},null,null,0,0,0,0,0,0,0,0,0,0,0,0,0,null,710]
[{"$f":"+Declarations!A712&\"\"","v":""},{"$f":"IF(LEN($A712),IF(LEN(Declarations!$B712)>0,Declarations!$B712,\"#\"&$A712),\"\")","v":""},"...","","00:00:00",0,"","",0,{"$f":"IF(LEN($A712)>0,IF(LEN(Declarations!$F712)>0,Declarations!$F712,conftype),\"\")","v":""},null,null,0,0,0,0,0,0,0,0,0,0,0,0,0,null,711]
[{"$f":"+Declarations!A713&\"\"","v":""},{"$f":"IF(LEN($A713),IF(LEN(Declarations!$B713)>0,Declarations!$B713,\"#\"&$A713),\"\")","v":""},"...","","00:00:00",0,"","",0,{"$f":"IF(LEN($A713)>0,IF(LEN(Declarations!$F713)>0,Declarations!$F713,conftype),\"\")","v":""},null,null,0,0,0,0,0,0,0,0,0,0,0,0,0,null,712]
[{"$f":"+Declarations!A714&\"\"","v":""},{"$f":"IF(LEN($A714),IF(LEN(Declarations!$B714)>0,Declarations!$B714,\"#\"&$A714),\"\")","v":""},"...","","00:00:00",0,"","",0,{"$f":"IF(LEN($A714)>0,IF(LEN(Declarations!$F714)>0,Declarations!$F714,conftype),\"\")","v":""},null,null,0,0,0,0,0,0,0,0,0,0,0,0,0,null,713]
[{"$f":"+Declarations!A715&\"\"","v":""},{"$f":"IF(LEN($A715),IF(LEN(Declarations!$B715)>0,Declarations!$B715,\"#\"&$A715),\"\")","v":""},"...","","00:00:00",0,"","",0,{"$f":"IF(LEN($A715)>0,IF(LEN(Declarations!$F715)>0,Declarations!$F715,conftype),\"\")","v":""},null,null,0,0,0,0,0,0,0,0,0,0,0,0,0,null,714]
[{"$f":"+Declarations!A716&\"\"","v":""},{"$f":"IF(LEN($A716),IF(LEN(Declarations!$B716)>0,Declarations!$B716,\"#\"&$A716),\"\")","v":""},"...","","00:00:00",0,"","",0,{"$f":"IF(LEN($A716)>0,IF(LEN(Declarations!$F716)>0,Declarations!$F716,conftype),\"\")","v":""},null,null,0,0,0,0,0,0,0,0,0,0,0,0,0,null,715]
[{"$f":"+Declarations!A717&\"\"","v":""},{"$f":"IF(LEN($A717),IF(LEN(Declarations!$B717)>0,Declarations!$B717,\"#\"&$A717),\"\")","v":""},"...","","00:00:00",0,"","",0,{"$f":"IF(LEN($A717)>0,IF(LEN(Declarations!$F717)>0,Declarations!$F717,conftype),\"\")","v":""},null,null,0,0,0,0,0,0,0,0,0,0,0,0,0,null,716]
[{"$f":"+Declarations!A718&\"\"","v":""},{"$f":"IF(LEN($A718),IF(LEN(Declarations!$B718)>0,Declarations!$B718,\"#\"&$A718),\"\")","v":""},"...","","00:00:00",0,"","",0,{"$f":"IF(LEN($A718)>0,IF(LEN(Declarations!$F718)>0,Declarations!$F718,conftype),\"\")","v":""},null,null,0,0,0,0,0,0,0,0,0,0,0,0,0,null,717]
[{"$f":"+Declarations!A719&\"\"","v":""},{"$f":"IF(LEN($A719),IF(LEN(Declarations!$B719)>0,Declarations!$B719,\"#\"&$A719),\"\")","v":""},"...","","00:00:00",0,"","",0,{"$f":"IF(LEN($A719)>0,IF(LEN(Declarations!$F719)>0,Declarations!$F719,conftype),\"\")","v":""},null,null,0,0,0,0,0,0,0,0,0,0,0,0,0,null,718]
[{"$f":"+Declarations!A720&\"\"","v":""},{"$f":"IF(LEN($A720),IF(LEN(Declarations!$B720)>0,Declarations!$B720,\"#\"&$A720),\"\")","v":""},"...","","00:00:00",0,"","",0,{"$f":"IF(LEN($A720)>0,IF(LEN(Declarations!$F720)>0,Declarations!$F720,conftype),\"\")","v":""},null,null,0,0,0,0,0,0,0,0,0,0,0,0,0,null,719]
[{"$f":"+Declarations!A721&\"\"","v":""},{"$f":"IF(LEN($A721),IF(LEN(Declarations!$B721)>0,Declarations!$B721,\"#\"&$A721),\"\")","v":""},"...","","00:00:00",0,"","",0,{"$f":"IF(LEN($A721)>0,IF(LEN(Declarations!$F721)>0,Declarations!$F721,conftype),\"\")","v":""},null,null,0,0,0,0,0,0,0,0,0,0,0,0,0,null,720]
[{"$f":"+Declarations!A722&\"\"","v":""},{"$f":"IF(LEN($A722),IF(LEN(Declarations!$B722)>0,Declarations!$B722,\"#\"&$A722),\"\")","v":""},"...","","00:00:00",0,"","",0,{"$f":"IF(LEN($A722)>0,IF(LEN(Declarations!$F722)>0,Declarations!$F722,conftype),\"\")","v":""},null,null,0,0,0,0,0,0,0,0,0,0,0,0,0,null,721]
[{"$f":"+Declarations!A723&\"\"","v":""},{"$f":"IF(LEN($A723),IF(LEN(Declarations!$B723)>0,Declarations!$B723,\"#\"&$A723),\"\")","v":""},"...","","00:00:00",0,"","",0,{"$f":"IF(LEN($A723)>0,IF(LEN(Declarations!$F723)>0,Declarations!$F723,conftype),\"\")","v":""},null,null,0,0,0,0,0,0,0,0,0,0,0,0,0,null,722]
[{"$f":"+Declarations!A724&\"\"","v":""},{"$f":"IF(LEN($A724),IF(LEN(Declarations!$B724)>0,Declarations!$B724,\"#\"&$A724),\"\")","v":""},"...","","00:00:00",0,"","",0,{"$f":"IF(LEN($A724)>0,IF(LEN(Declarations!$F724)>0,Declarations!$F724,conftype),\"\")","v":""},null,null,0,0,0,0,0,0,0,0,0,0,0,0,0,null,723]
[{"$f":"+Declarations!A725&\"\"","v":""},{"$f":"IF(LEN($A725),IF(LEN(Declarations!$B725)>0,Declarations!$B725,\"#\"&$A725),\"\")","v":""},"...","","00:00:00",0,"","",0,{"$f":"IF(LEN($A725)>0,IF(LEN(Declarations!$F725)>0,Declarations!$F725,conftype),\"\")","v":""},null,null,0,0,0,0,0,0,0,0,0,0,0,0,0,null,724]
[{"$f":"+Declarations!A726&\"\"","v":""},{"$f":"IF(LEN($A726),IF(LEN(Declarations!$B726)>0,Declarations!$B726,\"#\"&$A726),\"\")","v":""},"...","","00:00:00",0,"","",0,{"$f":"IF(LEN($A726)>0,IF(LEN(Declarations!$F726)>0,Declarations!$F726,conftype),\"\")","v":""},null,null,0,0,0,0,0,0,0,0,0,0,0,0,0,null,725]
[{"$f":"+Declarations!A727&\"\"","v":""},{"$f":"IF(LEN($A727),IF(LEN(Declarations!$B727)>0,Declarations!$B727,\"#\"&$A727),\"\")","v":""},"...","","00:00:00",0,"","",0,{"$f":"IF(LEN($A727)>0,IF(LEN(Declarations!$F727)>0,Declarations!$F727,conftype),\"\")","v":""},null,null,0,0,0,0,0,0,0,0,0,0,0,0,0,null,726]
[{"$f":"+Declarations!A728&\"\"","v":""},{"$f":"IF(LEN($A728),IF(LEN(Declarations!$B728)>0,Declarations!$B728,\"#\"&$A728),\"\")","v":""},"...","","00:00:00",0,"","",0,{"$f":"IF(LEN($A728)>0,IF(LEN(Declarations!$F728)>0,Declarations!$F728,conftype),\"\")","v":""},null,null,0,0,0,0,0,0,0,0,0,0,0,0,0,null,727]
[{"$f":"+Declarations!A729&\"\"","v":""},{"$f":"IF(LEN($A729),IF(LEN(Declarations!$B729)>0,Declarations!$B729,\"#\"&$A729),\"\")","v":""},"...","","00:00:00",0,"","",0,{"$f":"IF(LEN($A729)>0,IF(LEN(Declarations!$F729)>0,Declarations!$F729,conftype),\"\")","v":""},null,null,0,0,0,0,0,0,0,0,0,0,0,0,0,null,728]
[{"$f":"+Declarations!A730&\"\"","v":""},{"$f":"IF(LEN($A730),IF(LEN(Declarations!$B730)>0,Declarations!$B730,\"#\"&$A730),\"\")","v":""},"...","","00:00:00",0,"","",0,{"$f":"IF(LEN($A730)>0,IF(LEN(Declarations!$F730)>0,Declarations!$F730,conftype),\"\")","v":""},null,null,0,0,0,0,0,0,0,0,0,0,0,0,0,null,729]
[{"$f":"+Declarations!A731&\"\"","v":""},{"$f":"IF(LEN($A731),IF(LEN(Declarations!$B731)>0,Declarations!$B731,\"#\"&$A731),\"\")","v":""},"...","","00:00:00",0,"","",0,{"$f":"IF(LEN($A731)>0,IF(LEN(Declarations!$F731)>0,Declarations!$F731,conftype),\"\")","v":""},null,null,0,0,0,0,0,0,0,0,0,0,0,0,0,null,730]
[{"$f":"+Declarations!A732&\"\"","v":""},{"$f":"IF(LEN($A732),IF(LEN(Declarations!$B732)>0,Declarations!$B732,\"#\"&$A732),\"\")","v":""},"...","","00:00:00",0,"","",0,{"$f":"IF(LEN($A732)>0,IF(LEN(Declarations!$F732)>0,Declarations!$F732,conftype),\"\")","v":""},null,null,0,0,0,0,0,0,0,0,0,0,0,0,0,null,731]
[{"$f":"+Declarations!A733&\"\"","v":""},{"$f":"IF(LEN($A733),IF(LEN(Declarations!$B733)>0,Declarations!$B733,\"#\"&$A733),\"\")","v":""},"...","","00:00:00",0,"","",0,{"$f":"IF(LEN($A733)>0,IF(LEN(Declarations!$F733)>0,Declarations!$F733,conftype),\"\")","v":""},null,null,0,0,0,0,0,0,0,0,0,0,0,0,0,null,732]
[{"$f":"+Declarations!A734&\"\"","v":""},{"$f":"IF(LEN($A734),IF(LEN(Declarations!$B734)>0,Declarations!$B734,\"#\"&$A734),\"\")","v":""},"...","","00:00:00",0,"","",0,{"$f":"IF(LEN($A734)>0,IF(LEN(Declarations!$F734)>0,Declarations!$F734,conftype),\"\")","v":""},null,null,0,0,0,0,0,0,0,0,0,0,0,0,0,null,733]
[{"$f":"+Declarations!A735&\"\"","v":""},{"$f":"IF(LEN($A735),IF(LEN(Declarations!$B735)>0,Declarations!$B735,\"#\"&$A735),\"\")","v":""},"...","","00:00:00",0,"","",0,{"$f":"IF(LEN($A735)>0,IF(LEN(Declarations!$F735)>0,Declarations!$F735,conftype),\"\")","v":""},null,null,0,0,0,0,0,0,0,0,0,0,0,0,0,null,734]
[{"$f":"+Declarations!A736&\"\"","v":""},{"$f":"IF(LEN($A736),IF(LEN(Declarations!$B736)>0,Declarations!$B736,\"#\"&$A736),\"\")","v":""},"...","","00:00:00",0,"","",0,{"$f":"IF(LEN($A736)>0,IF(LEN(Declarations!$F736)>0,Declarations!$F736,conftype),\"\")","v":""},null,null,0,0,0,0,0,0,0,0,0,0,0,0,0,null,735]
[{"$f":"+Declarations!A737&\"\"","v":""},{"$f":"IF(LEN($A737),IF(LEN(Declarations!$B737)>0,Declarations!$B737,\"#\"&$A737),\"\")","v":""},"...","","00:00:00",0,"","",0,{"$f":"IF(LEN($A737)>0,IF(LEN(Declarations!$F737)>0,Declarations!$F737,conftype),\"\")","v":""},null,null,0,0,0,0,0,0,0,0,0,0,0,0,0,null,736]
[{"$f":"+Declarations!A738&\"\"","v":""},{"$f":"IF(LEN($A738),IF(LEN(Declarations!$B738)>0,Declarations!$B738,\"#\"&$A738),\"\")","v":""},"...","","00:00:00",0,"","",0,{"$f":"IF(LEN($A738)>0,IF(LEN(Declarations!$F738)>0,Declarations!$F738,conftype),\"\")","v":""},null,null,0,0,0,0,0,0,0,0,0,0,0,0,0,null,737]
[{"$f":"+Declarations!A739&\"\"","v":""},{"$f":"IF(LEN($A739),IF(LEN(Declarations!$B739)>0,Declarations!$B739,\"#\"&$A739),\"\")","v":""},"...","","00:00:00",0,"","",0,{"$f":"IF(LEN($A739)>0,IF(LEN(Declarations!$F739)>0,Declarations!$F739,conftype),\"\")","v":""},null,null,0,0,0,0,0,0,0,0,0,0,0,0,0,null,738]
[{"$f":"+Declarations!A740&\"\"","v":""},{"$f":"IF(LEN($A740),IF(LEN(Declarations!$B740)>0,Declarations!$B740,\"#\"&$A740),\"\")","v":""},"...","","00:00:00",0,"","",0,{"$f":"IF(LEN($A740)>0,IF(LEN(Declarations!$F740)>0,Declarations!$F740,conftype),\"\")","v":""},null,null,0,0,0,0,0,0,0,0,0,0,0,0,0,null,739]
[{"$f":"+Declarations!A741&\"\"","v":""},{"$f":"IF(LEN($A741),IF(LEN(Declarations!$B741)>0,Declarations!$B741,\"#\"&$A741),\"\")","v":""},"...","","00:00:00",0,"","",0,{"$f":"IF(LEN($A741)>0,IF(LEN(Declarations!$F741)>0,Declarations!$F741,conftype),\"\")","v":""},null,null,0,0,0,0,0,0,0,0,0,0,0,0,0,null,740]
[{"$f":"+Declarations!A742&\"\"","v":""},{"$f":"IF(LEN($A742),IF(LEN(Declarations!$B742)>0,Declarations!$B742,\"#\"&$A742),\"\")","v":""},"...","","00:00:00",0,"","",0,{"$f":"IF(LEN($A742)>0,IF(LEN(Declarations!$F742)>0,Declarations!$F742,conftype),\"\")","v":""},null,null,0,0,0,0,0,0,0,0,0,0,0,0,0,null,741]
[{"$f":"+Declarations!A743&\"\"","v":""},{"$f":"IF(LEN($A743),IF(LEN(Declarations!$B743)>0,Declarations!$B743,\"#\"&$A743),\"\")","v":""},"...","","00:00:00",0,"","",0,{"$f":"IF(LEN($A743)>0,IF(LEN(Declarations!$F743)>0,Declarations!$F743,conftype),\"\")","v":""},null,null,0,0,0,0,0,0,0,0,0,0,0,0,0,null,742]
[{"$f":"+Declarations!A744&\"\"","v":""},{"$f":"IF(LEN($A744),IF(LEN(Declarations!$B744)>0,Declarations!$B744,\"#\"&$A744),\"\")","v":""},"...","","00:00:00",0,"","",0,{"$f":"IF(LEN($A744)>0,IF(LEN(Declarations!$F744)>0,Declarations!$F744,conftype),\"\")","v":""},null,null,0,0,0,0,0,0,0,0,0,0,0,0,0,null,743]
[{"$f":"+Declarations!A745&\"\"","v":""},{"$f":"IF(LEN($A745),IF(LEN(Declarations!$B745)>0,Declarations!$B745,\"#\"&$A745),\"\")","v":""},"...","","00:00:00",0,"","",0,{"$f":"IF(LEN($A745)>0,IF(LEN(Declarations!$F745)>0,Declarations!$F745,conftype),\"\")","v":""},null,null,0,0,0,0,0,0,0,0,0,0,0,0,0,null,744]
[{"$f":"+Declarations!A746&\"\"","v":""},{"$f":"IF(LEN($A746),IF(LEN(Declarations!$B746)>0,Declarations!$B746,\"#\"&$A746),\"\")","v":""},"...","","00:00:00",0,"","",0,{"$f":"IF(LEN($A746)>0,IF(LEN(Declarations!$F746)>0,Declarations!$F746,conftype),\"\")","v":""},null,null,0,0,0,0,0,0,0,0,0,0,0,0,0,null,745]
[{"$f":"+Declarations!A747&\"\"","v":""},{"$f":"IF(LEN($A747),IF(LEN(Declarations!$B747)>0,Declarations!$B747,\"#\"&$A747),\"\")","v":""},"...","","00:00:00",0,"","",0,{"$f":"IF(LEN($A747)>0,IF(LEN(Declarations!$F747)>0,Declarations!$F747,conftype),\"\")","v":""},null,null,0,0,0,0,0,0,0,0,0,0,0,0,0,null,746]
[{"$f":"+Declarations!A748&\"\"","v":""},{"$f":"IF(LEN($A748),IF(LEN(Declarations!$B748)>0,Declarations!$B748,\"#\"&$A748),\"\")","v":""},"...","","00:00:00",0,"","",0,{"$f":"IF(LEN($A748)>0,IF(LEN(Declarations!$F748)>0,Declarations!$F748,conftype),\"\")","v":""},null,null,0,0,0,0,0,0,0,0,0,0,0,0,0,null,747]
[{"$f":"+Declarations!A749&\"\"","v":""},{"$f":"IF(LEN($A749),IF(LEN(Declarations!$B749)>0,Declarations!$B749,\"#\"&$A749),\"\")","v":""},"...","","00:00:00",0,"","",0,{"$f":"IF(LEN($A749)>0,IF(LEN(Declarations!$F749)>0,Declarations!$F749,conftype),\"\")","v":""},null,null,0,0,0,0,0,0,0,0,0,0,0,0,0,null,748]
[{"$f":"+Declarations!A750&\"\"","v":""},{"$f":"IF(LEN($A750),IF(LEN(Declarations!$B750)>0,Declarations!$B750,\"#\"&$A750),\"\")","v":""},"...","","00:00:00",0,"","",0,{"$f":"IF(LEN($A750)>0,IF(LEN(Declarations!$F750)>0,Declarations!$F750,conftype),\"\")","v":""},null,null,0,0,0,0,0,0,0,0,0,0,0,0,0,null,749]
[{"$f":"+Declarations!A751&\"\"","v":""},{"$f":"IF(LEN($A751),IF(LEN(Declarations!$B751)>0,Declarations!$B751,\"#\"&$A751),\"\")","v":""},"...","","00:00:00",0,"","",0,{"$f":"IF(LEN($A751)>0,IF(LEN(Declarations!$F751)>0,Declarations!$F751,conftype),\"\")","v":""},null,null,{"$f":"IF(ISNA(VLOOKUP($A751,SprintData,2,FALSE)),0,VLOOKUP($A751,SprintData,2,FALSE))","v":0},0,0,0,0,0,0,0,0,0,0,0,0,null,750]
[{"$f":"+Declarations!A752&\"\"","v":""},{"$f":"IF(LEN($A752),IF(LEN(Declarations!$B752)>0,Declarations!$B752,\"#\"&$A752),\"\")","v":""},"...","","00:00:00",0,"","",0,{"$f":"IF(LEN($A752)>0,IF(LEN(Declarations!$F752)>0,Declarations!$F752,conftype),\"\")","v":""},null,null,0,0,0,0,0,0,0,0,0,0,0,0,0,null,751]
[{"$f":"+Declarations!A753&\"\"","v":""},{"$f":"IF(LEN($A753),IF(LEN(Declarations!$B753)>0,Declarations!$B753,\"#\"&$A753),\"\")","v":""},"...","","00:00:00",0,"","",0,{"$f":"IF(LEN($A753)>0,IF(LEN(Declarations!$F753)>0,Declarations!$F753,conftype),\"\")","v":""},null,null,0,0,0,0,0,0,0,0,0,0,0,0,0,null,752]
[{"$f":"+Declarations!A754&\"\"","v":""},{"$f":"IF(LEN($A754),IF(LEN(Declarations!$B754)>0,Declarations!$B754,\"#\"&$A754),\"\")","v":""},"...","","00:00:00",0,"","",0,{"$f":"IF(LEN($A754)>0,IF(LEN(Declarations!$F754)>0,Declarations!$F754,conftype),\"\")","v":""},null,null,0,0,0,0,0,0,0,0,0,0,0,0,0,null,753]
[{"$f":"+Declarations!A755&\"\"","v":""},{"$f":"IF(LEN($A755),IF(LEN(Declarations!$B755)>0,Declarations!$B755,\"#\"&$A755),\"\")","v":""},"...","","00:00:00",0,"","",0,{"$f":"IF(LEN($A755)>0,IF(LEN(Declarations!$F755)>0,Declarations!$F755,conftype),\"\")","v":""},null,null,0,0,0,0,0,0,0,0,0,0,0,0,0,null,754]
[{"$f":"+Declarations!A756&\"\"","v":""},{"$f":"IF(LEN($A756),IF(LEN(Declarations!$B756)>0,Declarations!$B756,\"#\"&$A756),\"\")","v":""},"...","","00:00:00",0,"","",0,{"$f":"IF(LEN($A756)>0,IF(LEN(Declarations!$F756)>0,Declarations!$F756,conftype),\"\")","v":""},null,null,0,0,0,0,0,0,0,0,0,0,0,0,0,null,755]
[{"$f":"+Declarations!A757&\"\"","v":""},{"$f":"IF(LEN($A757),IF(LEN(Declarations!$B757)>0,Declarations!$B757,\"#\"&$A757),\"\")","v":""},"...","","00:00:00",0,"","",0,{"$f":"IF(LEN($A757)>0,IF(LEN(Declarations!$F757)>0,Declarations!$F757,conftype),\"\")","v":""},null,null,0,0,0,0,0,0,0,0,0,0,0,0,0,null,756]
[{"$f":"+Declarations!A758&\"\"","v":""},{"$f":"IF(LEN($A758),IF(LEN(Declarations!$B758)>0,Declarations!$B758,\"#\"&$A758),\"\")","v":""},"...","","00:00:00",0,"","",0,{"$f":"IF(LEN($A758)>0,IF(LEN(Declarations!$F758)>0,Declarations!$F758,conftype),\"\")","v":""},null,null,0,0,0,0,0,0,0,0,0,0,0,0,0,null,757]
[{"$f":"+Declarations!A759&\"\"","v":""},{"$f":"IF(LEN($A759),IF(LEN(Declarations!$B759)>0,Declarations!$B759,\"#\"&$A759),\"\")","v":""},"...","","00:00:00",0,"","",0,{"$f":"IF(LEN($A759)>0,IF(LEN(Declarations!$F759)>0,Declarations!$F759,conftype),\"\")","v":""},null,null,0,0,0,0,0,0,0,0,0,0,0,0,0,null,758]
[{"$f":"+Declarations!A760&\"\"","v":""},{"$f":"IF(LEN($A760),IF(LEN(Declarations!$B760)>0,Declarations!$B760,\"#\"&$A760),\"\")","v":""},"...","","00:00:00",0,"","",0,{"$f":"IF(LEN($A760)>0,IF(LEN(Declarations!$F760)>0,Declarations!$F760,conftype),\"\")","v":""},null,null,0,0,0,0,0,0,0,0,0,0,0,0,0,null,759]
[{"$f":"+Declarations!A761&\"\"","v":""},{"$f":"IF(LEN($A761),IF(LEN(Declarations!$B761)>0,Declarations!$B761,\"#\"&$A761),\"\")","v":""},"...","","00:00:00",0,"","",0,{"$f":"IF(LEN($A761)>0,IF(LEN(Declarations!$F761)>0,Declarations!$F761,conftype),\"\")","v":""},null,null,0,0,0,0,0,0,0,0,0,0,0,0,0,null,760]
[{"$f":"+Declarations!A762&\"\"","v":""},{"$f":"IF(LEN($A762),IF(LEN(Declarations!$B762)>0,Declarations!$B762,\"#\"&$A762),\"\")","v":""},"...","","00:00:00",0,"","",0,{"$f":"IF(LEN($A762)>0,IF(LEN(Declarations!$F762)>0,Declarations!$F762,conftype),\"\")","v":""},null,null,0,0,0,0,0,0,0,0,0,0,0,0,0,null,761]
[{"$f":"+Declarations!A763&\"\"","v":""},{"$f":"IF(LEN($A763),IF(LEN(Declarations!$B763)>0,Declarations!$B763,\"#\"&$A763),\"\")","v":""},"...","","00:00:00",0,"","",0,{"$f":"IF(LEN($A763)>0,IF(LEN(Declarations!$F763)>0,Declarations!$F763,conftype),\"\")","v":""},null,null,0,0,0,0,0,0,0,0,0,0,0,0,0,null,762]
[{"$f":"+Declarations!A764&\"\"","v":""},{"$f":"IF(LEN($A764),IF(LEN(Declarations!$B764)>0,Declarations!$B764,\"#\"&$A764),\"\")","v":""},"...","","00:00:00",0,"","",0,{"$f":"IF(LEN($A764)>0,IF(LEN(Declarations!$F764)>0,Declarations!$F764,conftype),\"\")","v":""},null,null,0,0,0,0,0,0,0,0,0,0,0,0,0,null,763]
[{"$f":"+Declarations!A765&\"\"","v":""},{"$f":"IF(LEN($A765),IF(LEN(Declarations!$B765)>0,Declarations!$B765,\"#\"&$A765),\"\")","v":""},"...","","00:00:00",0,"","",0,{"$f":"IF(LEN($A765)>0,IF(LEN(Declarations!$F765)>0,Declarations!$F765,conftype),\"\")","v":""},null,null,0,0,0,0,0,0,0,0,0,0,0,0,0,null,764]
[{"$f":"+Declarations!A766&\"\"","v":""},{"$f":"IF(LEN($A766),IF(LEN(Declarations!$B766)>0,Declarations!$B766,\"#\"&$A766),\"\")","v":""},"...","","00:00:00",0,"","",0,{"$f":"IF(LEN($A766)>0,IF(LEN(Declarations!$F766)>0,Declarations!$F766,conftype),\"\")","v":""},null,null,0,0,0,0,0,0,0,0,0,0,0,0,0,null,765]
[{"$f":"+Declarations!A767&\"\"","v":""},{"$f":"IF(LEN($A767),IF(LEN(Declarations!$B767)>0,Declarations!$B767,\"#\"&$A767),\"\")","v":""},"...","","00:00:00",0,"","",0,{"$f":"IF(LEN($A767)>0,IF(LEN(Declarations!$F767)>0,Declarations!$F767,conftype),\"\")","v":""},null,null,0,0,0,0,0,0,0,0,0,0,0,0,0,null,766]
[{"$f":"+Declarations!A768&\"\"","v":""},{"$f":"IF(LEN($A768),IF(LEN(Declarations!$B768)>0,Declarations!$B768,\"#\"&$A768),\"\")","v":""},"...","","00:00:00",0,"","",0,{"$f":"IF(LEN($A768)>0,IF(LEN(Declarations!$F768)>0,Declarations!$F768,conftype),\"\")","v":""},null,null,0,0,0,0,0,0,0,0,0,0,0,0,0,null,767]
[{"$f":"+Declarations!A769&\"\"","v":""},{"$f":"IF(LEN($A769),IF(LEN(Declarations!$B769)>0,Declarations!$B769,\"#\"&$A769),\"\")","v":""},"...","","00:00:00",0,"","",0,{"$f":"IF(LEN($A769)>0,IF(LEN(Declarations!$F769)>0,Declarations!$F769,conftype),\"\")","v":""},null,null,0,0,0,0,0,0,0,0,0,0,0,0,0,null,768]
[{"$f":"+Declarations!A770&\"\"","v":""},{"$f":"IF(LEN($A770),IF(LEN(Declarations!$B770)>0,Declarations!$B770,\"#\"&$A770),\"\")","v":""},{"$f":"IF(LEN(INDEX(DECLARATIONS,$AA770,3))>0,INDEX(DECLARATIONS,$AA770,3),\"...\")","v":"..."},"",{"$f":"IF(ISNA($AA770),0,INDEX(DECLARATIONS,$AA770,5))","v":"00:00:00"},{"$f":"IF(ISNA($AA770),0,INDEX(DECLARATIONS,$AA770,7))","v":0},{"$f":"UPPER(IF(ISNA($AA770),\"\",INDEX(DECLARATIONS,$AA770,4)))","v":""},{"$f":"IF(AND(A770>0,ISTEXT(B770)),IF(SECNAME=\"YES\",LEFT(B770&\" \",FIND(\" \",B770&\" \")+2)&IF(F770>0,\" (\"&F770&\")\",\"\"), B770&IF(F770>0,\" (\"&F770&\")\",\"\")),\"#\"&$A770)","v":""},{"$f":"IF(LEN($A770)>0,IF(LEN($J770)>0,MATCH(J770,MatchNames,0),EventIndex),0)","v":0},{"$f":"IF(LEN($A770)>0,IF(LEN(Declarations!$F770)>0,Declarations!$F770,conftype),\"\")","v":""},null,null,0,{"$f":"IF(ISNA(VLOOKUP($A770,JumpData,2,FALSE)),0,VLOOKUP($A770,JumpData,2,FALSE))","v":0},{"$f":"IF(ISNA(VLOOKUP($A770,RunData,2,FALSE)),0,VLOOKUP($A770,RunData,2,FALSE))","v":0},{"$f":"IF(ISNA(VLOOKUP($A770,ThrowData,2,FALSE)),0,VLOOKUP($A770,ThrowData,2,FALSE))","v":0},{"$f":"IF(ISNA(VLOOKUP($A770,SprintData,4,FALSE)),0,VLOOKUP($A770,SprintData,4,FALSE))+V770","v":0},{"$f":"IF(ISNA(VLOOKUP($A770,JumpData,4,FALSE)),0,VLOOKUP($A770,JumpData,4,FALSE))+W770","v":0},{"$f":"IF(ISNA(VLOOKUP($A770,RunData,4,FALSE)),0,VLOOKUP($A770,RunData,4,FALSE))+X770","v":0},{"$f":"IF(ISNA(VLOOKUP($A770,ThrowData,4,FALSE)),0,VLOOKUP($A770,ThrowData,4,FALSE))+Y770","v":0},{"$f":"+Q770+R770+S770+T770","v":0},{"$f":"IF(AND($F770>0,NOT(M770),Flexing),FlexPC,0)","v":0},{"$f":"IF(AND($F770>0,NOT(N770),Flexing),FlexPC,0)","v":0},{"$f":"IF(AND($F770>0,NOT(O770),Flexing),FlexPC,0)","v":0},{"$f":"IF(AND($F770>0,NOT(P770),Flexing),FlexPC,0)","v":0},null,769]
[{"$f":"+Declarations!A771&\"\"","v":""},{"$f":"IF(LEN($A771),IF(LEN(Declarations!$B771)>0,Declarations!$B771,\"#\"&$A771),\"\")","v":""},"...","","00:00:00",0,"","",0,{"$f":"IF(LEN($A771)>0,IF(LEN(Declarations!$F771)>0,Declarations!$F771,conftype),\"\")","v":""},null,null,0,0,0,0,0,0,0,0,0,0,0,0,0,null,{"$f":"ROW()-1","v":770}]
[{"$f":"+Declarations!A772&\"\"","v":""},{"$f":"IF(LEN($A772),IF(LEN(Declarations!$B772)>0,Declarations!$B772,\"#\"&$A772),\"\")","v":""},"...","","00:00:00",0,"","",0,{"$f":"IF(LEN($A772)>0,IF(LEN(Declarations!$F772)>0,Declarations!$F772,conftype),\"\")","v":""},null,null,0,0,0,0,0,0,0,0,0,0,0,0,0,null,771]
[{"$f":"+Declarations!A773&\"\"","v":""},{"$f":"IF(LEN($A773),IF(LEN(Declarations!$B773)>0,Declarations!$B773,\"#\"&$A773),\"\")","v":""},"...","","00:00:00",0,"","",0,{"$f":"IF(LEN($A773)>0,IF(LEN(Declarations!$F773)>0,Declarations!$F773,conftype),\"\")","v":""},null,null,0,0,0,0,0,0,0,0,0,0,0,0,0,null,772]
[{"$f":"+Declarations!A774&\"\"","v":""},{"$f":"IF(LEN($A774),IF(LEN(Declarations!$B774)>0,Declarations!$B774,\"#\"&$A774),\"\")","v":""},"...","","00:00:00",0,"","",0,{"$f":"IF(LEN($A774)>0,IF(LEN(Declarations!$F774)>0,Declarations!$F774,conftype),\"\")","v":""},null,null,0,0,0,0,0,0,0,0,0,0,0,0,0,null,773]
[{"$f":"+Declarations!A775&\"\"","v":""},{"$f":"IF(LEN($A775),IF(LEN(Declarations!$B775)>0,Declarations!$B775,\"#\"&$A775),\"\")","v":""},"...",{"$f":"IF(OR(G775=\"G\",G775=\"F\"),\"F\",IF(OR(G775=\"B\",G775=\"M\"),\"M\",\"\"))","v":""},"00:00:00",0,"","",0,{"$f":"IF(LEN($A775)>0,IF(LEN(Declarations!$F775)>0,Declarations!$F775,conftype),\"\")","v":""},null,null,0,0,0,0,0,0,0,0,0,0,0,0,0,null,774]
[{"$f":"+Declarations!A776&\"\"","v":""},{"$f":"IF(LEN($A776),IF(LEN(Declarations!$B776)>0,Declarations!$B776,\"#\"&$A776),\"\")","v":""},"...","","00:00:00",0,"","",0,{"$f":"IF(LEN($A776)>0,IF(LEN(Declarations!$F776)>0,Declarations!$F776,conftype),\"\")","v":""},null,null,0,0,0,0,0,0,0,0,0,0,0,0,0,null,775]
[{"$f":"+Declarations!A777&\"\"","v":""},{"$f":"IF(LEN($A777),IF(LEN(Declarations!$B777)>0,Declarations!$B777,\"#\"&$A777),\"\")","v":""},"...","","00:00:00",0,"","",0,{"$f":"IF(LEN($A777)>0,IF(LEN(Declarations!$F777)>0,Declarations!$F777,conftype),\"\")","v":""},null,null,0,0,0,0,0,0,0,0,0,0,0,0,0,null,776]
[{"$f":"+Declarations!A778&\"\"","v":""},{"$f":"IF(LEN($A778),IF(LEN(Declarations!$B778)>0,Declarations!$B778,\"#\"&$A778),\"\")","v":""},"...","","00:00:00",0,"","",0,{"$f":"IF(LEN($A778)>0,IF(LEN(Declarations!$F778)>0,Declarations!$F778,conftype),\"\")","v":""},null,null,0,0,0,0,0,0,0,0,0,0,0,0,0,null,777]
[{"$f":"+Declarations!A779&\"\"","v":""},{"$f":"IF(LEN($A779),IF(LEN(Declarations!$B779)>0,Declarations!$B779,\"#\"&$A779),\"\")","v":""},"...","","00:00:00",0,"","",0,{"$f":"IF(LEN($A779)>0,IF(LEN(Declarations!$F779)>0,Declarations!$F779,conftype),\"\")","v":""},null,null,0,0,0,0,0,0,0,0,0,0,0,0,0,null,778]
[{"$f":"+Declarations!A780&\"\"","v":""},{"$f":"IF(LEN($A780),IF(LEN(Declarations!$B780)>0,Declarations!$B780,\"#\"&$A780),\"\")","v":""},"...","","00:00:00",0,"","",0,{"$f":"IF(LEN($A780)>0,IF(LEN(Declarations!$F780)>0,Declarations!$F780,conftype),\"\")","v":""},null,null,0,0,0,0,0,0,0,0,0,0,0,0,0,null,779]
[{"$f":"+Declarations!A781&\"\"","v":""},{"$f":"IF(LEN($A781),IF(LEN(Declarations!$B781)>0,Declarations!$B781,\"#\"&$A781),\"\")","v":""},"...","","00:00:00",0,"","",0,{"$f":"IF(LEN($A781)>0,IF(LEN(Declarations!$F781)>0,Declarations!$F781,conftype),\"\")","v":""},null,null,0,0,0,0,0,0,0,0,0,0,0,0,0,null,780]
[{"$f":"+Declarations!A782&\"\"","v":""},{"$f":"IF(LEN($A782),IF(LEN(Declarations!$B782)>0,Declarations!$B782,\"#\"&$A782),\"\")","v":""},"...","","00:00:00",0,"","",0,{"$f":"IF(LEN($A782)>0,IF(LEN(Declarations!$F782)>0,Declarations!$F782,conftype),\"\")","v":""},null,null,0,0,0,0,0,0,0,0,0,0,0,0,0,null,781]
[{"$f":"+Declarations!A783&\"\"","v":""},{"$f":"IF(LEN($A783),IF(LEN(Declarations!$B783)>0,Declarations!$B783,\"#\"&$A783),\"\")","v":""},"...","","00:00:00",0,"","",0,{"$f":"IF(LEN($A783)>0,IF(LEN(Declarations!$F783)>0,Declarations!$F783,conftype),\"\")","v":""},null,null,0,0,0,0,0,0,0,0,0,0,0,0,0,null,782]
[{"$f":"+Declarations!A784&\"\"","v":""},{"$f":"IF(LEN($A784),IF(LEN(Declarations!$B784)>0,Declarations!$B784,\"#\"&$A784),\"\")","v":""},"...","","00:00:00",0,"","",0,{"$f":"IF(LEN($A784)>0,IF(LEN(Declarations!$F784)>0,Declarations!$F784,conftype),\"\")","v":""},null,null,0,0,0,0,0,0,0,0,0,0,0,0,0,null,783]
[{"$f":"+Declarations!A785&\"\"","v":""},{"$f":"IF(LEN($A785),IF(LEN(Declarations!$B785)>0,Declarations!$B785,\"#\"&$A785),\"\")","v":""},"...","","00:00:00",0,"","",0,{"$f":"IF(LEN($A785)>0,IF(LEN(Declarations!$F785)>0,Declarations!$F785,conftype),\"\")","v":""},null,null,0,0,0,0,0,0,0,0,0,0,0,0,0,null,784]
[{"$f":"+Declarations!A786&\"\"","v":""},{"$f":"IF(LEN($A786),IF(LEN(Declarations!$B786)>0,Declarations!$B786,\"#\"&$A786),\"\")","v":""},"...","","00:00:00",0,"","",0,{"$f":"IF(LEN($A786)>0,IF(LEN(Declarations!$F786)>0,Declarations!$F786,conftype),\"\")","v":""},null,null,0,0,0,0,0,0,0,0,0,0,0,0,0,null,785]
[{"$f":"+Declarations!A787&\"\"","v":""},{"$f":"IF(LEN($A787),IF(LEN(Declarations!$B787)>0,Declarations!$B787,\"#\"&$A787),\"\")","v":""},"...","","00:00:00",0,"","",0,{"$f":"IF(LEN($A787)>0,IF(LEN(Declarations!$F787)>0,Declarations!$F787,conftype),\"\")","v":""},null,null,0,0,0,0,0,0,0,0,0,0,0,0,0,null,786]
[{"$f":"+Declarations!A788&\"\"","v":""},{"$f":"IF(LEN($A788),IF(LEN(Declarations!$B788)>0,Declarations!$B788,\"#\"&$A788),\"\")","v":""},"...","","00:00:00",0,"","",0,{"$f":"IF(LEN($A788)>0,IF(LEN(Declarations!$F788)>0,Declarations!$F788,conftype),\"\")","v":""},null,null,0,0,0,0,0,0,0,0,0,0,0,0,0,null,787]
[{"$f":"+Declarations!A789&\"\"","v":""},{"$f":"IF(LEN($A789),IF(LEN(Declarations!$B789)>0,Declarations!$B789,\"#\"&$A789),\"\")","v":""},"...","","00:00:00",0,"","",0,{"$f":"IF(LEN($A789)>0,IF(LEN(Declarations!$F789)>0,Declarations!$F789,conftype),\"\")","v":""},null,null,0,0,0,0,0,0,0,0,0,0,0,0,0,null,788]
[{"$f":"+Declarations!A790&\"\"","v":""},{"$f":"IF(LEN($A790),IF(LEN(Declarations!$B790)>0,Declarations!$B790,\"#\"&$A790),\"\")","v":""},"...","","00:00:00",0,"","",0,{"$f":"IF(LEN($A790)>0,IF(LEN(Declarations!$F790)>0,Declarations!$F790,conftype),\"\")","v":""},null,null,0,0,0,0,0,0,0,0,0,0,0,0,0,null,789]
[{"$f":"+Declarations!A791&\"\"","v":""},{"$f":"IF(LEN($A791),IF(LEN(Declarations!$B791)>0,Declarations!$B791,\"#\"&$A791),\"\")","v":""},"...","","00:00:00",0,"","",0,{"$f":"IF(LEN($A791)>0,IF(LEN(Declarations!$F791)>0,Declarations!$F791,conftype),\"\")","v":""},null,null,0,0,0,0,0,0,0,0,0,0,0,0,0,null,790]
[{"$f":"+Declarations!A792&\"\"","v":""},{"$f":"IF(LEN($A792),IF(LEN(Declarations!$B792)>0,Declarations!$B792,\"#\"&$A792),\"\")","v":""},"...","","00:00:00",0,"","",0,{"$f":"IF(LEN($A792)>0,IF(LEN(Declarations!$F792)>0,Declarations!$F792,conftype),\"\")","v":""},null,null,0,0,0,0,0,0,0,0,0,0,0,0,0,null,791]
[{"$f":"+Declarations!A793&\"\"","v":""},{"$f":"IF(LEN($A793),IF(LEN(Declarations!$B793)>0,Declarations!$B793,\"#\"&$A793),\"\")","v":""},"...","","00:00:00",0,"","",0,{"$f":"IF(LEN($A793)>0,IF(LEN(Declarations!$F793)>0,Declarations!$F793,conftype),\"\")","v":""},null,null,0,0,0,0,0,0,0,0,0,0,0,0,0,null,792]
[{"$f":"+Declarations!A794&\"\"","v":""},{"$f":"IF(LEN($A794),IF(LEN(Declarations!$B794)>0,Declarations!$B794,\"#\"&$A794),\"\")","v":""},"...","","00:00:00",0,"","",0,{"$f":"IF(LEN($A794)>0,IF(LEN(Declarations!$F794)>0,Declarations!$F794,conftype),\"\")","v":""},null,null,0,0,0,0,0,0,0,0,0,0,0,0,0,null,793]
[{"$f":"+Declarations!A795&\"\"","v":""},{"$f":"IF(LEN($A795),IF(LEN(Declarations!$B795)>0,Declarations!$B795,\"#\"&$A795),\"\")","v":""},"...","","00:00:00",0,"","",0,{"$f":"IF(LEN($A795)>0,IF(LEN(Declarations!$F795)>0,Declarations!$F795,conftype),\"\")","v":""},null,null,0,0,0,0,0,0,0,0,0,0,0,0,0,null,794]
[{"$f":"+Declarations!A796&\"\"","v":""},{"$f":"IF(LEN($A796),IF(LEN(Declarations!$B796)>0,Declarations!$B796,\"#\"&$A796),\"\")","v":""},"...","","00:00:00",0,"","",0,{"$f":"IF(LEN($A796)>0,IF(LEN(Declarations!$F796)>0,Declarations!$F796,conftype),\"\")","v":""},null,null,0,0,0,0,0,0,0,0,0,0,0,0,0,null,795]
[{"$f":"+Declarations!A797&\"\"","v":""},{"$f":"IF(LEN($A797),IF(LEN(Declarations!$B797)>0,Declarations!$B797,\"#\"&$A797),\"\")","v":""},"...","","00:00:00",0,"","",0,{"$f":"IF(LEN($A797)>0,IF(LEN(Declarations!$F797)>0,Declarations!$F797,conftype),\"\")","v":""},null,null,0,0,0,0,0,0,0,0,0,0,0,0,0,null,796]
[{"$f":"+Declarations!A798&\"\"","v":""},{"$f":"IF(LEN($A798),IF(LEN(Declarations!$B798)>0,Declarations!$B798,\"#\"&$A798),\"\")","v":""},"...","","00:00:00",0,"","",0,{"$f":"IF(LEN($A798)>0,IF(LEN(Declarations!$F798)>0,Declarations!$F798,conftype),\"\")","v":""},null,null,0,0,0,0,0,0,0,0,0,0,0,0,0,null,797]
[{"$f":"+Declarations!A799&\"\"","v":""},{"$f":"IF(LEN($A799),IF(LEN(Declarations!$B799)>0,Declarations!$B799,\"#\"&$A799),\"\")","v":""},"...","","00:00:00",0,"","",0,{"$f":"IF(LEN($A799)>0,IF(LEN(Declarations!$F799)>0,Declarations!$F799,conftype),\"\")","v":""},null,null,0,0,0,0,0,0,0,0,0,0,0,0,0,null,798]
[{"$f":"+Declarations!A800&\"\"","v":""},{"$f":"IF(LEN($A800),IF(LEN(Declarations!$B800)>0,Declarations!$B800,\"#\"&$A800),\"\")","v":""},"...","","00:00:00",0,"","",0,{"$f":"IF(LEN($A800)>0,IF(LEN(Declarations!$F800)>0,Declarations!$F800,conftype),\"\")","v":""},null,null,0,0,0,0,0,0,0,0,0,0,0,0,0,null,799]
[{"$f":"+Declarations!A801&\"\"","v":""},{"$f":"IF(LEN($A801),IF(LEN(Declarations!$B801)>0,Declarations!$B801,\"#\"&$A801),\"\")","v":""},"...","","00:00:00",0,"","",0,{"$f":"IF(LEN($A801)>0,IF(LEN(Declarations!$F801)>0,Declarations!$F801,conftype),\"\")","v":""},null,null,0,0,0,0,0,0,0,0,0,0,0,0,0,null,800]
[{"$f":"+Declarations!A802&\"\"","v":""},{"$f":"IF(LEN($A802),IF(LEN(Declarations!$B802)>0,Declarations!$B802,\"#\"&$A802),\"\")","v":""},"...","","00:00:00",0,"","",0,{"$f":"IF(LEN($A802)>0,IF(LEN(Declarations!$F802)>0,Declarations!$F802,conftype),\"\")","v":""},null,null,0,0,0,0,0,0,0,0,0,0,0,0,0,null,801]
[{"$f":"+Declarations!A803&\"\"","v":""},{"$f":"IF(LEN($A803),IF(LEN(Declarations!$B803)>0,Declarations!$B803,\"#\"&$A803),\"\")","v":""},"...","","00:00:00",0,"","",0,{"$f":"IF(LEN($A803)>0,IF(LEN(Declarations!$F803)>0,Declarations!$F803,conftype),\"\")","v":""},null,null,0,0,0,0,0,0,0,0,0,0,0,0,0,null,802]
[{"$f":"+Declarations!A804&\"\"","v":""},{"$f":"IF(LEN($A804),IF(LEN(Declarations!$B804)>0,Declarations!$B804,\"#\"&$A804),\"\")","v":""},"...","","00:00:00",0,"","",0,{"$f":"IF(LEN($A804)>0,IF(LEN(Declarations!$F804)>0,Declarations!$F804,conftype),\"\")","v":""},null,null,0,0,0,0,0,0,0,0,0,0,0,0,0,null,803]
[{"$f":"+Declarations!A805&\"\"","v":""},{"$f":"IF(LEN($A805),IF(LEN(Declarations!$B805)>0,Declarations!$B805,\"#\"&$A805),\"\")","v":""},"...","","00:00:00",0,"","",0,{"$f":"IF(LEN($A805)>0,IF(LEN(Declarations!$F805)>0,Declarations!$F805,conftype),\"\")","v":""},null,null,0,0,0,0,0,0,0,0,0,0,0,0,0,null,804]
[{"$f":"+Declarations!A806&\"\"","v":""},{"$f":"IF(LEN($A806),IF(LEN(Declarations!$B806)>0,Declarations!$B806,\"#\"&$A806),\"\")","v":""},"...","","00:00:00",0,"","",0,{"$f":"IF(LEN($A806)>0,IF(LEN(Declarations!$F806)>0,Declarations!$F806,conftype),\"\")","v":""},null,null,0,0,0,0,0,0,0,0,0,0,0,0,0,null,805]
[{"$f":"+Declarations!A807&\"\"","v":""},{"$f":"IF(LEN($A807),IF(LEN(Declarations!$B807)>0,Declarations!$B807,\"#\"&$A807),\"\")","v":""},"...","","00:00:00",0,"","",0,{"$f":"IF(LEN($A807)>0,IF(LEN(Declarations!$F807)>0,Declarations!$F807,conftype),\"\")","v":""},null,null,0,0,0,0,0,0,0,0,0,0,0,0,0,null,806]
[{"$f":"+Declarations!A808&\"\"","v":""},{"$f":"IF(LEN($A808),IF(LEN(Declarations!$B808)>0,Declarations!$B808,\"#\"&$A808),\"\")","v":""},"...","","00:00:00",0,"","",0,{"$f":"IF(LEN($A808)>0,IF(LEN(Declarations!$F808)>0,Declarations!$F808,conftype),\"\")","v":""},null,null,0,0,0,0,0,0,0,0,0,0,0,0,0,null,807]
[{"$f":"+Declarations!A809&\"\"","v":""},{"$f":"IF(LEN($A809),IF(LEN(Declarations!$B809)>0,Declarations!$B809,\"#\"&$A809),\"\")","v":""},"...","","00:00:00",0,"","",0,{"$f":"IF(LEN($A809)>0,IF(LEN(Declarations!$F809)>0,Declarations!$F809,conftype),\"\")","v":""},null,null,0,0,0,0,0,0,0,0,0,0,0,0,0,null,808]
[{"$f":"+Declarations!A810&\"\"","v":""},{"$f":"IF(LEN($A810),IF(LEN(Declarations!$B810)>0,Declarations!$B810,\"#\"&$A810),\"\")","v":""},"...","","00:00:00",0,"","",0,{"$f":"IF(LEN($A810)>0,IF(LEN(Declarations!$F810)>0,Declarations!$F810,conftype),\"\")","v":""},null,null,0,0,0,0,0,0,0,0,0,0,0,0,0,null,809]
[{"$f":"+Declarations!A811&\"\"","v":""},{"$f":"IF(LEN($A811),IF(LEN(Declarations!$B811)>0,Declarations!$B811,\"#\"&$A811),\"\")","v":""},"...","","00:00:00",0,"","",0,{"$f":"IF(LEN($A811)>0,IF(LEN(Declarations!$F811)>0,Declarations!$F811,conftype),\"\")","v":""},null,null,0,0,0,0,0,0,0,0,0,0,0,0,0,null,810]
[{"$f":"+Declarations!A812&\"\"","v":""},{"$f":"IF(LEN($A812),IF(LEN(Declarations!$B812)>0,Declarations!$B812,\"#\"&$A812),\"\")","v":""},"...","","00:00:00",0,"","",0,{"$f":"IF(LEN($A812)>0,IF(LEN(Declarations!$F812)>0,Declarations!$F812,conftype),\"\")","v":""},null,null,0,0,0,0,0,0,0,0,0,0,0,0,0,null,811]
[{"$f":"+Declarations!A813&\"\"","v":""},{"$f":"IF(LEN($A813),IF(LEN(Declarations!$B813)>0,Declarations!$B813,\"#\"&$A813),\"\")","v":""},"...","","00:00:00",0,"","",0,{"$f":"IF(LEN($A813)>0,IF(LEN(Declarations!$F813)>0,Declarations!$F813,conftype),\"\")","v":""},null,null,0,0,0,0,0,0,0,0,0,0,0,0,0,null,812]
[{"$f":"+Declarations!A814&\"\"","v":""},{"$f":"IF(LEN($A814),IF(LEN(Declarations!$B814)>0,Declarations!$B814,\"#\"&$A814),\"\")","v":""},"...","","00:00:00",0,"","",0,{"$f":"IF(LEN($A814)>0,IF(LEN(Declarations!$F814)>0,Declarations!$F814,conftype),\"\")","v":""},null,null,0,0,0,0,0,0,0,0,0,0,0,0,0,null,813]
[{"$f":"+Declarations!A815&\"\"","v":""},{"$f":"IF(LEN($A815),IF(LEN(Declarations!$B815)>0,Declarations!$B815,\"#\"&$A815),\"\")","v":""},"...","","00:00:00",0,"","",0,{"$f":"IF(LEN($A815)>0,IF(LEN(Declarations!$F815)>0,Declarations!$F815,conftype),\"\")","v":""},null,null,{"$f":"IF(ISNA(VLOOKUP($A815,SprintData,2,FALSE)),0,VLOOKUP($A815,SprintData,2,FALSE))","v":0},0,0,0,0,0,0,0,0,0,0,0,0,null,814]
[{"$f":"+Declarations!A816&\"\"","v":""},{"$f":"IF(LEN($A816),IF(LEN(Declarations!$B816)>0,Declarations!$B816,\"#\"&$A816),\"\")","v":""},"...","","00:00:00",0,"","",0,{"$f":"IF(LEN($A816)>0,IF(LEN(Declarations!$F816)>0,Declarations!$F816,conftype),\"\")","v":""},null,null,0,0,0,0,0,0,0,0,0,0,0,0,0,null,815]
[{"$f":"+Declarations!A817&\"\"","v":""},{"$f":"IF(LEN($A817),IF(LEN(Declarations!$B817)>0,Declarations!$B817,\"#\"&$A817),\"\")","v":""},"...","","00:00:00",0,"","",0,{"$f":"IF(LEN($A817)>0,IF(LEN(Declarations!$F817)>0,Declarations!$F817,conftype),\"\")","v":""},null,null,0,0,0,0,0,0,0,0,0,0,0,0,0,null,816]
[{"$f":"+Declarations!A818&\"\"","v":""},{"$f":"IF(LEN($A818),IF(LEN(Declarations!$B818)>0,Declarations!$B818,\"#\"&$A818),\"\")","v":""},"...","","00:00:00",0,"","",0,{"$f":"IF(LEN($A818)>0,IF(LEN(Declarations!$F818)>0,Declarations!$F818,conftype),\"\")","v":""},null,null,0,0,0,0,0,0,0,0,0,0,0,0,0,null,817]
[{"$f":"+Declarations!A819&\"\"","v":""},{"$f":"IF(LEN($A819),IF(LEN(Declarations!$B819)>0,Declarations!$B819,\"#\"&$A819),\"\")","v":""},"...","","00:00:00",0,"","",0,{"$f":"IF(LEN($A819)>0,IF(LEN(Declarations!$F819)>0,Declarations!$F819,conftype),\"\")","v":""},null,null,0,0,0,0,0,0,0,0,0,0,0,0,0,null,818]
[{"$f":"+Declarations!A820&\"\"","v":""},{"$f":"IF(LEN($A820),IF(LEN(Declarations!$B820)>0,Declarations!$B820,\"#\"&$A820),\"\")","v":""},"...","","00:00:00",0,"","",0,{"$f":"IF(LEN($A820)>0,IF(LEN(Declarations!$F820)>0,Declarations!$F820,conftype),\"\")","v":""},null,null,0,0,0,0,0,0,0,0,0,0,0,0,0,null,819]
[{"$f":"+Declarations!A821&\"\"","v":""},{"$f":"IF(LEN($A821),IF(LEN(Declarations!$B821)>0,Declarations!$B821,\"#\"&$A821),\"\")","v":""},"...","","00:00:00",0,"","",0,{"$f":"IF(LEN($A821)>0,IF(LEN(Declarations!$F821)>0,Declarations!$F821,conftype),\"\")","v":""},null,null,0,0,0,0,0,0,0,0,0,0,0,0,0,null,820]
[{"$f":"+Declarations!A822&\"\"","v":""},{"$f":"IF(LEN($A822),IF(LEN(Declarations!$B822)>0,Declarations!$B822,\"#\"&$A822),\"\")","v":""},"...","","00:00:00",0,"","",0,{"$f":"IF(LEN($A822)>0,IF(LEN(Declarations!$F822)>0,Declarations!$F822,conftype),\"\")","v":""},null,null,0,0,0,0,0,0,0,0,0,0,0,0,0,null,821]
[{"$f":"+Declarations!A823&\"\"","v":""},{"$f":"IF(LEN($A823),IF(LEN(Declarations!$B823)>0,Declarations!$B823,\"#\"&$A823),\"\")","v":""},"...","","00:00:00",0,"","",0,{"$f":"IF(LEN($A823)>0,IF(LEN(Declarations!$F823)>0,Declarations!$F823,conftype),\"\")","v":""},null,null,0,0,0,0,0,0,0,0,0,0,0,0,0,null,822]
[{"$f":"+Declarations!A824&\"\"","v":""},{"$f":"IF(LEN($A824),IF(LEN(Declarations!$B824)>0,Declarations!$B824,\"#\"&$A824),\"\")","v":""},"...","","00:00:00",0,"","",0,{"$f":"IF(LEN($A824)>0,IF(LEN(Declarations!$F824)>0,Declarations!$F824,conftype),\"\")","v":""},null,null,0,0,0,0,0,0,0,0,0,0,0,0,0,null,823]
[{"$f":"+Declarations!A825&\"\"","v":""},{"$f":"IF(LEN($A825),IF(LEN(Declarations!$B825)>0,Declarations!$B825,\"#\"&$A825),\"\")","v":""},"...","","00:00:00",0,"","",0,{"$f":"IF(LEN($A825)>0,IF(LEN(Declarations!$F825)>0,Declarations!$F825,conftype),\"\")","v":""},null,null,0,0,0,0,0,0,0,0,0,0,0,0,0,null,824]
[{"$f":"+Declarations!A826&\"\"","v":""},{"$f":"IF(LEN($A826),IF(LEN(Declarations!$B826)>0,Declarations!$B826,\"#\"&$A826),\"\")","v":""},"...","","00:00:00",0,"","",0,{"$f":"IF(LEN($A826)>0,IF(LEN(Declarations!$F826)>0,Declarations!$F826,conftype),\"\")","v":""},null,null,0,0,0,0,0,0,0,0,0,0,0,0,0,null,825]
[{"$f":"+Declarations!A827&\"\"","v":""},{"$f":"IF(LEN($A827),IF(LEN(Declarations!$B827)>0,Declarations!$B827,\"#\"&$A827),\"\")","v":""},"...","","00:00:00",0,"","",0,{"$f":"IF(LEN($A827)>0,IF(LEN(Declarations!$F827)>0,Declarations!$F827,conftype),\"\")","v":""},null,null,0,0,0,0,0,0,0,0,0,0,0,0,0,null,826]
[{"$f":"+Declarations!A828&\"\"","v":""},{"$f":"IF(LEN($A828),IF(LEN(Declarations!$B828)>0,Declarations!$B828,\"#\"&$A828),\"\")","v":""},"...","","00:00:00",0,"","",0,{"$f":"IF(LEN($A828)>0,IF(LEN(Declarations!$F828)>0,Declarations!$F828,conftype),\"\")","v":""},null,null,0,0,0,0,0,0,0,0,0,0,0,0,0,null,827]
[{"$f":"+Declarations!A829&\"\"","v":""},{"$f":"IF(LEN($A829),IF(LEN(Declarations!$B829)>0,Declarations!$B829,\"#\"&$A829),\"\")","v":""},"...","","00:00:00",0,"","",0,{"$f":"IF(LEN($A829)>0,IF(LEN(Declarations!$F829)>0,Declarations!$F829,conftype),\"\")","v":""},null,null,0,0,0,0,0,0,0,0,0,0,0,0,0,null,828]
[{"$f":"+Declarations!A830&\"\"","v":""},{"$f":"IF(LEN($A830),IF(LEN(Declarations!$B830)>0,Declarations!$B830,\"#\"&$A830),\"\")","v":""},"...","","00:00:00",0,"","",0,{"$f":"IF(LEN($A830)>0,IF(LEN(Declarations!$F830)>0,Declarations!$F830,conftype),\"\")","v":""},null,null,0,0,0,0,0,0,0,0,0,0,0,0,0,null,829]
[{"$f":"+Declarations!A831&\"\"","v":""},{"$f":"IF(LEN($A831),IF(LEN(Declarations!$B831)>0,Declarations!$B831,\"#\"&$A831),\"\")","v":""},"...","","00:00:00",0,"","",0,{"$f":"IF(LEN($A831)>0,IF(LEN(Declarations!$F831)>0,Declarations!$F831,conftype),\"\")","v":""},null,null,0,0,0,0,0,0,0,0,0,0,0,0,0,null,830]
[{"$f":"+Declarations!A832&\"\"","v":""},{"$f":"IF(LEN($A832),IF(LEN(Declarations!$B832)>0,Declarations!$B832,\"#\"&$A832),\"\")","v":""},"...","","00:00:00",0,"","",0,{"$f":"IF(LEN($A832)>0,IF(LEN(Declarations!$F832)>0,Declarations!$F832,conftype),\"\")","v":""},null,null,0,0,0,0,0,0,0,0,0,0,0,0,0,null,831]
[{"$f":"+Declarations!A833&\"\"","v":""},{"$f":"IF(LEN($A833),IF(LEN(Declarations!$B833)>0,Declarations!$B833,\"#\"&$A833),\"\")","v":""},"...","","00:00:00",0,"","",0,{"$f":"IF(LEN($A833)>0,IF(LEN(Declarations!$F833)>0,Declarations!$F833,conftype),\"\")","v":""},null,null,0,0,0,0,0,0,0,0,0,0,0,0,0,null,832]
[{"$f":"+Declarations!A834&\"\"","v":""},{"$f":"IF(LEN($A834),IF(LEN(Declarations!$B834)>0,Declarations!$B834,\"#\"&$A834),\"\")","v":""},{"$f":"IF(LEN(INDEX(DECLARATIONS,$AA834,3))>0,INDEX(DECLARATIONS,$AA834,3),\"...\")","v":"..."},"",{"$f":"IF(ISNA($AA834),0,INDEX(DECLARATIONS,$AA834,5))","v":"00:00:00"},{"$f":"IF(ISNA($AA834),0,INDEX(DECLARATIONS,$AA834,7))","v":0},{"$f":"UPPER(IF(ISNA($AA834),\"\",INDEX(DECLARATIONS,$AA834,4)))","v":""},{"$f":"IF(AND(A834>0,ISTEXT(B834)),IF(SECNAME=\"YES\",LEFT(B834&\" \",FIND(\" \",B834&\" \")+2)&IF(F834>0,\" (\"&F834&\")\",\"\"), B834&IF(F834>0,\" (\"&F834&\")\",\"\")),\"#\"&$A834)","v":""},{"$f":"IF(LEN($A834)>0,IF(LEN($J834)>0,MATCH(J834,MatchNames,0),EventIndex),0)","v":0},{"$f":"IF(LEN($A834)>0,IF(LEN(Declarations!$F834)>0,Declarations!$F834,conftype),\"\")","v":""},null,null,0,{"$f":"IF(ISNA(VLOOKUP($A834,JumpData,2,FALSE)),0,VLOOKUP($A834,JumpData,2,FALSE))","v":0},{"$f":"IF(ISNA(VLOOKUP($A834,RunData,2,FALSE)),0,VLOOKUP($A834,RunData,2,FALSE))","v":0},{"$f":"IF(ISNA(VLOOKUP($A834,ThrowData,2,FALSE)),0,VLOOKUP($A834,ThrowData,2,FALSE))","v":0},{"$f":"IF(ISNA(VLOOKUP($A834,SprintData,4,FALSE)),0,VLOOKUP($A834,SprintData,4,FALSE))+V834","v":0},{"$f":"IF(ISNA(VLOOKUP($A834,JumpData,4,FALSE)),0,VLOOKUP($A834,JumpData,4,FALSE))+W834","v":0},{"$f":"IF(ISNA(VLOOKUP($A834,RunData,4,FALSE)),0,VLOOKUP($A834,RunData,4,FALSE))+X834","v":0},{"$f":"IF(ISNA(VLOOKUP($A834,ThrowData,4,FALSE)),0,VLOOKUP($A834,ThrowData,4,FALSE))+Y834","v":0},{"$f":"+Q834+R834+S834+T834","v":0},{"$f":"IF(AND($F834>0,NOT(M834),Flexing),FlexPC,0)","v":0},{"$f":"IF(AND($F834>0,NOT(N834),Flexing),FlexPC,0)","v":0},{"$f":"IF(AND($F834>0,NOT(O834),Flexing),FlexPC,0)","v":0},{"$f":"IF(AND($F834>0,NOT(P834),Flexing),FlexPC,0)","v":0},null,833]
[{"$f":"+Declarations!A835&\"\"","v":""},{"$f":"IF(LEN($A835),IF(LEN(Declarations!$B835)>0,Declarations!$B835,\"#\"&$A835),\"\")","v":""},"...","","00:00:00",0,"","",0,{"$f":"IF(LEN($A835)>0,IF(LEN(Declarations!$F835)>0,Declarations!$F835,conftype),\"\")","v":""},null,null,0,0,0,0,0,0,0,0,0,0,0,0,0,null,{"$f":"ROW()-1","v":834}]
[{"$f":"+Declarations!A836&\"\"","v":""},{"$f":"IF(LEN($A836),IF(LEN(Declarations!$B836)>0,Declarations!$B836,\"#\"&$A836),\"\")","v":""},"...","","00:00:00",0,"","",0,{"$f":"IF(LEN($A836)>0,IF(LEN(Declarations!$F836)>0,Declarations!$F836,conftype),\"\")","v":""},null,null,0,0,0,0,0,0,0,0,0,0,0,0,0,null,835]
[{"$f":"+Declarations!A837&\"\"","v":""},{"$f":"IF(LEN($A837),IF(LEN(Declarations!$B837)>0,Declarations!$B837,\"#\"&$A837),\"\")","v":""},"...","","00:00:00",0,"","",0,{"$f":"IF(LEN($A837)>0,IF(LEN(Declarations!$F837)>0,Declarations!$F837,conftype),\"\")","v":""},null,null,0,0,0,0,0,0,0,0,0,0,0,0,0,null,836]
[{"$f":"+Declarations!A838&\"\"","v":""},{"$f":"IF(LEN($A838),IF(LEN(Declarations!$B838)>0,Declarations!$B838,\"#\"&$A838),\"\")","v":""},"...","","00:00:00",0,"","",0,{"$f":"IF(LEN($A838)>0,IF(LEN(Declarations!$F838)>0,Declarations!$F838,conftype),\"\")","v":""},null,null,0,0,0,0,0,0,0,0,0,0,0,0,0,null,837]
[{"$f":"+Declarations!A839&\"\"","v":""},{"$f":"IF(LEN($A839),IF(LEN(Declarations!$B839)>0,Declarations!$B839,\"#\"&$A839),\"\")","v":""},"...",{"$f":"IF(OR(G839=\"G\",G839=\"F\"),\"F\",IF(OR(G839=\"B\",G839=\"M\"),\"M\",\"\"))","v":""},"00:00:00",0,"","",0,{"$f":"IF(LEN($A839)>0,IF(LEN(Declarations!$F839)>0,Declarations!$F839,conftype),\"\")","v":""},null,null,0,0,0,0,0,0,0,0,0,0,0,0,0,null,838]
[{"$f":"+Declarations!A840&\"\"","v":""},{"$f":"IF(LEN($A840),IF(LEN(Declarations!$B840)>0,Declarations!$B840,\"#\"&$A840),\"\")","v":""},"...","","00:00:00",0,"","",0,{"$f":"IF(LEN($A840)>0,IF(LEN(Declarations!$F840)>0,Declarations!$F840,conftype),\"\")","v":""},null,null,0,0,0,0,0,0,0,0,0,0,0,0,0,null,839]
[{"$f":"+Declarations!A841&\"\"","v":""},{"$f":"IF(LEN($A841),IF(LEN(Declarations!$B841)>0,Declarations!$B841,\"#\"&$A841),\"\")","v":""},"...","","00:00:00",0,"","",0,{"$f":"IF(LEN($A841)>0,IF(LEN(Declarations!$F841)>0,Declarations!$F841,conftype),\"\")","v":""},null,null,0,0,0,0,0,0,0,0,0,0,0,0,0,null,840]
[{"$f":"+Declarations!A842&\"\"","v":""},{"$f":"IF(LEN($A842),IF(LEN(Declarations!$B842)>0,Declarations!$B842,\"#\"&$A842),\"\")","v":""},"...","","00:00:00",0,"","",0,{"$f":"IF(LEN($A842)>0,IF(LEN(Declarations!$F842)>0,Declarations!$F842,conftype),\"\")","v":""},null,null,0,0,0,0,0,0,0,0,0,0,0,0,0,null,841]
[{"$f":"+Declarations!A843&\"\"","v":""},{"$f":"IF(LEN($A843),IF(LEN(Declarations!$B843)>0,Declarations!$B843,\"#\"&$A843),\"\")","v":""},"...","","00:00:00",0,"","",0,{"$f":"IF(LEN($A843)>0,IF(LEN(Declarations!$F843)>0,Declarations!$F843,conftype),\"\")","v":""},null,null,0,0,0,0,0,0,0,0,0,0,0,0,0,null,842]
[{"$f":"+Declarations!A844&\"\"","v":""},{"$f":"IF(LEN($A844),IF(LEN(Declarations!$B844)>0,Declarations!$B844,\"#\"&$A844),\"\")","v":""},"...","","00:00:00",0,"","",0,{"$f":"IF(LEN($A844)>0,IF(LEN(Declarations!$F844)>0,Declarations!$F844,conftype),\"\")","v":""},null,null,0,0,0,0,0,0,0,0,0,0,0,0,0,null,843]
[{"$f":"+Declarations!A845&\"\"","v":""},{"$f":"IF(LEN($A845),IF(LEN(Declarations!$B845)>0,Declarations!$B845,\"#\"&$A845),\"\")","v":""},"...","","00:00:00",0,"","",0,{"$f":"IF(LEN($A845)>0,IF(LEN(Declarations!$F845)>0,Declarations!$F845,conftype),\"\")","v":""},null,null,0,0,0,0,0,0,0,0,0,0,0,0,0,null,844]
[{"$f":"+Declarations!A846&\"\"","v":""},{"$f":"IF(LEN($A846),IF(LEN(Declarations!$B846)>0,Declarations!$B846,\"#\"&$A846),\"\")","v":""},"...","","00:00:00",0,"","",0,{"$f":"IF(LEN($A846)>0,IF(LEN(Declarations!$F846)>0,Declarations!$F846,conftype),\"\")","v":""},null,null,0,0,0,0,0,0,0,0,0,0,0,0,0,null,845]
[{"$f":"+Declarations!A847&\"\"","v":""},{"$f":"IF(LEN($A847),IF(LEN(Declarations!$B847)>0,Declarations!$B847,\"#\"&$A847),\"\")","v":""},"...","","00:00:00",0,"","",0,{"$f":"IF(LEN($A847)>0,IF(LEN(Declarations!$F847)>0,Declarations!$F847,conftype),\"\")","v":""},null,null,0,0,0,0,0,0,0,0,0,0,0,0,0,null,846]
[{"$f":"+Declarations!A848&\"\"","v":""},{"$f":"IF(LEN($A848),IF(LEN(Declarations!$B848)>0,Declarations!$B848,\"#\"&$A848),\"\")","v":""},"...","","00:00:00",0,"","",0,{"$f":"IF(LEN($A848)>0,IF(LEN(Declarations!$F848)>0,Declarations!$F848,conftype),\"\")","v":""},null,null,0,0,0,0,0,0,0,0,0,0,0,0,0,null,847]
[{"$f":"+Declarations!A849&\"\"","v":""},{"$f":"IF(LEN($A849),IF(LEN(Declarations!$B849)>0,Declarations!$B849,\"#\"&$A849),\"\")","v":""},"...","","00:00:00",0,"","",0,{"$f":"IF(LEN($A849)>0,IF(LEN(Declarations!$F849)>0,Declarations!$F849,conftype),\"\")","v":""},null,null,0,0,0,0,0,0,0,0,0,0,0,0,0,null,848]
[{"$f":"+Declarations!A850&\"\"","v":""},{"$f":"IF(LEN($A850),IF(LEN(Declarations!$B850)>0,Declarations!$B850,\"#\"&$A850),\"\")","v":""},"...","","00:00:00",0,"","",0,{"$f":"IF(LEN($A850)>0,IF(LEN(Declarations!$F850)>0,Declarations!$F850,conftype),\"\")","v":""},null,null,0,0,0,0,0,0,0,0,0,0,0,0,0,null,849]
[{"$f":"+Declarations!A851&\"\"","v":""},{"$f":"IF(LEN($A851),IF(LEN(Declarations!$B851)>0,Declarations!$B851,\"#\"&$A851),\"\")","v":""},"...","","00:00:00",0,"","",0,{"$f":"IF(LEN($A851)>0,IF(LEN(Declarations!$F851)>0,Declarations!$F851,conftype),\"\")","v":""},null,null,0,0,0,0,0,0,0,0,0,0,0,0,0,null,850]
[{"$f":"+Declarations!A852&\"\"","v":""},{"$f":"IF(LEN($A852),IF(LEN(Declarations!$B852)>0,Declarations!$B852,\"#\"&$A852),\"\")","v":""},"...","","00:00:00",0,"","",0,{"$f":"IF(LEN($A852)>0,IF(LEN(Declarations!$F852)>0,Declarations!$F852,conftype),\"\")","v":""},null,null,0,0,0,0,0,0,0,0,0,0,0,0,0,null,851]
[{"$f":"+Declarations!A853&\"\"","v":""},{"$f":"IF(LEN($A853),IF(LEN(Declarations!$B853)>0,Declarations!$B853,\"#\"&$A853),\"\")","v":""},"...","","00:00:00",0,"","",0,{"$f":"IF(LEN($A853)>0,IF(LEN(Declarations!$F853)>0,Declarations!$F853,conftype),\"\")","v":""},null,null,0,0,0,0,0,0,0,0,0,0,0,0,0,null,852]
[{"$f":"+Declarations!A854&\"\"","v":""},{"$f":"IF(LEN($A854),IF(LEN(Declarations!$B854)>0,Declarations!$B854,\"#\"&$A854),\"\")","v":""},"...","","00:00:00",0,"","",0,{"$f":"IF(LEN($A854)>0,IF(LEN(Declarations!$F854)>0,Declarations!$F854,conftype),\"\")","v":""},null,null,0,0,0,0,0,0,0,0,0,0,0,0,0,null,853]
[{"$f":"+Declarations!A855&\"\"","v":""},{"$f":"IF(LEN($A855),IF(LEN(Declarations!$B855)>0,Declarations!$B855,\"#\"&$A855),\"\")","v":""},"...","","00:00:00",0,"","",0,{"$f":"IF(LEN($A855)>0,IF(LEN(Declarations!$F855)>0,Declarations!$F855,conftype),\"\")","v":""},null,null,0,0,0,0,0,0,0,0,0,0,0,0,0,null,854]
[{"$f":"+Declarations!A856&\"\"","v":""},{"$f":"IF(LEN($A856),IF(LEN(Declarations!$B856)>0,Declarations!$B856,\"#\"&$A856),\"\")","v":""},"...","","00:00:00",0,"","",0,{"$f":"IF(LEN($A856)>0,IF(LEN(Declarations!$F856)>0,Declarations!$F856,conftype),\"\")","v":""},null,null,0,0,0,0,0,0,0,0,0,0,0,0,0,null,855]
[{"$f":"+Declarations!A857&\"\"","v":""},{"$f":"IF(LEN($A857),IF(LEN(Declarations!$B857)>0,Declarations!$B857,\"#\"&$A857),\"\")","v":""},"...","","00:00:00",0,"","",0,{"$f":"IF(LEN($A857)>0,IF(LEN(Declarations!$F857)>0,Declarations!$F857,conftype),\"\")","v":""},null,null,0,0,0,0,0,0,0,0,0,0,0,0,0,null,856]
[{"$f":"+Declarations!A858&\"\"","v":""},{"$f":"IF(LEN($A858),IF(LEN(Declarations!$B858)>0,Declarations!$B858,\"#\"&$A858),\"\")","v":""},"...","","00:00:00",0,"","",0,{"$f":"IF(LEN($A858)>0,IF(LEN(Declarations!$F858)>0,Declarations!$F858,conftype),\"\")","v":""},null,null,0,0,0,0,0,0,0,0,0,0,0,0,0,null,857]
[{"$f":"+Declarations!A859&\"\"","v":""},{"$f":"IF(LEN($A859),IF(LEN(Declarations!$B859)>0,Declarations!$B859,\"#\"&$A859),\"\")","v":""},"...","","00:00:00",0,"","",0,{"$f":"IF(LEN($A859)>0,IF(LEN(Declarations!$F859)>0,Declarations!$F859,conftype),\"\")","v":""},null,null,0,0,0,0,0,0,0,0,0,0,0,0,0,null,858]
[{"$f":"+Declarations!A860&\"\"","v":""},{"$f":"IF(LEN($A860),IF(LEN(Declarations!$B860)>0,Declarations!$B860,\"#\"&$A860),\"\")","v":""},"...","","00:00:00",0,"","",0,{"$f":"IF(LEN($A860)>0,IF(LEN(Declarations!$F860)>0,Declarations!$F860,conftype),\"\")","v":""},null,null,0,0,0,0,0,0,0,0,0,0,0,0,0,null,859]
[{"$f":"+Declarations!A861&\"\"","v":""},{"$f":"IF(LEN($A861),IF(LEN(Declarations!$B861)>0,Declarations!$B861,\"#\"&$A861),\"\")","v":""},"...","","00:00:00",0,"","",0,{"$f":"IF(LEN($A861)>0,IF(LEN(Declarations!$F861)>0,Declarations!$F861,conftype),\"\")","v":""},null,null,0,0,0,0,0,0,0,0,0,0,0,0,0,null,860]
[{"$f":"+Declarations!A862&\"\"","v":""},{"$f":"IF(LEN($A862),IF(LEN(Declarations!$B862)>0,Declarations!$B862,\"#\"&$A862),\"\")","v":""},"...","","00:00:00",0,"","",0,{"$f":"IF(LEN($A862)>0,IF(LEN(Declarations!$F862)>0,Declarations!$F862,conftype),\"\")","v":""},null,null,0,0,0,0,0,0,0,0,0,0,0,0,0,null,861]
[{"$f":"+Declarations!A863&\"\"","v":""},{"$f":"IF(LEN($A863),IF(LEN(Declarations!$B863)>0,Declarations!$B863,\"#\"&$A863),\"\")","v":""},"...","","00:00:00",0,"","",0,{"$f":"IF(LEN($A863)>0,IF(LEN(Declarations!$F863)>0,Declarations!$F863,conftype),\"\")","v":""},null,null,0,0,0,0,0,0,0,0,0,0,0,0,0,null,862]
[{"$f":"+Declarations!A864&\"\"","v":""},{"$f":"IF(LEN($A864),IF(LEN(Declarations!$B864)>0,Declarations!$B864,\"#\"&$A864),\"\")","v":""},"...","","00:00:00",0,"","",0,{"$f":"IF(LEN($A864)>0,IF(LEN(Declarations!$F864)>0,Declarations!$F864,conftype),\"\")","v":""},null,null,0,0,0,0,0,0,0,0,0,0,0,0,0,null,863]
[{"$f":"+Declarations!A865&\"\"","v":""},{"$f":"IF(LEN($A865),IF(LEN(Declarations!$B865)>0,Declarations!$B865,\"#\"&$A865),\"\")","v":""},"...","","00:00:00",0,"","",0,{"$f":"IF(LEN($A865)>0,IF(LEN(Declarations!$F865)>0,Declarations!$F865,conftype),\"\")","v":""},null,null,0,0,0,0,0,0,0,0,0,0,0,0,0,null,864]
[{"$f":"+Declarations!A866&\"\"","v":""},{"$f":"IF(LEN($A866),IF(LEN(Declarations!$B866)>0,Declarations!$B866,\"#\"&$A866),\"\")","v":""},"...","","00:00:00",0,"","",0,{"$f":"IF(LEN($A866)>0,IF(LEN(Declarations!$F866)>0,Declarations!$F866,conftype),\"\")","v":""},null,null,0,0,0,0,0,0,0,0,0,0,0,0,0,null,865]
[{"$f":"+Declarations!A867&\"\"","v":""},{"$f":"IF(LEN($A867),IF(LEN(Declarations!$B867)>0,Declarations!$B867,\"#\"&$A867),\"\")","v":""},"...","","00:00:00",0,"","",0,{"$f":"IF(LEN($A867)>0,IF(LEN(Declarations!$F867)>0,Declarations!$F867,conftype),\"\")","v":""},null,null,0,0,0,0,0,0,0,0,0,0,0,0,0,null,866]
[{"$f":"+Declarations!A868&\"\"","v":""},{"$f":"IF(LEN($A868),IF(LEN(Declarations!$B868)>0,Declarations!$B868,\"#\"&$A868),\"\")","v":""},"...","","00:00:00",0,"","",0,{"$f":"IF(LEN($A868)>0,IF(LEN(Declarations!$F868)>0,Declarations!$F868,conftype),\"\")","v":""},null,null,0,0,0,0,0,0,0,0,0,0,0,0,0,null,867]
[{"$f":"+Declarations!A869&\"\"","v":""},{"$f":"IF(LEN($A869),IF(LEN(Declarations!$B869)>0,Declarations!$B869,\"#\"&$A869),\"\")","v":""},"...","","00:00:00",0,"","",0,{"$f":"IF(LEN($A869)>0,IF(LEN(Declarations!$F869)>0,Declarations!$F869,conftype),\"\")","v":""},null,null,0,0,0,0,0,0,0,0,0,0,0,0,0,null,868]
[{"$f":"+Declarations!A870&\"\"","v":""},{"$f":"IF(LEN($A870),IF(LEN(Declarations!$B870)>0,Declarations!$B870,\"#\"&$A870),\"\")","v":""},"...","","00:00:00",0,"","",0,{"$f":"IF(LEN($A870)>0,IF(LEN(Declarations!$F870)>0,Declarations!$F870,conftype),\"\")","v":""},null,null,0,0,0,0,0,0,0,0,0,0,0,0,0,null,869]
[{"$f":"+Declarations!A871&\"\"","v":""},{"$f":"IF(LEN($A871),IF(LEN(Declarations!$B871)>0,Declarations!$B871,\"#\"&$A871),\"\")","v":""},"...","","00:00:00",0,"","",0,{"$f":"IF(LEN($A871)>0,IF(LEN(Declarations!$F871)>0,Declarations!$F871,conftype),\"\")","v":""},null,null,0,0,0,0,0,0,0,0,0,0,0,0,0,null,870]
[{"$f":"+Declarations!A872&\"\"","v":""},{"$f":"IF(LEN($A872),IF(LEN(Declarations!$B872)>0,Declarations!$B872,\"#\"&$A872),\"\")","v":""},"...","","00:00:00",0,"","",0,{"$f":"IF(LEN($A872)>0,IF(LEN(Declarations!$F872)>0,Declarations!$F872,conftype),\"\")","v":""},null,null,0,0,0,0,0,0,0,0,0,0,0,0,0,null,871]
[{"$f":"+Declarations!A873&\"\"","v":""},{"$f":"IF(LEN($A873),IF(LEN(Declarations!$B873)>0,Declarations!$B873,\"#\"&$A873),\"\")","v":""},"...","","00:00:00",0,"","",0,{"$f":"IF(LEN($A873)>0,IF(LEN(Declarations!$F873)>0,Declarations!$F873,conftype),\"\")","v":""},null,null,0,0,0,0,0,0,0,0,0,0,0,0,0,null,872]
[{"$f":"+Declarations!A874&\"\"","v":""},{"$f":"IF(LEN($A874),IF(LEN(Declarations!$B874)>0,Declarations!$B874,\"#\"&$A874),\"\")","v":""},"...","","00:00:00",0,"","",0,{"$f":"IF(LEN($A874)>0,IF(LEN(Declarations!$F874)>0,Declarations!$F874,conftype),\"\")","v":""},null,null,0,0,0,0,0,0,0,0,0,0,0,0,0,null,873]
[{"$f":"+Declarations!A875&\"\"","v":""},{"$f":"IF(LEN($A875),IF(LEN(Declarations!$B875)>0,Declarations!$B875,\"#\"&$A875),\"\")","v":""},"...","","00:00:00",0,"","",0,{"$f":"IF(LEN($A875)>0,IF(LEN(Declarations!$F875)>0,Declarations!$F875,conftype),\"\")","v":""},null,null,0,0,0,0,0,0,0,0,0,0,0,0,0,null,874]
[{"$f":"+Declarations!A876&\"\"","v":""},{"$f":"IF(LEN($A876),IF(LEN(Declarations!$B876)>0,Declarations!$B876,\"#\"&$A876),\"\")","v":""},"...","","00:00:00",0,"","",0,{"$f":"IF(LEN($A876)>0,IF(LEN(Declarations!$F876)>0,Declarations!$F876,conftype),\"\")","v":""},null,null,0,0,0,0,0,0,0,0,0,0,0,0,0,null,875]
[{"$f":"+Declarations!A877&\"\"","v":""},{"$f":"IF(LEN($A877),IF(LEN(Declarations!$B877)>0,Declarations!$B877,\"#\"&$A877),\"\")","v":""},"...","","00:00:00",0,"","",0,{"$f":"IF(LEN($A877)>0,IF(LEN(Declarations!$F877)>0,Declarations!$F877,conftype),\"\")","v":""},null,null,0,0,0,0,0,0,0,0,0,0,0,0,0,null,876]
[{"$f":"+Declarations!A878&\"\"","v":""},{"$f":"IF(LEN($A878),IF(LEN(Declarations!$B878)>0,Declarations!$B878,\"#\"&$A878),\"\")","v":""},"...","","00:00:00",0,"","",0,{"$f":"IF(LEN($A878)>0,IF(LEN(Declarations!$F878)>0,Declarations!$F878,conftype),\"\")","v":""},null,null,0,0,0,0,0,0,0,0,0,0,0,0,0,null,877]
[{"$f":"+Declarations!A879&\"\"","v":""},{"$f":"IF(LEN($A879),IF(LEN(Declarations!$B879)>0,Declarations!$B879,\"#\"&$A879),\"\")","v":""},"...","","00:00:00",0,"","",0,{"$f":"IF(LEN($A879)>0,IF(LEN(Declarations!$F879)>0,Declarations!$F879,conftype),\"\")","v":""},null,null,{"$f":"IF(ISNA(VLOOKUP($A879,SprintData,2,FALSE)),0,VLOOKUP($A879,SprintData,2,FALSE))","v":0},0,0,0,0,0,0,0,0,0,0,0,0,null,878]
[{"$f":"+Declarations!A880&\"\"","v":""},{"$f":"IF(LEN($A880),IF(LEN(Declarations!$B880)>0,Declarations!$B880,\"#\"&$A880),\"\")","v":""},"...","","00:00:00",0,"","",0,{"$f":"IF(LEN($A880)>0,IF(LEN(Declarations!$F880)>0,Declarations!$F880,conftype),\"\")","v":""},null,null,0,0,0,0,0,0,0,0,0,0,0,0,0,null,879]
[{"$f":"+Declarations!A881&\"\"","v":""},{"$f":"IF(LEN($A881),IF(LEN(Declarations!$B881)>0,Declarations!$B881,\"#\"&$A881),\"\")","v":""},"...","","00:00:00",0,"","",0,{"$f":"IF(LEN($A881)>0,IF(LEN(Declarations!$F881)>0,Declarations!$F881,conftype),\"\")","v":""},null,null,0,0,0,0,0,0,0,0,0,0,0,0,0,null,880]
[{"$f":"+Declarations!A882&\"\"","v":""},{"$f":"IF(LEN($A882),IF(LEN(Declarations!$B882)>0,Declarations!$B882,\"#\"&$A882),\"\")","v":""},"...","","00:00:00",0,"","",0,{"$f":"IF(LEN($A882)>0,IF(LEN(Declarations!$F882)>0,Declarations!$F882,conftype),\"\")","v":""},null,null,0,0,0,0,0,0,0,0,0,0,0,0,0,null,881]
[{"$f":"+Declarations!A883&\"\"","v":""},{"$f":"IF(LEN($A883),IF(LEN(Declarations!$B883)>0,Declarations!$B883,\"#\"&$A883),\"\")","v":""},"...","","00:00:00",0,"","",0,{"$f":"IF(LEN($A883)>0,IF(LEN(Declarations!$F883)>0,Declarations!$F883,conftype),\"\")","v":""},null,null,0,0,0,0,0,0,0,0,0,0,0,0,0,null,882]
[{"$f":"+Declarations!A884&\"\"","v":""},{"$f":"IF(LEN($A884),IF(LEN(Declarations!$B884)>0,Declarations!$B884,\"#\"&$A884),\"\")","v":""},"...","","00:00:00",0,"","",0,{"$f":"IF(LEN($A884)>0,IF(LEN(Declarations!$F884)>0,Declarations!$F884,conftype),\"\")","v":""},null,null,0,0,0,0,0,0,0,0,0,0,0,0,0,null,883]
[{"$f":"+Declarations!A885&\"\"","v":""},{"$f":"IF(LEN($A885),IF(LEN(Declarations!$B885)>0,Declarations!$B885,\"#\"&$A885),\"\")","v":""},"...","","00:00:00",0,"","",0,{"$f":"IF(LEN($A885)>0,IF(LEN(Declarations!$F885)>0,Declarations!$F885,conftype),\"\")","v":""},null,null,0,0,0,0,0,0,0,0,0,0,0,0,0,null,884]
[{"$f":"+Declarations!A886&\"\"","v":""},{"$f":"IF(LEN($A886),IF(LEN(Declarations!$B886)>0,Declarations!$B886,\"#\"&$A886),\"\")","v":""},"...","","00:00:00",0,"","",0,{"$f":"IF(LEN($A886)>0,IF(LEN(Declarations!$F886)>0,Declarations!$F886,conftype),\"\")","v":""},null,null,0,0,0,0,0,0,0,0,0,0,0,0,0,null,885]
[{"$f":"+Declarations!A887&\"\"","v":""},{"$f":"IF(LEN($A887),IF(LEN(Declarations!$B887)>0,Declarations!$B887,\"#\"&$A887),\"\")","v":""},"...","","00:00:00",0,"","",0,{"$f":"IF(LEN($A887)>0,IF(LEN(Declarations!$F887)>0,Declarations!$F887,conftype),\"\")","v":""},null,null,0,0,0,0,0,0,0,0,0,0,0,0,0,null,886]
[{"$f":"+Declarations!A888&\"\"","v":""},{"$f":"IF(LEN($A888),IF(LEN(Declarations!$B888)>0,Declarations!$B888,\"#\"&$A888),\"\")","v":""},"...","","00:00:00",0,"","",0,{"$f":"IF(LEN($A888)>0,IF(LEN(Declarations!$F888)>0,Declarations!$F888,conftype),\"\")","v":""},null,null,0,0,0,0,0,0,0,0,0,0,0,0,0,null,887]
[{"$f":"+Declarations!A889&\"\"","v":""},{"$f":"IF(LEN($A889),IF(LEN(Declarations!$B889)>0,Declarations!$B889,\"#\"&$A889),\"\")","v":""},"...","","00:00:00",0,"","",0,{"$f":"IF(LEN($A889)>0,IF(LEN(Declarations!$F889)>0,Declarations!$F889,conftype),\"\")","v":""},null,null,0,0,0,0,0,0,0,0,0,0,0,0,0,null,888]
[{"$f":"+Declarations!A890&\"\"","v":""},{"$f":"IF(LEN($A890),IF(LEN(Declarations!$B890)>0,Declarations!$B890,\"#\"&$A890),\"\")","v":""},"...","","00:00:00",0,"","",0,{"$f":"IF(LEN($A890)>0,IF(LEN(Declarations!$F890)>0,Declarations!$F890,conftype),\"\")","v":""},null,null,0,0,0,0,0,0,0,0,0,0,0,0,0,null,889]
[{"$f":"+Declarations!A891&\"\"","v":""},{"$f":"IF(LEN($A891),IF(LEN(Declarations!$B891)>0,Declarations!$B891,\"#\"&$A891),\"\")","v":""},"...","","00:00:00",0,"","",0,{"$f":"IF(LEN($A891)>0,IF(LEN(Declarations!$F891)>0,Declarations!$F891,conftype),\"\")","v":""},null,null,0,0,0,0,0,0,0,0,0,0,0,0,0,null,890]
[{"$f":"+Declarations!A892&\"\"","v":""},{"$f":"IF(LEN($A892),IF(LEN(Declarations!$B892)>0,Declarations!$B892,\"#\"&$A892),\"\")","v":""},"...","","00:00:00",0,"","",0,{"$f":"IF(LEN($A892)>0,IF(LEN(Declarations!$F892)>0,Declarations!$F892,conftype),\"\")","v":""},null,null,0,0,0,0,0,0,0,0,0,0,0,0,0,null,891]
[{"$f":"+Declarations!A893&\"\"","v":""},{"$f":"IF(LEN($A893),IF(LEN(Declarations!$B893)>0,Declarations!$B893,\"#\"&$A893),\"\")","v":""},"...","","00:00:00",0,"","",0,{"$f":"IF(LEN($A893)>0,IF(LEN(Declarations!$F893)>0,Declarations!$F893,conftype),\"\")","v":""},null,null,0,0,0,0,0,0,0,0,0,0,0,0,0,null,892]
[{"$f":"+Declarations!A894&\"\"","v":""},{"$f":"IF(LEN($A894),IF(LEN(Declarations!$B894)>0,Declarations!$B894,\"#\"&$A894),\"\")","v":""},"...","","00:00:00",0,"","",0,{"$f":"IF(LEN($A894)>0,IF(LEN(Declarations!$F894)>0,Declarations!$F894,conftype),\"\")","v":""},null,null,0,0,0,0,0,0,0,0,0,0,0,0,0,null,893]
[{"$f":"+Declarations!A895&\"\"","v":""},{"$f":"IF(LEN($A895),IF(LEN(Declarations!$B895)>0,Declarations!$B895,\"#\"&$A895),\"\")","v":""},"...","","00:00:00",0,"","",0,{"$f":"IF(LEN($A895)>0,IF(LEN(Declarations!$F895)>0,Declarations!$F895,conftype),\"\")","v":""},null,null,0,0,0,0,0,0,0,0,0,0,0,0,0,null,894]
[{"$f":"+Declarations!A896&\"\"","v":""},{"$f":"IF(LEN($A896),IF(LEN(Declarations!$B896)>0,Declarations!$B896,\"#\"&$A896),\"\")","v":""},"...","","00:00:00",0,"","",0,{"$f":"IF(LEN($A896)>0,IF(LEN(Declarations!$F896)>0,Declarations!$F896,conftype),\"\")","v":""},null,null,0,0,0,0,0,0,0,0,0,0,0,0,0,null,895]
[{"$f":"+Declarations!A897&\"\"","v":""},{"$f":"IF(LEN($A897),IF(LEN(Declarations!$B897)>0,Declarations!$B897,\"#\"&$A897),\"\")","v":""},"...","","00:00:00",0,"","",0,{"$f":"IF(LEN($A897)>0,IF(LEN(Declarations!$F897)>0,Declarations!$F897,conftype),\"\")","v":""},null,null,0,0,0,0,0,0,0,0,0,0,0,0,0,null,896]
[{"$f":"+Declarations!A898&\"\"","v":""},{"$f":"IF(LEN($A898),IF(LEN(Declarations!$B898)>0,Declarations!$B898,\"#\"&$A898),\"\")","v":""},{"$f":"IF(LEN(INDEX(DECLARATIONS,$AA898,3))>0,INDEX(DECLARATIONS,$AA898,3),\"...\")","v":"..."},"",{"$f":"IF(ISNA($AA898),0,INDEX(DECLARATIONS,$AA898,5))","v":"00:00:00"},{"$f":"IF(ISNA($AA898),0,INDEX(DECLARATIONS,$AA898,7))","v":0},{"$f":"UPPER(IF(ISNA($AA898),\"\",INDEX(DECLARATIONS,$AA898,4)))","v":""},{"$f":"IF(AND(A898>0,ISTEXT(B898)),IF(SECNAME=\"YES\",LEFT(B898&\" \",FIND(\" \",B898&\" \")+2)&IF(F898>0,\" (\"&F898&\")\",\"\"), B898&IF(F898>0,\" (\"&F898&\")\",\"\")),\"#\"&$A898)","v":""},{"$f":"IF(LEN($A898)>0,IF(LEN($J898)>0,MATCH(J898,MatchNames,0),EventIndex),0)","v":0},{"$f":"IF(LEN($A898)>0,IF(LEN(Declarations!$F898)>0,Declarations!$F898,conftype),\"\")","v":""},null,null,0,{"$f":"IF(ISNA(VLOOKUP($A898,JumpData,2,FALSE)),0,VLOOKUP($A898,JumpData,2,FALSE))","v":0},{"$f":"IF(ISNA(VLOOKUP($A898,RunData,2,FALSE)),0,VLOOKUP($A898,RunData,2,FALSE))","v":0},{"$f":"IF(ISNA(VLOOKUP($A898,ThrowData,2,FALSE)),0,VLOOKUP($A898,ThrowData,2,FALSE))","v":0},{"$f":"IF(ISNA(VLOOKUP($A898,SprintData,4,FALSE)),0,VLOOKUP($A898,SprintData,4,FALSE))+V898","v":0},{"$f":"IF(ISNA(VLOOKUP($A898,JumpData,4,FALSE)),0,VLOOKUP($A898,JumpData,4,FALSE))+W898","v":0},{"$f":"IF(ISNA(VLOOKUP($A898,RunData,4,FALSE)),0,VLOOKUP($A898,RunData,4,FALSE))+X898","v":0},{"$f":"IF(ISNA(VLOOKUP($A898,ThrowData,4,FALSE)),0,VLOOKUP($A898,ThrowData,4,FALSE))+Y898","v":0},{"$f":"+Q898+R898+S898+T898","v":0},{"$f":"IF(AND($F898>0,NOT(M898),Flexing),FlexPC,0)","v":0},{"$f":"IF(AND($F898>0,NOT(N898),Flexing),FlexPC,0)","v":0},{"$f":"IF(AND($F898>0,NOT(O898),Flexing),FlexPC,0)","v":0},{"$f":"IF(AND($F898>0,NOT(P898),Flexing),FlexPC,0)","v":0},null,897]
[{"$f":"+Declarations!A899&\"\"","v":""},{"$f":"IF(LEN($A899),IF(LEN(Declarations!$B899)>0,Declarations!$B899,\"#\"&$A899),\"\")","v":""},"...","","00:00:00",0,"","",0,{"$f":"IF(LEN($A899)>0,IF(LEN(Declarations!$F899)>0,Declarations!$F899,conftype),\"\")","v":""},null,null,0,0,0,0,0,0,0,0,0,0,0,0,0,null,{"$f":"ROW()-1","v":898}]
[{"$f":"+Declarations!A900&\"\"","v":""},{"$f":"IF(LEN($A900),IF(LEN(Declarations!$B900)>0,Declarations!$B900,\"#\"&$A900),\"\")","v":""},"...","","00:00:00",0,"","",0,{"$f":"IF(LEN($A900)>0,IF(LEN(Declarations!$F900)>0,Declarations!$F900,conftype),\"\")","v":""},null,null,0,0,0,0,0,0,0,0,0,0,0,0,0,null,899]
[{"$f":"+Declarations!A901&\"\"","v":""},{"$f":"IF(LEN($A901),IF(LEN(Declarations!$B901)>0,Declarations!$B901,\"#\"&$A901),\"\")","v":""},"...","","00:00:00",0,"","",0,{"$f":"IF(LEN($A901)>0,IF(LEN(Declarations!$F901)>0,Declarations!$F901,conftype),\"\")","v":""},null,null,0,0,0,0,0,0,0,0,0,0,0,0,0,null,900]
[{"$f":"+Declarations!A902&\"\"","v":""},{"$f":"IF(LEN($A902),IF(LEN(Declarations!$B902)>0,Declarations!$B902,\"#\"&$A902),\"\")","v":""},"...","","00:00:00",0,"","",0,{"$f":"IF(LEN($A902)>0,IF(LEN(Declarations!$F902)>0,Declarations!$F902,conftype),\"\")","v":""},null,null,0,0,0,0,0,0,0,0,0,0,0,0,0,null,901]
[{"$f":"+Declarations!A903&\"\"","v":""},{"$f":"IF(LEN($A903),IF(LEN(Declarations!$B903)>0,Declarations!$B903,\"#\"&$A903),\"\")","v":""},"...",{"$f":"IF(OR(G903=\"G\",G903=\"F\"),\"F\",IF(OR(G903=\"B\",G903=\"M\"),\"M\",\"\"))","v":""},"00:00:00",0,"","",0,{"$f":"IF(LEN($A903)>0,IF(LEN(Declarations!$F903)>0,Declarations!$F903,conftype),\"\")","v":""},null,null,0,0,0,0,0,0,0,0,0,0,0,0,0,null,902]
[{"$f":"+Declarations!A904&\"\"","v":""},{"$f":"IF(LEN($A904),IF(LEN(Declarations!$B904)>0,Declarations!$B904,\"#\"&$A904),\"\")","v":""},"...","","00:00:00",0,"","",0,{"$f":"IF(LEN($A904)>0,IF(LEN(Declarations!$F904)>0,Declarations!$F904,conftype),\"\")","v":""},null,null,0,0,0,0,0,0,0,0,0,0,0,0,0,null,903]
[{"$f":"+Declarations!A905&\"\"","v":""},{"$f":"IF(LEN($A905),IF(LEN(Declarations!$B905)>0,Declarations!$B905,\"#\"&$A905),\"\")","v":""},"...","","00:00:00",0,"","",0,{"$f":"IF(LEN($A905)>0,IF(LEN(Declarations!$F905)>0,Declarations!$F905,conftype),\"\")","v":""},null,null,0,0,0,0,0,0,0,0,0,0,0,0,0,null,904]
[{"$f":"+Declarations!A906&\"\"","v":""},{"$f":"IF(LEN($A906),IF(LEN(Declarations!$B906)>0,Declarations!$B906,\"#\"&$A906),\"\")","v":""},"...","","00:00:00",0,"","",0,{"$f":"IF(LEN($A906)>0,IF(LEN(Declarations!$F906)>0,Declarations!$F906,conftype),\"\")","v":""},null,null,0,0,0,0,0,0,0,0,0,0,0,0,0,null,905]
[{"$f":"+Declarations!A907&\"\"","v":""},{"$f":"IF(LEN($A907),IF(LEN(Declarations!$B907)>0,Declarations!$B907,\"#\"&$A907),\"\")","v":""},"...","","00:00:00",0,"","",0,{"$f":"IF(LEN($A907)>0,IF(LEN(Declarations!$F907)>0,Declarations!$F907,conftype),\"\")","v":""},null,null,0,0,0,0,0,0,0,0,0,0,0,0,0,null,906]
[{"$f":"+Declarations!A908&\"\"","v":""},{"$f":"IF(LEN($A908),IF(LEN(Declarations!$B908)>0,Declarations!$B908,\"#\"&$A908),\"\")","v":""},"...","","00:00:00",0,"","",0,{"$f":"IF(LEN($A908)>0,IF(LEN(Declarations!$F908)>0,Declarations!$F908,conftype),\"\")","v":""},null,null,0,0,0,0,0,0,0,0,0,0,0,0,0,null,907]
[{"$f":"+Declarations!A909&\"\"","v":""},{"$f":"IF(LEN($A909),IF(LEN(Declarations!$B909)>0,Declarations!$B909,\"#\"&$A909),\"\")","v":""},"...","","00:00:00",0,"","",0,{"$f":"IF(LEN($A909)>0,IF(LEN(Declarations!$F909)>0,Declarations!$F909,conftype),\"\")","v":""},null,null,0,0,0,0,0,0,0,0,0,0,0,0,0,null,908]
[{"$f":"+Declarations!A910&\"\"","v":""},{"$f":"IF(LEN($A910),IF(LEN(Declarations!$B910)>0,Declarations!$B910,\"#\"&$A910),\"\")","v":""},"...","","00:00:00",0,"","",0,{"$f":"IF(LEN($A910)>0,IF(LEN(Declarations!$F910)>0,Declarations!$F910,conftype),\"\")","v":""},null,null,0,0,0,0,0,0,0,0,0,0,0,0,0,null,909]
[{"$f":"+Declarations!A911&\"\"","v":""},{"$f":"IF(LEN($A911),IF(LEN(Declarations!$B911)>0,Declarations!$B911,\"#\"&$A911),\"\")","v":""},"...","","00:00:00",0,"","",0,{"$f":"IF(LEN($A911)>0,IF(LEN(Declarations!$F911)>0,Declarations!$F911,conftype),\"\")","v":""},null,null,0,0,0,0,0,0,0,0,0,0,0,0,0,null,910]
[{"$f":"+Declarations!A912&\"\"","v":""},{"$f":"IF(LEN($A912),IF(LEN(Declarations!$B912)>0,Declarations!$B912,\"#\"&$A912),\"\")","v":""},"...","","00:00:00",0,"","",0,{"$f":"IF(LEN($A912)>0,IF(LEN(Declarations!$F912)>0,Declarations!$F912,conftype),\"\")","v":""},null,null,0,0,0,0,0,0,0,0,0,0,0,0,0,null,911]
[{"$f":"+Declarations!A913&\"\"","v":""},{"$f":"IF(LEN($A913),IF(LEN(Declarations!$B913)>0,Declarations!$B913,\"#\"&$A913),\"\")","v":""},"...","","00:00:00",0,"","",0,{"$f":"IF(LEN($A913)>0,IF(LEN(Declarations!$F913)>0,Declarations!$F913,conftype),\"\")","v":""},null,null,0,0,0,0,0,0,0,0,0,0,0,0,0,null,912]
[{"$f":"+Declarations!A914&\"\"","v":""},{"$f":"IF(LEN($A914),IF(LEN(Declarations!$B914)>0,Declarations!$B914,\"#\"&$A914),\"\")","v":""},"...","","00:00:00",0,"","",0,{"$f":"IF(LEN($A914)>0,IF(LEN(Declarations!$F914)>0,Declarations!$F914,conftype),\"\")","v":""},null,null,0,0,0,0,0,0,0,0,0,0,0,0,0,null,913]
[{"$f":"+Declarations!A915&\"\"","v":""},{"$f":"IF(LEN($A915),IF(LEN(Declarations!$B915)>0,Declarations!$B915,\"#\"&$A915),\"\")","v":""},"...","","00:00:00",0,"","",0,{"$f":"IF(LEN($A915)>0,IF(LEN(Declarations!$F915)>0,Declarations!$F915,conftype),\"\")","v":""},null,null,0,0,0,0,0,0,0,0,0,0,0,0,0,null,914]
[{"$f":"+Declarations!A916&\"\"","v":""},{"$f":"IF(LEN($A916),IF(LEN(Declarations!$B916)>0,Declarations!$B916,\"#\"&$A916),\"\")","v":""},"...","","00:00:00",0,"","",0,{"$f":"IF(LEN($A916)>0,IF(LEN(Declarations!$F916)>0,Declarations!$F916,conftype),\"\")","v":""},null,null,0,0,0,0,0,0,0,0,0,0,0,0,0,null,915]
[{"$f":"+Declarations!A917&\"\"","v":""},{"$f":"IF(LEN($A917),IF(LEN(Declarations!$B917)>0,Declarations!$B917,\"#\"&$A917),\"\")","v":""},"...","","00:00:00",0,"","",0,{"$f":"IF(LEN($A917)>0,IF(LEN(Declarations!$F917)>0,Declarations!$F917,conftype),\"\")","v":""},null,null,0,0,0,0,0,0,0,0,0,0,0,0,0,null,916]
[{"$f":"+Declarations!A918&\"\"","v":""},{"$f":"IF(LEN($A918),IF(LEN(Declarations!$B918)>0,Declarations!$B918,\"#\"&$A918),\"\")","v":""},"...","","00:00:00",0,"","",0,{"$f":"IF(LEN($A918)>0,IF(LEN(Declarations!$F918)>0,Declarations!$F918,conftype),\"\")","v":""},null,null,0,0,0,0,0,0,0,0,0,0,0,0,0,null,917]
[{"$f":"+Declarations!A919&\"\"","v":""},{"$f":"IF(LEN($A919),IF(LEN(Declarations!$B919)>0,Declarations!$B919,\"#\"&$A919),\"\")","v":""},"...","","00:00:00",0,"","",0,{"$f":"IF(LEN($A919)>0,IF(LEN(Declarations!$F919)>0,Declarations!$F919,conftype),\"\")","v":""},null,null,0,0,0,0,0,0,0,0,0,0,0,0,0,null,918]
[{"$f":"+Declarations!A920&\"\"","v":""},{"$f":"IF(LEN($A920),IF(LEN(Declarations!$B920)>0,Declarations!$B920,\"#\"&$A920),\"\")","v":""},"...","","00:00:00",0,"","",0,{"$f":"IF(LEN($A920)>0,IF(LEN(Declarations!$F920)>0,Declarations!$F920,conftype),\"\")","v":""},null,null,0,0,0,0,0,0,0,0,0,0,0,0,0,null,919]
[{"$f":"+Declarations!A921&\"\"","v":""},{"$f":"IF(LEN($A921),IF(LEN(Declarations!$B921)>0,Declarations!$B921,\"#\"&$A921),\"\")","v":""},"...","","00:00:00",0,"","",0,{"$f":"IF(LEN($A921)>0,IF(LEN(Declarations!$F921)>0,Declarations!$F921,conftype),\"\")","v":""},null,null,0,0,0,0,0,0,0,0,0,0,0,0,0,null,920]
[{"$f":"+Declarations!A922&\"\"","v":""},{"$f":"IF(LEN($A922),IF(LEN(Declarations!$B922)>0,Declarations!$B922,\"#\"&$A922),\"\")","v":""},"...","","00:00:00",0,"","",0,{"$f":"IF(LEN($A922)>0,IF(LEN(Declarations!$F922)>0,Declarations!$F922,conftype),\"\")","v":""},null,null,0,0,0,0,0,0,0,0,0,0,0,0,0,null,921]
[{"$f":"+Declarations!A923&\"\"","v":""},{"$f":"IF(LEN($A923),IF(LEN(Declarations!$B923)>0,Declarations!$B923,\"#\"&$A923),\"\")","v":""},"...","","00:00:00",0,"","",0,{"$f":"IF(LEN($A923)>0,IF(LEN(Declarations!$F923)>0,Declarations!$F923,conftype),\"\")","v":""},null,null,0,0,0,0,0,0,0,0,0,0,0,0,0,null,922]
[{"$f":"+Declarations!A924&\"\"","v":""},{"$f":"IF(LEN($A924),IF(LEN(Declarations!$B924)>0,Declarations!$B924,\"#\"&$A924),\"\")","v":""},"...","","00:00:00",0,"","",0,{"$f":"IF(LEN($A924)>0,IF(LEN(Declarations!$F924)>0,Declarations!$F924,conftype),\"\")","v":""},null,null,0,0,0,0,0,0,0,0,0,0,0,0,0,null,923]
[{"$f":"+Declarations!A925&\"\"","v":""},{"$f":"IF(LEN($A925),IF(LEN(Declarations!$B925)>0,Declarations!$B925,\"#\"&$A925),\"\")","v":""},"...","","00:00:00",0,"","",0,{"$f":"IF(LEN($A925)>0,IF(LEN(Declarations!$F925)>0,Declarations!$F925,conftype),\"\")","v":""},null,null,0,0,0,0,0,0,0,0,0,0,0,0,0,null,924]
[{"$f":"+Declarations!A926&\"\"","v":""},{"$f":"IF(LEN($A926),IF(LEN(Declarations!$B926)>0,Declarations!$B926,\"#\"&$A926),\"\")","v":""},"...","","00:00:00",0,"","",0,{"$f":"IF(LEN($A926)>0,IF(LEN(Declarations!$F926)>0,Declarations!$F926,conftype),\"\")","v":""},null,null,0,0,0,0,0,0,0,0,0,0,0,0,0,null,925]
[{"$f":"+Declarations!A927&\"\"","v":""},{"$f":"IF(LEN($A927),IF(LEN(Declarations!$B927)>0,Declarations!$B927,\"#\"&$A927),\"\")","v":""},"...","","00:00:00",0,"","",0,{"$f":"IF(LEN($A927)>0,IF(LEN(Declarations!$F927)>0,Declarations!$F927,conftype),\"\")","v":""},null,null,0,0,0,0,0,0,0,0,0,0,0,0,0,null,926]
[{"$f":"+Declarations!A928&\"\"","v":""},{"$f":"IF(LEN($A928),IF(LEN(Declarations!$B928)>0,Declarations!$B928,\"#\"&$A928),\"\")","v":""},"...","","00:00:00",0,"","",0,{"$f":"IF(LEN($A928)>0,IF(LEN(Declarations!$F928)>0,Declarations!$F928,conftype),\"\")","v":""},null,null,0,0,0,0,0,0,0,0,0,0,0,0,0,null,927]
[{"$f":"+Declarations!A929&\"\"","v":""},{"$f":"IF(LEN($A929),IF(LEN(Declarations!$B929)>0,Declarations!$B929,\"#\"&$A929),\"\")","v":""},"...","","00:00:00",0,"","",0,{"$f":"IF(LEN($A929)>0,IF(LEN(Declarations!$F929)>0,Declarations!$F929,conftype),\"\")","v":""},null,null,0,0,0,0,0,0,0,0,0,0,0,0,0,null,928]
[{"$f":"+Declarations!A930&\"\"","v":""},{"$f":"IF(LEN($A930),IF(LEN(Declarations!$B930)>0,Declarations!$B930,\"#\"&$A930),\"\")","v":""},"...","","00:00:00",0,"","",0,{"$f":"IF(LEN($A930)>0,IF(LEN(Declarations!$F930)>0,Declarations!$F930,conftype),\"\")","v":""},null,null,0,0,0,0,0,0,0,0,0,0,0,0,0,null,929]
[{"$f":"+Declarations!A931&\"\"","v":""},{"$f":"IF(LEN($A931),IF(LEN(Declarations!$B931)>0,Declarations!$B931,\"#\"&$A931),\"\")","v":""},"...","","00:00:00",0,"","",0,{"$f":"IF(LEN($A931)>0,IF(LEN(Declarations!$F931)>0,Declarations!$F931,conftype),\"\")","v":""},null,null,0,0,0,0,0,0,0,0,0,0,0,0,0,null,930]
[{"$f":"+Declarations!A932&\"\"","v":""},{"$f":"IF(LEN($A932),IF(LEN(Declarations!$B932)>0,Declarations!$B932,\"#\"&$A932),\"\")","v":""},"...","","00:00:00",0,"","",0,{"$f":"IF(LEN($A932)>0,IF(LEN(Declarations!$F932)>0,Declarations!$F932,conftype),\"\")","v":""},null,null,0,0,0,0,0,0,0,0,0,0,0,0,0,null,931]
[{"$f":"+Declarations!A933&\"\"","v":""},{"$f":"IF(LEN($A933),IF(LEN(Declarations!$B933)>0,Declarations!$B933,\"#\"&$A933),\"\")","v":""},"...","","00:00:00",0,"","",0,{"$f":"IF(LEN($A933)>0,IF(LEN(Declarations!$F933)>0,Declarations!$F933,conftype),\"\")","v":""},null,null,0,0,0,0,0,0,0,0,0,0,0,0,0,null,932]
[{"$f":"+Declarations!A934&\"\"","v":""},{"$f":"IF(LEN($A934),IF(LEN(Declarations!$B934)>0,Declarations!$B934,\"#\"&$A934),\"\")","v":""},"...","","00:00:00",0,"","",0,{"$f":"IF(LEN($A934)>0,IF(LEN(Declarations!$F934)>0,Declarations!$F934,conftype),\"\")","v":""},null,null,0,0,0,0,0,0,0,0,0,0,0,0,0,null,933]
[{"$f":"+Declarations!A935&\"\"","v":""},{"$f":"IF(LEN($A935),IF(LEN(Declarations!$B935)>0,Declarations!$B935,\"#\"&$A935),\"\")","v":""},"...","","00:00:00",0,"","",0,{"$f":"IF(LEN($A935)>0,IF(LEN(Declarations!$F935)>0,Declarations!$F935,conftype),\"\")","v":""},null,null,0,0,0,0,0,0,0,0,0,0,0,0,0,null,934]
[{"$f":"+Declarations!A936&\"\"","v":""},{"$f":"IF(LEN($A936),IF(LEN(Declarations!$B936)>0,Declarations!$B936,\"#\"&$A936),\"\")","v":""},"...","","00:00:00",0,"","",0,{"$f":"IF(LEN($A936)>0,IF(LEN(Declarations!$F936)>0,Declarations!$F936,conftype),\"\")","v":""},null,null,0,0,0,0,0,0,0,0,0,0,0,0,0,null,935]
[{"$f":"+Declarations!A937&\"\"","v":""},{"$f":"IF(LEN($A937),IF(LEN(Declarations!$B937)>0,Declarations!$B937,\"#\"&$A937),\"\")","v":""},"...","","00:00:00",0,"","",0,{"$f":"IF(LEN($A937)>0,IF(LEN(Declarations!$F937)>0,Declarations!$F937,conftype),\"\")","v":""},null,null,0,0,0,0,0,0,0,0,0,0,0,0,0,null,936]
[{"$f":"+Declarations!A938&\"\"","v":""},{"$f":"IF(LEN($A938),IF(LEN(Declarations!$B938)>0,Declarations!$B938,\"#\"&$A938),\"\")","v":""},"...","","00:00:00",0,"","",0,{"$f":"IF(LEN($A938)>0,IF(LEN(Declarations!$F938)>0,Declarations!$F938,conftype),\"\")","v":""},null,null,0,0,0,0,0,0,0,0,0,0,0,0,0,null,937]
[{"$f":"+Declarations!A939&\"\"","v":""},{"$f":"IF(LEN($A939),IF(LEN(Declarations!$B939)>0,Declarations!$B939,\"#\"&$A939),\"\")","v":""},"...","","00:00:00",0,"","",0,{"$f":"IF(LEN($A939)>0,IF(LEN(Declarations!$F939)>0,Declarations!$F939,conftype),\"\")","v":""},null,null,0,0,0,0,0,0,0,0,0,0,0,0,0,null,938]
[{"$f":"+Declarations!A940&\"\"","v":""},{"$f":"IF(LEN($A940),IF(LEN(Declarations!$B940)>0,Declarations!$B940,\"#\"&$A940),\"\")","v":""},"...","","00:00:00",0,"","",0,{"$f":"IF(LEN($A940)>0,IF(LEN(Declarations!$F940)>0,Declarations!$F940,conftype),\"\")","v":""},null,null,0,0,0,0,0,0,0,0,0,0,0,0,0,null,939]
[{"$f":"+Declarations!A941&\"\"","v":""},{"$f":"IF(LEN($A941),IF(LEN(Declarations!$B941)>0,Declarations!$B941,\"#\"&$A941),\"\")","v":""},"...","","00:00:00",0,"","",0,{"$f":"IF(LEN($A941)>0,IF(LEN(Declarations!$F941)>0,Declarations!$F941,conftype),\"\")","v":""},null,null,0,0,0,0,0,0,0,0,0,0,0,0,0,null,940]
[{"$f":"+Declarations!A942&\"\"","v":""},{"$f":"IF(LEN($A942),IF(LEN(Declarations!$B942)>0,Declarations!$B942,\"#\"&$A942),\"\")","v":""},"...","","00:00:00",0,"","",0,{"$f":"IF(LEN($A942)>0,IF(LEN(Declarations!$F942)>0,Declarations!$F942,conftype),\"\")","v":""},null,null,0,0,0,0,0,0,0,0,0,0,0,0,0,null,941]
[{"$f":"+Declarations!A943&\"\"","v":""},{"$f":"IF(LEN($A943),IF(LEN(Declarations!$B943)>0,Declarations!$B943,\"#\"&$A943),\"\")","v":""},"...","","00:00:00",0,"","",0,{"$f":"IF(LEN($A943)>0,IF(LEN(Declarations!$F943)>0,Declarations!$F943,conftype),\"\")","v":""},null,null,{"$f":"IF(ISNA(VLOOKUP($A943,SprintData,2,FALSE)),0,VLOOKUP($A943,SprintData,2,FALSE))","v":0},0,0,0,0,0,0,0,0,0,0,0,0,null,942]
[{"$f":"+Declarations!A944&\"\"","v":""},{"$f":"IF(LEN($A944),IF(LEN(Declarations!$B944)>0,Declarations!$B944,\"#\"&$A944),\"\")","v":""},"...","","00:00:00",0,"","",0,{"$f":"IF(LEN($A944)>0,IF(LEN(Declarations!$F944)>0,Declarations!$F944,conftype),\"\")","v":""},null,null,0,0,0,0,0,0,0,0,0,0,0,0,0,null,943]
[{"$f":"+Declarations!A945&\"\"","v":""},{"$f":"IF(LEN($A945),IF(LEN(Declarations!$B945)>0,Declarations!$B945,\"#\"&$A945),\"\")","v":""},"...","","00:00:00",0,"","",0,{"$f":"IF(LEN($A945)>0,IF(LEN(Declarations!$F945)>0,Declarations!$F945,conftype),\"\")","v":""},null,null,0,0,0,0,0,0,0,0,0,0,0,0,0,null,944]
[{"$f":"+Declarations!A946&\"\"","v":""},{"$f":"IF(LEN($A946),IF(LEN(Declarations!$B946)>0,Declarations!$B946,\"#\"&$A946),\"\")","v":""},"...","","00:00:00",0,"","",0,{"$f":"IF(LEN($A946)>0,IF(LEN(Declarations!$F946)>0,Declarations!$F946,conftype),\"\")","v":""},null,null,0,0,0,0,0,0,0,0,0,0,0,0,0,null,945]
[{"$f":"+Declarations!A947&\"\"","v":""},{"$f":"IF(LEN($A947),IF(LEN(Declarations!$B947)>0,Declarations!$B947,\"#\"&$A947),\"\")","v":""},"...","","00:00:00",0,"","",0,{"$f":"IF(LEN($A947)>0,IF(LEN(Declarations!$F947)>0,Declarations!$F947,conftype),\"\")","v":""},null,null,0,0,0,0,0,0,0,0,0,0,0,0,0,null,946]
[{"$f":"+Declarations!A948&\"\"","v":""},{"$f":"IF(LEN($A948),IF(LEN(Declarations!$B948)>0,Declarations!$B948,\"#\"&$A948),\"\")","v":""},"...","","00:00:00",0,"","",0,{"$f":"IF(LEN($A948)>0,IF(LEN(Declarations!$F948)>0,Declarations!$F948,conftype),\"\")","v":""},null,null,0,0,0,0,0,0,0,0,0,0,0,0,0,null,947]
[{"$f":"+Declarations!A949&\"\"","v":""},{"$f":"IF(LEN($A949),IF(LEN(Declarations!$B949)>0,Declarations!$B949,\"#\"&$A949),\"\")","v":""},"...","","00:00:00",0,"","",0,{"$f":"IF(LEN($A949)>0,IF(LEN(Declarations!$F949)>0,Declarations!$F949,conftype),\"\")","v":""},null,null,0,0,0,0,0,0,0,0,0,0,0,0,0,null,948]
[{"$f":"+Declarations!A950&\"\"","v":""},{"$f":"IF(LEN($A950),IF(LEN(Declarations!$B950)>0,Declarations!$B950,\"#\"&$A950),\"\")","v":""},"...","","00:00:00",0,"","",0,{"$f":"IF(LEN($A950)>0,IF(LEN(Declarations!$F950)>0,Declarations!$F950,conftype),\"\")","v":""},null,null,0,0,0,0,0,0,0,0,0,0,0,0,0,null,949]
[{"$f":"+Declarations!A951&\"\"","v":""},{"$f":"IF(LEN($A951),IF(LEN(Declarations!$B951)>0,Declarations!$B951,\"#\"&$A951),\"\")","v":""},"...","","00:00:00",0,"","",0,{"$f":"IF(LEN($A951)>0,IF(LEN(Declarations!$F951)>0,Declarations!$F951,conftype),\"\")","v":""},null,null,0,0,0,0,0,0,0,0,0,0,0,0,0,null,950]
[{"$f":"+Declarations!A952&\"\"","v":""},{"$f":"IF(LEN($A952),IF(LEN(Declarations!$B952)>0,Declarations!$B952,\"#\"&$A952),\"\")","v":""},"...","","00:00:00",0,"","",0,{"$f":"IF(LEN($A952)>0,IF(LEN(Declarations!$F952)>0,Declarations!$F952,conftype),\"\")","v":""},null,null,0,0,0,0,0,0,0,0,0,0,0,0,0,null,951]
[{"$f":"+Declarations!A953&\"\"","v":""},{"$f":"IF(LEN($A953),IF(LEN(Declarations!$B953)>0,Declarations!$B953,\"#\"&$A953),\"\")","v":""},"...","","00:00:00",0,"","",0,{"$f":"IF(LEN($A953)>0,IF(LEN(Declarations!$F953)>0,Declarations!$F953,conftype),\"\")","v":""},null,null,0,0,0,0,0,0,0,0,0,0,0,0,0,null,952]
[{"$f":"+Declarations!A954&\"\"","v":""},{"$f":"IF(LEN($A954),IF(LEN(Declarations!$B954)>0,Declarations!$B954,\"#\"&$A954),\"\")","v":""},"...","","00:00:00",0,"","",0,{"$f":"IF(LEN($A954)>0,IF(LEN(Declarations!$F954)>0,Declarations!$F954,conftype),\"\")","v":""},null,null,0,0,0,0,0,0,0,0,0,0,0,0,0,null,953]
[{"$f":"+Declarations!A955&\"\"","v":""},{"$f":"IF(LEN($A955),IF(LEN(Declarations!$B955)>0,Declarations!$B955,\"#\"&$A955),\"\")","v":""},"...","","00:00:00",0,"","",0,{"$f":"IF(LEN($A955)>0,IF(LEN(Declarations!$F955)>0,Declarations!$F955,conftype),\"\")","v":""},null,null,0,0,0,0,0,0,0,0,0,0,0,0,0,null,954]
[{"$f":"+Declarations!A956&\"\"","v":""},{"$f":"IF(LEN($A956),IF(LEN(Declarations!$B956)>0,Declarations!$B956,\"#\"&$A956),\"\")","v":""},"...","","00:00:00",0,"","",0,{"$f":"IF(LEN($A956)>0,IF(LEN(Declarations!$F956)>0,Declarations!$F956,conftype),\"\")","v":""},null,null,0,0,0,0,0,0,0,0,0,0,0,0,0,null,955]
[{"$f":"+Declarations!A957&\"\"","v":""},{"$f":"IF(LEN($A957),IF(LEN(Declarations!$B957)>0,Declarations!$B957,\"#\"&$A957),\"\")","v":""},"...","","00:00:00",0,"","",0,{"$f":"IF(LEN($A957)>0,IF(LEN(Declarations!$F957)>0,Declarations!$F957,conftype),\"\")","v":""},null,null,0,0,0,0,0,0,0,0,0,0,0,0,0,null,956]
[{"$f":"+Declarations!A958&\"\"","v":""},{"$f":"IF(LEN($A958),IF(LEN(Declarations!$B958)>0,Declarations!$B958,\"#\"&$A958),\"\")","v":""},"...","","00:00:00",0,"","",0,{"$f":"IF(LEN($A958)>0,IF(LEN(Declarations!$F958)>0,Declarations!$F958,conftype),\"\")","v":""},null,null,0,0,0,0,0,0,0,0,0,0,0,0,0,null,957]
[{"$f":"+Declarations!A959&\"\"","v":""},{"$f":"IF(LEN($A959),IF(LEN(Declarations!$B959)>0,Declarations!$B959,\"#\"&$A959),\"\")","v":""},"...","","00:00:00",0,"","",0,{"$f":"IF(LEN($A959)>0,IF(LEN(Declarations!$F959)>0,Declarations!$F959,conftype),\"\")","v":""},null,null,0,0,0,0,0,0,0,0,0,0,0,0,0,null,958]
[{"$f":"+Declarations!A960&\"\"","v":""},{"$f":"IF(LEN($A960),IF(LEN(Declarations!$B960)>0,Declarations!$B960,\"#\"&$A960),\"\")","v":""},"...","","00:00:00",0,"","",0,{"$f":"IF(LEN($A960)>0,IF(LEN(Declarations!$F960)>0,Declarations!$F960,conftype),\"\")","v":""},null,null,0,0,0,0,0,0,0,0,0,0,0,0,0,null,959]
[{"$f":"+Declarations!A961&\"\"","v":""},{"$f":"IF(LEN($A961),IF(LEN(Declarations!$B961)>0,Declarations!$B961,\"#\"&$A961),\"\")","v":""},"...","","00:00:00",0,"","",0,{"$f":"IF(LEN($A961)>0,IF(LEN(Declarations!$F961)>0,Declarations!$F961,conftype),\"\")","v":""},null,null,0,0,0,0,0,0,0,0,0,0,0,0,0,null,960]
[{"$f":"+Declarations!A962&\"\"","v":""},{"$f":"IF(LEN($A962),IF(LEN(Declarations!$B962)>0,Declarations!$B962,\"#\"&$A962),\"\")","v":""},{"$f":"IF(LEN(INDEX(DECLARATIONS,$AA962,3))>0,INDEX(DECLARATIONS,$AA962,3),\"...\")","v":"..."},"",{"$f":"IF(ISNA($AA962),0,INDEX(DECLARATIONS,$AA962,5))","v":"00:00:00"},{"$f":"IF(ISNA($AA962),0,INDEX(DECLARATIONS,$AA962,7))","v":0},{"$f":"UPPER(IF(ISNA($AA962),\"\",INDEX(DECLARATIONS,$AA962,4)))","v":""},{"$f":"IF(AND(A962>0,ISTEXT(B962)),IF(SECNAME=\"YES\",LEFT(B962&\" \",FIND(\" \",B962&\" \")+2)&IF(F962>0,\" (\"&F962&\")\",\"\"), B962&IF(F962>0,\" (\"&F962&\")\",\"\")),\"#\"&$A962)","v":""},{"$f":"IF(LEN($A962)>0,IF(LEN($J962)>0,MATCH(J962,MatchNames,0),EventIndex),0)","v":0},{"$f":"IF(LEN($A962)>0,IF(LEN(Declarations!$F962)>0,Declarations!$F962,conftype),\"\")","v":""},null,null,0,{"$f":"IF(ISNA(VLOOKUP($A962,JumpData,2,FALSE)),0,VLOOKUP($A962,JumpData,2,FALSE))","v":0},{"$f":"IF(ISNA(VLOOKUP($A962,RunData,2,FALSE)),0,VLOOKUP($A962,RunData,2,FALSE))","v":0},{"$f":"IF(ISNA(VLOOKUP($A962,ThrowData,2,FALSE)),0,VLOOKUP($A962,ThrowData,2,FALSE))","v":0},{"$f":"IF(ISNA(VLOOKUP($A962,SprintData,4,FALSE)),0,VLOOKUP($A962,SprintData,4,FALSE))+V962","v":0},{"$f":"IF(ISNA(VLOOKUP($A962,JumpData,4,FALSE)),0,VLOOKUP($A962,JumpData,4,FALSE))+W962","v":0},{"$f":"IF(ISNA(VLOOKUP($A962,RunData,4,FALSE)),0,VLOOKUP($A962,RunData,4,FALSE))+X962","v":0},{"$f":"IF(ISNA(VLOOKUP($A962,ThrowData,4,FALSE)),0,VLOOKUP($A962,ThrowData,4,FALSE))+Y962","v":0},{"$f":"+Q962+R962+S962+T962","v":0},{"$f":"IF(AND($F962>0,NOT(M962),Flexing),FlexPC,0)","v":0},{"$f":"IF(AND($F962>0,NOT(N962),Flexing),FlexPC,0)","v":0},{"$f":"IF(AND($F962>0,NOT(O962),Flexing),FlexPC,0)","v":0},{"$f":"IF(AND($F962>0,NOT(P962),Flexing),FlexPC,0)","v":0},null,961]
[{"$f":"+Declarations!A963&\"\"","v":""},{"$f":"IF(LEN($A963),IF(LEN(Declarations!$B963)>0,Declarations!$B963,\"#\"&$A963),\"\")","v":""},"...","","00:00:00",0,"","",0,{"$f":"IF(LEN($A963)>0,IF(LEN(Declarations!$F963)>0,Declarations!$F963,conftype),\"\")","v":""},null,null,0,0,0,0,0,0,0,0,0,0,0,0,0,null,{"$f":"ROW()-1","v":962}]
[{"$f":"+Declarations!A964&\"\"","v":""},{"$f":"IF(LEN($A964),IF(LEN(Declarations!$B964)>0,Declarations!$B964,\"#\"&$A964),\"\")","v":""},"...","","00:00:00",0,"","",0,{"$f":"IF(LEN($A964)>0,IF(LEN(Declarations!$F964)>0,Declarations!$F964,conftype),\"\")","v":""},null,null,0,0,0,0,0,0,0,0,0,0,0,0,0,null,963]
[{"$f":"+Declarations!A965&\"\"","v":""},{"$f":"IF(LEN($A965),IF(LEN(Declarations!$B965)>0,Declarations!$B965,\"#\"&$A965),\"\")","v":""},"...","","00:00:00",0,"","",0,{"$f":"IF(LEN($A965)>0,IF(LEN(Declarations!$F965)>0,Declarations!$F965,conftype),\"\")","v":""},null,null,0,0,0,0,0,0,0,0,0,0,0,0,0,null,964]
[{"$f":"+Declarations!A966&\"\"","v":""},{"$f":"IF(LEN($A966),IF(LEN(Declarations!$B966)>0,Declarations!$B966,\"#\"&$A966),\"\")","v":""},"...","","00:00:00",0,"","",0,{"$f":"IF(LEN($A966)>0,IF(LEN(Declarations!$F966)>0,Declarations!$F966,conftype),\"\")","v":""},null,null,0,0,0,0,0,0,0,0,0,0,0,0,0,null,965]
[{"$f":"+Declarations!A967&\"\"","v":""},{"$f":"IF(LEN($A967),IF(LEN(Declarations!$B967)>0,Declarations!$B967,\"#\"&$A967),\"\")","v":""},"...",{"$f":"IF(OR(G967=\"G\",G967=\"F\"),\"F\",IF(OR(G967=\"B\",G967=\"M\"),\"M\",\"\"))","v":""},"00:00:00",0,"","",0,{"$f":"IF(LEN($A967)>0,IF(LEN(Declarations!$F967)>0,Declarations!$F967,conftype),\"\")","v":""},null,null,0,0,0,0,0,0,0,0,0,0,0,0,0,null,966]
[{"$f":"+Declarations!A968&\"\"","v":""},{"$f":"IF(LEN($A968),IF(LEN(Declarations!$B968)>0,Declarations!$B968,\"#\"&$A968),\"\")","v":""},"...","","00:00:00",0,"","",0,{"$f":"IF(LEN($A968)>0,IF(LEN(Declarations!$F968)>0,Declarations!$F968,conftype),\"\")","v":""},null,null,0,0,0,0,0,0,0,0,0,0,0,0,0,null,967]
[{"$f":"+Declarations!A969&\"\"","v":""},{"$f":"IF(LEN($A969),IF(LEN(Declarations!$B969)>0,Declarations!$B969,\"#\"&$A969),\"\")","v":""},"...","","00:00:00",0,"","",0,{"$f":"IF(LEN($A969)>0,IF(LEN(Declarations!$F969)>0,Declarations!$F969,conftype),\"\")","v":""},null,null,0,0,0,0,0,0,0,0,0,0,0,0,0,null,968]
[{"$f":"+Declarations!A970&\"\"","v":""},{"$f":"IF(LEN($A970),IF(LEN(Declarations!$B970)>0,Declarations!$B970,\"#\"&$A970),\"\")","v":""},"...","","00:00:00",0,"","",0,{"$f":"IF(LEN($A970)>0,IF(LEN(Declarations!$F970)>0,Declarations!$F970,conftype),\"\")","v":""},null,null,0,0,0,0,0,0,0,0,0,0,0,0,0,null,969]
[{"$f":"+Declarations!A971&\"\"","v":""},{"$f":"IF(LEN($A971),IF(LEN(Declarations!$B971)>0,Declarations!$B971,\"#\"&$A971),\"\")","v":""},"...","","00:00:00",0,"","",0,{"$f":"IF(LEN($A971)>0,IF(LEN(Declarations!$F971)>0,Declarations!$F971,conftype),\"\")","v":""},null,null,0,0,0,0,0,0,0,0,0,0,0,0,0,null,970]
[{"$f":"+Declarations!A972&\"\"","v":""},{"$f":"IF(LEN($A972),IF(LEN(Declarations!$B972)>0,Declarations!$B972,\"#\"&$A972),\"\")","v":""},"...","","00:00:00",0,"","",0,{"$f":"IF(LEN($A972)>0,IF(LEN(Declarations!$F972)>0,Declarations!$F972,conftype),\"\")","v":""},null,null,0,0,0,0,0,0,0,0,0,0,0,0,0,null,971]
[{"$f":"+Declarations!A973&\"\"","v":""},{"$f":"IF(LEN($A973),IF(LEN(Declarations!$B973)>0,Declarations!$B973,\"#\"&$A973),\"\")","v":""},"...","","00:00:00",0,"","",0,{"$f":"IF(LEN($A973)>0,IF(LEN(Declarations!$F973)>0,Declarations!$F973,conftype),\"\")","v":""},null,null,0,0,0,0,0,0,0,0,0,0,0,0,0,null,972]
[{"$f":"+Declarations!A974&\"\"","v":""},{"$f":"IF(LEN($A974),IF(LEN(Declarations!$B974)>0,Declarations!$B974,\"#\"&$A974),\"\")","v":""},"...","","00:00:00",0,"","",0,{"$f":"IF(LEN($A974)>0,IF(LEN(Declarations!$F974)>0,Declarations!$F974,conftype),\"\")","v":""},null,null,0,0,0,0,0,0,0,0,0,0,0,0,0,null,973]
[{"$f":"+Declarations!A975&\"\"","v":""},{"$f":"IF(LEN($A975),IF(LEN(Declarations!$B975)>0,Declarations!$B975,\"#\"&$A975),\"\")","v":""},"...","","00:00:00",0,"","",0,{"$f":"IF(LEN($A975)>0,IF(LEN(Declarations!$F975)>0,Declarations!$F975,conftype),\"\")","v":""},null,null,0,0,0,0,0,0,0,0,0,0,0,0,0,null,974]
[{"$f":"+Declarations!A976&\"\"","v":""},{"$f":"IF(LEN($A976),IF(LEN(Declarations!$B976)>0,Declarations!$B976,\"#\"&$A976),\"\")","v":""},"...","","00:00:00",0,"","",0,{"$f":"IF(LEN($A976)>0,IF(LEN(Declarations!$F976)>0,Declarations!$F976,conftype),\"\")","v":""},null,null,0,0,0,0,0,0,0,0,0,0,0,0,0,null,975]
[{"$f":"+Declarations!A977&\"\"","v":""},{"$f":"IF(LEN($A977),IF(LEN(Declarations!$B977)>0,Declarations!$B977,\"#\"&$A977),\"\")","v":""},"...","","00:00:00",0,"","",0,{"$f":"IF(LEN($A977)>0,IF(LEN(Declarations!$F977)>0,Declarations!$F977,conftype),\"\")","v":""},null,null,0,0,0,0,0,0,0,0,0,0,0,0,0,null,976]
[{"$f":"+Declarations!A978&\"\"","v":""},{"$f":"IF(LEN($A978),IF(LEN(Declarations!$B978)>0,Declarations!$B978,\"#\"&$A978),\"\")","v":""},"...","","00:00:00",0,"","",0,{"$f":"IF(LEN($A978)>0,IF(LEN(Declarations!$F978)>0,Declarations!$F978,conftype),\"\")","v":""},null,null,0,0,0,0,0,0,0,0,0,0,0,0,0,null,977]
[{"$f":"+Declarations!A979&\"\"","v":""},{"$f":"IF(LEN($A979),IF(LEN(Declarations!$B979)>0,Declarations!$B979,\"#\"&$A979),\"\")","v":""},"...","","00:00:00",0,"","",0,{"$f":"IF(LEN($A979)>0,IF(LEN(Declarations!$F979)>0,Declarations!$F979,conftype),\"\")","v":""},null,null,0,0,0,0,0,0,0,0,0,0,0,0,0,null,978]
[{"$f":"+Declarations!A980&\"\"","v":""},{"$f":"IF(LEN($A980),IF(LEN(Declarations!$B980)>0,Declarations!$B980,\"#\"&$A980),\"\")","v":""},"...","","00:00:00",0,"","",0,{"$f":"IF(LEN($A980)>0,IF(LEN(Declarations!$F980)>0,Declarations!$F980,conftype),\"\")","v":""},null,null,0,0,0,0,0,0,0,0,0,0,0,0,0,null,979]
[{"$f":"+Declarations!A981&\"\"","v":""},{"$f":"IF(LEN($A981),IF(LEN(Declarations!$B981)>0,Declarations!$B981,\"#\"&$A981),\"\")","v":""},"...","","00:00:00",0,"","",0,{"$f":"IF(LEN($A981)>0,IF(LEN(Declarations!$F981)>0,Declarations!$F981,conftype),\"\")","v":""},null,null,0,0,0,0,0,0,0,0,0,0,0,0,0,null,980]
[{"$f":"+Declarations!A982&\"\"","v":""},{"$f":"IF(LEN($A982),IF(LEN(Declarations!$B982)>0,Declarations!$B982,\"#\"&$A982),\"\")","v":""},"...","","00:00:00",0,"","",0,{"$f":"IF(LEN($A982)>0,IF(LEN(Declarations!$F982)>0,Declarations!$F982,conftype),\"\")","v":""},null,null,0,0,0,0,0,0,0,0,0,0,0,0,0,null,981]
[{"$f":"+Declarations!A983&\"\"","v":""},{"$f":"IF(LEN($A983),IF(LEN(Declarations!$B983)>0,Declarations!$B983,\"#\"&$A983),\"\")","v":""},"...","","00:00:00",0,"","",0,{"$f":"IF(LEN($A983)>0,IF(LEN(Declarations!$F983)>0,Declarations!$F983,conftype),\"\")","v":""},null,null,0,0,0,0,0,0,0,0,0,0,0,0,0,null,982]
[{"$f":"+Declarations!A984&\"\"","v":""},{"$f":"IF(LEN($A984),IF(LEN(Declarations!$B984)>0,Declarations!$B984,\"#\"&$A984),\"\")","v":""},"...","","00:00:00",0,"","",0,{"$f":"IF(LEN($A984)>0,IF(LEN(Declarations!$F984)>0,Declarations!$F984,conftype),\"\")","v":""},null,null,0,0,0,0,0,0,0,0,0,0,0,0,0,null,983]
[{"$f":"+Declarations!A985&\"\"","v":""},{"$f":"IF(LEN($A985),IF(LEN(Declarations!$B985)>0,Declarations!$B985,\"#\"&$A985),\"\")","v":""},"...","","00:00:00",0,"","",0,{"$f":"IF(LEN($A985)>0,IF(LEN(Declarations!$F985)>0,Declarations!$F985,conftype),\"\")","v":""},null,null,0,0,0,0,0,0,0,0,0,0,0,0,0,null,984]
[{"$f":"+Declarations!A986&\"\"","v":""},{"$f":"IF(LEN($A986),IF(LEN(Declarations!$B986)>0,Declarations!$B986,\"#\"&$A986),\"\")","v":""},"...","","00:00:00",0,"","",0,{"$f":"IF(LEN($A986)>0,IF(LEN(Declarations!$F986)>0,Declarations!$F986,conftype),\"\")","v":""},null,null,0,0,0,0,0,0,0,0,0,0,0,0,0,null,985]
[{"$f":"+Declarations!A987&\"\"","v":""},{"$f":"IF(LEN($A987),IF(LEN(Declarations!$B987)>0,Declarations!$B987,\"#\"&$A987),\"\")","v":""},"...","","00:00:00",0,"","",0,{"$f":"IF(LEN($A987)>0,IF(LEN(Declarations!$F987)>0,Declarations!$F987,conftype),\"\")","v":""},null,null,0,0,0,0,0,0,0,0,0,0,0,0,0,null,986]
[{"$f":"+Declarations!A988&\"\"","v":""},{"$f":"IF(LEN($A988),IF(LEN(Declarations!$B988)>0,Declarations!$B988,\"#\"&$A988),\"\")","v":""},"...","","00:00:00",0,"","",0,{"$f":"IF(LEN($A988)>0,IF(LEN(Declarations!$F988)>0,Declarations!$F988,conftype),\"\")","v":""},null,null,0,0,0,0,0,0,0,0,0,0,0,0,0,null,987]
[{"$f":"+Declarations!A989&\"\"","v":""},{"$f":"IF(LEN($A989),IF(LEN(Declarations!$B989)>0,Declarations!$B989,\"#\"&$A989),\"\")","v":""},"...","","00:00:00",0,"","",0,{"$f":"IF(LEN($A989)>0,IF(LEN(Declarations!$F989)>0,Declarations!$F989,conftype),\"\")","v":""},null,null,0,0,0,0,0,0,0,0,0,0,0,0,0,null,988]
[{"$f":"+Declarations!A990&\"\"","v":""},{"$f":"IF(LEN($A990),IF(LEN(Declarations!$B990)>0,Declarations!$B990,\"#\"&$A990),\"\")","v":""},"...","","00:00:00",0,"","",0,{"$f":"IF(LEN($A990)>0,IF(LEN(Declarations!$F990)>0,Declarations!$F990,conftype),\"\")","v":""},null,null,0,0,0,0,0,0,0,0,0,0,0,0,0,null,989]
[{"$f":"+Declarations!A991&\"\"","v":""},{"$f":"IF(LEN($A991),IF(LEN(Declarations!$B991)>0,Declarations!$B991,\"#\"&$A991),\"\")","v":""},"...","","00:00:00",0,"","",0,{"$f":"IF(LEN($A991)>0,IF(LEN(Declarations!$F991)>0,Declarations!$F991,conftype),\"\")","v":""},null,null,0,0,0,0,0,0,0,0,0,0,0,0,0,null,990]
[{"$f":"+Declarations!A992&\"\"","v":""},{"$f":"IF(LEN($A992),IF(LEN(Declarations!$B992)>0,Declarations!$B992,\"#\"&$A992),\"\")","v":""},"...","","00:00:00",0,"","",0,{"$f":"IF(LEN($A992)>0,IF(LEN(Declarations!$F992)>0,Declarations!$F992,conftype),\"\")","v":""},null,null,0,0,0,0,0,0,0,0,0,0,0,0,0,null,991]
[{"$f":"+Declarations!A993&\"\"","v":""},{"$f":"IF(LEN($A993),IF(LEN(Declarations!$B993)>0,Declarations!$B993,\"#\"&$A993),\"\")","v":""},"...","","00:00:00",0,"","",0,{"$f":"IF(LEN($A993)>0,IF(LEN(Declarations!$F993)>0,Declarations!$F993,conftype),\"\")","v":""},null,null,0,0,0,0,0,0,0,0,0,0,0,0,0,null,992]
[{"$f":"+Declarations!A994&\"\"","v":""},{"$f":"IF(LEN($A994),IF(LEN(Declarations!$B994)>0,Declarations!$B994,\"#\"&$A994),\"\")","v":""},"...","","00:00:00",0,"","",0,{"$f":"IF(LEN($A994)>0,IF(LEN(Declarations!$F994)>0,Declarations!$F994,conftype),\"\")","v":""},null,null,0,0,0,0,0,0,0,0,0,0,0,0,0,null,993]
[{"$f":"+Declarations!A995&\"\"","v":""},{"$f":"IF(LEN($A995),IF(LEN(Declarations!$B995)>0,Declarations!$B995,\"#\"&$A995),\"\")","v":""},"...","","00:00:00",0,"","",0,{"$f":"IF(LEN($A995)>0,IF(LEN(Declarations!$F995)>0,Declarations!$F995,conftype),\"\")","v":""},null,null,0,0,0,0,0,0,0,0,0,0,0,0,0,null,994]
[{"$f":"+Declarations!A996&\"\"","v":""},{"$f":"IF(LEN($A996),IF(LEN(Declarations!$B996)>0,Declarations!$B996,\"#\"&$A996),\"\")","v":""},"...","","00:00:00",0,"","",0,{"$f":"IF(LEN($A996)>0,IF(LEN(Declarations!$F996)>0,Declarations!$F996,conftype),\"\")","v":""},null,null,0,0,0,0,0,0,0,0,0,0,0,0,0,null,995]
[{"$f":"+Declarations!A997&\"\"","v":""},{"$f":"IF(LEN($A997),IF(LEN(Declarations!$B997)>0,Declarations!$B997,\"#\"&$A997),\"\")","v":""},"...","","00:00:00",0,"","",0,{"$f":"IF(LEN($A997)>0,IF(LEN(Declarations!$F997)>0,Declarations!$F997,conftype),\"\")","v":""},null,null,0,0,0,0,0,0,0,0,0,0,0,0,0,null,996]
[{"$f":"+Declarations!A998&\"\"","v":""},{"$f":"IF(LEN($A998),IF(LEN(Declarations!$B998)>0,Declarations!$B998,\"#\"&$A998),\"\")","v":""},"...","","00:00:00",0,"","",0,{"$f":"IF(LEN($A998)>0,IF(LEN(Declarations!$F998)>0,Declarations!$F998,conftype),\"\")","v":""},null,null,0,0,0,0,0,0,0,0,0,0,0,0,0,null,997]
[{"$f":"+Declarations!A999&\"\"","v":""},{"$f":"IF(LEN($A999),IF(LEN(Declarations!$B999)>0,Declarations!$B999,\"#\"&$A999),\"\")","v":""},"...","","00:00:00",0,"","",0,{"$f":"IF(LEN($A999)>0,IF(LEN(Declarations!$F999)>0,Declarations!$F999,conftype),\"\")","v":""},null,null,0,0,0,0,0,0,0,0,0,0,0,0,0,null,998]
[{"$f":"+Declarations!A1000&\"\"","v":""},{"$f":"IF(LEN($A1000),IF(LEN(Declarations!$B1000)>0,Declarations!$B1000,\"#\"&$A1000),\"\")","v":""},"...","","00:00:00",0,"","",0,{"$f":"IF(LEN($A1000)>0,IF(LEN(Declarations!$F1000)>0,Declarations!$F1000,conftype),\"\")","v":""},null,null,0,0,0,0,0,0,0,0,0,0,0,0,0,null,999]
[{"$f":"+Declarations!A1001&\"\"","v":""},{"$f":"IF(LEN($A1001),IF(LEN(Declarations!$B1001)>0,Declarations!$B1001,\"#\"&$A1001),\"\")","v":""},"...","","00:00:00",0,"","",0,{"$f":"IF(LEN($A1001)>0,IF(LEN(Declarations!$F1001)>0,Declarations!$F1001,conftype),\"\")","v":""},null,null,0,0,0,0,0,0,0,0,0,0,0,0,0,null,1000]

{"sheet":"ScorngTable","index":6,"n_rows":97,"n_cols":9,"rows_kept":97,"cut":false,"hidden":false,"merged":[[0,0,0,8],[1,1,1,3]]}
[{"$f":"+Setup!B27","v":"QuadKids Primary"}]
[]
["Points",{"$f":"+Setup!B30","v":"75m"},null,null,{"$f":"+Setup!C30","v":"600m"},{"$f":"+Setup!D30","v":"SLJ"},{"$f":"+Setup!E30","v":"Howler"},{"$f":"+Setup!F30","v":"Relay"},"Points"]
["INC",{"$f":"+Setup!B33","v":0.1},null,null,{"$f":"+Setup!C33","v":0.01},{"$f":"+Setup!D33","v":0.02},{"$f":"+Setup!E33","v":0.5},{"$f":"+Setup!F33","v":0.5},{"$f":"+A4","v":"INC"}]
["MIN",{"$f":"+Setup!B31","v":16},null,null,{"$f":"+Setup!C31","v":3},{"$f":"+Setup!D31","v":1.02},{"$f":"+Setup!E31","v":5},{"$f":"+Setup!F31","v":94},{"$f":"+A5","v":"MIN"}]
["MAX",{"$f":"+B97","v":7.000000000000032},null,null,{"$f":"+E97","v":1.3000000000000123},{"$f":"+F97","v":2.8200000000000016},{"$f":"+G97","v":50},{"$f":"+H97","v":49},"MAX"]
[{"$f":"+MinPoints","v":10},{"$f":"+B5","v":16},null,null,{"$f":"+E5","v":3},{"$f":"+F5","v":1.02},{"$f":"+G5","v":5},{"$f":"+H5","v":94},10]
[{"$f":"+A7+1","v":11},{"$f":"+B7-$B$4","v":15.9},null,null,{"$f":"IF(MOD(E7-$E$4,1)>0.59,E7-0.41,E7-$E$4)","v":2.59},{"$f":"+F7+$F$4","v":1.04},{"$f":"+G7+$G$4","v":5.5},{"$f":"+H7-$H$4","v":93.5},11]
[{"$f":"+A8+1","v":12},{"$f":"+B8-$B$4","v":15.8},null,null,{"$f":"IF(MOD(E8-$E$4,1)>0.59,E8-0.41,E8-$E$4)","v":2.58},{"$f":"+F8+$F$4","v":1.06},{"$f":"+G8+$G$4","v":6},{"$f":"+H8-$H$4","v":93},12]
[13,15.700000000000001,null,null,2.5700000000000003,1.08,6.5,92.5,13]
[14,15.600000000000001,null,null,2.5600000000000005,1.1000000000000001,7,92,14]
[15,15.500000000000002,null,null,2.5500000000000007,1.1200000000000001,7.5,91.5,15]
[16,15.400000000000002,null,null,2.5400000000000009,1.1400000000000001,8,91,16]
[17,15.300000000000002,null,null,2.5300000000000011,1.1600000000000001,8.5,90.5,17]
[18,15.200000000000003,null,null,2.5200000000000014,1.1800000000000002,9,90,18]
[19,15.100000000000003,null,null,2.5100000000000016,1.2000000000000002,9.5,89.5,19]
[20,15.000000000000004,null,null,2.5000000000000018,1.2200000000000002,10,89,20]
[21,14.900000000000004,null,null,2.490000000000002,1.2400000000000002,10.5,88.5,21]
[22,14.800000000000004,null,null,2.4800000000000022,1.2600000000000002,11,88,22]
[23,14.700000000000005,null,null,2.4700000000000024,1.2800000000000002,11.5,87.5,23]
[24,14.600000000000005,null,null,2.4600000000000026,1.3000000000000003,12,87,24]
[25,14.500000000000005,null,null,2.4500000000000028,1.3200000000000003,12.5,86.5,25]
[26,14.400000000000006,null,null,2.4400000000000031,1.3400000000000003,13,86,26]
[27,14.300000000000006,null,null,2.4300000000000033,1.3600000000000003,13.5,85.5,27]
[28,14.200000000000006,null,null,2.4200000000000035,1.3800000000000003,14,85,28]
[29,14.100000000000007,null,null,2.4100000000000037,1.4000000000000004,14.5,84.5,29]
[30,14.000000000000007,null,null,2.4000000000000039,1.4200000000000004,15,84,30]
[31,13.900000000000007,null,null,2.3900000000000041,1.4400000000000004,15.5,83.5,31]
[32,13.800000000000008,null,null,2.3800000000000043,1.4600000000000004,16,83,32]
[33,13.700000000000008,null,null,2.3700000000000045,1.4800000000000004,16.5,82.5,33]
[34,13.600000000000009,null,null,2.3600000000000048,1.5000000000000004,17,82,34]
[35,13.500000000000009,null,null,2.350000000000005,1.5200000000000005,17.5,81.5,35]
[36,13.400000000000009,null,null,2.3400000000000052,1.5400000000000005,18,81,36]
[37,13.30000000000001,null,null,2.3300000000000054,1.5600000000000005,18.5,80.5,37]
[38,13.20000000000001,null,null,2.3200000000000056,1.5800000000000005,19,80,38]
[39,13.10000000000001,null,null,2.3100000000000058,1.6000000000000005,19.5,79.5,39]
[40,13.000000000000011,null,null,2.300000000000006,1.6200000000000006,20,79,40]
[41,12.900000000000011,null,null,2.2900000000000063,1.6400000000000006,20.5,78.5,41]
[42,12.800000000000011,null,null,2.2800000000000065,1.6600000000000006,21,78,42]
[43,12.700000000000012,null,null,2.2700000000000067,1.6800000000000006,21.5,77.5,43]
[44,12.600000000000012,null,null,2.2600000000000069,1.7000000000000006,22,77,44]
[45,12.500000000000012,null,null,2.2500000000000071,1.7200000000000006,22.5,76.5,45]
[46,12.400000000000013,null,null,2.2400000000000073,1.7400000000000007,23,76,46]
[47,12.300000000000013,null,null,2.2300000000000075,1.7600000000000007,23.5,75.5,47]
[48,12.200000000000014,null,null,2.2200000000000077,1.7800000000000007,24,75,48]
[49,12.100000000000014,null,null,2.210000000000008,1.8000000000000007,24.5,74.5,49]
[50,12.000000000000014,null,null,2.2000000000000082,1.8200000000000007,25,74,50]
[51,11.900000000000015,null,null,2.1900000000000084,1.8400000000000007,25.5,73.5,51]
[52,11.800000000000015,null,null,2.1800000000000086,1.8600000000000008,26,73,52]
[53,11.700000000000015,null,null,2.1700000000000088,1.8800000000000008,26.5,72.5,53]
[54,11.600000000000016,null,null,2.160000000000009,1.9000000000000008,27,72,54]
[55,11.500000000000016,null,null,2.1500000000000092,1.9200000000000008,27.5,71.5,55]
[56,11.400000000000016,null,null,2.1400000000000095,1.9400000000000008,28,71,56]
[57,11.300000000000017,null,null,2.1300000000000097,1.9600000000000009,28.5,70.5,57]
[58,11.200000000000017,null,null,2.1200000000000099,1.9800000000000009,29,70,58]
[59,11.100000000000017,null,null,2.1100000000000101,2.0000000000000009,29.5,69.5,59]
[60,11.000000000000018,null,null,2.1000000000000103,2.0200000000000009,30,69,60]
[61,10.900000000000018,null,null,2.0900000000000105,2.0400000000000009,30.5,68.5,61]
[62,10.800000000000018,null,null,2.0800000000000107,2.0600000000000009,31,68,62]
[63,10.700000000000019,null,null,2.0700000000000109,2.080000000000001,31.5,67.5,63]
[64,10.600000000000019,null,null,2.0600000000000112,2.100000000000001,32,67,64]
[65,10.50000000000002,null,null,2.0500000000000114,2.120000000000001,32.5,66.5,65]
[66,10.40000000000002,null,null,2.0400000000000116,2.140000000000001,33,66,66]
[67,10.30000000000002,null,null,2.0300000000000118,2.160000000000001,33.5,65.5,67]
[68,10.200000000000021,null,null,2.020000000000012,2.180000000000001,34,65,68]
[69,10.100000000000021,null,null,2.0100000000000122,2.2000000000000011,34.5,64.5,69]
[70,10.000000000000021,null,null,2.0000000000000124,2.2200000000000011,35,64,70]
[71,9.9000000000000217,null,null,1.5900000000000125,2.2400000000000011,35.5,63.5,71]
[72,9.800000000000022,null,null,1.5800000000000125,2.2600000000000011,36,63,{"$f":"+A69","v":72}]
[73,9.7000000000000224,null,null,1.5700000000000125,2.2800000000000011,36.5,62.5,73]
[74,9.6000000000000227,null,null,1.5600000000000125,2.3000000000000012,37,62,74]
[75,9.5000000000000231,null,null,1.5500000000000125,2.3200000000000012,37.5,61.5,75]
[{"$f":"+A72+1","v":76},{"$f":"+B72-$B$4","v":9.4000000000000234},null,null,{"$f":"IF(MOD(E72-$E$4,1)>0.59,E72-0.41,E72-$E$4)","v":1.5400000000000125},{"$f":"+F72+$F$4","v":2.3400000000000012},{"$f":"+G72+$G$4","v":38},{"$f":"+H72-$H$4","v":61},76]
[77,9.3000000000000238,null,null,1.5300000000000125,2.3600000000000012,38.5,60.5,77]
[78,9.2000000000000242,null,null,1.5200000000000125,2.3800000000000012,39,60,78]
[79,9.1000000000000245,null,null,1.5100000000000124,2.4000000000000012,39.5,59.5,79]
[80,9.0000000000000249,null,null,1.5000000000000124,2.4200000000000013,40,59,80]
[81,8.9000000000000252,null,null,1.4900000000000124,2.4400000000000013,40.5,58.5,81]
[82,8.8000000000000256,null,null,1.4800000000000124,2.4600000000000013,41,58,82]
[83,8.7000000000000259,null,null,1.4700000000000124,2.4800000000000013,41.5,57.5,83]
[84,8.6000000000000263,null,null,1.4600000000000124,2.5000000000000013,42,57,84]
[85,8.5000000000000266,null,null,1.4500000000000124,2.5200000000000014,42.5,56.5,85]
[86,8.400000000000027,null,null,1.4400000000000124,2.5400000000000014,43,56,86]
[87,8.3000000000000274,null,null,1.4300000000000124,2.5600000000000014,43.5,55.5,87]
[88,8.2000000000000277,null,null,1.4200000000000124,2.5800000000000014,44,55,88]
[89,8.1000000000000281,null,null,1.4100000000000124,2.6000000000000014,44.5,54.5,89]
[90,8.0000000000000284,null,null,1.4000000000000123,2.6200000000000014,45,54,90]
[91,7.9000000000000288,null,null,1.3900000000000123,2.6400000000000015,45.5,53.5,91]
[92,7.8000000000000291,null,null,1.3800000000000123,2.6600000000000015,46,53,92]
[93,7.7000000000000295,null,null,1.3700000000000123,2.6800000000000015,46.5,52.5,93]
[94,7.6000000000000298,null,null,1.3600000000000123,2.7000000000000015,47,52,94]
[95,7.5000000000000302,null,null,1.3500000000000123,2.7200000000000015,47.5,51.5,95]
[96,7.4000000000000306,null,null,1.3400000000000123,2.7400000000000015,48,51,96]
[97,7.3000000000000309,null,null,1.3300000000000123,2.7600000000000016,48.5,50.5,97]
[98,7.2000000000000313,null,null,1.3200000000000123,2.7800000000000016,49,50,98]
[99,7.1000000000000316,null,null,1.3100000000000123,2.8000000000000016,49.5,49.5,99]
[100,7.000000000000032,null,null,1.3000000000000123,2.8200000000000016,50,49,100]

{"sheet":"UKA Awards","index":7,"n_rows":42,"n_cols":26,"rows_kept":42,"cut":false,"hidden":false,"merged":[[2,23,2,25],[21,23,21,25],[2,11,2,13],[2,14,2,16],[3,6,4,6],[2,17,2,19],[2,20,2,22],[2,10,3,10],[21,10,22,10],[21,11,21,13],[21,14,21,16],[21,17,21,19],[21,20,21,22],[41,0,41,6],[40,0,40,6],[0,0,0,6],[22,6,23,6],[22,5,23,5]]}
["UKA Awards"]
[null,0,1,2,3,4,null,null,{"$f":"OR(MatchType=\"QuadKids Secondary\",MatchType=\"QuadKids Club\")","v":false},{"$f":"OR(MatchType=\"QuadKids Secondary\",MatchType=\"QuadKids Club\")","v":false}]
["Boys",null,null,null,null,null,null,null,null,null,"Boys","E1",null,null,"E2",null,null,"E3",null,null,"E4",null,null,"Quadrathlon"]
[null,"E1","E2","E3","E4",null,"Award",null,null,null,null,"S1","S2","Inc","S1","S2","Inc","S1","S2","Inc","S1","S2","Inc","S1","S2","Inc"]
[null,{"$f":"+Setup!B30","v":"75m"},{"$f":"+Setup!C30","v":"600m"},{"$f":"+Setup!D30","v":"SLJ"},{"$f":"+Setup!E30","v":"Howler"},"Quadrathlon",null,null,null,null,"Start",13,12,0.4,"00:02:05","00:01:55","00:00:04",0.75,1,0.1,2.5,7.5,2,40,92,12]
["Inc",{"$f":"INDEX(BoysAwards,AwardsIndex,(B$2*3)+3)","v":0.4},{"$f":"INDEX(BoysAwards,AwardsIndex,(C$2*3)+3)","v":"00:00:04"},{"$f":"INDEX(BoysAwards,AwardsIndex,(D$2*3)+3)","v":0.08},{"$f":"INDEX(BoysAwards,AwardsIndex,(E$2*3)+3)","v":2},{"$f":"INDEX(BoysAwards,AwardsIndex,(F$2*3)+3)","v":12},null,null,null,null,"Primary",16,15,0.4,"00:03:00","00:02:50","00:00:04",1,1.22,0.08,5,10,2,40,92,12]
["Step 1",{"$f":"INDEX(BoysAwards,AwardsIndex,(B$2*3)+1)","v":16},{"$f":"INDEX(BoysAwards,AwardsIndex,(C$2*3)+1)","v":"00:03:00"},{"$f":"INDEX(BoysAwards,AwardsIndex,(D$2*3)+1)","v":1},{"$f":"INDEX(BoysAwards,AwardsIndex,(E$2*3)+1)","v":5},{"$f":"INDEX(BoysAwards,AwardsIndex,(F$2*3)+1)","v":40},{"$f":"IF(F7>0,I7,\"\")","v":"Step 1"},null,"Step 1",null,"Secondary",19,16.5,0.5,"00:03:25","00:03:00","00:00:05",2,3.05,0.25,6,10,2,40,120,20]
["Step 2",{"$f":"INDEX(BoysAwards,AwardsIndex,(B$2*3)+2)","v":15},{"$f":"INDEX(BoysAwards,AwardsIndex,(C$2*3)+2)","v":"00:02:50"},{"$f":"INDEX(BoysAwards,AwardsIndex,(D$2*3)+2)","v":1.22},{"$f":"INDEX(BoysAwards,AwardsIndex,(E$2*3)+2)","v":10},{"$f":"INDEX(BoysAwards,AwardsIndex,(F$2*3)+2)","v":92},"Step 2",null,"Step 2",null,"Pre-Start",13,12,0.4,"00:02:05","00:01:55","00:00:04",0.75,1,0.1,2.5,7.5,2,40,92,12]
["Step 3",{"$f":"+B8-B$6","v":14.6},{"$f":"+C8-C$6","v":"00:02:46"},{"$f":"+D8+D$6","v":1.3},{"$f":"+E8+E$6","v":12},{"$f":"+F8+F$6","v":104},"Step 3",null,"Step 3"]
["Step 4",14.2,"00:02:42",1.3800000000000001,14,116,"Step 4",null,"Step 4",null,"No awards",0,0,0,"00:00:00","00:00:00","00:00:00",0,0,0,0,0,0,0,0,0]
["Step 5",13.799999999999999,"00:02:38",1.4600000000000002,16,128,"Step 5",null,"Step 5"]
["Step 6",13.399999999999999,"00:02:34",1.5400000000000003,18,140,"Step 6",null,"Step 6"]
["Step 7",12.999999999999998,"00:02:30",1.6200000000000003,20,152,"Step 7",null,{"$f":"IF(NineStep,\"Bronze\",\"Step 7\")","v":"Step 7"}]
["Step 8",12.599999999999998,"00:02:26",1.7000000000000004,22,164,"Step 8",null,{"$f":"IF(NineStep,\"Silver\",\"Step 8\")","v":"Step 8"}]
["Step 9",12.199999999999998,"00:02:22",1.7800000000000005,24,176,"Step 9",null,{"$f":"IF(NineStep,\"Gold\",\"Step 9\")","v":"Step 9"}]
["Step 10",11.799999999999997,"00:02:18",1.8600000000000005,26,188,"Step 10",null,{"$f":"IF(NineStep,\"Gold\",\"Step 10\")","v":"Step 10"}]
["Bronze",11.399999999999997,"00:02:14",1.9400000000000006,28,200,"Bronze",null,{"$f":"IF(NineStep,\"Gold\",\"Bronze\")","v":"Bronze"}]
["Silver",10.999999999999996,"00:02:10",2.0200000000000005,30,212,"Silver",null,{"$f":"IF(NineStep,\"Gold\",\"Silver\")","v":"Silver"}]
["Gold",10.599999999999996,"00:02:06",2.1000000000000005,32,224,"Gold",null,"Gold"]
[]
[]
["Girls",null,null,null,null,null,null,null,null,null,"GIRLS","E1",null,null,"E2",null,null,"E3",null,null,"E4",null,null,"Quadrathlon"]
[null,"E1","E2","E3","E4","Quadrathlon","Award",null,null,null,null,"S1","S2","Inc","S1","S2","Inc","S1","S2","Inc","S1","S2","Inc","S1","S2","Inc"]
[null,{"$f":"+B5","v":"75m"},{"$f":"+C5","v":"600m"},{"$f":"+D5","v":"SLJ"},{"$f":"+E5","v":"Howler"},null,null,null,null,null,"Start",13,12,0.4,"00:02:05","00:02:03","00:00:04",0.75,1,0.1,2.5,7.5,2,40,60,12]
["Inc",{"$f":"INDEX(GirlsAwards,AwardsIndex,(B$2*3)+3)","v":0.4},{"$f":"INDEX(GirlsAwards,AwardsIndex,(C$2*3)+3)","v":"00:00:04"},{"$f":"INDEX(GirlsAwards,AwardsIndex,(D$2*3)+3)","v":0.08},{"$f":"INDEX(GirlsAwards,AwardsIndex,(E$2*3)+3)","v":8},{"$f":"INDEX(GirlsAwards,AwardsIndex,(F$2*3)+3)","v":12},null,null,null,null,"Primary",16,15.8,0.4,"00:03:00","00:02:58","00:00:04",1,1.06,0.08,5,6,8,40,60,12]
["Step 1",{"$f":"INDEX(GirlsAwards,AwardsIndex,(B$2*3)+1)","v":16},{"$f":"INDEX(GirlsAwards,AwardsIndex,(C$2*3)+1)","v":"00:03:00"},{"$f":"INDEX(GirlsAwards,AwardsIndex,(D$2*3)+1)","v":1},{"$f":"INDEX(GirlsAwards,AwardsIndex,(E$2*3)+1)","v":5},{"$f":"INDEX(GirlsAwards,AwardsIndex,(F$2*3)+1)","v":40},{"$f":"IF(F26>0,I26,\"\")","v":"Step 1"},null,"Step 1",null,"Secondary",19,17.5,0.5,"00:03:25","00:03:10","00:00:05",2,2.5499999999999998,0.25,6,10,2,40,80,20]
["Step 2",{"$f":"INDEX(GirlsAwards,AwardsIndex,(B$2*3)+2)","v":15.8},{"$f":"INDEX(GirlsAwards,AwardsIndex,(C$2*3)+2)","v":"00:02:58"},{"$f":"INDEX(GirlsAwards,AwardsIndex,(D$2*3)+2)","v":1.06},{"$f":"INDEX(GirlsAwards,AwardsIndex,(E$2*3)+2)","v":6},{"$f":"INDEX(GirlsAwards,AwardsIndex,(F$2*3)+2)","v":60},"Step 2",null,"Step 2",null,"Pre-Start",13,12,0.4,"00:02:05","00:02:03","00:00:04",0.75,1,0.1,2.5,7.5,2,40,60,12]
["Step 3",{"$f":"+B27-B$6","v":15.4},{"$f":"+C27-C$6","v":"00:02:54"},{"$f":"+D27+D$6","v":1.1400000000000001},{"$f":"+E27+E$6","v":8},{"$f":"+F27+F$6","v":72},"Step 3",null,"Step 3"]
["Step 4",15,"00:02:50",1.2200000000000002,10,84,"Step 4",null,"Step 4",null,"No awards",0,0,0,"00:00:00","00:00:00","00:00:00",0,0,0,0,0,0,0,0,0]
["Step 5",14.6,"00:02:46",1.3000000000000003,12,96,"Step 5",null,"Step 5"]
["Step 6",14.2,"00:02:42",1.3800000000000003,14,108,"Step 6",null,"Step 6"]
["Step 7",13.799999999999999,"00:02:38",1.4600000000000004,16,120,"Step 7",null,{"$f":"IF(NineStep,\"Bronze\",\"Step 7\")","v":"Step 7"}]
["Step 8",13.399999999999999,"00:02:34",1.5400000000000005,18,132,"Step 8",null,{"$f":"IF(NineStep,\"Silver\",\"Step 8\")","v":"Step 8"}]
["Step 9",12.999999999999998,"00:02:30",1.6200000000000006,20,144,"Step 9",null,{"$f":"IF(NineStep,\"Gold\",\"Step 9\")","v":"Step 9"}]
["Step 10",12.599999999999998,"00:02:26",1.7000000000000006,22,156,"Step 10",null,{"$f":"IF(NineStep,\"Gold\",\"Step 10\")","v":"Step 10"}]
["Bronze",12.199999999999998,"00:02:22",1.7800000000000007,24,168,"Bronze",null,{"$f":"IF(NineStep,\"Gold\",\"Bronze\")","v":"Bronze"}]
["Silver",11.799999999999997,"00:02:18",1.8600000000000008,26,180,"Silver",null,{"$f":"IF(NineStep,\"Gold\",\"Silver\")","v":"Silver"}]
["Gold",11.399999999999997,"00:02:14",1.9400000000000008,28,192,"Gold",null,"Gold"]
[]
[]
["UKA Awards information can be found here"]
["http://www.quadkids.org/awards"]

{"sheet":"EVENT - SPRNT","index":8,"n_rows":1002,"n_cols":24,"rows_kept":1002,"cut":false,"hidden":false,"merged":[[0,0,0,1]]}
[{"$f":"\"Event:\"","v":"Event:"},null,"SPRINT",null,null,{"$f":"IF(TotalAthletes,COUNTIF(D3:D1002,\">0\")/TotalAthletes,0)","v":0.88888888888888884},null,null,null,"EvtIdx",1,"Min",{"$f":"+INDEX(ScoreValues,2,$K$1)","v":16},"Inc",{"$f":"+INDEX(ScoreValues,4,$K$1)","v":0.1},null,"Max",{"$f":"+INDEX(ScoreValues,3,$K$1)","v":7.000000000000032},null,"DefAgeGrp",{"$f":"+EventIndex","v":4}]
["Athlete No","Time (ss.s)","Name","Points",null,"Duplicates","CheckPoint","ValidAthlete","AthleteIdx","Dgroup","Seconds","Adjusted","Points","Max","Min","Inc","AgeGroup",null,"MIN","INC",null,"Inc_Idx","MIN","INC"]
[3,12.3,{"$f":"IF(I3>0,INDEX(DB,I3,8),\"\")","v":"Jess Bailey"},{"$f":"IF(AND(H3,B3>0,ISNUMBER(B3)),IF(ISERR(M3),0,M3),0)","v":47},null,{"$f":"COUNTIF(A$3:A$1002,A3)","v":1},{"$f":"IF(AND(H3,OR(D3<=10,D3>=90)),\"CHECK\",\"\")","v":""},{"$f":"IF(AND(LEN(A3)>0,LEN(C3)>0,B3<>0),TRUE,FALSE)","v":true},{"$f":"IF(OR(ISBLANK(A3),ISNA(MATCH(A3&\"\",AthleteNumbers,0))),0,MATCH(A3&\"\",AthleteNumbers,0))","v":1},{"$f":"IF(I3>0,INDEX(DB,$I3,6),0)","v":0},{"$f":"IF(ISNUMBER(B3),ROUND(+B3,1),0)","v":12.3},{"$f":"+K3","v":12.3},{"$f":"IF(AND(L3>O3,O3>0),MinPoints,IF(L3<N3,100,+INT((O3-$L3)/P3)+MinPoints))","v":47},{"$f":"+O3-(P3*90)","v":7},{"$f":"IF($J3=0,$S3,$W3)","v":16},{"$f":"IF($J3=0,$T3,$X3)","v":0.1},{"$f":"IF(I3>0,INDEX(DB,I3,9),EventIndex)","v":4},null,{"$f":"INDEX(MINVALUES,$Q3,$K$1)","v":16},{"$f":"INDEX(INCVALUES,$Q3,$K$1)","v":0.1},null,{"$f":"+J3+(4*(INDEX(MatchScoreTable,$Q3,20)-1))","v":4},{"$f":"INDEX(INC_MINVALUES,$V3,$K$1)","v":34},{"$f":"INDEX(INC_INCVALUES,$V3,$K$1)","v":0.3}]
[5,14,"Poppy Burtwell",{"$f":"IF(AND(H4,B4>0,ISNUMBER(B4)),IF(ISERR(M4),0,M4),0)","v":30},null,{"$f":"COUNTIF(A$3:A$1002,A4)","v":1},{"$f":"IF(AND(H4,OR(D4<=10,D4>=90)),\"CHECK\",\"\")","v":""},{"$f":"IF(AND(LEN(A4)>0,LEN(C4)>0,B4<>0),TRUE,FALSE)","v":true},2,0,{"$f":"IF(ISNUMBER(B4),ROUND(+B4,1),0)","v":14},{"$f":"+K4","v":14},{"$f":"IF(AND(L4>O4,O4>0),MinPoints,IF(L4<N4,100,+INT((O4-$L4)/P4)+MinPoints))","v":30},{"$f":"+O4-(P4*90)","v":7},{"$f":"IF($J4=0,$S4,$W4)","v":16},{"$f":"IF($J4=0,$T4,$X4)","v":0.1},4,null,16,0.1,null,4,34,0.3]
[6,12.2,"Albie Jack Bussey",48,null,1,"",true,3,0,12.2,12.2,48,7,16,0.1,4,null,16,0.1,null,4,34,0.3]
[11,null,"Molly Elizabeth Creek",0,null,1,"",false,4,0,0,0,100,7,16,0.1,4,null,16,0.1,null,4,34,0.3]
[13,12.7,"Imogen Edwards",43,null,1,"",true,5,0,12.7,12.7,43,7,16,0.1,4,null,16,0.1,null,4,34,0.3]
[15,null,"Ezra Frick",0,null,1,"",false,6,0,0,0,100,7,16,0.1,4,null,16,0.1,null,4,34,0.3]
[16,14.5,"Emilia Game",25,null,1,"",true,7,0,14.5,14.5,25,7,16,0.1,4,null,16,0.1,null,4,34,0.3]
[19,14.5,"Charlotte Harvey",25,null,1,"",true,8,0,14.5,14.5,25,7,16,0.1,4,null,16,0.1,null,4,34,0.3]
[21,11.4,"Dylan Jacob Hockin",56,null,1,"",true,9,0,11.4,11.4,56,7,16,0.1,4,null,16,0.1,null,4,34,0.3]
[24,12.2,"Hermione Howard",48,null,1,"",true,10,0,12.2,12.2,48,7,16,0.1,4,null,16,0.1,null,4,34,0.3]
[26,12.1,"Evalyn Humphries",49,null,1,"",true,11,0,12.1,12.1,49,7,16,0.1,4,null,16,0.1,null,4,34,0.3]
[28,11.8,"William Peter Stuart Johnson",52,null,1,"",true,12,0,11.8,11.8,52,7,16,0.1,4,null,16,0.1,null,4,34,0.3]
[29,11.7,"Ben Jones",53,null,1,"",true,13,0,11.7,11.7,53,7,16,0.1,4,null,16,0.1,null,4,34,0.3]
[30,12.2,"Olivia Andrea Lilly Jones",48,null,1,"",true,14,0,12.2,12.2,48,7,16,0.1,4,null,16,0.1,null,4,34,0.3]
[31,12.6,"Rhys Callen Jones",44,null,1,"",true,15,0,12.6,12.6,44,7,16,0.1,4,null,16,0.1,null,4,34,0.3]
[33,12.9,"Arthur Lawson",41,null,1,"",true,16,0,12.9,12.9,41,7,16,0.1,4,null,16,0.1,null,4,34,0.3]
[35,13.9,"Edward Lewis",31,null,1,"",true,17,0,13.9,13.9,31,7,16,0.1,4,null,16,0.1,null,4,34,0.3]
[37,13,"Poppy Limb",40,null,1,"",true,18,0,13,13,40,7,16,0.1,4,null,16,0.1,null,4,34,0.3]
[41,11.5,"Reuben Mann",55,null,1,"",true,19,0,11.5,11.5,55,7,16,0.1,4,null,16,0.1,null,4,34,0.3]
[42,null,"Eliza Verity Mason",0,null,1,"",false,20,0,0,0,100,7,16,0.1,4,null,16,0.1,null,4,34,0.3]
[47,11.4,"Max Papuca",56,null,1,"",true,21,0,11.4,11.4,56,7,16,0.1,4,null,16,0.1,null,4,34,0.3]
[49,12.8,"Lucy Reeves",42,null,1,"",true,22,0,12.8,12.8,42,7,16,0.1,4,null,16,0.1,null,4,34,0.3]
[51,null,"Albert George Rendell",0,null,1,"",false,23,0,0,0,100,7,16,0.1,4,null,16,0.1,null,4,34,0.3]
[53,14.4,"Amelia Robinson",26,null,1,"",true,24,0,14.4,14.4,26,7,16,0.1,4,null,16,0.1,null,4,34,0.3]
[54,14.1,"Laurence Andrew Rowett",29,null,1,"",true,25,0,14.1,14.1,29,7,16,0.1,4,null,16,0.1,null,4,34,0.3]
[55,13.6,"Alfie Edward Seymour",34,null,1,"",true,26,0,13.6,13.6,34,7,16,0.1,4,null,16,0.1,null,4,34,0.3]
[57,11.8,"Henry Ronald Simpson",52,null,1,"",true,27,0,11.8,11.8,52,7,16,0.1,4,null,16,0.1,null,4,34,0.3]
[59,12.5,"Natalee May Souch",45,null,1,"",true,28,0,12.5,12.5,45,7,16,0.1,4,null,16,0.1,null,4,34,0.3]
[60,13.7,"Lola Southernwood",33,null,1,"",true,29,0,13.7,13.7,33,7,16,0.1,4,null,16,0.1,null,4,34,0.3]
[63,13.4,"Allegra Flora Spicer",36,null,1,"",true,30,0,13.4,13.4,36,7,16,0.1,4,null,16,0.1,null,4,34,0.3]
[68,12.4,"Annabelle Weldon",46,null,1,"",true,31,0,12.4,12.4,46,7,16,0.1,4,null,16,0.1,null,4,34,0.3]
[72,14,"Tayla Florence Williams",30,null,1,"",true,32,0,14,14,30,7,16,0.1,4,null,16,0.1,null,4,34,0.3]
[73,13.6,"Bethan Frances Wilson",34,null,1,"",true,33,0,13.6,13.6,34,7,16,0.1,4,null,16,0.1,null,4,34,0.3]
[74,12.5,"Isla Wright",45,null,1,"",true,34,0,12.5,12.5,45,7,16,0.1,4,null,16,0.1,null,4,34,0.3]
[76,13.6,"Joshua Young",34,null,1,"",true,35,0,13.6,13.6,34,7,16,0.1,4,null,16,0.1,null,4,34,0.3]
[77,12.7,"Piero Zanca",43,null,1,"",true,36,0,12.7,12.7,43,7,16,0.1,4,null,16,0.1,null,4,34,0.3]
[null,null,"",0,null,0,"",false,0,0,0,0,100,7,16,0.1,4,null,16,0.1,null,4,34,0.3]
[null,null,"",0,null,0,"",false,0,0,0,0,100,7,16,0.1,4,null,16,0.1,null,4,34,0.3]
[null,null,"",0,null,0,"",false,0,0,0,0,100,7,16,0.1,4,null,16,0.1,null,4,34,0.3]
[null,null,"",0,null,0,"",false,0,0,0,0,100,7,16,0.1,4,null,16,0.1,null,4,34,0.3]
[null,null,"",0,null,0,"",false,0,0,0,0,100,7,16,0.1,4,null,16,0.1,null,4,34,0.3]
[null,null,"",0,null,0,"",false,0,0,0,0,100,7,16,0.1,4,null,16,0.1,null,4,34,0.3]
[null,null,"",0,null,0,"",false,0,0,0,0,100,7,16,0.1,4,null,16,0.1,null,4,34,0.3]
[null,null,"",0,null,0,"",false,0,0,0,0,100,7,16,0.1,4,null,16,0.1,null,4,34,0.3]
[null,null,"",0,null,0,"",false,0,0,0,0,100,7,16,0.1,4,null,16,0.1,null,4,34,0.3]
[null,null,"",0,null,0,"",false,0,0,0,0,100,7,16,0.1,4,null,16,0.1,null,4,34,0.3]
[null,null,"",0,null,0,"",false,0,0,0,0,100,7,16,0.1,4,null,16,0.1,null,4,34,0.3]
[null,null,"",0,null,0,"",false,0,0,0,0,100,7,16,0.1,4,null,16,0.1,null,4,34,0.3]
[null,null,"",0,null,0,"",false,0,0,0,0,100,7,16,0.1,4,null,16,0.1,null,4,34,0.3]
[null,null,"",0,null,0,"",false,0,0,0,0,100,7,16,0.1,4,null,16,0.1,null,4,34,0.3]
[null,null,"",0,null,0,"",false,0,0,0,0,100,7,16,0.1,4,null,16,0.1,null,4,34,0.3]
[null,null,"",0,null,0,"",false,0,0,0,0,100,7,16,0.1,4,null,16,0.1,null,4,34,0.3]
[null,null,"",0,null,0,"",false,0,0,0,0,100,7,16,0.1,4,null,16,0.1,null,4,34,0.3]
[null,null,"",0,null,0,"",false,0,0,0,0,100,7,16,0.1,4,null,16,0.1,null,4,34,0.3]
[null,null,"",0,null,0,"",false,0,0,0,0,100,7,16,0.1,4,null,16,0.1,null,4,34,0.3]
[null,null,"",0,null,0,"",false,0,0,0,0,100,7,16,0.1,4,null,16,0.1,null,4,34,0.3]
[null,null,"",0,null,0,"",false,0,0,0,0,100,7,16,0.1,4,null,16,0.1,null,4,34,0.3]
[null,null,"",0,null,0,"",false,0,0,0,0,100,7,16,0.1,4,null,16,0.1,null,4,34,0.3]
[null,null,"",0,null,0,"",false,0,0,0,0,100,7,16,0.1,4,null,16,0.1,null,4,34,0.3]
[null,null,"",0,null,0,"",false,0,0,0,0,100,7,16,0.1,4,null,16,0.1,null,4,34,0.3]
[null,null,"",0,null,0,"",false,0,0,0,0,100,7,16,0.1,4,null,16,0.1,null,4,34,0.3]
[null,null,"",0,null,0,"",false,0,0,0,0,100,7,16,0.1,4,null,16,0.1,null,4,34,0.3]
[null,null,"",0,null,0,"",false,0,0,0,0,100,7,16,0.1,4,null,16,0.1,null,4,34,0.3]
[null,null,"",0,null,0,"",false,0,0,0,0,100,7,16,0.1,4,null,16,0.1,null,4,34,0.3]
[null,null,{"$f":"IF(I67>0,INDEX(DB,I67,8),\"\")","v":""},0,null,0,"",false,{"$f":"IF(OR(ISBLANK(A67),ISNA(MATCH(A67&\"\",AthleteNumbers,0))),0,MATCH(A67&\"\",AthleteNumbers,0))","v":0},{"$f":"IF(I67>0,INDEX(DB,$I67,6),0)","v":0},0,0,100,7,16,0.1,{"$f":"IF(I67>0,INDEX(DB,I67,9),EventIndex)","v":4},null,{"$f":"INDEX(MINVALUES,$Q67,$K$1)","v":16},{"$f":"INDEX(INCVALUES,$Q67,$K$1)","v":0.1},null,{"$f":"+J67+(4*(INDEX(MatchScoreTable,$Q67,20)-1))","v":4},{"$f":"INDEX(INC_MINVALUES,$V67,$K$1)","v":34},{"$f":"INDEX(INC_INCVALUES,$V67,$K$1)","v":0.3}]
[null,null,"",{"$f":"IF(AND(H68,B68>0,ISNUMBER(B68)),IF(ISERR(M68),0,M68),0)","v":0},null,{"$f":"COUNTIF(A$3:A$1002,A68)","v":0},{"$f":"IF(AND(H68,OR(D68<=10,D68>=90)),\"CHECK\",\"\")","v":""},{"$f":"IF(AND(LEN(A68)>0,LEN(C68)>0,B68<>0),TRUE,FALSE)","v":false},0,0,{"$f":"IF(ISNUMBER(B68),ROUND(+B68,1),0)","v":0},{"$f":"+K68","v":0},{"$f":"IF(AND(L68>O68,O68>0),MinPoints,IF(L68<N68,100,+INT((O68-$L68)/P68)+MinPoints))","v":100},{"$f":"+O68-(P68*90)","v":7},{"$f":"IF($J68=0,$S68,$W68)","v":16},{"$f":"IF($J68=0,$T68,$X68)","v":0.1},4,null,16,0.1,null,4,34,0.3]
[null,null,"",0,null,0,"",false,0,0,0,0,100,7,16,0.1,4,null,16,0.1,null,4,34,0.3]
[null,null,"",0,null,0,"",false,0,0,0,0,100,7,16,0.1,4,null,16,0.1,null,4,34,0.3]
[null,null,"",0,null,0,"",false,0,0,0,0,100,7,16,0.1,4,null,16,0.1,null,4,34,0.3]
[null,null,"",0,null,0,"",false,0,0,0,0,100,7,16,0.1,4,null,16,0.1,null,4,34,0.3]
[null,null,"",0,null,0,"",false,0,0,0,0,100,7,16,0.1,4,null,16,0.1,null,4,34,0.3]
[null,null,"",0,null,0,"",false,0,0,0,0,100,7,16,0.1,4,null,16,0.1,null,4,34,0.3]
[null,null,"",0,null,0,"",false,0,0,0,0,100,7,16,0.1,4,null,16,0.1,null,4,34,0.3]
[null,null,"",0,null,0,"",false,0,0,0,0,100,7,16,0.1,4,null,16,0.1,null,4,34,0.3]
[null,null,"",0,null,0,"",false,0,0,0,0,100,7,16,0.1,4,null,16,0.1,null,4,34,0.3]
[null,null,"",0,null,0,"",false,0,0,0,0,100,7,16,0.1,4,null,16,0.1,null,4,34,0.3]
[null,null,"",0,null,0,"",false,0,0,0,0,100,7,16,0.1,4,null,16,0.1,null,4,34,0.3]
[null,null,"",0,null,0,"",false,0,0,0,0,100,7,16,0.1,4,null,16,0.1,null,4,34,0.3]
[null,null,"",0,null,0,"",false,0,0,0,0,100,7,16,0.1,4,null,16,0.1,null,4,34,0.3]
[null,null,"",0,null,0,"",false,0,0,0,0,100,7,16,0.1,4,null,16,0.1,null,4,34,0.3]
[null,null,"",0,null,0,"",false,0,0,0,0,100,7,16,0.1,4,null,16,0.1,null,4,34,0.3]
[null,null,"",0,null,0,"",false,0,0,0,0,100,7,16,0.1,4,null,16,0.1,null,4,34,0.3]
[null,null,"",0,null,0,"",false,0,0,0,0,100,7,16,0.1,4,null,16,0.1,null,4,34,0.3]
[null,null,"",0,null,0,"",false,0,0,0,0,100,7,16,0.1,4,null,16,0.1,null,4,34,0.3]
[null,null,"",0,null,0,"",false,0,0,0,0,100,7,16,0.1,4,null,16,0.1,null,4,34,0.3]
[null,null,"",0,null,0,"",false,0,0,0,0,100,7,16,0.1,4,null,16,0.1,null,4,34,0.3]
[null,null,"",0,null,0,"",false,0,0,0,0,100,7,16,0.1,4,null,16,0.1,null,4,34,0.3]
[null,null,"",0,null,0,"",false,0,0,0,0,100,7,16,0.1,4,null,16,0.1,null,4,34,0.3]
[null,null,"",0,null,0,"",false,0,0,0,0,100,7,16,0.1,4,null,16,0.1,null,4,34,0.3]
[null,null,"",0,null,0,"",false,0,0,0,0,100,7,16,0.1,4,null,16,0.1,null,4,34,0.3]
[null,null,"",0,null,0,"",false,0,0,0,0,100,7,16,0.1,4,null,16,0.1,null,4,34,0.3]
[null,null,"",0,null,0,"",false,0,0,0,0,100,7,16,0.1,4,null,16,0.1,null,4,34,0.3]
[null,null,"",0,null,0,"",false,0,0,0,0,100,7,16,0.1,4,null,16,0.1,null,4,34,0.3]
[null,null,"",0,null,0,"",false,0,0,0,0,100,7,16,0.1,4,null,16,0.1,null,4,34,0.3]
[null,null,"",0,null,0,"",false,0,0,0,0,100,7,16,0.1,4,null,16,0.1,null,4,34,0.3]
[null,null,"",0,null,0,"",false,0,0,0,0,100,7,16,0.1,4,null,16,0.1,null,4,34,0.3]
[null,null,"",0,null,0,"",false,0,0,0,0,100,7,16,0.1,4,null,16,0.1,null,4,34,0.3]
[null,null,"",0,null,0,"",false,0,0,0,0,100,7,16,0.1,4,null,16,0.1,null,4,34,0.3]
[null,null,"",0,null,0,"",false,0,0,0,0,100,7,16,0.1,4,null,16,0.1,null,4,34,0.3]
[null,null,"",0,null,0,"",false,0,0,0,0,100,7,16,0.1,4,null,16,0.1,null,4,34,0.3]
[null,null,"",0,null,0,"",false,0,0,0,0,100,7,16,0.1,4,null,16,0.1,null,4,34,0.3]
[null,null,"",0,null,0,"",false,0,0,0,0,100,7,16,0.1,4,null,16,0.1,null,4,34,0.3]
[null,null,"",0,null,0,"",false,0,0,0,0,100,7,16,0.1,4,null,16,0.1,null,4,34,0.3]
[null,null,"",0,null,0,"",false,0,0,0,0,100,7,16,0.1,4,null,16,0.1,null,4,34,0.3]
[null,null,"",0,null,0,"",false,0,0,0,0,100,7,16,0.1,4,null,16,0.1,null,4,34,0.3]
[null,null,"",0,null,0,"",false,0,0,0,0,100,7,16,0.1,4,null,16,0.1,null,4,34,0.3]
[null,null,"",0,null,0,"",false,0,0,0,0,100,7,16,0.1,4,null,16,0.1,null,4,34,0.3]
[null,null,"",0,null,0,"",false,0,0,0,0,100,7,16,0.1,4,null,16,0.1,null,4,34,0.3]
[null,null,"",0,null,0,"",false,0,0,0,0,100,7,16,0.1,4,null,16,0.1,null,4,34,0.3]
[null,null,"",0,null,0,"",false,0,0,0,0,100,7,16,0.1,4,null,16,0.1,null,4,34,0.3]
[null,null,"",0,null,0,"",false,0,0,0,0,100,7,16,0.1,4,null,16,0.1,null,4,34,0.3]
[null,null,"",0,null,0,"",false,0,0,0,0,100,7,16,0.1,4,null,16,0.1,null,4,34,0.3]
[null,null,"",0,null,0,"",false,0,0,0,0,100,7,16,0.1,4,null,16,0.1,null,4,34,0.3]
[null,null,"",0,null,0,"",false,0,0,0,0,100,7,16,0.1,4,null,16,0.1,null,4,34,0.3]
[null,null,"",0,null,0,"",false,0,0,0,0,100,7,16,0.1,4,null,16,0.1,null,4,34,0.3]
[null,null,"",0,null,0,"",false,0,0,0,0,100,7,16,0.1,4,null,16,0.1,null,4,34,0.3]
[null,null,"",0,null,0,"",false,0,0,0,0,100,7,16,0.1,4,null,16,0.1,null,4,34,0.3]
[null,null,"",0,null,0,"",false,0,0,0,0,100,7,16,0.1,4,null,16,0.1,null,4,34,0.3]
[null,null,"",0,null,0,"",false,0,0,0,0,100,7,16,0.1,4,null,16,0.1,null,4,34,0.3]
[null,null,"",0,null,0,"",false,0,0,0,0,100,7,16,0.1,4,null,16,0.1,null,4,34,0.3]
[null,null,"",0,null,0,"",false,0,0,0,0,100,7,16,0.1,4,null,16,0.1,null,4,34,0.3]
[null,null,"",0,null,0,"",false,0,0,0,0,100,7,16,0.1,4,null,16,0.1,null,4,34,0.3]
[null,null,"",0,null,0,"",false,0,0,0,0,100,7,16,0.1,4,null,16,0.1,null,4,34,0.3]
[null,null,"",0,null,0,"",false,0,0,0,0,100,7,16,0.1,4,null,16,0.1,null,4,34,0.3]
[null,null,"",0,null,0,"",false,0,0,0,0,100,7,16,0.1,4,null,16,0.1,null,4,34,0.3]
[null,null,"",0,null,0,"",false,0,0,0,0,100,7,16,0.1,4,null,16,0.1,null,4,34,0.3]
[null,null,"",0,null,0,"",false,0,0,0,0,100,7,16,0.1,4,null,16,0.1,null,4,34,0.3]
[null,null,"",0,null,0,"",false,0,0,0,0,100,7,16,0.1,4,null,16,0.1,null,4,34,0.3]
[null,null,{"$f":"IF(I131>0,INDEX(DB,I131,8),\"\")","v":""},0,null,0,"",false,{"$f":"IF(OR(ISBLANK(A131),ISNA(MATCH(A131&\"\",AthleteNumbers,0))),0,MATCH(A131&\"\",AthleteNumbers,0))","v":0},{"$f":"IF(I131>0,INDEX(DB,$I131,6),0)","v":0},0,0,100,7,16,0.1,{"$f":"IF(I131>0,INDEX(DB,I131,9),EventIndex)","v":4},null,{"$f":"INDEX(MINVALUES,$Q131,$K$1)","v":16},{"$f":"INDEX(INCVALUES,$Q131,$K$1)","v":0.1},null,{"$f":"+J131+(4*(INDEX(MatchScoreTable,$Q131,20)-1))","v":4},{"$f":"INDEX(INC_MINVALUES,$V131,$K$1)","v":34},{"$f":"INDEX(INC_INCVALUES,$V131,$K$1)","v":0.3}]
[null,null,"",{"$f":"IF(AND(H132,B132>0,ISNUMBER(B132)),IF(ISERR(M132),0,M132),0)","v":0},null,{"$f":"COUNTIF(A$3:A$1002,A132)","v":0},{"$f":"IF(AND(H132,OR(D132<=10,D132>=90)),\"CHECK\",\"\")","v":""},{"$f":"IF(AND(LEN(A132)>0,LEN(C132)>0,B132<>0),TRUE,FALSE)","v":false},0,0,{"$f":"IF(ISNUMBER(B132),ROUND(+B132,1),0)","v":0},{"$f":"+K132","v":0},{"$f":"IF(AND(L132>O132,O132>0),MinPoints,IF(L132<N132,100,+INT((O132-$L132)/P132)+MinPoints))","v":100},{"$f":"+O132-(P132*90)","v":7},{"$f":"IF($J132=0,$S132,$W132)","v":16},{"$f":"IF($J132=0,$T132,$X132)","v":0.1},4,null,16,0.1,null,4,34,0.3]
[null,null,"",0,null,0,"",false,0,0,0,0,100,7,16,0.1,4,null,16,0.1,null,4,34,0.3]
[null,null,"",0,null,0,"",false,0,0,0,0,100,7,16,0.1,4,null,16,0.1,null,4,34,0.3]
[null,null,"",0,null,0,"",false,0,0,0,0,100,7,16,0.1,4,null,16,0.1,null,4,34,0.3]
[null,null,"",0,null,0,"",false,0,0,0,0,100,7,16,0.1,4,null,16,0.1,null,4,34,0.3]
[null,null,"",0,null,0,"",false,0,0,0,0,100,7,16,0.1,4,null,16,0.1,null,4,34,0.3]
[null,null,"",0,null,0,"",false,0,0,0,0,100,7,16,0.1,4,null,16,0.1,null,4,34,0.3]
[null,null,"",0,null,0,"",false,0,0,0,0,100,7,16,0.1,4,null,16,0.1,null,4,34,0.3]
[null,null,"",0,null,0,"",false,0,0,0,0,100,7,16,0.1,4,null,16,0.1,null,4,34,0.3]
[null,null,"",0,null,0,"",false,0,0,0,0,100,7,16,0.1,4,null,16,0.1,null,4,34,0.3]
[null,null,"",0,null,0,"",false,0,0,0,0,100,7,16,0.1,4,null,16,0.1,null,4,34,0.3]
[null,null,"",0,null,0,"",false,0,0,0,0,100,7,16,0.1,4,null,16,0.1,null,4,34,0.3]
[null,null,"",0,null,0,"",false,0,0,0,0,100,7,16,0.1,4,null,16,0.1,null,4,34,0.3]
[null,null,"",0,null,0,"",false,0,0,0,0,100,7,16,0.1,4,null,16,0.1,null,4,34,0.3]
[null,null,"",0,null,0,"",false,0,0,0,0,100,7,16,0.1,4,null,16,0.1,null,4,34,0.3]
[null,null,"",0,null,0,"",false,0,0,0,0,100,7,16,0.1,4,null,16,0.1,null,4,34,0.3]
[null,null,"",0,null,0,"",false,0,0,0,0,100,7,16,0.1,4,null,16,0.1,null,4,34,0.3]
[null,null,"",0,null,0,"",false,0,0,0,0,100,7,16,0.1,4,null,16,0.1,null,4,34,0.3]
[null,null,"",0,null,0,"",false,0,0,0,0,100,7,16,0.1,4,null,16,0.1,null,4,34,0.3]
[null,null,"",0,null,0,"",false,0,0,0,0,100,7,16,0.1,4,null,16,0.1,null,4,34,0.3]
[null,null,"",0,null,0,"",false,0,0,0,0,100,7,16,0.1,4,null,16,0.1,null,4,34,0.3]
[null,null,"",0,null,0,"",false,0,0,0,0,100,7,16,0.1,4,null,16,0.1,null,4,34,0.3]
[null,null,"",0,null,0,"",false,0,0,0,0,100,7,16,0.1,4,null,16,0.1,null,4,34,0.3]
[null,null,"",0,null,0,"",false,0,0,0,0,100,7,16,0.1,4,null,16,0.1,null,4,34,0.3]
[null,null,"",0,null,0,"",false,0,0,0,0,100,7,16,0.1,4,null,16,0.1,null,4,34,0.3]
[null,null,"",0,null,0,"",false,0,0,0,0,100,7,16,0.1,4,null,16,0.1,null,4,34,0.3]
[null,null,"",0,null,0,"",false,0,0,0,0,100,7,16,0.1,4,null,16,0.1,null,4,34,0.3]
[null,null,"",0,null,0,"",false,0,0,0,0,100,7,16,0.1,4,null,16,0.1,null,4,34,0.3]
[null,null,"",0,null,0,"",false,0,0,0,0,100,7,16,0.1,4,null,16,0.1,null,4,34,0.3]
[null,null,"",0,null,0,"",false,0,0,0,0,100,7,16,0.1,4,null,16,0.1,null,4,34,0.3]
[null,null,"",0,null,0,"",false,0,0,0,0,100,7,16,0.1,4,null,16,0.1,null,4,34,0.3]
[null,null,"",0,null,0,"",false,0,0,0,0,100,7,16,0.1,4,null,16,0.1,null,4,34,0.3]
[null,null,"",0,null,0,"",false,0,0,0,0,100,7,16,0.1,4,null,16,0.1,null,4,34,0.3]
[null,null,"",0,null,0,"",false,0,0,0,0,100,7,16,0.1,4,null,16,0.1,null,4,34,0.3]
[null,null,"",0,null,0,"",false,0,0,0,0,100,7,16,0.1,4,null,16,0.1,null,4,34,0.3]
[null,null,"",0,null,0,"",false,0,0,0,0,100,7,16,0.1,4,null,16,0.1,null,4,34,0.3]
[null,null,"",0,null,0,"",false,0,0,0,0,100,7,16,0.1,4,null,16,0.1,null,4,34,0.3]
[null,null,"",0,null,0,"",false,0,0,0,0,100,7,16,0.1,4,null,16,0.1,null,4,34,0.3]
[null,null,"",0,null,0,"",false,0,0,0,0,100,7,16,0.1,4,null,16,0.1,null,4,34,0.3]
[null,null,"",0,null,0,"",false,0,0,0,0,100,7,16,0.1,4,null,16,0.1,null,4,34,0.3]
[null,null,"",0,null,0,"",false,0,0,0,0,100,7,16,0.1,4,null,16,0.1,null,4,34,0.3]
[null,null,"",0,null,0,"",false,0,0,0,0,100,7,16,0.1,4,null,16,0.1,null,4,34,0.3]
[null,null,"",0,null,0,"",false,0,0,0,0,100,7,16,0.1,4,null,16,0.1,null,4,34,0.3]
[null,null,"",0,null,0,"",false,0,0,0,0,100,7,16,0.1,4,null,16,0.1,null,4,34,0.3]
[null,null,"",0,null,0,"",false,0,0,0,0,100,7,16,0.1,4,null,16,0.1,null,4,34,0.3]
[null,null,"",0,null,0,"",false,0,0,0,0,100,7,16,0.1,4,null,16,0.1,null,4,34,0.3]
[null,null,"",0,null,0,"",false,0,0,0,0,100,7,16,0.1,4,null,16,0.1,null,4,34,0.3]
[null,null,"",0,null,0,"",false,0,0,0,0,100,7,16,0.1,4,null,16,0.1,null,4,34,0.3]
[null,null,"",0,null,0,"",false,0,0,0,0,100,7,16,0.1,4,null,16,0.1,null,4,34,0.3]
[null,null,"",0,null,0,"",false,0,0,0,0,100,7,16,0.1,4,null,16,0.1,null,4,34,0.3]
[null,null,"",0,null,0,"",false,0,0,0,0,100,7,16,0.1,4,null,16,0.1,null,4,34,0.3]
[null,null,"",0,null,0,"",false,0,0,0,0,100,7,16,0.1,4,null,16,0.1,null,4,34,0.3]
[null,null,"",0,null,0,"",false,0,0,0,0,100,7,16,0.1,4,null,16,0.1,null,4,34,0.3]
[null,null,"",0,null,0,"",false,0,0,0,0,100,7,16,0.1,4,null,16,0.1,null,4,34,0.3]
[null,null,"",0,null,0,"",false,0,0,0,0,100,7,16,0.1,4,null,16,0.1,null,4,34,0.3]
[null,null,"",0,null,0,"",false,0,0,0,0,100,7,16,0.1,4,null,16,0.1,null,4,34,0.3]
[null,null,"",0,null,0,"",false,0,0,0,0,100,7,16,0.1,4,null,16,0.1,null,4,34,0.3]
[null,null,"",0,null,0,"",false,0,0,0,0,100,7,16,0.1,4,null,16,0.1,null,4,34,0.3]
[null,null,"",0,null,0,"",false,0,0,0,0,100,7,16,0.1,4,null,16,0.1,null,4,34,0.3]
[null,null,"",0,null,0,"",false,0,0,0,0,100,7,16,0.1,4,null,16,0.1,null,4,34,0.3]
[null,null,"",0,null,0,"",false,0,0,0,0,100,7,16,0.1,4,null,16,0.1,null,4,34,0.3]
[null,null,"",0,null,0,"",false,0,0,0,0,100,7,16,0.1,4,null,16,0.1,null,4,34,0.3]
[null,null,"",0,null,0,"",false,0,0,0,0,100,7,16,0.1,4,null,16,0.1,null,4,34,0.3]
[null,null,{"$f":"IF(I195>0,INDEX(DB,I195,8),\"\")","v":""},0,null,0,"",false,{"$f":"IF(OR(ISBLANK(A195),ISNA(MATCH(A195&\"\",AthleteNumbers,0))),0,MATCH(A195&\"\",AthleteNumbers,0))","v":0},{"$f":"IF(I195>0,INDEX(DB,$I195,6),0)","v":0},0,0,100,7,16,0.1,{"$f":"IF(I195>0,INDEX(DB,I195,9),EventIndex)","v":4},null,{"$f":"INDEX(MINVALUES,$Q195,$K$1)","v":16},{"$f":"INDEX(INCVALUES,$Q195,$K$1)","v":0.1},null,{"$f":"+J195+(4*(INDEX(MatchScoreTable,$Q195,20)-1))","v":4},{"$f":"INDEX(INC_MINVALUES,$V195,$K$1)","v":34},{"$f":"INDEX(INC_INCVALUES,$V195,$K$1)","v":0.3}]
[null,null,"",{"$f":"IF(AND(H196,B196>0,ISNUMBER(B196)),IF(ISERR(M196),0,M196),0)","v":0},null,{"$f":"COUNTIF(A$3:A$1002,A196)","v":0},{"$f":"IF(AND(H196,OR(D196<=10,D196>=90)),\"CHECK\",\"\")","v":""},{"$f":"IF(AND(LEN(A196)>0,LEN(C196)>0,B196<>0),TRUE,FALSE)","v":false},0,0,{"$f":"IF(ISNUMBER(B196),ROUND(+B196,1),0)","v":0},{"$f":"+K196","v":0},{"$f":"IF(AND(L196>O196,O196>0),MinPoints,IF(L196<N196,100,+INT((O196-$L196)/P196)+MinPoints))","v":100},{"$f":"+O196-(P196*90)","v":7},{"$f":"IF($J196=0,$S196,$W196)","v":16},{"$f":"IF($J196=0,$T196,$X196)","v":0.1},4,null,16,0.1,null,4,34,0.3]
[null,null,"",0,null,0,"",false,0,0,0,0,100,7,16,0.1,4,null,16,0.1,null,4,34,0.3]
[null,null,"",0,null,0,"",false,0,0,0,0,100,7,16,0.1,4,null,16,0.1,null,4,34,0.3]
[null,null,"",0,null,0,"",false,0,0,0,0,100,7,16,0.1,4,null,16,0.1,null,4,34,0.3]
[null,null,"",0,null,0,"",false,0,0,0,0,100,7,16,0.1,4,null,16,0.1,null,4,34,0.3]
[null,null,"",0,null,0,"",false,0,0,0,0,100,7,16,0.1,4,null,16,0.1,null,4,34,0.3]
[null,null,"",0,null,0,"",false,0,0,0,0,100,7,16,0.1,4,null,16,0.1,null,4,34,0.3]
[null,null,"",0,null,0,"",false,0,0,0,0,100,7,16,0.1,4,null,16,0.1,null,4,34,0.3]
[null,null,"",0,null,0,"",false,0,0,0,0,100,7,16,0.1,4,null,16,0.1,null,4,34,0.3]
[null,null,"",0,null,0,"",false,0,0,0,0,100,7,16,0.1,4,null,16,0.1,null,4,34,0.3]
[null,null,"",0,null,0,"",false,0,0,0,0,100,7,16,0.1,4,null,16,0.1,null,4,34,0.3]
[null,null,"",0,null,0,"",false,0,0,0,0,100,7,16,0.1,4,null,16,0.1,null,4,34,0.3]
[null,null,"",0,null,0,"",false,0,0,0,0,100,7,16,0.1,4,null,16,0.1,null,4,34,0.3]
[null,null,"",0,null,0,"",false,0,0,0,0,100,7,16,0.1,4,null,16,0.1,null,4,34,0.3]
[null,null,"",0,null,0,"",false,0,0,0,0,100,7,16,0.1,4,null,16,0.1,null,4,34,0.3]
[null,null,"",0,null,0,"",false,0,0,0,0,100,7,16,0.1,4,null,16,0.1,null,4,34,0.3]
[null,null,"",0,null,0,"",false,0,0,0,0,100,7,16,0.1,4,null,16,0.1,null,4,34,0.3]
[null,null,"",0,null,0,"",false,0,0,0,0,100,7,16,0.1,4,null,16,0.1,null,4,34,0.3]
[null,null,"",0,null,0,"",false,0,0,0,0,100,7,16,0.1,4,null,16,0.1,null,4,34,0.3]
[null,null,"",0,null,0,"",false,0,0,0,0,100,7,16,0.1,4,null,16,0.1,null,4,34,0.3]
[null,null,"",0,null,0,"",false,0,0,0,0,100,7,16,0.1,4,null,16,0.1,null,4,34,0.3]
[null,null,"",0,null,0,"",false,0,0,0,0,100,7,16,0.1,4,null,16,0.1,null,4,34,0.3]
[null,null,"",0,null,0,"",false,0,0,0,0,100,7,16,0.1,4,null,16,0.1,null,4,34,0.3]
[null,null,"",0,null,0,"",false,0,0,0,0,100,7,16,0.1,4,null,16,0.1,null,4,34,0.3]
[null,null,"",0,null,0,"",false,0,0,0,0,100,7,16,0.1,4,null,16,0.1,null,4,34,0.3]
[null,null,"",0,null,0,"",false,0,0,0,0,100,7,16,0.1,4,null,16,0.1,null,4,34,0.3]
[null,null,"",0,null,0,"",false,0,0,0,0,100,7,16,0.1,4,null,16,0.1,null,4,34,0.3]
[null,null,"",0,null,0,"",false,0,0,0,0,100,7,16,0.1,4,null,16,0.1,null,4,34,0.3]
[null,null,"",0,null,0,"",false,0,0,0,0,100,7,16,0.1,4,null,16,0.1,null,4,34,0.3]
[null,null,"",0,null,0,"",false,0,0,0,0,100,7,16,0.1,4,null,16,0.1,null,4,34,0.3]
[null,null,"",0,null,0,"",false,0,0,0,0,100,7,16,0.1,4,null,16,0.1,null,4,34,0.3]
[null,null,"",0,null,0,"",false,0,0,0,0,100,7,16,0.1,4,null,16,0.1,null,4,34,0.3]
[null,null,"",0,null,0,"",false,0,0,0,0,100,7,16,0.1,4,null,16,0.1,null,4,34,0.3]
[null,null,"",0,null,0,"",false,0,0,0,0,100,7,16,0.1,4,null,16,0.1,null,4,34,0.3]
[null,null,"",0,null,0,"",false,0,0,0,0,100,7,16,0.1,4,null,16,0.1,null,4,34,0.3]
[null,null,"",0,null,0,"",false,0,0,0,0,100,7,16,0.1,4,null,16,0.1,null,4,34,0.3]
[null,null,"",0,null,0,"",false,0,0,0,0,100,7,16,0.1,4,null,16,0.1,null,4,34,0.3]
[null,null,"",0,null,0,"",false,0,0,0,0,100,7,16,0.1,4,null,16,0.1,null,4,34,0.3]
[null,null,"",0,null,0,"",false,0,0,0,0,100,7,16,0.1,4,null,16,0.1,null,4,34,0.3]
[null,null,"",0,null,0,"",false,0,0,0,0,100,7,16,0.1,4,null,16,0.1,null,4,34,0.3]
[null,null,"",0,null,0,"",false,0,0,0,0,100,7,16,0.1,4,null,16,0.1,null,4,34,0.3]
[null,null,"",0,null,0,"",false,0,0,0,0,100,7,16,0.1,4,null,16,0.1,null,4,34,0.3]
[null,null,"",0,null,0,"",false,0,0,0,0,100,7,16,0.1,4,null,16,0.1,null,4,34,0.3]
[null,null,"",0,null,0,"",false,0,0,0,0,100,7,16,0.1,4,null,16,0.1,null,4,34,0.3]
[null,null,"",0,null,0,"",false,0,0,0,0,100,7,16,0.1,4,null,16,0.1,null,4,34,0.3]
[null,null,"",0,null,0,"",false,0,0,0,0,100,7,16,0.1,4,null,16,0.1,null,4,34,0.3]
[null,null,"",0,null,0,"",false,0,0,0,0,100,7,16,0.1,4,null,16,0.1,null,4,34,0.3]
[null,null,"",0,null,0,"",false,0,0,0,0,100,7,16,0.1,4,null,16,0.1,null,4,34,0.3]
[null,null,"",0,null,0,"",false,0,0,0,0,100,7,16,0.1,4,null,16,0.1,null,4,34,0.3]
[null,null,"",0,null,0,"",false,0,0,0,0,100,7,16,0.1,4,null,16,0.1,null,4,34,0.3]
[null,null,"",0,null,0,"",false,0,0,0,0,100,7,16,0.1,4,null,16,0.1,null,4,34,0.3]
[null,null,"",0,null,0,"",false,0,0,0,0,100,7,16,0.1,4,null,16,0.1,null,4,34,0.3]
[null,null,"",0,null,0,"",false,0,0,0,0,100,7,16,0.1,4,null,16,0.1,null,4,34,0.3]
[null,null,"",0,null,0,"",false,0,0,0,0,100,7,16,0.1,4,null,16,0.1,null,4,34,0.3]
[null,null,"",0,null,0,"",false,0,0,0,0,100,7,16,0.1,4,null,16,0.1,null,4,34,0.3]
[null,null,"",0,null,0,"",false,0,0,0,0,100,7,16,0.1,4,null,16,0.1,null,4,34,0.3]
[null,null,"",0,null,0,"",false,0,0,0,0,100,7,16,0.1,4,null,16,0.1,null,4,34,0.3]
[null,null,"",0,null,0,"",false,0,0,0,0,100,7,16,0.1,4,null,16,0.1,null,4,34,0.3]
[null,null,"",0,null,0,"",false,0,0,0,0,100,7,16,0.1,4,null,16,0.1,null,4,34,0.3]
[null,null,"",0,null,0,"",false,0,0,0,0,100,7,16,0.1,4,null,16,0.1,null,4,34,0.3]
[null,null,"",0,null,0,"",false,0,0,0,0,100,7,16,0.1,4,null,16,0.1,null,4,34,0.3]
[null,null,"",0,null,0,"",false,0,0,0,0,100,7,16,0.1,4,null,16,0.1,null,4,34,0.3]
[null,null,"",0,null,0,"",false,0,0,0,0,100,7,16,0.1,4,null,16,0.1,null,4,34,0.3]
[null,null,{"$f":"IF(I259>0,INDEX(DB,I259,8),\"\")","v":""},0,null,0,"",false,{"$f":"IF(OR(ISBLANK(A259),ISNA(MATCH(A259&\"\",AthleteNumbers,0))),0,MATCH(A259&\"\",AthleteNumbers,0))","v":0},{"$f":"IF(I259>0,INDEX(DB,$I259,6),0)","v":0},0,0,100,7,16,0.1,{"$f":"IF(I259>0,INDEX(DB,I259,9),EventIndex)","v":4},null,{"$f":"INDEX(MINVALUES,$Q259,$K$1)","v":16},{"$f":"INDEX(INCVALUES,$Q259,$K$1)","v":0.1},null,{"$f":"+J259+(4*(INDEX(MatchScoreTable,$Q259,20)-1))","v":4},{"$f":"INDEX(INC_MINVALUES,$V259,$K$1)","v":34},{"$f":"INDEX(INC_INCVALUES,$V259,$K$1)","v":0.3}]
[null,null,"",{"$f":"IF(AND(H260,B260>0,ISNUMBER(B260)),IF(ISERR(M260),0,M260),0)","v":0},null,{"$f":"COUNTIF(A$3:A$1002,A260)","v":0},{"$f":"IF(AND(H260,OR(D260<=10,D260>=90)),\"CHECK\",\"\")","v":""},{"$f":"IF(AND(LEN(A260)>0,LEN(C260)>0,B260<>0),TRUE,FALSE)","v":false},0,0,{"$f":"IF(ISNUMBER(B260),ROUND(+B260,1),0)","v":0},{"$f":"+K260","v":0},{"$f":"IF(AND(L260>O260,O260>0),MinPoints,IF(L260<N260,100,+INT((O260-$L260)/P260)+MinPoints))","v":100},{"$f":"+O260-(P260*90)","v":7},{"$f":"IF($J260=0,$S260,$W260)","v":16},{"$f":"IF($J260=0,$T260,$X260)","v":0.1},4,null,16,0.1,null,4,34,0.3]
[null,null,"",0,null,0,"",false,0,0,0,0,100,7,16,0.1,4,null,16,0.1,null,4,34,0.3]
[null,null,"",0,null,0,"",false,0,0,0,0,100,7,16,0.1,4,null,16,0.1,null,4,34,0.3]
[null,null,"",0,null,0,"",false,0,0,0,0,100,7,16,0.1,4,null,16,0.1,null,4,34,0.3]
[null,null,"",0,null,0,"",false,0,0,0,0,100,7,16,0.1,4,null,16,0.1,null,4,34,0.3]
[null,null,"",0,null,0,"",false,0,0,0,0,100,7,16,0.1,4,null,16,0.1,null,4,34,0.3]
[null,null,"",0,null,0,"",false,0,0,0,0,100,7,16,0.1,4,null,16,0.1,null,4,34,0.3]
[null,null,"",0,null,0,"",false,0,0,0,0,100,7,16,0.1,4,null,16,0.1,null,4,34,0.3]
[null,null,"",0,null,0,"",false,0,0,0,0,100,7,16,0.1,4,null,16,0.1,null,4,34,0.3]
[null,null,"",0,null,0,"",false,0,0,0,0,100,7,16,0.1,4,null,16,0.1,null,4,34,0.3]
[null,null,"",0,null,0,"",false,0,0,0,0,100,7,16,0.1,4,null,16,0.1,null,4,34,0.3]
[null,null,"",0,null,0,"",false,0,0,0,0,100,7,16,0.1,4,null,16,0.1,null,4,34,0.3]
[null,null,"",0,null,0,"",false,0,0,0,0,100,7,16,0.1,4,null,16,0.1,null,4,34,0.3]
[null,null,"",0,null,0,"",false,0,0,0,0,100,7,16,0.1,4,null,16,0.1,null,4,34,0.3]
[null,null,"",0,null,0,"",false,0,0,0,0,100,7,16,0.1,4,null,16,0.1,null,4,34,0.3]
[null,null,"",0,null,0,"",false,0,0,0,0,100,7,16,0.1,4,null,16,0.1,null,4,34,0.3]
[null,null,"",0,null,0,"",false,0,0,0,0,100,7,16,0.1,4,null,16,0.1,null,4,34,0.3]
[null,null,"",0,null,0,"",false,0,0,0,0,100,7,16,0.1,4,null,16,0.1,null,4,34,0.3]
[null,null,"",0,null,0,"",false,0,0,0,0,100,7,16,0.1,4,null,16,0.1,null,4,34,0.3]
[null,null,"",0,null,0,"",false,0,0,0,0,100,7,16,0.1,4,null,16,0.1,null,4,34,0.3]
[null,null,"",0,null,0,"",false,0,0,0,0,100,7,16,0.1,4,null,16,0.1,null,4,34,0.3]
[null,null,"",0,null,0,"",false,0,0,0,0,100,7,16,0.1,4,null,16,0.1,null,4,34,0.3]
[null,null,"",0,null,0,"",false,0,0,0,0,100,7,16,0.1,4,null,16,0.1,null,4,34,0.3]
[null,null,"",0,null,0,"",false,0,0,0,0,100,7,16,0.1,4,null,16,0.1,null,4,34,0.3]
[null,null,"",0,null,0,"",false,0,0,0,0,100,7,16,0.1,4,null,16,0.1,null,4,34,0.3]
[null,null,"",0,null,0,"",false,0,0,0,0,100,7,16,0.1,4,null,16,0.1,null,4,34,0.3]
[null,null,"",0,null,0,"",false,0,0,0,0,100,7,16,0.1,4,null,16,0.1,null,4,34,0.3]
[null,null,"",0,null,0,"",false,0,0,0,0,100,7,16,0.1,4,null,16,0.1,null,4,34,0.3]
[null,null,"",0,null,0,"",false,0,0,0,0,100,7,16,0.1,4,null,16,0.1,null,4,34,0.3]
[null,null,"",0,null,0,"",false,0,0,0,0,100,7,16,0.1,4,null,16,0.1,null,4,34,0.3]
[null,null,"",0,null,0,"",false,0,0,0,0,100,7,16,0.1,4,null,16,0.1,null,4,34,0.3]
[null,null,"",0,null,0,"",false,0,0,0,0,100,7,16,0.1,4,null,16,0.1,null,4,34,0.3]
[null,null,"",0,null,0,"",false,0,0,0,0,100,7,16,0.1,4,null,16,0.1,null,4,34,0.3]
[null,null,"",0,null,0,"",false,0,0,0,0,100,7,16,0.1,4,null,16,0.1,null,4,34,0.3]
[null,null,"",0,null,0,"",false,0,0,0,0,100,7,16,0.1,4,null,16,0.1,null,4,34,0.3]
[null,null,"",0,null,0,"",false,0,0,0,0,100,7,16,0.1,4,null,16,0.1,null,4,34,0.3]
[null,null,"",0,null,0,"",false,0,0,0,0,100,7,16,0.1,4,null,16,0.1,null,4,34,0.3]
[null,null,"",0,null,0,"",false,0,0,0,0,100,7,16,0.1,4,null,16,0.1,null,4,34,0.3]
[null,null,"",0,null,0,"",false,0,0,0,0,100,7,16,0.1,4,null,16,0.1,null,4,34,0.3]
[null,null,"",0,null,0,"",false,0,0,0,0,100,7,16,0.1,4,null,16,0.1,null,4,34,0.3]
[null,null,"",0,null,0,"",false,0,0,0,0,100,7,16,0.1,4,null,16,0.1,null,4,34,0.3]
[null,null,"",0,null,0,"",false,0,0,0,0,100,7,16,0.1,4,null,16,0.1,null,4,34,0.3]
[null,null,"",0,null,0,"",false,0,0,0,0,100,7,16,0.1,4,null,16,0.1,null,4,34,0.3]
[null,null,"",0,null,0,"",false,0,0,0,0,100,7,16,0.1,4,null,16,0.1,null,4,34,0.3]
[null,null,"",0,null,0,"",false,0,0,0,0,100,7,16,0.1,4,null,16,0.1,null,4,34,0.3]
[null,null,"",0,null,0,"",false,0,0,0,0,100,7,16,0.1,4,null,16,0.1,null,4,34,0.3]
[null,null,"",0,null,0,"",false,0,0,0,0,100,7,16,0.1,4,null,16,0.1,null,4,34,0.3]
[null,null,"",0,null,0,"",false,0,0,0,0,100,7,16,0.1,4,null,16,0.1,null,4,34,0.3]
[null,null,"",0,null,0,"",false,0,0,0,0,100,7,16,0.1,4,null,16,0.1,null,4,34,0.3]
[null,null,"",0,null,0,"",false,0,0,0,0,100,7,16,0.1,4,null,16,0.1,null,4,34,0.3]
[null,null,"",0,null,0,"",false,0,0,0,0,100,7,16,0.1,4,null,16,0.1,null,4,34,0.3]
[null,null,"",0,null,0,"",false,0,0,0,0,100,7,16,0.1,4,null,16,0.1,null,4,34,0.3]
[null,null,"",0,null,0,"",false,0,0,0,0,100,7,16,0.1,4,null,16,0.1,null,4,34,0.3]
[null,null,"",0,null,0,"",false,0,0,0,0,100,7,16,0.1,4,null,16,0.1,null,4,34,0.3]
[null,null,"",0,null,0,"",false,0,0,0,0,100,7,16,0.1,4,null,16,0.1,null,4,34,0.3]
[null,null,"",0,null,0,"",false,0,0,0,0,100,7,16,0.1,4,null,16,0.1,null,4,34,0.3]
[null,null,"",0,null,0,"",false,0,0,0,0,100,7,16,0.1,4,null,16,0.1,null,4,34,0.3]
[null,null,"",0,null,0,"",false,0,0,0,0,100,7,16,0.1,4,null,16,0.1,null,4,34,0.3]
[null,null,"",0,null,0,"",false,0,0,0,0,100,7,16,0.1,4,null,16,0.1,null,4,34,0.3]
[null,null,"",0,null,0,"",false,0,0,0,0,100,7,16,0.1,4,null,16,0.1,null,4,34,0.3]
[null,null,"",0,null,0,"",false,0,0,0,0,100,7,16,0.1,4,null,16,0.1,null,4,34,0.3]
[null,null,"",0,null,0,"",false,0,0,0,0,100,7,16,0.1,4,null,16,0.1,null,4,34,0.3]
[null,null,"",0,null,0,"",false,0,0,0,0,100,7,16,0.1,4,null,16,0.1,null,4,34,0.3]
[null,null,{"$f":"IF(I323>0,INDEX(DB,I323,8),\"\")","v":""},0,null,0,"",false,{"$f":"IF(OR(ISBLANK(A323),ISNA(MATCH(A323&\"\",AthleteNumbers,0))),0,MATCH(A323&\"\",AthleteNumbers,0))","v":0},{"$f":"IF(I323>0,INDEX(DB,$I323,6),0)","v":0},0,0,100,7,16,0.1,{"$f":"IF(I323>0,INDEX(DB,I323,9),EventIndex)","v":4},null,{"$f":"INDEX(MINVALUES,$Q323,$K$1)","v":16},{"$f":"INDEX(INCVALUES,$Q323,$K$1)","v":0.1},null,{"$f":"+J323+(4*(INDEX(MatchScoreTable,$Q323,20)-1))","v":4},{"$f":"INDEX(INC_MINVALUES,$V323,$K$1)","v":34},{"$f":"INDEX(INC_INCVALUES,$V323,$K$1)","v":0.3}]
[null,null,"",{"$f":"IF(AND(H324,B324>0,ISNUMBER(B324)),IF(ISERR(M324),0,M324),0)","v":0},null,{"$f":"COUNTIF(A$3:A$1002,A324)","v":0},{"$f":"IF(AND(H324,OR(D324<=10,D324>=90)),\"CHECK\",\"\")","v":""},{"$f":"IF(AND(LEN(A324)>0,LEN(C324)>0,B324<>0),TRUE,FALSE)","v":false},0,0,{"$f":"IF(ISNUMBER(B324),ROUND(+B324,1),0)","v":0},{"$f":"+K324","v":0},{"$f":"IF(AND(L324>O324,O324>0),MinPoints,IF(L324<N324,100,+INT((O324-$L324)/P324)+MinPoints))","v":100},{"$f":"+O324-(P324*90)","v":7},{"$f":"IF($J324=0,$S324,$W324)","v":16},{"$f":"IF($J324=0,$T324,$X324)","v":0.1},4,null,16,0.1,null,4,34,0.3]
[null,null,"",0,null,0,"",false,0,0,0,0,100,7,16,0.1,4,null,16,0.1,null,4,34,0.3]
[null,null,"",0,null,0,"",false,0,0,0,0,100,7,16,0.1,4,null,16,0.1,null,4,34,0.3]
[null,null,"",0,null,0,"",false,0,0,0,0,100,7,16,0.1,4,null,16,0.1,null,4,34,0.3]
[null,null,"",0,null,0,"",false,0,0,0,0,100,7,16,0.1,4,null,16,0.1,null,4,34,0.3]
[null,null,"",0,null,0,"",false,0,0,0,0,100,7,16,0.1,4,null,16,0.1,null,4,34,0.3]
[null,null,"",0,null,0,"",false,0,0,0,0,100,7,16,0.1,4,null,16,0.1,null,4,34,0.3]
[null,null,"",0,null,0,"",false,0,0,0,0,100,7,16,0.1,4,null,16,0.1,null,4,34,0.3]
[null,null,"",0,null,0,"",false,0,0,0,0,100,7,16,0.1,4,null,16,0.1,null,4,34,0.3]
[null,null,"",0,null,0,"",false,0,0,0,0,100,7,16,0.1,4,null,16,0.1,null,4,34,0.3]
[null,null,"",0,null,0,"",false,0,0,0,0,100,7,16,0.1,4,null,16,0.1,null,4,34,0.3]
[null,null,"",0,null,0,"",false,0,0,0,0,100,7,16,0.1,4,null,16,0.1,null,4,34,0.3]
[null,null,"",0,null,0,"",false,0,0,0,0,100,7,16,0.1,4,null,16,0.1,null,4,34,0.3]
[null,null,"",0,null,0,"",false,0,0,0,0,100,7,16,0.1,4,null,16,0.1,null,4,34,0.3]
[null,null,"",0,null,0,"",false,0,0,0,0,100,7,16,0.1,4,null,16,0.1,null,4,34,0.3]
[null,null,"",0,null,0,"",false,0,0,0,0,100,7,16,0.1,4,null,16,0.1,null,4,34,0.3]
[null,null,"",0,null,0,"",false,0,0,0,0,100,7,16,0.1,4,null,16,0.1,null,4,34,0.3]
[null,null,"",0,null,0,"",false,0,0,0,0,100,7,16,0.1,4,null,16,0.1,null,4,34,0.3]
[null,null,"",0,null,0,"",false,0,0,0,0,100,7,16,0.1,4,null,16,0.1,null,4,34,0.3]
[null,null,"",0,null,0,"",false,0,0,0,0,100,7,16,0.1,4,null,16,0.1,null,4,34,0.3]
[null,null,"",0,null,0,"",false,0,0,0,0,100,7,16,0.1,4,null,16,0.1,null,4,34,0.3]
[null,null,"",0,null,0,"",false,0,0,0,0,100,7,16,0.1,4,null,16,0.1,null,4,34,0.3]
[null,null,"",0,null,0,"",false,0,0,0,0,100,7,16,0.1,4,null,16,0.1,null,4,34,0.3]
[null,null,"",0,null,0,"",false,0,0,0,0,100,7,16,0.1,4,null,16,0.1,null,4,34,0.3]
[null,null,"",0,null,0,"",false,0,0,0,0,100,7,16,0.1,4,null,16,0.1,null,4,34,0.3]
[null,null,"",0,null,0,"",false,0,0,0,0,100,7,16,0.1,4,null,16,0.1,null,4,34,0.3]
[null,null,"",0,null,0,"",false,0,0,0,0,100,7,16,0.1,4,null,16,0.1,null,4,34,0.3]
[null,null,"",0,null,0,"",false,0,0,0,0,100,7,16,0.1,4,null,16,0.1,null,4,34,0.3]
[null,null,"",0,null,0,"",false,0,0,0,0,100,7,16,0.1,4,null,16,0.1,null,4,34,0.3]
[null,null,"",0,null,0,"",false,0,0,0,0,100,7,16,0.1,4,null,16,0.1,null,4,34,0.3]
[null,null,"",0,null,0,"",false,0,0,0,0,100,7,16,0.1,4,null,16,0.1,null,4,34,0.3]
[null,null,"",0,null,0,"",false,0,0,0,0,100,7,16,0.1,4,null,16,0.1,null,4,34,0.3]
[null,null,"",0,null,0,"",false,0,0,0,0,100,7,16,0.1,4,null,16,0.1,null,4,34,0.3]
[null,null,"",0,null,0,"",false,0,0,0,0,100,7,16,0.1,4,null,16,0.1,null,4,34,0.3]
[null,null,"",0,null,0,"",false,0,0,0,0,100,7,16,0.1,4,null,16,0.1,null,4,34,0.3]
[null,null,"",0,null,0,"",false,0,0,0,0,100,7,16,0.1,4,null,16,0.1,null,4,34,0.3]
[null,null,"",0,null,0,"",false,0,0,0,0,100,7,16,0.1,4,null,16,0.1,null,4,34,0.3]
[null,null,"",0,null,0,"",false,0,0,0,0,100,7,16,0.1,4,null,16,0.1,null,4,34,0.3]
[null,null,"",0,null,0,"",false,0,0,0,0,100,7,16,0.1,4,null,16,0.1,null,4,34,0.3]
[null,null,"",0,null,0,"",false,0,0,0,0,100,7,16,0.1,4,null,16,0.1,null,4,34,0.3]
[null,null,"",0,null,0,"",false,0,0,0,0,100,7,16,0.1,4,null,16,0.1,null,4,34,0.3]
[null,null,"",0,null,0,"",false,0,0,0,0,100,7,16,0.1,4,null,16,0.1,null,4,34,0.3]
[null,null,"",0,null,0,"",false,0,0,0,0,100,7,16,0.1,4,null,16,0.1,null,4,34,0.3]
[null,null,"",0,null,0,"",false,0,0,0,0,100,7,16,0.1,4,null,16,0.1,null,4,34,0.3]
[null,null,"",0,null,0,"",false,0,0,0,0,100,7,16,0.1,4,null,16,0.1,null,4,34,0.3]
[null,null,"",0,null,0,"",false,0,0,0,0,100,7,16,0.1,4,null,16,0.1,null,4,34,0.3]
[null,null,"",0,null,0,"",false,0,0,0,0,100,7,16,0.1,4,null,16,0.1,null,4,34,0.3]
[null,null,"",0,null,0,"",false,0,0,0,0,100,7,16,0.1,4,null,16,0.1,null,4,34,0.3]
[null,null,"",0,null,0,"",false,0,0,0,0,100,7,16,0.1,4,null,16,0.1,null,4,34,0.3]
[null,null,"",0,null,0,"",false,0,0,0,0,100,7,16,0.1,4,null,16,0.1,null,4,34,0.3]
[null,null,"",0,null,0,"",false,0,0,0,0,100,7,16,0.1,4,null,16,0.1,null,4,34,0.3]
[null,null,"",0,null,0,"",false,0,0,0,0,100,7,16,0.1,4,null,16,0.1,null,4,34,0.3]
[null,null,"",0,null,0,"",false,0,0,0,0,100,7,16,0.1,4,null,16,0.1,null,4,34,0.3]
[null,null,"",0,null,0,"",false,0,0,0,0,100,7,16,0.1,4,null,16,0.1,null,4,34,0.3]
[null,null,"",0,null,0,"",false,0,0,0,0,100,7,16,0.1,4,null,16,0.1,null,4,34,0.3]
[null,null,"",0,null,0,"",false,0,0,0,0,100,7,16,0.1,4,null,16,0.1,null,4,34,0.3]
[null,null,"",0,null,0,"",false,0,0,0,0,100,7,16,0.1,4,null,16,0.1,null,4,34,0.3]
[null,null,"",0,null,0,"",false,0,0,0,0,100,7,16,0.1,4,null,16,0.1,null,4,34,0.3]
[null,null,"",0,null,0,"",false,0,0,0,0,100,7,16,0.1,4,null,16,0.1,null,4,34,0.3]
[null,null,"",0,null,0,"",false,0,0,0,0,100,7,16,0.1,4,null,16,0.1,null,4,34,0.3]
[null,null,"",0,null,0,"",false,0,0,0,0,100,7,16,0.1,4,null,16,0.1,null,4,34,0.3]
[null,null,"",0,null,0,"",false,0,0,0,0,100,7,16,0.1,4,null,16,0.1,null,4,34,0.3]
[null,null,"",0,null,0,"",false,0,0,0,0,100,7,16,0.1,4,null,16,0.1,null,4,34,0.3]
[null,null,{"$f":"IF(I387>0,INDEX(DB,I387,8),\"\")","v":""},0,null,0,"",false,{"$f":"IF(OR(ISBLANK(A387),ISNA(MATCH(A387&\"\",AthleteNumbers,0))),0,MATCH(A387&\"\",AthleteNumbers,0))","v":0},{"$f":"IF(I387>0,INDEX(DB,$I387,6),0)","v":0},0,0,100,7,16,0.1,{"$f":"IF(I387>0,INDEX(DB,I387,9),EventIndex)","v":4},null,{"$f":"INDEX(MINVALUES,$Q387,$K$1)","v":16},{"$f":"INDEX(INCVALUES,$Q387,$K$1)","v":0.1},null,{"$f":"+J387+(4*(INDEX(MatchScoreTable,$Q387,20)-1))","v":4},{"$f":"INDEX(INC_MINVALUES,$V387,$K$1)","v":34},{"$f":"INDEX(INC_INCVALUES,$V387,$K$1)","v":0.3}]
[null,null,"",{"$f":"IF(AND(H388,B388>0,ISNUMBER(B388)),IF(ISERR(M388),0,M388),0)","v":0},null,{"$f":"COUNTIF(A$3:A$1002,A388)","v":0},{"$f":"IF(AND(H388,OR(D388<=10,D388>=90)),\"CHECK\",\"\")","v":""},{"$f":"IF(AND(LEN(A388)>0,LEN(C388)>0,B388<>0),TRUE,FALSE)","v":false},0,0,{"$f":"IF(ISNUMBER(B388),ROUND(+B388,1),0)","v":0},{"$f":"+K388","v":0},{"$f":"IF(AND(L388>O388,O388>0),MinPoints,IF(L388<N388,100,+INT((O388-$L388)/P388)+MinPoints))","v":100},{"$f":"+O388-(P388*90)","v":7},{"$f":"IF($J388=0,$S388,$W388)","v":16},{"$f":"IF($J388=0,$T388,$X388)","v":0.1},4,null,16,0.1,null,4,34,0.3]
[null,null,"",0,null,0,"",false,0,0,0,0,100,7,16,0.1,4,null,16,0.1,null,4,34,0.3]
[null,null,"",0,null,0,"",false,0,0,0,0,100,7,16,0.1,4,null,16,0.1,null,4,34,0.3]
[null,null,"",0,null,0,"",false,0,0,0,0,100,7,16,0.1,4,null,16,0.1,null,4,34,0.3]
[null,null,"",0,null,0,"",false,0,0,0,0,100,7,16,0.1,4,null,16,0.1,null,4,34,0.3]
[null,null,"",0,null,0,"",false,0,0,0,0,100,7,16,0.1,4,null,16,0.1,null,4,34,0.3]
[null,null,"",0,null,0,"",false,0,0,0,0,100,7,16,0.1,4,null,16,0.1,null,4,34,0.3]
[null,null,"",0,null,0,"",false,0,0,0,0,100,7,16,0.1,4,null,16,0.1,null,4,34,0.3]
[null,null,"",0,null,0,"",false,0,0,0,0,100,7,16,0.1,4,null,16,0.1,null,4,34,0.3]
[null,null,"",0,null,0,"",false,0,0,0,0,100,7,16,0.1,4,null,16,0.1,null,4,34,0.3]
[null,null,"",0,null,0,"",false,0,0,0,0,100,7,16,0.1,4,null,16,0.1,null,4,34,0.3]
[null,null,"",0,null,0,"",false,0,0,0,0,100,7,16,0.1,4,null,16,0.1,null,4,34,0.3]
[null,null,"",0,null,0,"",false,0,0,0,0,100,7,16,0.1,4,null,16,0.1,null,4,34,0.3]
[null,null,"",0,null,0,"",false,0,0,0,0,100,7,16,0.1,4,null,16,0.1,null,4,34,0.3]
[null,null,"",0,null,0,"",false,0,0,0,0,100,7,16,0.1,4,null,16,0.1,null,4,34,0.3]
[null,null,"",0,null,0,"",false,0,0,0,0,100,7,16,0.1,4,null,16,0.1,null,4,34,0.3]
[null,null,"",0,null,0,"",false,0,0,0,0,100,7,16,0.1,4,null,16,0.1,null,4,34,0.3]
[null,null,"",0,null,0,"",false,0,0,0,0,100,7,16,0.1,4,null,16,0.1,null,4,34,0.3]
[null,null,"",0,null,0,"",false,0,0,0,0,100,7,16,0.1,4,null,16,0.1,null,4,34,0.3]
[null,null,"",0,null,0,"",false,0,0,0,0,100,7,16,0.1,4,null,16,0.1,null,4,34,0.3]
[null,null,"",0,null,0,"",false,0,0,0,0,100,7,16,0.1,4,null,16,0.1,null,4,34,0.3]
[null,null,"",0,null,0,"",false,0,0,0,0,100,7,16,0.1,4,null,16,0.1,null,4,34,0.3]
[null,null,"",0,null,0,"",false,0,0,0,0,100,7,16,0.1,4,null,16,0.1,null,4,34,0.3]
[null,null,"",0,null,0,"",false,0,0,0,0,100,7,16,0.1,4,null,16,0.1,null,4,34,0.3]
[null,null,"",0,null,0,"",false,0,0,0,0,100,7,16,0.1,4,null,16,0.1,null,4,34,0.3]
[null,null,"",0,null,0,"",false,0,0,0,0,100,7,16,0.1,4,null,16,0.1,null,4,34,0.3]
[null,null,"",0,null,0,"",false,0,0,0,0,100,7,16,0.1,4,null,16,0.1,null,4,34,0.3]
[null,null,"",0,null,0,"",false,0,0,0,0,100,7,16,0.1,4,null,16,0.1,null,4,34,0.3]
[null,null,"",0,null,0,"",false,0,0,0,0,100,7,16,0.1,4,null,16,0.1,null,4,34,0.3]
[null,null,"",0,null,0,"",false,0,0,0,0,100,7,16,0.1,4,null,16,0.1,null,4,34,0.3]
[null,null,"",0,null,0,"",false,0,0,0,0,100,7,16,0.1,4,null,16,0.1,null,4,34,0.3]
[null,null,"",0,null,0,"",false,0,0,0,0,100,7,16,0.1,4,null,16,0.1,null,4,34,0.3]
[null,null,"",0,null,0,"",false,0,0,0,0,100,7,16,0.1,4,null,16,0.1,null,4,34,0.3]
[null,null,"",0,null,0,"",false,0,0,0,0,100,7,16,0.1,4,null,16,0.1,null,4,34,0.3]
[null,null,"",0,null,0,"",false,0,0,0,0,100,7,16,0.1,4,null,16,0.1,null,4,34,0.3]
[null,null,"",0,null,0,"",false,0,0,0,0,100,7,16,0.1,4,null,16,0.1,null,4,34,0.3]
[null,null,"",0,null,0,"",false,0,0,0,0,100,7,16,0.1,4,null,16,0.1,null,4,34,0.3]
[null,null,"",0,null,0,"",false,0,0,0,0,100,7,16,0.1,4,null,16,0.1,null,4,34,0.3]
[null,null,"",0,null,0,"",false,0,0,0,0,100,7,16,0.1,4,null,16,0.1,null,4,34,0.3]
[null,null,"",0,null,0,"",false,0,0,0,0,100,7,16,0.1,4,null,16,0.1,null,4,34,0.3]
[null,null,"",0,null,0,"",false,0,0,0,0,100,7,16,0.1,4,null,16,0.1,null,4,34,0.3]
[null,null,"",0,null,0,"",false,0,0,0,0,100,7,16,0.1,4,null,16,0.1,null,4,34,0.3]
[null,null,"",0,null,0,"",false,0,0,0,0,100,7,16,0.1,4,null,16,0.1,null,4,34,0.3]
[null,null,"",0,null,0,"",false,0,0,0,0,100,7,16,0.1,4,null,16,0.1,null,4,34,0.3]
[null,null,"",0,null,0,"",false,0,0,0,0,100,7,16,0.1,4,null,16,0.1,null,4,34,0.3]
[null,null,"",0,null,0,"",false,0,0,0,0,100,7,16,0.1,4,null,16,0.1,null,4,34,0.3]
[null,null,"",0,null,0,"",false,0,0,0,0,100,7,16,0.1,4,null,16,0.1,null,4,34,0.3]
[null,null,"",0,null,0,"",false,0,0,0,0,100,7,16,0.1,4,null,16,0.1,null,4,34,0.3]
[null,null,"",0,null,0,"",false,0,0,0,0,100,7,16,0.1,4,null,16,0.1,null,4,34,0.3]
[null,null,"",0,null,0,"",false,0,0,0,0,100,7,16,0.1,4,null,16,0.1,null,4,34,0.3]
[null,null,"",0,null,0,"",false,0,0,0,0,100,7,16,0.1,4,null,16,0.1,null,4,34,0.3]
[null,null,"",0,null,0,"",false,0,0,0,0,100,7,16,0.1,4,null,16,0.1,null,4,34,0.3]
[null,null,"",0,null,0,"",false,0,0,0,0,100,7,16,0.1,4,null,16,0.1,null,4,34,0.3]
[null,null,"",0,null,0,"",false,0,0,0,0,100,7,16,0.1,4,null,16,0.1,null,4,34,0.3]
[null,null,"",0,null,0,"",false,0,0,0,0,100,7,16,0.1,4,null,16,0.1,null,4,34,0.3]
[null,null,"",0,null,0,"",false,0,0,0,0,100,7,16,0.1,4,null,16,0.1,null,4,34,0.3]
[null,null,"",0,null,0,"",false,0,0,0,0,100,7,16,0.1,4,null,16,0.1,null,4,34,0.3]
[null,null,"",0,null,0,"",false,0,0,0,0,100,7,16,0.1,4,null,16,0.1,null,4,34,0.3]
[null,null,"",0,null,0,"",false,0,0,0,0,100,7,16,0.1,4,null,16,0.1,null,4,34,0.3]
[null,null,"",0,null,0,"",false,0,0,0,0,100,7,16,0.1,4,null,16,0.1,null,4,34,0.3]
[null,null,"",0,null,0,"",false,0,0,0,0,100,7,16,0.1,4,null,16,0.1,null,4,34,0.3]
[null,null,"",0,null,0,"",false,0,0,0,0,100,7,16,0.1,4,null,16,0.1,null,4,34,0.3]
[null,null,"",0,null,0,"",false,0,0,0,0,100,7,16,0.1,4,null,16,0.1,null,4,34,0.3]
[null,null,{"$f":"IF(I451>0,INDEX(DB,I451,8),\"\")","v":""},0,null,0,"",false,{"$f":"IF(OR(ISBLANK(A451),ISNA(MATCH(A451&\"\",AthleteNumbers,0))),0,MATCH(A451&\"\",AthleteNumbers,0))","v":0},{"$f":"IF(I451>0,INDEX(DB,$I451,6),0)","v":0},0,0,100,7,16,0.1,{"$f":"IF(I451>0,INDEX(DB,I451,9),EventIndex)","v":4},null,{"$f":"INDEX(MINVALUES,$Q451,$K$1)","v":16},{"$f":"INDEX(INCVALUES,$Q451,$K$1)","v":0.1},null,{"$f":"+J451+(4*(INDEX(MatchScoreTable,$Q451,20)-1))","v":4},{"$f":"INDEX(INC_MINVALUES,$V451,$K$1)","v":34},{"$f":"INDEX(INC_INCVALUES,$V451,$K$1)","v":0.3}]
[null,null,"",{"$f":"IF(AND(H452,B452>0,ISNUMBER(B452)),IF(ISERR(M452),0,M452),0)","v":0},null,{"$f":"COUNTIF(A$3:A$1002,A452)","v":0},{"$f":"IF(AND(H452,OR(D452<=10,D452>=90)),\"CHECK\",\"\")","v":""},{"$f":"IF(AND(LEN(A452)>0,LEN(C452)>0,B452<>0),TRUE,FALSE)","v":false},0,0,{"$f":"IF(ISNUMBER(B452),ROUND(+B452,1),0)","v":0},{"$f":"+K452","v":0},{"$f":"IF(AND(L452>O452,O452>0),MinPoints,IF(L452<N452,100,+INT((O452-$L452)/P452)+MinPoints))","v":100},{"$f":"+O452-(P452*90)","v":7},{"$f":"IF($J452=0,$S452,$W452)","v":16},{"$f":"IF($J452=0,$T452,$X452)","v":0.1},4,null,16,0.1,null,4,34,0.3]
[null,null,"",0,null,0,"",false,0,0,0,0,100,7,16,0.1,4,null,16,0.1,null,4,34,0.3]
[null,null,"",0,null,0,"",false,0,0,0,0,100,7,16,0.1,4,null,16,0.1,null,4,34,0.3]
[null,null,"",0,null,0,"",false,0,0,0,0,100,7,16,0.1,4,null,16,0.1,null,4,34,0.3]
[null,null,"",0,null,0,"",false,0,0,0,0,100,7,16,0.1,4,null,16,0.1,null,4,34,0.3]
[null,null,"",0,null,0,"",false,0,0,0,0,100,7,16,0.1,4,null,16,0.1,null,4,34,0.3]
[null,null,"",0,null,0,"",false,0,0,0,0,100,7,16,0.1,4,null,16,0.1,null,4,34,0.3]
[null,null,"",0,null,0,"",false,0,0,0,0,100,7,16,0.1,4,null,16,0.1,null,4,34,0.3]
[null,null,"",0,null,0,"",false,0,0,0,0,100,7,16,0.1,4,null,16,0.1,null,4,34,0.3]
[null,null,"",0,null,0,"",false,0,0,0,0,100,7,16,0.1,4,null,16,0.1,null,4,34,0.3]
[null,null,"",0,null,0,"",false,0,0,0,0,100,7,16,0.1,4,null,16,0.1,null,4,34,0.3]
[null,null,"",0,null,0,"",false,0,0,0,0,100,7,16,0.1,4,null,16,0.1,null,4,34,0.3]
[null,null,"",0,null,0,"",false,0,0,0,0,100,7,16,0.1,4,null,16,0.1,null,4,34,0.3]
[null,null,"",0,null,0,"",false,0,0,0,0,100,7,16,0.1,4,null,16,0.1,null,4,34,0.3]
[null,null,"",0,null,0,"",false,0,0,0,0,100,7,16,0.1,4,null,16,0.1,null,4,34,0.3]
[null,null,"",0,null,0,"",false,0,0,0,0,100,7,16,0.1,4,null,16,0.1,null,4,34,0.3]
[null,null,"",0,null,0,"",false,0,0,0,0,100,7,16,0.1,4,null,16,0.1,null,4,34,0.3]
[null,null,"",0,null,0,"",false,0,0,0,0,100,7,16,0.1,4,null,16,0.1,null,4,34,0.3]
[null,null,"",0,null,0,"",false,0,0,0,0,100,7,16,0.1,4,null,16,0.1,null,4,34,0.3]
[null,null,"",0,null,0,"",false,0,0,0,0,100,7,16,0.1,4,null,16,0.1,null,4,34,0.3]
[null,null,"",0,null,0,"",false,0,0,0,0,100,7,16,0.1,4,null,16,0.1,null,4,34,0.3]
[null,null,"",0,null,0,"",false,0,0,0,0,100,7,16,0.1,4,null,16,0.1,null,4,34,0.3]
[null,null,"",0,null,0,"",false,0,0,0,0,100,7,16,0.1,4,null,16,0.1,null,4,34,0.3]
[null,null,"",0,null,0,"",false,0,0,0,0,100,7,16,0.1,4,null,16,0.1,null,4,34,0.3]
[null,null,"",0,null,0,"",false,0,0,0,0,100,7,16,0.1,4,null,16,0.1,null,4,34,0.3]
[null,null,"",0,null,0,"",false,0,0,0,0,100,7,16,0.1,4,null,16,0.1,null,4,34,0.3]
[null,null,"",0,null,0,"",false,0,0,0,0,100,7,16,0.1,4,null,16,0.1,null,4,34,0.3]
[null,null,"",0,null,0,"",false,0,0,0,0,100,7,16,0.1,4,null,16,0.1,null,4,34,0.3]
[null,null,"",0,null,0,"",false,0,0,0,0,100,7,16,0.1,4,null,16,0.1,null,4,34,0.3]
[null,null,"",0,null,0,"",false,0,0,0,0,100,7,16,0.1,4,null,16,0.1,null,4,34,0.3]
[null,null,"",0,null,0,"",false,0,0,0,0,100,7,16,0.1,4,null,16,0.1,null,4,34,0.3]
[null,null,"",0,null,0,"",false,0,0,0,0,100,7,16,0.1,4,null,16,0.1,null,4,34,0.3]
[null,null,"",0,null,0,"",false,0,0,0,0,100,7,16,0.1,4,null,16,0.1,null,4,34,0.3]
[null,null,"",0,null,0,"",false,0,0,0,0,100,7,16,0.1,4,null,16,0.1,null,4,34,0.3]
[null,null,"",0,null,0,"",false,0,0,0,0,100,7,16,0.1,4,null,16,0.1,null,4,34,0.3]
[null,null,"",0,null,0,"",false,0,0,0,0,100,7,16,0.1,4,null,16,0.1,null,4,34,0.3]
[null,null,"",0,null,0,"",false,0,0,0,0,100,7,16,0.1,4,null,16,0.1,null,4,34,0.3]
[null,null,"",0,null,0,"",false,0,0,0,0,100,7,16,0.1,4,null,16,0.1,null,4,34,0.3]
[null,null,"",0,null,0,"",false,0,0,0,0,100,7,16,0.1,4,null,16,0.1,null,4,34,0.3]
[null,null,"",0,null,0,"",false,0,0,0,0,100,7,16,0.1,4,null,16,0.1,null,4,34,0.3]
[null,null,"",0,null,0,"",false,0,0,0,0,100,7,16,0.1,4,null,16,0.1,null,4,34,0.3]
[null,null,"",0,null,0,"",false,0,0,0,0,100,7,16,0.1,4,null,16,0.1,null,4,34,0.3]
[null,null,"",0,null,0,"",false,0,0,0,0,100,7,16,0.1,4,null,16,0.1,null,4,34,0.3]
[null,null,"",0,null,0,"",false,0,0,0,0,100,7,16,0.1,4,null,16,0.1,null,4,34,0.3]
[null,null,"",0,null,0,"",false,0,0,0,0,100,7,16,0.1,4,null,16,0.1,null,4,34,0.3]
[null,null,"",0,null,0,"",false,0,0,0,0,100,7,16,0.1,4,null,16,0.1,null,4,34,0.3]
[null,null,"",0,null,0,"",false,0,0,0,0,100,7,16,0.1,4,null,16,0.1,null,4,34,0.3]
[null,null,"",0,null,0,"",false,0,0,0,0,100,7,16,0.1,4,null,16,0.1,null,4,34,0.3]
[null,null,"",0,null,0,"",false,0,0,0,0,100,7,16,0.1,4,null,16,0.1,null,4,34,0.3]
[null,null,"",0,null,0,"",false,0,0,0,0,100,7,16,0.1,4,null,16,0.1,null,4,34,0.3]
[null,null,"",0,null,0,"",false,0,0,0,0,100,7,16,0.1,4,null,16,0.1,null,4,34,0.3]
[null,null,"",0,null,0,"",false,0,0,0,0,100,7,16,0.1,4,null,16,0.1,null,4,34,0.3]
[null,null,"",0,null,0,"",false,0,0,0,0,100,7,16,0.1,4,null,16,0.1,null,4,34,0.3]
[null,null,"",0,null,0,"",false,0,0,0,0,100,7,16,0.1,4,null,16,0.1,null,4,34,0.3]
[null,null,"",0,null,0,"",false,0,0,0,0,100,7,16,0.1,4,null,16,0.1,null,4,34,0.3]
[null,null,"",0,null,0,"",false,0,0,0,0,100,7,16,0.1,4,null,16,0.1,null,4,34,0.3]
[null,null,"",0,null,0,"",false,0,0,0,0,100,7,16,0.1,4,null,16,0.1,null,4,34,0.3]
[null,null,"",0,null,0,"",false,0,0,0,0,100,7,16,0.1,4,null,16,0.1,null,4,34,0.3]
[null,null,"",0,null,0,"",false,0,0,0,0,100,7,16,0.1,4,null,16,0.1,null,4,34,0.3]
[null,null,"",0,null,0,"",false,0,0,0,0,100,7,16,0.1,4,null,16,0.1,null,4,34,0.3]
[null,null,"",0,null,0,"",false,0,0,0,0,100,7,16,0.1,4,null,16,0.1,null,4,34,0.3]
[null,null,"",0,null,0,"",false,0,0,0,0,100,7,16,0.1,4,null,16,0.1,null,4,34,0.3]
[null,null,"",0,null,0,"",false,0,0,0,0,100,7,16,0.1,4,null,16,0.1,null,4,34,0.3]
[null,null,{"$f":"IF(I515>0,INDEX(DB,I515,8),\"\")","v":""},0,null,0,"",false,{"$f":"IF(OR(ISBLANK(A515),ISNA(MATCH(A515&\"\",AthleteNumbers,0))),0,MATCH(A515&\"\",AthleteNumbers,0))","v":0},{"$f":"IF(I515>0,INDEX(DB,$I515,6),0)","v":0},0,0,100,7,16,0.1,{"$f":"IF(I515>0,INDEX(DB,I515,9),EventIndex)","v":4},null,{"$f":"INDEX(MINVALUES,$Q515,$K$1)","v":16},{"$f":"INDEX(INCVALUES,$Q515,$K$1)","v":0.1},null,{"$f":"+J515+(4*(INDEX(MatchScoreTable,$Q515,20)-1))","v":4},{"$f":"INDEX(INC_MINVALUES,$V515,$K$1)","v":34},{"$f":"INDEX(INC_INCVALUES,$V515,$K$1)","v":0.3}]
[null,null,"",{"$f":"IF(AND(H516,B516>0,ISNUMBER(B516)),IF(ISERR(M516),0,M516),0)","v":0},null,{"$f":"COUNTIF(A$3:A$1002,A516)","v":0},{"$f":"IF(AND(H516,OR(D516<=10,D516>=90)),\"CHECK\",\"\")","v":""},{"$f":"IF(AND(LEN(A516)>0,LEN(C516)>0,B516<>0),TRUE,FALSE)","v":false},0,0,{"$f":"IF(ISNUMBER(B516),ROUND(+B516,1),0)","v":0},{"$f":"+K516","v":0},{"$f":"IF(AND(L516>O516,O516>0),MinPoints,IF(L516<N516,100,+INT((O516-$L516)/P516)+MinPoints))","v":100},{"$f":"+O516-(P516*90)","v":7},{"$f":"IF($J516=0,$S516,$W516)","v":16},{"$f":"IF($J516=0,$T516,$X516)","v":0.1},4,null,16,0.1,null,4,34,0.3]
[null,null,"",0,null,0,"",false,0,0,0,0,100,7,16,0.1,4,null,16,0.1,null,4,34,0.3]
[null,null,"",0,null,0,"",false,0,0,0,0,100,7,16,0.1,4,null,16,0.1,null,4,34,0.3]
[null,null,"",0,null,0,"",false,0,0,0,0,100,7,16,0.1,4,null,16,0.1,null,4,34,0.3]
[null,null,"",0,null,0,"",false,0,0,0,0,100,7,16,0.1,4,null,16,0.1,null,4,34,0.3]
[null,null,"",0,null,0,"",false,0,0,0,0,100,7,16,0.1,4,null,16,0.1,null,4,34,0.3]
[null,null,"",0,null,0,"",false,0,0,0,0,100,7,16,0.1,4,null,16,0.1,null,4,34,0.3]
[null,null,"",0,null,0,"",false,0,0,0,0,100,7,16,0.1,4,null,16,0.1,null,4,34,0.3]
[null,null,"",0,null,0,"",false,0,0,0,0,100,7,16,0.1,4,null,16,0.1,null,4,34,0.3]
[null,null,"",0,null,0,"",false,0,0,0,0,100,7,16,0.1,4,null,16,0.1,null,4,34,0.3]
[null,null,"",0,null,0,"",false,0,0,0,0,100,7,16,0.1,4,null,16,0.1,null,4,34,0.3]
[null,null,"",0,null,0,"",false,0,0,0,0,100,7,16,0.1,4,null,16,0.1,null,4,34,0.3]
[null,null,"",0,null,0,"",false,0,0,0,0,100,7,16,0.1,4,null,16,0.1,null,4,34,0.3]
[null,null,"",0,null,0,"",false,0,0,0,0,100,7,16,0.1,4,null,16,0.1,null,4,34,0.3]
[null,null,"",0,null,0,"",false,0,0,0,0,100,7,16,0.1,4,null,16,0.1,null,4,34,0.3]
[null,null,"",0,null,0,"",false,0,0,0,0,100,7,16,0.1,4,null,16,0.1,null,4,34,0.3]
[null,null,"",0,null,0,"",false,0,0,0,0,100,7,16,0.1,4,null,16,0.1,null,4,34,0.3]
[null,null,"",0,null,0,"",false,0,0,0,0,100,7,16,0.1,4,null,16,0.1,null,4,34,0.3]
[null,null,"",0,null,0,"",false,0,0,0,0,100,7,16,0.1,4,null,16,0.1,null,4,34,0.3]
[null,null,"",0,null,0,"",false,0,0,0,0,100,7,16,0.1,4,null,16,0.1,null,4,34,0.3]
[null,null,"",0,null,0,"",false,0,0,0,0,100,7,16,0.1,4,null,16,0.1,null,4,34,0.3]
[null,null,"",0,null,0,"",false,0,0,0,0,100,7,16,0.1,4,null,16,0.1,null,4,34,0.3]
[null,null,"",0,null,0,"",false,0,0,0,0,100,7,16,0.1,4,null,16,0.1,null,4,34,0.3]
[null,null,"",0,null,0,"",false,0,0,0,0,100,7,16,0.1,4,null,16,0.1,null,4,34,0.3]
[null,null,"",0,null,0,"",false,0,0,0,0,100,7,16,0.1,4,null,16,0.1,null,4,34,0.3]
[null,null,"",0,null,0,"",false,0,0,0,0,100,7,16,0.1,4,null,16,0.1,null,4,34,0.3]
[null,null,"",0,null,0,"",false,0,0,0,0,100,7,16,0.1,4,null,16,0.1,null,4,34,0.3]
[null,null,"",0,null,0,"",false,0,0,0,0,100,7,16,0.1,4,null,16,0.1,null,4,34,0.3]
[null,null,"",0,null,0,"",false,0,0,0,0,100,7,16,0.1,4,null,16,0.1,null,4,34,0.3]
[null,null,"",0,null,0,"",false,0,0,0,0,100,7,16,0.1,4,null,16,0.1,null,4,34,0.3]
[null,null,"",0,null,0,"",false,0,0,0,0,100,7,16,0.1,4,null,16,0.1,null,4,34,0.3]
[null,null,"",0,null,0,"",false,0,0,0,0,100,7,16,0.1,4,null,16,0.1,null,4,34,0.3]
[null,null,"",0,null,0,"",false,0,0,0,0,100,7,16,0.1,4,null,16,0.1,null,4,34,0.3]
[null,null,"",0,null,0,"",false,0,0,0,0,100,7,16,0.1,4,null,16,0.1,null,4,34,0.3]
[null,null,"",0,null,0,"",false,0,0,0,0,100,7,16,0.1,4,null,16,0.1,null,4,34,0.3]
[null,null,"",0,null,0,"",false,0,0,0,0,100,7,16,0.1,4,null,16,0.1,null,4,34,0.3]
[null,null,"",0,null,0,"",false,0,0,0,0,100,7,16,0.1,4,null,16,0.1,null,4,34,0.3]
[null,null,"",0,null,0,"",false,0,0,0,0,100,7,16,0.1,4,null,16,0.1,null,4,34,0.3]
[null,null,"",0,null,0,"",false,0,0,0,0,100,7,16,0.1,4,null,16,0.1,null,4,34,0.3]
[null,null,"",0,null,0,"",false,0,0,0,0,100,7,16,0.1,4,null,16,0.1,null,4,34,0.3]
[null,null,"",0,null,0,"",false,0,0,0,0,100,7,16,0.1,4,null,16,0.1,null,4,34,0.3]
[null,null,"",0,null,0,"",false,0,0,0,0,100,7,16,0.1,4,null,16,0.1,null,4,34,0.3]
[null,null,"",0,null,0,"",false,0,0,0,0,100,7,16,0.1,4,null,16,0.1,null,4,34,0.3]
[null,null,"",0,null,0,"",false,0,0,0,0,100,7,16,0.1,4,null,16,0.1,null,4,34,0.3]
[null,null,"",0,null,0,"",false,0,0,0,0,100,7,16,0.1,4,null,16,0.1,null,4,34,0.3]
[null,null,"",0,null,0,"",false,0,0,0,0,100,7,16,0.1,4,null,16,0.1,null,4,34,0.3]
[null,null,"",0,null,0,"",false,0,0,0,0,100,7,16,0.1,4,null,16,0.1,null,4,34,0.3]
[null,null,"",0,null,0,"",false,0,0,0,0,100,7,16,0.1,4,null,16,0.1,null,4,34,0.3]
[null,null,"",0,null,0,"",false,0,0,0,0,100,7,16,0.1,4,null,16,0.1,null,4,34,0.3]
[null,null,"",0,null,0,"",false,0,0,0,0,100,7,16,0.1,4,null,16,0.1,null,4,34,0.3]
[null,null,"",0,null,0,"",false,0,0,0,0,100,7,16,0.1,4,null,16,0.1,null,4,34,0.3]
[null,null,"",0,null,0,"",false,0,0,0,0,100,7,16,0.1,4,null,16,0.1,null,4,34,0.3]
[null,null,"",0,null,0,"",false,0,0,0,0,100,7,16,0.1,4,null,16,0.1,null,4,34,0.3]
[null,null,"",0,null,0,"",false,0,0,0,0,100,7,16,0.1,4,null,16,0.1,null,4,34,0.3]
[null,null,"",0,null,0,"",false,0,0,0,0,100,7,16,0.1,4,null,16,0.1,null,4,34,0.3]
[null,null,"",0,null,0,"",false,0,0,0,0,100,7,16,0.1,4,null,16,0.1,null,4,34,0.3]
[null,null,"",0,null,0,"",false,0,0,0,0,100,7,16,0.1,4,null,16,0.1,null,4,34,0.3]
[null,null,"",0,null,0,"",false,0,0,0,0,100,7,16,0.1,4,null,16,0.1,null,4,34,0.3]
[null,null,"",0,null,0,"",false,0,0,0,0,100,7,16,0.1,4,null,16,0.1,null,4,34,0.3]
[null,null,"",0,null,0,"",false,0,0,0,0,100,7,16,0.1,4,null,16,0.1,null,4,34,0.3]
[null,null,"",0,null,0,"",false,0,0,0,0,100,7,16,0.1,4,null,16,0.1,null,4,34,0.3]
[null,null,"",0,null,0,"",false,0,0,0,0,100,7,16,0.1,4,null,16,0.1,null,4,34,0.3]
[null,null,"",0,null,0,"",false,0,0,0,0,100,7,16,0.1,4,null,16,0.1,null,4,34,0.3]
[null,null,{"$f":"IF(I579>0,INDEX(DB,I579,8),\"\")","v":""},0,null,0,"",false,{"$f":"IF(OR(ISBLANK(A579),ISNA(MATCH(A579&\"\",AthleteNumbers,0))),0,MATCH(A579&\"\",AthleteNumbers,0))","v":0},{"$f":"IF(I579>0,INDEX(DB,$I579,6),0)","v":0},0,0,100,7,16,0.1,{"$f":"IF(I579>0,INDEX(DB,I579,9),EventIndex)","v":4},null,{"$f":"INDEX(MINVALUES,$Q579,$K$1)","v":16},{"$f":"INDEX(INCVALUES,$Q579,$K$1)","v":0.1},null,{"$f":"+J579+(4*(INDEX(MatchScoreTable,$Q579,20)-1))","v":4},{"$f":"INDEX(INC_MINVALUES,$V579,$K$1)","v":34},{"$f":"INDEX(INC_INCVALUES,$V579,$K$1)","v":0.3}]
[null,null,"",{"$f":"IF(AND(H580,B580>0,ISNUMBER(B580)),IF(ISERR(M580),0,M580),0)","v":0},null,{"$f":"COUNTIF(A$3:A$1002,A580)","v":0},{"$f":"IF(AND(H580,OR(D580<=10,D580>=90)),\"CHECK\",\"\")","v":""},{"$f":"IF(AND(LEN(A580)>0,LEN(C580)>0,B580<>0),TRUE,FALSE)","v":false},0,0,{"$f":"IF(ISNUMBER(B580),ROUND(+B580,1),0)","v":0},{"$f":"+K580","v":0},{"$f":"IF(AND(L580>O580,O580>0),MinPoints,IF(L580<N580,100,+INT((O580-$L580)/P580)+MinPoints))","v":100},{"$f":"+O580-(P580*90)","v":7},{"$f":"IF($J580=0,$S580,$W580)","v":16},{"$f":"IF($J580=0,$T580,$X580)","v":0.1},4,null,16,0.1,null,4,34,0.3]
[null,null,"",0,null,0,"",false,0,0,0,0,100,7,16,0.1,4,null,16,0.1,null,4,34,0.3]
[null,null,"",0,null,0,"",false,0,0,0,0,100,7,16,0.1,4,null,16,0.1,null,4,34,0.3]
[null,null,"",0,null,0,"",false,0,0,0,0,100,7,16,0.1,4,null,16,0.1,null,4,34,0.3]
[null,null,"",0,null,0,"",false,0,0,0,0,100,7,16,0.1,4,null,16,0.1,null,4,34,0.3]
[null,null,"",0,null,0,"",false,0,0,0,0,100,7,16,0.1,4,null,16,0.1,null,4,34,0.3]
[null,null,"",0,null,0,"",false,0,0,0,0,100,7,16,0.1,4,null,16,0.1,null,4,34,0.3]
[null,null,"",0,null,0,"",false,0,0,0,0,100,7,16,0.1,4,null,16,0.1,null,4,34,0.3]
[null,null,"",0,null,0,"",false,0,0,0,0,100,7,16,0.1,4,null,16,0.1,null,4,34,0.3]
[null,null,"",0,null,0,"",false,0,0,0,0,100,7,16,0.1,4,null,16,0.1,null,4,34,0.3]
[null,null,"",0,null,0,"",false,0,0,0,0,100,7,16,0.1,4,null,16,0.1,null,4,34,0.3]
[null,null,"",0,null,0,"",false,0,0,0,0,100,7,16,0.1,4,null,16,0.1,null,4,34,0.3]
[null,null,"",0,null,0,"",false,0,0,0,0,100,7,16,0.1,4,null,16,0.1,null,4,34,0.3]
[null,null,"",0,null,0,"",false,0,0,0,0,100,7,16,0.1,4,null,16,0.1,null,4,34,0.3]
[null,null,"",0,null,0,"",false,0,0,0,0,100,7,16,0.1,4,null,16,0.1,null,4,34,0.3]
[null,null,"",0,null,0,"",false,0,0,0,0,100,7,16,0.1,4,null,16,0.1,null,4,34,0.3]
[null,null,"",0,null,0,"",false,0,0,0,0,100,7,16,0.1,4,null,16,0.1,null,4,34,0.3]
[null,null,"",0,null,0,"",false,0,0,0,0,100,7,16,0.1,4,null,16,0.1,null,4,34,0.3]
[null,null,"",0,null,0,"",false,0,0,0,0,100,7,16,0.1,4,null,16,0.1,null,4,34,0.3]
[null,null,"",0,null,0,"",false,0,0,0,0,100,7,16,0.1,4,null,16,0.1,null,4,34,0.3]
[null,null,"",0,null,0,"",false,0,0,0,0,100,7,16,0.1,4,null,16,0.1,null,4,34,0.3]
[null,null,"",0,null,0,"",false,0,0,0,0,100,7,16,0.1,4,null,16,0.1,null,4,34,0.3]
[null,null,"",0,null,0,"",false,0,0,0,0,100,7,16,0.1,4,null,16,0.1,null,4,34,0.3]
[null,null,"",0,null,0,"",false,0,0,0,0,100,7,16,0.1,4,null,16,0.1,null,4,34,0.3]
[null,null,"",0,null,0,"",false,0,0,0,0,100,7,16,0.1,4,null,16,0.1,null,4,34,0.3]
[null,null,"",0,null,0,"",false,0,0,0,0,100,7,16,0.1,4,null,16,0.1,null,4,34,0.3]
[null,null,"",0,null,0,"",false,0,0,0,0,100,7,16,0.1,4,null,16,0.1,null,4,34,0.3]
[null,null,"",0,null,0,"",false,0,0,0,0,100,7,16,0.1,4,null,16,0.1,null,4,34,0.3]
[null,null,"",0,null,0,"",false,0,0,0,0,100,7,16,0.1,4,null,16,0.1,null,4,34,0.3]
[null,null,"",0,null,0,"",false,0,0,0,0,100,7,16,0.1,4,null,16,0.1,null,4,34,0.3]
[null,null,"",0,null,0,"",false,0,0,0,0,100,7,16,0.1,4,null,16,0.1,null,4,34,0.3]
[null,null,"",0,null,0,"",false,0,0,0,0,100,7,16,0.1,4,null,16,0.1,null,4,34,0.3]
[null,null,"",0,null,0,"",false,0,0,0,0,100,7,16,0.1,4,null,16,0.1,null,4,34,0.3]
[null,null,"",0,null,0,"",false,0,0,0,0,100,7,16,0.1,4,null,16,0.1,null,4,34,0.3]
[null,null,"",0,null,0,"",false,0,0,0,0,100,7,16,0.1,4,null,16,0.1,null,4,34,0.3]
[null,null,"",0,null,0,"",false,0,0,0,0,100,7,16,0.1,4,null,16,0.1,null,4,34,0.3]
[null,null,"",0,null,0,"",false,0,0,0,0,100,7,16,0.1,4,null,16,0.1,null,4,34,0.3]
[null,null,"",0,null,0,"",false,0,0,0,0,100,7,16,0.1,4,null,16,0.1,null,4,34,0.3]
[null,null,"",0,null,0,"",false,0,0,0,0,100,7,16,0.1,4,null,16,0.1,null,4,34,0.3]
[null,null,"",0,null,0,"",false,0,0,0,0,100,7,16,0.1,4,null,16,0.1,null,4,34,0.3]
[null,null,"",0,null,0,"",false,0,0,0,0,100,7,16,0.1,4,null,16,0.1,null,4,34,0.3]
[null,null,"",0,null,0,"",false,0,0,0,0,100,7,16,0.1,4,null,16,0.1,null,4,34,0.3]
[null,null,"",0,null,0,"",false,0,0,0,0,100,7,16,0.1,4,null,16,0.1,null,4,34,0.3]
[null,null,"",0,null,0,"",false,0,0,0,0,100,7,16,0.1,4,null,16,0.1,null,4,34,0.3]
[null,null,"",0,null,0,"",false,0,0,0,0,100,7,16,0.1,4,null,16,0.1,null,4,34,0.3]
[null,null,"",0,null,0,"",false,0,0,0,0,100,7,16,0.1,4,null,16,0.1,null,4,34,0.3]
[null,null,"",0,null,0,"",false,0,0,0,0,100,7,16,0.1,4,null,16,0.1,null,4,34,0.3]
[null,null,"",0,null,0,"",false,0,0,0,0,100,7,16,0.1,4,null,16,0.1,null,4,34,0.3]
[null,null,"",0,null,0,"",false,0,0,0,0,100,7,16,0.1,4,null,16,0.1,null,4,34,0.3]
[null,null,"",0,null,0,"",false,0,0,0,0,100,7,16,0.1,4,null,16,0.1,null,4,34,0.3]
[null,null,"",0,null,0,"",false,0,0,0,0,100,7,16,0.1,4,null,16,0.1,null,4,34,0.3]
[null,null,"",0,null,0,"",false,0,0,0,0,100,7,16,0.1,4,null,16,0.1,null,4,34,0.3]
[null,null,"",0,null,0,"",false,0,0,0,0,100,7,16,0.1,4,null,16,0.1,null,4,34,0.3]
[null,null,"",0,null,0,"",false,0,0,0,0,100,7,16,0.1,4,null,16,0.1,null,4,34,0.3]
[null,null,"",0,null,0,"",false,0,0,0,0,100,7,16,0.1,4,null,16,0.1,null,4,34,0.3]
[null,null,"",0,null,0,"",false,0,0,0,0,100,7,16,0.1,4,null,16,0.1,null,4,34,0.3]
[null,null,"",0,null,0,"",false,0,0,0,0,100,7,16,0.1,4,null,16,0.1,null,4,34,0.3]
[null,null,"",0,null,0,"",false,0,0,0,0,100,7,16,0.1,4,null,16,0.1,null,4,34,0.3]
[null,null,"",0,null,0,"",false,0,0,0,0,100,7,16,0.1,4,null,16,0.1,null,4,34,0.3]
[null,null,"",0,null,0,"",false,0,0,0,0,100,7,16,0.1,4,null,16,0.1,null,4,34,0.3]
[null,null,"",0,null,0,"",false,0,0,0,0,100,7,16,0.1,4,null,16,0.1,null,4,34,0.3]
[null,null,"",0,null,0,"",false,0,0,0,0,100,7,16,0.1,4,null,16,0.1,null,4,34,0.3]
[null,null,"",0,null,0,"",false,0,0,0,0,100,7,16,0.1,4,null,16,0.1,null,4,34,0.3]
[null,null,{"$f":"IF(I643>0,INDEX(DB,I643,8),\"\")","v":""},0,null,0,"",false,{"$f":"IF(OR(ISBLANK(A643),ISNA(MATCH(A643&\"\",AthleteNumbers,0))),0,MATCH(A643&\"\",AthleteNumbers,0))","v":0},{"$f":"IF(I643>0,INDEX(DB,$I643,6),0)","v":0},0,0,100,7,16,0.1,{"$f":"IF(I643>0,INDEX(DB,I643,9),EventIndex)","v":4},null,{"$f":"INDEX(MINVALUES,$Q643,$K$1)","v":16},{"$f":"INDEX(INCVALUES,$Q643,$K$1)","v":0.1},null,{"$f":"+J643+(4*(INDEX(MatchScoreTable,$Q643,20)-1))","v":4},{"$f":"INDEX(INC_MINVALUES,$V643,$K$1)","v":34},{"$f":"INDEX(INC_INCVALUES,$V643,$K$1)","v":0.3}]
[null,null,"",{"$f":"IF(AND(H644,B644>0,ISNUMBER(B644)),IF(ISERR(M644),0,M644),0)","v":0},null,{"$f":"COUNTIF(A$3:A$1002,A644)","v":0},{"$f":"IF(AND(H644,OR(D644<=10,D644>=90)),\"CHECK\",\"\")","v":""},{"$f":"IF(AND(LEN(A644)>0,LEN(C644)>0,B644<>0),TRUE,FALSE)","v":false},0,0,{"$f":"IF(ISNUMBER(B644),ROUND(+B644,1),0)","v":0},{"$f":"+K644","v":0},{"$f":"IF(AND(L644>O644,O644>0),MinPoints,IF(L644<N644,100,+INT((O644-$L644)/P644)+MinPoints))","v":100},{"$f":"+O644-(P644*90)","v":7},{"$f":"IF($J644=0,$S644,$W644)","v":16},{"$f":"IF($J644=0,$T644,$X644)","v":0.1},4,null,16,0.1,null,4,34,0.3]
[null,null,"",0,null,0,"",false,0,0,0,0,100,7,16,0.1,4,null,16,0.1,null,4,34,0.3]
[null,null,"",0,null,0,"",false,0,0,0,0,100,7,16,0.1,4,null,16,0.1,null,4,34,0.3]
[null,null,"",0,null,0,"",false,0,0,0,0,100,7,16,0.1,4,null,16,0.1,null,4,34,0.3]
[null,null,"",0,null,0,"",false,0,0,0,0,100,7,16,0.1,4,null,16,0.1,null,4,34,0.3]
[null,null,"",0,null,0,"",false,0,0,0,0,100,7,16,0.1,4,null,16,0.1,null,4,34,0.3]
[null,null,"",0,null,0,"",false,0,0,0,0,100,7,16,0.1,4,null,16,0.1,null,4,34,0.3]
[null,null,"",0,null,0,"",false,0,0,0,0,100,7,16,0.1,4,null,16,0.1,null,4,34,0.3]
[null,null,"",0,null,0,"",false,0,0,0,0,100,7,16,0.1,4,null,16,0.1,null,4,34,0.3]
[null,null,"",0,null,0,"",false,0,0,0,0,100,7,16,0.1,4,null,16,0.1,null,4,34,0.3]
[null,null,"",0,null,0,"",false,0,0,0,0,100,7,16,0.1,4,null,16,0.1,null,4,34,0.3]
[null,null,"",0,null,0,"",false,0,0,0,0,100,7,16,0.1,4,null,16,0.1,null,4,34,0.3]
[null,null,"",0,null,0,"",false,0,0,0,0,100,7,16,0.1,4,null,16,0.1,null,4,34,0.3]
[null,null,"",0,null,0,"",false,0,0,0,0,100,7,16,0.1,4,null,16,0.1,null,4,34,0.3]
[null,null,"",0,null,0,"",false,0,0,0,0,100,7,16,0.1,4,null,16,0.1,null,4,34,0.3]
[null,null,"",0,null,0,"",false,0,0,0,0,100,7,16,0.1,4,null,16,0.1,null,4,34,0.3]
[null,null,"",0,null,0,"",false,0,0,0,0,100,7,16,0.1,4,null,16,0.1,null,4,34,0.3]
[null,null,"",0,null,0,"",false,0,0,0,0,100,7,16,0.1,4,null,16,0.1,null,4,34,0.3]
[null,null,"",0,null,0,"",false,0,0,0,0,100,7,16,0.1,4,null,16,0.1,null,4,34,0.3]
[null,null,"",0,null,0,"",false,0,0,0,0,100,7,16,0.1,4,null,16,0.1,null,4,34,0.3]
[null,null,"",0,null,0,"",false,0,0,0,0,100,7,16,0.1,4,null,16,0.1,null,4,34,0.3]
[null,null,"",0,null,0,"",false,0,0,0,0,100,7,16,0.1,4,null,16,0.1,null,4,34,0.3]
[null,null,"",0,null,0,"",false,0,0,0,0,100,7,16,0.1,4,null,16,0.1,null,4,34,0.3]
[null,null,"",0,null,0,"",false,0,0,0,0,100,7,16,0.1,4,null,16,0.1,null,4,34,0.3]
[null,null,"",0,null,0,"",false,0,0,0,0,100,7,16,0.1,4,null,16,0.1,null,4,34,0.3]
[null,null,"",0,null,0,"",false,0,0,0,0,100,7,16,0.1,4,null,16,0.1,null,4,34,0.3]
[null,null,"",0,null,0,"",false,0,0,0,0,100,7,16,0.1,4,null,16,0.1,null,4,34,0.3]
[null,null,"",0,null,0,"",false,0,0,0,0,100,7,16,0.1,4,null,16,0.1,null,4,34,0.3]
[null,null,"",0,null,0,"",false,0,0,0,0,100,7,16,0.1,4,null,16,0.1,null,4,34,0.3]
[null,null,"",0,null,0,"",false,0,0,0,0,100,7,16,0.1,4,null,16,0.1,null,4,34,0.3]
[null,null,"",0,null,0,"",false,0,0,0,0,100,7,16,0.1,4,null,16,0.1,null,4,34,0.3]
[null,null,"",0,null,0,"",false,0,0,0,0,100,7,16,0.1,4,null,16,0.1,null,4,34,0.3]
[null,null,"",0,null,0,"",false,0,0,0,0,100,7,16,0.1,4,null,16,0.1,null,4,34,0.3]
[null,null,"",0,null,0,"",false,0,0,0,0,100,7,16,0.1,4,null,16,0.1,null,4,34,0.3]
[null,null,"",0,null,0,"",false,0,0,0,0,100,7,16,0.1,4,null,16,0.1,null,4,34,0.3]
[null,null,"",0,null,0,"",false,0,0,0,0,100,7,16,0.1,4,null,16,0.1,null,4,34,0.3]
[null,null,"",0,null,0,"",false,0,0,0,0,100,7,16,0.1,4,null,16,0.1,null,4,34,0.3]
[null,null,"",0,null,0,"",false,0,0,0,0,100,7,16,0.1,4,null,16,0.1,null,4,34,0.3]
[null,null,"",0,null,0,"",false,0,0,0,0,100,7,16,0.1,4,null,16,0.1,null,4,34,0.3]
[null,null,"",0,null,0,"",false,0,0,0,0,100,7,16,0.1,4,null,16,0.1,null,4,34,0.3]
[null,null,"",0,null,0,"",false,0,0,0,0,100,7,16,0.1,4,null,16,0.1,null,4,34,0.3]
[null,null,"",0,null,0,"",false,0,0,0,0,100,7,16,0.1,4,null,16,0.1,null,4,34,0.3]
[null,null,"",0,null,0,"",false,0,0,0,0,100,7,16,0.1,4,null,16,0.1,null,4,34,0.3]
[null,null,"",0,null,0,"",false,0,0,0,0,100,7,16,0.1,4,null,16,0.1,null,4,34,0.3]
[null,null,"",0,null,0,"",false,0,0,0,0,100,7,16,0.1,4,null,16,0.1,null,4,34,0.3]
[null,null,"",0,null,0,"",false,0,0,0,0,100,7,16,0.1,4,null,16,0.1,null,4,34,0.3]
[null,null,"",0,null,0,"",false,0,0,0,0,100,7,16,0.1,4,null,16,0.1,null,4,34,0.3]
[null,null,"",0,null,0,"",false,0,0,0,0,100,7,16,0.1,4,null,16,0.1,null,4,34,0.3]
[null,null,"",0,null,0,"",false,0,0,0,0,100,7,16,0.1,4,null,16,0.1,null,4,34,0.3]
[null,null,"",0,null,0,"",false,0,0,0,0,100,7,16,0.1,4,null,16,0.1,null,4,34,0.3]
[null,null,"",0,null,0,"",false,0,0,0,0,100,7,16,0.1,4,null,16,0.1,null,4,34,0.3]
[null,null,"",0,null,0,"",false,0,0,0,0,100,7,16,0.1,4,null,16,0.1,null,4,34,0.3]
[null,null,"",0,null,0,"",false,0,0,0,0,100,7,16,0.1,4,null,16,0.1,null,4,34,0.3]
[null,null,"",0,null,0,"",false,0,0,0,0,100,7,16,0.1,4,null,16,0.1,null,4,34,0.3]
[null,null,"",0,null,0,"",false,0,0,0,0,100,7,16,0.1,4,null,16,0.1,null,4,34,0.3]
[null,null,"",0,null,0,"",false,0,0,0,0,100,7,16,0.1,4,null,16,0.1,null,4,34,0.3]
[null,null,"",0,null,0,"",false,0,0,0,0,100,7,16,0.1,4,null,16,0.1,null,4,34,0.3]
[null,null,"",0,null,0,"",false,0,0,0,0,100,7,16,0.1,4,null,16,0.1,null,4,34,0.3]
[null,null,"",0,null,0,"",false,0,0,0,0,100,7,16,0.1,4,null,16,0.1,null,4,34,0.3]
[null,null,"",0,null,0,"",false,0,0,0,0,100,7,16,0.1,4,null,16,0.1,null,4,34,0.3]
[null,null,"",0,null,0,"",false,0,0,0,0,100,7,16,0.1,4,null,16,0.1,null,4,34,0.3]
[null,null,"",0,null,0,"",false,0,0,0,0,100,7,16,0.1,4,null,16,0.1,null,4,34,0.3]
[null,null,"",0,null,0,"",false,0,0,0,0,100,7,16,0.1,4,null,16,0.1,null,4,34,0.3]
[null,null,{"$f":"IF(I707>0,INDEX(DB,I707,8),\"\")","v":""},0,null,0,"",false,{"$f":"IF(OR(ISBLANK(A707),ISNA(MATCH(A707&\"\",AthleteNumbers,0))),0,MATCH(A707&\"\",AthleteNumbers,0))","v":0},{"$f":"IF(I707>0,INDEX(DB,$I707,6),0)","v":0},0,0,100,7,16,0.1,{"$f":"IF(I707>0,INDEX(DB,I707,9),EventIndex)","v":4},null,{"$f":"INDEX(MINVALUES,$Q707,$K$1)","v":16},{"$f":"INDEX(INCVALUES,$Q707,$K$1)","v":0.1},null,{"$f":"+J707+(4*(INDEX(MatchScoreTable,$Q707,20)-1))","v":4},{"$f":"INDEX(INC_MINVALUES,$V707,$K$1)","v":34},{"$f":"INDEX(INC_INCVALUES,$V707,$K$1)","v":0.3}]
[null,null,"",{"$f":"IF(AND(H708,B708>0,ISNUMBER(B708)),IF(ISERR(M708),0,M708),0)","v":0},null,{"$f":"COUNTIF(A$3:A$1002,A708)","v":0},{"$f":"IF(AND(H708,OR(D708<=10,D708>=90)),\"CHECK\",\"\")","v":""},{"$f":"IF(AND(LEN(A708)>0,LEN(C708)>0,B708<>0),TRUE,FALSE)","v":false},0,0,{"$f":"IF(ISNUMBER(B708),ROUND(+B708,1),0)","v":0},{"$f":"+K708","v":0},{"$f":"IF(AND(L708>O708,O708>0),MinPoints,IF(L708<N708,100,+INT((O708-$L708)/P708)+MinPoints))","v":100},{"$f":"+O708-(P708*90)","v":7},{"$f":"IF($J708=0,$S708,$W708)","v":16},{"$f":"IF($J708=0,$T708,$X708)","v":0.1},4,null,16,0.1,null,4,34,0.3]
[null,null,"",0,null,0,"",false,0,0,0,0,100,7,16,0.1,4,null,16,0.1,null,4,34,0.3]
[null,null,"",0,null,0,"",false,0,0,0,0,100,7,16,0.1,4,null,16,0.1,null,4,34,0.3]
[null,null,"",0,null,0,"",false,0,0,0,0,100,7,16,0.1,4,null,16,0.1,null,4,34,0.3]
[null,null,"",0,null,0,"",false,0,0,0,0,100,7,16,0.1,4,null,16,0.1,null,4,34,0.3]
[null,null,"",0,null,0,"",false,0,0,0,0,100,7,16,0.1,4,null,16,0.1,null,4,34,0.3]
[null,null,"",0,null,0,"",false,0,0,0,0,100,7,16,0.1,4,null,16,0.1,null,4,34,0.3]
[null,null,"",0,null,0,"",false,0,0,0,0,100,7,16,0.1,4,null,16,0.1,null,4,34,0.3]
[null,null,"",0,null,0,"",false,0,0,0,0,100,7,16,0.1,4,null,16,0.1,null,4,34,0.3]
[null,null,"",0,null,0,"",false,0,0,0,0,100,7,16,0.1,4,null,16,0.1,null,4,34,0.3]
[null,null,"",0,null,0,"",false,0,0,0,0,100,7,16,0.1,4,null,16,0.1,null,4,34,0.3]
[null,null,"",0,null,0,"",false,0,0,0,0,100,7,16,0.1,4,null,16,0.1,null,4,34,0.3]
[null,null,"",0,null,0,"",false,0,0,0,0,100,7,16,0.1,4,null,16,0.1,null,4,34,0.3]
[null,null,"",0,null,0,"",false,0,0,0,0,100,7,16,0.1,4,null,16,0.1,null,4,34,0.3]
[null,null,"",0,null,0,"",false,0,0,0,0,100,7,16,0.1,4,null,16,0.1,null,4,34,0.3]
[null,null,"",0,null,0,"",false,0,0,0,0,100,7,16,0.1,4,null,16,0.1,null,4,34,0.3]
[null,null,"",0,null,0,"",false,0,0,0,0,100,7,16,0.1,4,null,16,0.1,null,4,34,0.3]
[null,null,"",0,null,0,"",false,0,0,0,0,100,7,16,0.1,4,null,16,0.1,null,4,34,0.3]
[null,null,"",0,null,0,"",false,0,0,0,0,100,7,16,0.1,4,null,16,0.1,null,4,34,0.3]
[null,null,"",0,null,0,"",false,0,0,0,0,100,7,16,0.1,4,null,16,0.1,null,4,34,0.3]
[null,null,"",0,null,0,"",false,0,0,0,0,100,7,16,0.1,4,null,16,0.1,null,4,34,0.3]
[null,null,"",0,null,0,"",false,0,0,0,0,100,7,16,0.1,4,null,16,0.1,null,4,34,0.3]
[null,null,"",0,null,0,"",false,0,0,0,0,100,7,16,0.1,4,null,16,0.1,null,4,34,0.3]
[null,null,"",0,null,0,"",false,0,0,0,0,100,7,16,0.1,4,null,16,0.1,null,4,34,0.3]
[null,null,"",0,null,0,"",false,0,0,0,0,100,7,16,0.1,4,null,16,0.1,null,4,34,0.3]
[null,null,"",0,null,0,"",false,0,0,0,0,100,7,16,0.1,4,null,16,0.1,null,4,34,0.3]
[null,null,"",0,null,0,"",false,0,0,0,0,100,7,16,0.1,4,null,16,0.1,null,4,34,0.3]
[null,null,"",0,null,0,"",false,0,0,0,0,100,7,16,0.1,4,null,16,0.1,null,4,34,0.3]
[null,null,"",0,null,0,"",false,0,0,0,0,100,7,16,0.1,4,null,16,0.1,null,4,34,0.3]
[null,null,"",0,null,0,"",false,0,0,0,0,100,7,16,0.1,4,null,16,0.1,null,4,34,0.3]
[null,null,"",0,null,0,"",false,0,0,0,0,100,7,16,0.1,4,null,16,0.1,null,4,34,0.3]
[null,null,"",0,null,0,"",false,0,0,0,0,100,7,16,0.1,4,null,16,0.1,null,4,34,0.3]
[null,null,"",0,null,0,"",false,0,0,0,0,100,7,16,0.1,4,null,16,0.1,null,4,34,0.3]
[null,null,"",0,null,0,"",false,0,0,0,0,100,7,16,0.1,4,null,16,0.1,null,4,34,0.3]
[null,null,"",0,null,0,"",false,0,0,0,0,100,7,16,0.1,4,null,16,0.1,null,4,34,0.3]
[null,null,"",0,null,0,"",false,0,0,0,0,100,7,16,0.1,4,null,16,0.1,null,4,34,0.3]
[null,null,"",0,null,0,"",false,0,0,0,0,100,7,16,0.1,4,null,16,0.1,null,4,34,0.3]
[null,null,"",0,null,0,"",false,0,0,0,0,100,7,16,0.1,4,null,16,0.1,null,4,34,0.3]
[null,null,"",0,null,0,"",false,0,0,0,0,100,7,16,0.1,4,null,16,0.1,null,4,34,0.3]
[null,null,"",0,null,0,"",false,0,0,0,0,100,7,16,0.1,4,null,16,0.1,null,4,34,0.3]
[null,null,"",0,null,0,"",false,0,0,0,0,100,7,16,0.1,4,null,16,0.1,null,4,34,0.3]
[null,null,"",0,null,0,"",false,0,0,0,0,100,7,16,0.1,4,null,16,0.1,null,4,34,0.3]
[null,null,"",0,null,0,"",false,0,0,0,0,100,7,16,0.1,4,null,16,0.1,null,4,34,0.3]
[null,null,"",0,null,0,"",false,0,0,0,0,100,7,16,0.1,4,null,16,0.1,null,4,34,0.3]
[null,null,"",0,null,0,"",false,0,0,0,0,100,7,16,0.1,4,null,16,0.1,null,4,34,0.3]
[null,null,"",0,null,0,"",false,0,0,0,0,100,7,16,0.1,4,null,16,0.1,null,4,34,0.3]
[null,null,"",0,null,0,"",false,0,0,0,0,100,7,16,0.1,4,null,16,0.1,null,4,34,0.3]
[null,null,"",0,null,0,"",false,0,0,0,0,100,7,16,0.1,4,null,16,0.1,null,4,34,0.3]
[null,null,"",0,null,0,"",false,0,0,0,0,100,7,16,0.1,4,null,16,0.1,null,4,34,0.3]
[null,null,"",0,null,0,"",false,0,0,0,0,100,7,16,0.1,4,null,16,0.1,null,4,34,0.3]
[null,null,"",0,null,0,"",false,0,0,0,0,100,7,16,0.1,4,null,16,0.1,null,4,34,0.3]
[null,null,"",0,null,0,"",false,0,0,0,0,100,7,16,0.1,4,null,16,0.1,null,4,34,0.3]
[null,null,"",0,null,0,"",false,0,0,0,0,100,7,16,0.1,4,null,16,0.1,null,4,34,0.3]
[null,null,"",0,null,0,"",false,0,0,0,0,100,7,16,0.1,4,null,16,0.1,null,4,34,0.3]
[null,null,"",0,null,0,"",false,0,0,0,0,100,7,16,0.1,4,null,16,0.1,null,4,34,0.3]
[null,null,"",0,null,0,"",false,0,0,0,0,100,7,16,0.1,4,null,16,0.1,null,4,34,0.3]
[null,null,"",0,null,0,"",false,0,0,0,0,100,7,16,0.1,4,null,16,0.1,null,4,34,0.3]
[null,null,"",0,null,0,"",false,0,0,0,0,100,7,16,0.1,4,null,16,0.1,null,4,34,0.3]
[null,null,"",0,null,0,"",false,0,0,0,0,100,7,16,0.1,4,null,16,0.1,null,4,34,0.3]
[null,null,"",0,null,0,"",false,0,0,0,0,100,7,16,0.1,4,null,16,0.1,null,4,34,0.3]
[null,null,"",0,null,0,"",false,0,0,0,0,100,7,16,0.1,4,null,16,0.1,null,4,34,0.3]
[null,null,"",0,null,0,"",false,0,0,0,0,100,7,16,0.1,4,null,16,0.1,null,4,34,0.3]
[null,null,"",0,null,0,"",false,0,0,0,0,100,7,16,0.1,4,null,16,0.1,null,4,34,0.3]
[null,null,{"$f":"IF(I771>0,INDEX(DB,I771,8),\"\")","v":""},0,null,0,"",false,{"$f":"IF(OR(ISBLANK(A771),ISNA(MATCH(A771&\"\",AthleteNumbers,0))),0,MATCH(A771&\"\",AthleteNumbers,0))","v":0},{"$f":"IF(I771>0,INDEX(DB,$I771,6),0)","v":0},0,0,100,7,16,0.1,{"$f":"IF(I771>0,INDEX(DB,I771,9),EventIndex)","v":4},null,{"$f":"INDEX(MINVALUES,$Q771,$K$1)","v":16},{"$f":"INDEX(INCVALUES,$Q771,$K$1)","v":0.1},null,{"$f":"+J771+(4*(INDEX(MatchScoreTable,$Q771,20)-1))","v":4},{"$f":"INDEX(INC_MINVALUES,$V771,$K$1)","v":34},{"$f":"INDEX(INC_INCVALUES,$V771,$K$1)","v":0.3}]
[null,null,"",{"$f":"IF(AND(H772,B772>0,ISNUMBER(B772)),IF(ISERR(M772),0,M772),0)","v":0},null,{"$f":"COUNTIF(A$3:A$1002,A772)","v":0},{"$f":"IF(AND(H772,OR(D772<=10,D772>=90)),\"CHECK\",\"\")","v":""},{"$f":"IF(AND(LEN(A772)>0,LEN(C772)>0,B772<>0),TRUE,FALSE)","v":false},0,0,{"$f":"IF(ISNUMBER(B772),ROUND(+B772,1),0)","v":0},{"$f":"+K772","v":0},{"$f":"IF(AND(L772>O772,O772>0),MinPoints,IF(L772<N772,100,+INT((O772-$L772)/P772)+MinPoints))","v":100},{"$f":"+O772-(P772*90)","v":7},{"$f":"IF($J772=0,$S772,$W772)","v":16},{"$f":"IF($J772=0,$T772,$X772)","v":0.1},4,null,16,0.1,null,4,34,0.3]
[null,null,"",0,null,0,"",false,0,0,0,0,100,7,16,0.1,4,null,16,0.1,null,4,34,0.3]
[null,null,"",0,null,0,"",false,0,0,0,0,100,7,16,0.1,4,null,16,0.1,null,4,34,0.3]
[null,null,"",0,null,0,"",false,0,0,0,0,100,7,16,0.1,4,null,16,0.1,null,4,34,0.3]
[null,null,"",0,null,0,"",false,0,0,0,0,100,7,16,0.1,4,null,16,0.1,null,4,34,0.3]
[null,null,"",0,null,0,"",false,0,0,0,0,100,7,16,0.1,4,null,16,0.1,null,4,34,0.3]
[null,null,"",0,null,0,"",false,0,0,0,0,100,7,16,0.1,4,null,16,0.1,null,4,34,0.3]
[null,null,"",0,null,0,"",false,0,0,0,0,100,7,16,0.1,4,null,16,0.1,null,4,34,0.3]
[null,null,"",0,null,0,"",false,0,0,0,0,100,7,16,0.1,4,null,16,0.1,null,4,34,0.3]
[null,null,"",0,null,0,"",false,0,0,0,0,100,7,16,0.1,4,null,16,0.1,null,4,34,0.3]
[null,null,"",0,null,0,"",false,0,0,0,0,100,7,16,0.1,4,null,16,0.1,null,4,34,0.3]
[null,null,"",0,null,0,"",false,0,0,0,0,100,7,16,0.1,4,null,16,0.1,null,4,34,0.3]
[null,null,"",0,null,0,"",false,0,0,0,0,100,7,16,0.1,4,null,16,0.1,null,4,34,0.3]
[null,null,"",0,null,0,"",false,0,0,0,0,100,7,16,0.1,4,null,16,0.1,null,4,34,0.3]
[null,null,"",0,null,0,"",false,0,0,0,0,100,7,16,0.1,4,null,16,0.1,null,4,34,0.3]
[null,null,"",0,null,0,"",false,0,0,0,0,100,7,16,0.1,4,null,16,0.1,null,4,34,0.3]
[null,null,"",0,null,0,"",false,0,0,0,0,100,7,16,0.1,4,null,16,0.1,null,4,34,0.3]
[null,null,"",0,null,0,"",false,0,0,0,0,100,7,16,0.1,4,null,16,0.1,null,4,34,0.3]
[null,null,"",0,null,0,"",false,0,0,0,0,100,7,16,0.1,4,null,16,0.1,null,4,34,0.3]
[null,null,"",0,null,0,"",false,0,0,0,0,100,7,16,0.1,4,null,16,0.1,null,4,34,0.3]
[null,null,"",0,null,0,"",false,0,0,0,0,100,7,16,0.1,4,null,16,0.1,null,4,34,0.3]
[null,null,"",0,null,0,"",false,0,0,0,0,100,7,16,0.1,4,null,16,0.1,null,4,34,0.3]
[null,null,"",0,null,0,"",false,0,0,0,0,100,7,16,0.1,4,null,16,0.1,null,4,34,0.3]
[null,null,"",0,null,0,"",false,0,0,0,0,100,7,16,0.1,4,null,16,0.1,null,4,34,0.3]
[null,null,"",0,null,0,"",false,0,0,0,0,100,7,16,0.1,4,null,16,0.1,null,4,34,0.3]
[null,null,"",0,null,0,"",false,0,0,0,0,100,7,16,0.1,4,null,16,0.1,null,4,34,0.3]
[null,null,"",0,null,0,"",false,0,0,0,0,100,7,16,0.1,4,null,16,0.1,null,4,34,0.3]
[null,null,"",0,null,0,"",false,0,0,0,0,100,7,16,0.1,4,null,16,0.1,null,4,34,0.3]
[null,null,"",0,null,0,"",false,0,0,0,0,100,7,16,0.1,4,null,16,0.1,null,4,34,0.3]
[null,null,"",0,null,0,"",false,0,0,0,0,100,7,16,0.1,4,null,16,0.1,null,4,34,0.3]
[null,null,"",0,null,0,"",false,0,0,0,0,100,7,16,0.1,4,null,16,0.1,null,4,34,0.3]
[null,null,"",0,null,0,"",false,0,0,0,0,100,7,16,0.1,4,null,16,0.1,null,4,34,0.3]
[null,null,"",0,null,0,"",false,0,0,0,0,100,7,16,0.1,4,null,16,0.1,null,4,34,0.3]
[null,null,"",0,null,0,"",false,0,0,0,0,100,7,16,0.1,4,null,16,0.1,null,4,34,0.3]
[null,null,"",0,null,0,"",false,0,0,0,0,100,7,16,0.1,4,null,16,0.1,null,4,34,0.3]
[null,null,"",0,null,0,"",false,0,0,0,0,100,7,16,0.1,4,null,16,0.1,null,4,34,0.3]
[null,null,"",0,null,0,"",false,0,0,0,0,100,7,16,0.1,4,null,16,0.1,null,4,34,0.3]
[null,null,"",0,null,0,"",false,0,0,0,0,100,7,16,0.1,4,null,16,0.1,null,4,34,0.3]
[null,null,"",0,null,0,"",false,0,0,0,0,100,7,16,0.1,4,null,16,0.1,null,4,34,0.3]
[null,null,"",0,null,0,"",false,0,0,0,0,100,7,16,0.1,4,null,16,0.1,null,4,34,0.3]
[null,null,"",0,null,0,"",false,0,0,0,0,100,7,16,0.1,4,null,16,0.1,null,4,34,0.3]
[null,null,"",0,null,0,"",false,0,0,0,0,100,7,16,0.1,4,null,16,0.1,null,4,34,0.3]
[null,null,"",0,null,0,"",false,0,0,0,0,100,7,16,0.1,4,null,16,0.1,null,4,34,0.3]
[null,null,"",0,null,0,"",false,0,0,0,0,100,7,16,0.1,4,null,16,0.1,null,4,34,0.3]
[null,null,"",0,null,0,"",false,0,0,0,0,100,7,16,0.1,4,null,16,0.1,null,4,34,0.3]
[null,null,"",0,null,0,"",false,0,0,0,0,100,7,16,0.1,4,null,16,0.1,null,4,34,0.3]
[null,null,"",0,null,0,"",false,0,0,0,0,100,7,16,0.1,4,null,16,0.1,null,4,34,0.3]
[null,null,"",0,null,0,"",false,0,0,0,0,100,7,16,0.1,4,null,16,0.1,null,4,34,0.3]
[null,null,"",0,null,0,"",false,0,0,0,0,100,7,16,0.1,4,null,16,0.1,null,4,34,0.3]
[null,null,"",0,null,0,"",false,0,0,0,0,100,7,16,0.1,4,null,16,0.1,null,4,34,0.3]
[null,null,"",0,null,0,"",false,0,0,0,0,100,7,16,0.1,4,null,16,0.1,null,4,34,0.3]
[null,null,"",0,null,0,"",false,0,0,0,0,100,7,16,0.1,4,null,16,0.1,null,4,34,0.3]
[null,null,"",0,null,0,"",false,0,0,0,0,100,7,16,0.1,4,null,16,0.1,null,4,34,0.3]
[null,null,"",0,null,0,"",false,0,0,0,0,100,7,16,0.1,4,null,16,0.1,null,4,34,0.3]
[null,null,"",0,null,0,"",false,0,0,0,0,100,7,16,0.1,4,null,16,0.1,null,4,34,0.3]
[null,null,"",0,null,0,"",false,0,0,0,0,100,7,16,0.1,4,null,16,0.1,null,4,34,0.3]
[null,null,"",0,null,0,"",false,0,0,0,0,100,7,16,0.1,4,null,16,0.1,null,4,34,0.3]
[null,null,"",0,null,0,"",false,0,0,0,0,100,7,16,0.1,4,null,16,0.1,null,4,34,0.3]
[null,null,"",0,null,0,"",false,0,0,0,0,100,7,16,0.1,4,null,16,0.1,null,4,34,0.3]
[null,null,"",0,null,0,"",false,0,0,0,0,100,7,16,0.1,4,null,16,0.1,null,4,34,0.3]
[null,null,"",0,null,0,"",false,0,0,0,0,100,7,16,0.1,4,null,16,0.1,null,4,34,0.3]
[null,null,"",0,null,0,"",false,0,0,0,0,100,7,16,0.1,4,null,16,0.1,null,4,34,0.3]
[null,null,"",0,null,0,"",false,0,0,0,0,100,7,16,0.1,4,null,16,0.1,null,4,34,0.3]
[null,null,{"$f":"IF(I835>0,INDEX(DB,I835,8),\"\")","v":""},0,null,0,"",false,{"$f":"IF(OR(ISBLANK(A835),ISNA(MATCH(A835&\"\",AthleteNumbers,0))),0,MATCH(A835&\"\",AthleteNumbers,0))","v":0},{"$f":"IF(I835>0,INDEX(DB,$I835,6),0)","v":0},0,0,100,7,16,0.1,{"$f":"IF(I835>0,INDEX(DB,I835,9),EventIndex)","v":4},null,{"$f":"INDEX(MINVALUES,$Q835,$K$1)","v":16},{"$f":"INDEX(INCVALUES,$Q835,$K$1)","v":0.1},null,{"$f":"+J835+(4*(INDEX(MatchScoreTable,$Q835,20)-1))","v":4},{"$f":"INDEX(INC_MINVALUES,$V835,$K$1)","v":34},{"$f":"INDEX(INC_INCVALUES,$V835,$K$1)","v":0.3}]
[null,null,"",{"$f":"IF(AND(H836,B836>0,ISNUMBER(B836)),IF(ISERR(M836),0,M836),0)","v":0},null,{"$f":"COUNTIF(A$3:A$1002,A836)","v":0},{"$f":"IF(AND(H836,OR(D836<=10,D836>=90)),\"CHECK\",\"\")","v":""},{"$f":"IF(AND(LEN(A836)>0,LEN(C836)>0,B836<>0),TRUE,FALSE)","v":false},0,0,{"$f":"IF(ISNUMBER(B836),ROUND(+B836,1),0)","v":0},{"$f":"+K836","v":0},{"$f":"IF(AND(L836>O836,O836>0),MinPoints,IF(L836<N836,100,+INT((O836-$L836)/P836)+MinPoints))","v":100},{"$f":"+O836-(P836*90)","v":7},{"$f":"IF($J836=0,$S836,$W836)","v":16},{"$f":"IF($J836=0,$T836,$X836)","v":0.1},4,null,16,0.1,null,4,34,0.3]
[null,null,"",0,null,0,"",false,0,0,0,0,100,7,16,0.1,4,null,16,0.1,null,4,34,0.3]
[null,null,"",0,null,0,"",false,0,0,0,0,100,7,16,0.1,4,null,16,0.1,null,4,34,0.3]
[null,null,"",0,null,0,"",false,0,0,0,0,100,7,16,0.1,4,null,16,0.1,null,4,34,0.3]
[null,null,"",0,null,0,"",false,0,0,0,0,100,7,16,0.1,4,null,16,0.1,null,4,34,0.3]
[null,null,"",0,null,0,"",false,0,0,0,0,100,7,16,0.1,4,null,16,0.1,null,4,34,0.3]
[null,null,"",0,null,0,"",false,0,0,0,0,100,7,16,0.1,4,null,16,0.1,null,4,34,0.3]
[null,null,"",0,null,0,"",false,0,0,0,0,100,7,16,0.1,4,null,16,0.1,null,4,34,0.3]
[null,null,"",0,null,0,"",false,0,0,0,0,100,7,16,0.1,4,null,16,0.1,null,4,34,0.3]
[null,null,"",0,null,0,"",false,0,0,0,0,100,7,16,0.1,4,null,16,0.1,null,4,34,0.3]
[null,null,"",0,null,0,"",false,0,0,0,0,100,7,16,0.1,4,null,16,0.1,null,4,34,0.3]
[null,null,"",0,null,0,"",false,0,0,0,0,100,7,16,0.1,4,null,16,0.1,null,4,34,0.3]
[null,null,"",0,null,0,"",false,0,0,0,0,100,7,16,0.1,4,null,16,0.1,null,4,34,0.3]
[null,null,"",0,null,0,"",false,0,0,0,0,100,7,16,0.1,4,null,16,0.1,null,4,34,0.3]
[null,null,"",0,null,0,"",false,0,0,0,0,100,7,16,0.1,4,null,16,0.1,null,4,34,0.3]
[null,null,"",0,null,0,"",false,0,0,0,0,100,7,16,0.1,4,null,16,0.1,null,4,34,0.3]
[null,null,"",0,null,0,"",false,0,0,0,0,100,7,16,0.1,4,null,16,0.1,null,4,34,0.3]
[null,null,"",0,null,0,"",false,0,0,0,0,100,7,16,0.1,4,null,16,0.1,null,4,34,0.3]
[null,null,"",0,null,0,"",false,0,0,0,0,100,7,16,0.1,4,null,16,0.1,null,4,34,0.3]
[null,null,"",0,null,0,"",false,0,0,0,0,100,7,16,0.1,4,null,16,0.1,null,4,34,0.3]
[null,null,"",0,null,0,"",false,0,0,0,0,100,7,16,0.1,4,null,16,0.1,null,4,34,0.3]
[null,null,"",0,null,0,"",false,0,0,0,0,100,7,16,0.1,4,null,16,0.1,null,4,34,0.3]
[null,null,"",0,null,0,"",false,0,0,0,0,100,7,16,0.1,4,null,16,0.1,null,4,34,0.3]
[null,null,"",0,null,0,"",false,0,0,0,0,100,7,16,0.1,4,null,16,0.1,null,4,34,0.3]
[null,null,"",0,null,0,"",false,0,0,0,0,100,7,16,0.1,4,null,16,0.1,null,4,34,0.3]
[null,null,"",0,null,0,"",false,0,0,0,0,100,7,16,0.1,4,null,16,0.1,null,4,34,0.3]
[null,null,"",0,null,0,"",false,0,0,0,0,100,7,16,0.1,4,null,16,0.1,null,4,34,0.3]
[null,null,"",0,null,0,"",false,0,0,0,0,100,7,16,0.1,4,null,16,0.1,null,4,34,0.3]
[null,null,"",0,null,0,"",false,0,0,0,0,100,7,16,0.1,4,null,16,0.1,null,4,34,0.3]
[null,null,"",0,null,0,"",false,0,0,0,0,100,7,16,0.1,4,null,16,0.1,null,4,34,0.3]
[null,null,"",0,null,0,"",false,0,0,0,0,100,7,16,0.1,4,null,16,0.1,null,4,34,0.3]
[null,null,"",0,null,0,"",false,0,0,0,0,100,7,16,0.1,4,null,16,0.1,null,4,34,0.3]
[null,null,"",0,null,0,"",false,0,0,0,0,100,7,16,0.1,4,null,16,0.1,null,4,34,0.3]
[null,null,"",0,null,0,"",false,0,0,0,0,100,7,16,0.1,4,null,16,0.1,null,4,34,0.3]
[null,null,"",0,null,0,"",false,0,0,0,0,100,7,16,0.1,4,null,16,0.1,null,4,34,0.3]
[null,null,"",0,null,0,"",false,0,0,0,0,100,7,16,0.1,4,null,16,0.1,null,4,34,0.3]
[null,null,"",0,null,0,"",false,0,0,0,0,100,7,16,0.1,4,null,16,0.1,null,4,34,0.3]
[null,null,"",0,null,0,"",false,0,0,0,0,100,7,16,0.1,4,null,16,0.1,null,4,34,0.3]
[null,null,"",0,null,0,"",false,0,0,0,0,100,7,16,0.1,4,null,16,0.1,null,4,34,0.3]
[null,null,"",0,null,0,"",false,0,0,0,0,100,7,16,0.1,4,null,16,0.1,null,4,34,0.3]
[null,null,"",0,null,0,"",false,0,0,0,0,100,7,16,0.1,4,null,16,0.1,null,4,34,0.3]
[null,null,"",0,null,0,"",false,0,0,0,0,100,7,16,0.1,4,null,16,0.1,null,4,34,0.3]
[null,null,"",0,null,0,"",false,0,0,0,0,100,7,16,0.1,4,null,16,0.1,null,4,34,0.3]
[null,null,"",0,null,0,"",false,0,0,0,0,100,7,16,0.1,4,null,16,0.1,null,4,34,0.3]
[null,null,"",0,null,0,"",false,0,0,0,0,100,7,16,0.1,4,null,16,0.1,null,4,34,0.3]
[null,null,"",0,null,0,"",false,0,0,0,0,100,7,16,0.1,4,null,16,0.1,null,4,34,0.3]
[null,null,"",0,null,0,"",false,0,0,0,0,100,7,16,0.1,4,null,16,0.1,null,4,34,0.3]
[null,null,"",0,null,0,"",false,0,0,0,0,100,7,16,0.1,4,null,16,0.1,null,4,34,0.3]
[null,null,"",0,null,0,"",false,0,0,0,0,100,7,16,0.1,4,null,16,0.1,null,4,34,0.3]
[null,null,"",0,null,0,"",false,0,0,0,0,100,7,16,0.1,4,null,16,0.1,null,4,34,0.3]
[null,null,"",0,null,0,"",false,0,0,0,0,100,7,16,0.1,4,null,16,0.1,null,4,34,0.3]
[null,null,"",0,null,0,"",false,0,0,0,0,100,7,16,0.1,4,null,16,0.1,null,4,34,0.3]
[null,null,"",0,null,0,"",false,0,0,0,0,100,7,16,0.1,4,null,16,0.1,null,4,34,0.3]
[null,null,"",0,null,0,"",false,0,0,0,0,100,7,16,0.1,4,null,16,0.1,null,4,34,0.3]
[null,null,"",0,null,0,"",false,0,0,0,0,100,7,16,0.1,4,null,16,0.1,null,4,34,0.3]
[null,null,"",0,null,0,"",false,0,0,0,0,100,7,16,0.1,4,null,16,0.1,null,4,34,0.3]
[null,null,"",0,null,0,"",false,0,0,0,0,100,7,16,0.1,4,null,16,0.1,null,4,34,0.3]
[null,null,"",0,null,0,"",false,0,0,0,0,100,7,16,0.1,4,null,16,0.1,null,4,34,0.3]
[null,null,"",0,null,0,"",false,0,0,0,0,100,7,16,0.1,4,null,16,0.1,null,4,34,0.3]
[null,null,"",0,null,0,"",false,0,0,0,0,100,7,16,0.1,4,null,16,0.1,null,4,34,0.3]
[null,null,"",0,null,0,"",false,0,0,0,0,100,7,16,0.1,4,null,16,0.1,null,4,34,0.3]
[null,null,"",0,null,0,"",false,0,0,0,0,100,7,16,0.1,4,null,16,0.1,null,4,34,0.3]
[null,null,"",0,null,0,"",false,0,0,0,0,100,7,16,0.1,4,null,16,0.1,null,4,34,0.3]
[null,null,{"$f":"IF(I899>0,INDEX(DB,I899,8),\"\")","v":""},0,null,0,"",false,{"$f":"IF(OR(ISBLANK(A899),ISNA(MATCH(A899&\"\",AthleteNumbers,0))),0,MATCH(A899&\"\",AthleteNumbers,0))","v":0},{"$f":"IF(I899>0,INDEX(DB,$I899,6),0)","v":0},0,0,100,7,16,0.1,{"$f":"IF(I899>0,INDEX(DB,I899,9),EventIndex)","v":4},null,{"$f":"INDEX(MINVALUES,$Q899,$K$1)","v":16},{"$f":"INDEX(INCVALUES,$Q899,$K$1)","v":0.1},null,{"$f":"+J899+(4*(INDEX(MatchScoreTable,$Q899,20)-1))","v":4},{"$f":"INDEX(INC_MINVALUES,$V899,$K$1)","v":34},{"$f":"INDEX(INC_INCVALUES,$V899,$K$1)","v":0.3}]
[null,null,"",{"$f":"IF(AND(H900,B900>0,ISNUMBER(B900)),IF(ISERR(M900),0,M900),0)","v":0},null,{"$f":"COUNTIF(A$3:A$1002,A900)","v":0},{"$f":"IF(AND(H900,OR(D900<=10,D900>=90)),\"CHECK\",\"\")","v":""},{"$f":"IF(AND(LEN(A900)>0,LEN(C900)>0,B900<>0),TRUE,FALSE)","v":false},0,0,{"$f":"IF(ISNUMBER(B900),ROUND(+B900,1),0)","v":0},{"$f":"+K900","v":0},{"$f":"IF(AND(L900>O900,O900>0),MinPoints,IF(L900<N900,100,+INT((O900-$L900)/P900)+MinPoints))","v":100},{"$f":"+O900-(P900*90)","v":7},{"$f":"IF($J900=0,$S900,$W900)","v":16},{"$f":"IF($J900=0,$T900,$X900)","v":0.1},4,null,16,0.1,null,4,34,0.3]
[null,null,"",0,null,0,"",false,0,0,0,0,100,7,16,0.1,4,null,16,0.1,null,4,34,0.3]
[null,null,"",0,null,0,"",false,0,0,0,0,100,7,16,0.1,4,null,16,0.1,null,4,34,0.3]
[null,null,"",0,null,0,"",false,0,0,0,0,100,7,16,0.1,4,null,16,0.1,null,4,34,0.3]
[null,null,"",0,null,0,"",false,0,0,0,0,100,7,16,0.1,4,null,16,0.1,null,4,34,0.3]
[null,null,"",0,null,0,"",false,0,0,0,0,100,7,16,0.1,4,null,16,0.1,null,4,34,0.3]
[null,null,"",0,null,0,"",false,0,0,0,0,100,7,16,0.1,4,null,16,0.1,null,4,34,0.3]
[null,null,"",0,null,0,"",false,0,0,0,0,100,7,16,0.1,4,null,16,0.1,null,4,34,0.3]
[null,null,"",0,null,0,"",false,0,0,0,0,100,7,16,0.1,4,null,16,0.1,null,4,34,0.3]
[null,null,"",0,null,0,"",false,0,0,0,0,100,7,16,0.1,4,null,16,0.1,null,4,34,0.3]
[null,null,"",0,null,0,"",false,0,0,0,0,100,7,16,0.1,4,null,16,0.1,null,4,34,0.3]
[null,null,"",0,null,0,"",false,0,0,0,0,100,7,16,0.1,4,null,16,0.1,null,4,34,0.3]
[null,null,"",0,null,0,"",false,0,0,0,0,100,7,16,0.1,4,null,16,0.1,null,4,34,0.3]
[null,null,"",0,null,0,"",false,0,0,0,0,100,7,16,0.1,4,null,16,0.1,null,4,34,0.3]
[null,null,"",0,null,0,"",false,0,0,0,0,100,7,16,0.1,4,null,16,0.1,null,4,34,0.3]
[null,null,"",0,null,0,"",false,0,0,0,0,100,7,16,0.1,4,null,16,0.1,null,4,34,0.3]
[null,null,"",0,null,0,"",false,0,0,0,0,100,7,16,0.1,4,null,16,0.1,null,4,34,0.3]
[null,null,"",0,null,0,"",false,0,0,0,0,100,7,16,0.1,4,null,16,0.1,null,4,34,0.3]
[null,null,"",0,null,0,"",false,0,0,0,0,100,7,16,0.1,4,null,16,0.1,null,4,34,0.3]
[null,null,"",0,null,0,"",false,0,0,0,0,100,7,16,0.1,4,null,16,0.1,null,4,34,0.3]
[null,null,"",0,null,0,"",false,0,0,0,0,100,7,16,0.1,4,null,16,0.1,null,4,34,0.3]
[null,null,"",0,null,0,"",false,0,0,0,0,100,7,16,0.1,4,null,16,0.1,null,4,34,0.3]
[null,null,"",0,null,0,"",false,0,0,0,0,100,7,16,0.1,4,null,16,0.1,null,4,34,0.3]
[null,null,"",0,null,0,"",false,0,0,0,0,100,7,16,0.1,4,null,16,0.1,null,4,34,0.3]
[null,null,"",0,null,0,"",false,0,0,0,0,100,7,16,0.1,4,null,16,0.1,null,4,34,0.3]
[null,null,"",0,null,0,"",false,0,0,0,0,100,7,16,0.1,4,null,16,0.1,null,4,34,0.3]
[null,null,"",0,null,0,"",false,0,0,0,0,100,7,16,0.1,4,null,16,0.1,null,4,34,0.3]
[null,null,"",0,null,0,"",false,0,0,0,0,100,7,16,0.1,4,null,16,0.1,null,4,34,0.3]
[null,null,"",0,null,0,"",false,0,0,0,0,100,7,16,0.1,4,null,16,0.1,null,4,34,0.3]
[null,null,"",0,null,0,"",false,0,0,0,0,100,7,16,0.1,4,null,16,0.1,null,4,34,0.3]
[null,null,"",0,null,0,"",false,0,0,0,0,100,7,16,0.1,4,null,16,0.1,null,4,34,0.3]
[null,null,"",0,null,0,"",false,0,0,0,0,100,7,16,0.1,4,null,16,0.1,null,4,34,0.3]
[null,null,"",0,null,0,"",false,0,0,0,0,100,7,16,0.1,4,null,16,0.1,null,4,34,0.3]
[null,null,"",0,null,0,"",false,0,0,0,0,100,7,16,0.1,4,null,16,0.1,null,4,34,0.3]
[null,null,"",0,null,0,"",false,0,0,0,0,100,7,16,0.1,4,null,16,0.1,null,4,34,0.3]
[null,null,"",0,null,0,"",false,0,0,0,0,100,7,16,0.1,4,null,16,0.1,null,4,34,0.3]
[null,null,"",0,null,0,"",false,0,0,0,0,100,7,16,0.1,4,null,16,0.1,null,4,34,0.3]
[null,null,"",0,null,0,"",false,0,0,0,0,100,7,16,0.1,4,null,16,0.1,null,4,34,0.3]
[null,null,"",0,null,0,"",false,0,0,0,0,100,7,16,0.1,4,null,16,0.1,null,4,34,0.3]
[null,null,"",0,null,0,"",false,0,0,0,0,100,7,16,0.1,4,null,16,0.1,null,4,34,0.3]
[null,null,"",0,null,0,"",false,0,0,0,0,100,7,16,0.1,4,null,16,0.1,null,4,34,0.3]
[null,null,"",0,null,0,"",false,0,0,0,0,100,7,16,0.1,4,null,16,0.1,null,4,34,0.3]
[null,null,"",0,null,0,"",false,0,0,0,0,100,7,16,0.1,4,null,16,0.1,null,4,34,0.3]
[null,null,"",0,null,0,"",false,0,0,0,0,100,7,16,0.1,4,null,16,0.1,null,4,34,0.3]
[null,null,"",0,null,0,"",false,0,0,0,0,100,7,16,0.1,4,null,16,0.1,null,4,34,0.3]
[null,null,"",0,null,0,"",false,0,0,0,0,100,7,16,0.1,4,null,16,0.1,null,4,34,0.3]
[null,null,"",0,null,0,"",false,0,0,0,0,100,7,16,0.1,4,null,16,0.1,null,4,34,0.3]
[null,null,"",0,null,0,"",false,0,0,0,0,100,7,16,0.1,4,null,16,0.1,null,4,34,0.3]
[null,null,"",0,null,0,"",false,0,0,0,0,100,7,16,0.1,4,null,16,0.1,null,4,34,0.3]
[null,null,"",0,null,0,"",false,0,0,0,0,100,7,16,0.1,4,null,16,0.1,null,4,34,0.3]
[null,null,"",0,null,0,"",false,0,0,0,0,100,7,16,0.1,4,null,16,0.1,null,4,34,0.3]
[null,null,"",0,null,0,"",false,0,0,0,0,100,7,16,0.1,4,null,16,0.1,null,4,34,0.3]
[null,null,"",0,null,0,"",false,0,0,0,0,100,7,16,0.1,4,null,16,0.1,null,4,34,0.3]
[null,null,"",0,null,0,"",false,0,0,0,0,100,7,16,0.1,4,null,16,0.1,null,4,34,0.3]
[null,null,"",0,null,0,"",false,0,0,0,0,100,7,16,0.1,4,null,16,0.1,null,4,34,0.3]
[null,null,"",0,null,0,"",false,0,0,0,0,100,7,16,0.1,4,null,16,0.1,null,4,34,0.3]
[null,null,"",0,null,0,"",false,0,0,0,0,100,7,16,0.1,4,null,16,0.1,null,4,34,0.3]
[null,null,"",0,null,0,"",false,0,0,0,0,100,7,16,0.1,4,null,16,0.1,null,4,34,0.3]
[null,null,"",0,null,0,"",false,0,0,0,0,100,7,16,0.1,4,null,16,0.1,null,4,34,0.3]
[null,null,"",0,null,0,"",false,0,0,0,0,100,7,16,0.1,4,null,16,0.1,null,4,34,0.3]
[null,null,"",0,null,0,"",false,0,0,0,0,100,7,16,0.1,4,null,16,0.1,null,4,34,0.3]
[null,null,"",0,null,0,"",false,0,0,0,0,100,7,16,0.1,4,null,16,0.1,null,4,34,0.3]
[null,null,"",0,null,0,"",false,0,0,0,0,100,7,16,0.1,4,null,16,0.1,null,4,34,0.3]
[null,null,{"$f":"IF(I963>0,INDEX(DB,I963,8),\"\")","v":""},0,null,0,"",false,{"$f":"IF(OR(ISBLANK(A963),ISNA(MATCH(A963&\"\",AthleteNumbers,0))),0,MATCH(A963&\"\",AthleteNumbers,0))","v":0},{"$f":"IF(I963>0,INDEX(DB,$I963,6),0)","v":0},0,0,100,7,16,0.1,{"$f":"IF(I963>0,INDEX(DB,I963,9),EventIndex)","v":4},null,{"$f":"INDEX(MINVALUES,$Q963,$K$1)","v":16},{"$f":"INDEX(INCVALUES,$Q963,$K$1)","v":0.1},null,{"$f":"+J963+(4*(INDEX(MatchScoreTable,$Q963,20)-1))","v":4},{"$f":"INDEX(INC_MINVALUES,$V963,$K$1)","v":34},{"$f":"INDEX(INC_INCVALUES,$V963,$K$1)","v":0.3}]
[null,null,"",{"$f":"IF(AND(H964,B964>0,ISNUMBER(B964)),IF(ISERR(M964),0,M964),0)","v":0},null,{"$f":"COUNTIF(A$3:A$1002,A964)","v":0},{"$f":"IF(AND(H964,OR(D964<=10,D964>=90)),\"CHECK\",\"\")","v":""},{"$f":"IF(AND(LEN(A964)>0,LEN(C964)>0,B964<>0),TRUE,FALSE)","v":false},0,0,{"$f":"IF(ISNUMBER(B964),ROUND(+B964,1),0)","v":0},{"$f":"+K964","v":0},{"$f":"IF(AND(L964>O964,O964>0),MinPoints,IF(L964<N964,100,+INT((O964-$L964)/P964)+MinPoints))","v":100},{"$f":"+O964-(P964*90)","v":7},{"$f":"IF($J964=0,$S964,$W964)","v":16},{"$f":"IF($J964=0,$T964,$X964)","v":0.1},4,null,16,0.1,null,4,34,0.3]
[null,null,"",0,null,0,"",false,0,0,0,0,100,7,16,0.1,4,null,16,0.1,null,4,34,0.3]
[null,null,"",0,null,0,"",false,0,0,0,0,100,7,16,0.1,4,null,16,0.1,null,4,34,0.3]
[null,null,"",0,null,0,"",false,0,0,0,0,100,7,16,0.1,4,null,16,0.1,null,4,34,0.3]
[null,null,"",0,null,0,"",false,0,0,0,0,100,7,16,0.1,4,null,16,0.1,null,4,34,0.3]
[null,null,"",0,null,0,"",false,0,0,0,0,100,7,16,0.1,4,null,16,0.1,null,4,34,0.3]
[null,null,"",0,null,0,"",false,0,0,0,0,100,7,16,0.1,4,null,16,0.1,null,4,34,0.3]
[null,null,"",0,null,0,"",false,0,0,0,0,100,7,16,0.1,4,null,16,0.1,null,4,34,0.3]
[null,null,"",0,null,0,"",false,0,0,0,0,100,7,16,0.1,4,null,16,0.1,null,4,34,0.3]
[null,null,"",0,null,0,"",false,0,0,0,0,100,7,16,0.1,4,null,16,0.1,null,4,34,0.3]
[null,null,"",0,null,0,"",false,0,0,0,0,100,7,16,0.1,4,null,16,0.1,null,4,34,0.3]
[null,null,"",0,null,0,"",false,0,0,0,0,100,7,16,0.1,4,null,16,0.1,null,4,34,0.3]
[null,null,"",0,null,0,"",false,0,0,0,0,100,7,16,0.1,4,null,16,0.1,null,4,34,0.3]
[null,null,"",0,null,0,"",false,0,0,0,0,100,7,16,0.1,4,null,16,0.1,null,4,34,0.3]
[null,null,"",0,null,0,"",false,0,0,0,0,100,7,16,0.1,4,null,16,0.1,null,4,34,0.3]
[null,null,"",0,null,0,"",false,0,0,0,0,100,7,16,0.1,4,null,16,0.1,null,4,34,0.3]
[null,null,"",0,null,0,"",false,0,0,0,0,100,7,16,0.1,4,null,16,0.1,null,4,34,0.3]
[null,null,"",0,null,0,"",false,0,0,0,0,100,7,16,0.1,4,null,16,0.1,null,4,34,0.3]
[null,null,"",0,null,0,"",false,0,0,0,0,100,7,16,0.1,4,null,16,0.1,null,4,34,0.3]
[null,null,"",0,null,0,"",false,0,0,0,0,100,7,16,0.1,4,null,16,0.1,null,4,34,0.3]
[null,null,"",0,null,0,"",false,0,0,0,0,100,7,16,0.1,4,null,16,0.1,null,4,34,0.3]
[null,null,"",0,null,0,"",false,0,0,0,0,100,7,16,0.1,4,null,16,0.1,null,4,34,0.3]
[null,null,"",0,null,0,"",false,0,0,0,0,100,7,16,0.1,4,null,16,0.1,null,4,34,0.3]
[null,null,"",0,null,0,"",false,0,0,0,0,100,7,16,0.1,4,null,16,0.1,null,4,34,0.3]
[null,null,"",0,null,0,"",false,0,0,0,0,100,7,16,0.1,4,null,16,0.1,null,4,34,0.3]
[null,null,"",0,null,0,"",false,0,0,0,0,100,7,16,0.1,4,null,16,0.1,null,4,34,0.3]
[null,null,"",0,null,0,"",false,0,0,0,0,100,7,16,0.1,4,null,16,0.1,null,4,34,0.3]
[null,null,"",0,null,0,"",false,0,0,0,0,100,7,16,0.1,4,null,16,0.1,null,4,34,0.3]
[null,null,"",0,null,0,"",false,0,0,0,0,100,7,16,0.1,4,null,16,0.1,null,4,34,0.3]
[null,null,"",0,null,0,"",false,0,0,0,0,100,7,16,0.1,4,null,16,0.1,null,4,34,0.3]
[null,null,"",0,null,0,"",false,0,0,0,0,100,7,16,0.1,4,null,16,0.1,null,4,34,0.3]
[null,null,"",0,null,0,"",false,0,0,0,0,100,7,16,0.1,4,null,16,0.1,null,4,34,0.3]
[null,null,"",0,null,0,"",false,0,0,0,0,100,7,16,0.1,4,null,16,0.1,null,4,34,0.3]
[null,null,"",0,null,0,"",false,0,0,0,0,100,7,16,0.1,4,null,16,0.1,null,4,34,0.3]
[null,null,"",0,null,0,"",false,0,0,0,0,100,7,16,0.1,4,null,16,0.1,null,4,34,0.3]
[null,null,"",0,null,0,"",false,0,0,0,0,100,7,16,0.1,4,null,16,0.1,null,4,34,0.3]
[null,null,"",0,null,0,"",false,0,0,0,0,100,7,16,0.1,4,null,16,0.1,null,4,34,0.3]
[null,null,"",0,null,0,"",false,0,0,0,0,100,7,16,0.1,4,null,16,0.1,null,4,34,0.3]
[null,null,"",0,null,{"$f":"COUNTIF(A$3:A$1002,A1002)","v":0},{"$f":"IF(AND(H1002,OR(D1002<=10,D1002>=90)),\"CHECK\",\"\")","v":""},false,0,0,0,0,{"$f":"IF(AND(L1002>O1002,O1002>0),MinPoints,IF(L1002<N1002,100,+INT((O1002-$L1002)/P1002)+MinPoints))","v":100},{"$f":"+O1002-(P1002*90)","v":7},16,0.1,4,null,16,0.1,null,4,34,0.3]

{"sheet":"EVENT - RUN","index":9,"n_rows":1002,"n_cols":24,"rows_kept":1002,"cut":false,"hidden":false,"merged":[[0,0,0,1]]}
[{"$f":"\"Event:\"","v":"Event:"},null,"RUN",null,null,{"$f":"IF(TotalAthletes,COUNTIF(D3:D1002,\">0\")/TotalAthletes,0)","v":0.83333333333333337},null,null,null,"EvtIdx",2,"Min",{"$f":"INT(INDEX(ScoreValues,2,$K$1))*60+(MOD(INDEX(ScoreValues,2,$K$1),1)*100)","v":180},"Inc",{"$f":"INDEX(ScoreValues,4,$K$1)*100","v":1},null,"Max",{"$f":"INT(INDEX(ScoreValues,3,$K$1))*60+(MOD(INDEX(ScoreValues,3,$K$1),1)*100)","v":90.000000000001222},null,"DefAgeGrp",{"$f":"+EventIndex","v":4}]
["Athlete No","Time (m.ss)","Name","Points",null,"Duplicates","CheckPoint","ValidAthlete","AthleteIdx","Dgroup","Seconds","Adjusted","Points","Max","Min","Inc","AgeGroup",null,"MIN","INC",null,"Inc_Idx","MIN","INC"]
[3,2.06,{"$f":"IF(I3>0,INDEX(DB,I3,8),\"\")","v":"Jess Bailey"},{"$f":"IF(AND(H3,B3<>0,ISNUMBER(B3)),IF(ISERR(M3),0,M3),0)","v":64},null,{"$f":"COUNTIF(A$3:A$1002,A3)","v":1},{"$f":"IF(AND(H3,OR(D3<=10,D3>=90)),\"CHECK\",\"\")","v":""},{"$f":"IF(AND(I3>0,LEN(C3)>0,B3<>0),TRUE,FALSE)","v":true},{"$f":"IF(OR(ISBLANK(A3),ISNA(MATCH(A3&\"\",AthleteNumbers,0))),0,MATCH(A3&\"\",AthleteNumbers,0))","v":1},{"$f":"IF(I3>0,INDEX(DB,$I3,6),0)","v":0},{"$f":"IF(ISNUMBER(B3),ROUND(+B3,2),0)","v":2.06},{"$f":"(INT(K3)*60)+(MOD(K3,1)*100)","v":126},{"$f":"IF(AND(L3>O3,O3>0),MinPoints,IF(AND(L3<N3,O3>0),100,+INT((O3-$L3)/P3)+MinPoints))","v":64},{"$f":"+O3-(P3*90)","v":90},{"$f":"IF($J3=0,$S3,$W3)","v":180},{"$f":"IF($J3=0,$T3,$X3)","v":1},{"$f":"IF(I3>0,INDEX(DB,I3,9),EventIndex)","v":4},null,{"$f":"(INT(INDEX(MINVALUES,$Q3,$K$1))*60)+(MOD(INDEX(MINVALUES,$Q3,$K$1),1)*100)","v":180},{"$f":"(INDEX(INCVALUES,$Q3,$K$1)*100)","v":1},null,{"$f":"+J3+(4*(INDEX(MatchScoreTable,$Q3,20)-1))","v":4},{"$f":"INDEX(INC_MINVALUES,$V3,$K$1)","v":480},{"$f":"INDEX(INC_INCVALUES,$V3,$K$1)","v":4}]
[5,2.4300000000000002,"Poppy Burtwell",{"$f":"IF(AND(H4,B4<>0,ISNUMBER(B4)),IF(ISERR(M4),0,M4),0)","v":27},null,{"$f":"COUNTIF(A$3:A$1002,A4)","v":1},{"$f":"IF(AND(H4,OR(D4<=10,D4>=90)),\"CHECK\",\"\")","v":""},{"$f":"IF(AND(I4>0,LEN(C4)>0,B4<>0),TRUE,FALSE)","v":true},2,0,{"$f":"IF(ISNUMBER(B4),ROUND(+B4,2),0)","v":2.4300000000000002},{"$f":"(INT(K4)*60)+(MOD(K4,1)*100)","v":163},27,{"$f":"+O4-(P4*90)","v":90},{"$f":"IF($J4=0,$S4,$W4)","v":180},{"$f":"IF($J4=0,$T4,$X4)","v":1},4,null,180,1,null,4,480,4]
[6,2.0699999999999998,"Albie Jack Bussey",63,null,1,"",true,3,0,2.0699999999999998,126.99999999999999,63,90,180,1,4,null,180,1,null,4,480,4]
[11,null,"Molly Elizabeth Creek",0,null,1,"",false,4,0,0,0,100,90,180,1,4,null,180,1,null,4,480,4]
[13,2.09,"Imogen Edwards",61,null,1,"",true,5,0,2.09,129,61,90,180,1,4,null,180,1,null,4,480,4]
[15,null,"Ezra Frick",0,null,1,"",false,6,0,0,0,100,90,180,1,4,null,180,1,null,4,480,4]
[16,2.27,"Emilia Game",43,null,1,"",true,7,0,2.27,147,43,90,180,1,4,null,180,1,null,4,480,4]
[19,2.3199999999999998,"Charlotte Harvey",38,null,1,"",true,8,0,2.3199999999999998,152,38,90,180,1,4,null,180,1,null,4,480,4]
[21,2.2200000000000002,"Dylan Jacob Hockin",48,null,1,"",true,9,0,2.2200000000000002,142.00000000000003,48,90,180,1,4,null,180,1,null,4,480,4]
[24,2.2999999999999998,"Hermione Howard",40,null,1,"",true,10,0,2.2999999999999998,149.99999999999997,40,90,180,1,4,null,180,1,null,4,480,4]
[26,2.13,"Evalyn Humphries",57,null,1,"",true,11,0,2.13,133,57,90,180,1,4,null,180,1,null,4,480,4]
[28,2.04,"William Peter Stuart Johnson",66,null,1,"",true,12,0,2.04,124,66,90,180,1,4,null,180,1,null,4,480,4]
[29,1.56,"Ben Jones",74,null,1,"",true,13,0,1.56,116,74,90,180,1,4,null,180,1,null,4,480,4]
[30,2.14,"Olivia Andrea Lilly Jones",56,null,1,"",true,14,0,2.14,134,56,90,180,1,4,null,180,1,null,4,480,4]
[31,2.25,"Rhys Callen Jones",45,null,1,"",true,15,0,2.25,145,45,90,180,1,4,null,180,1,null,4,480,4]
[33,2.2200000000000002,"Arthur Lawson",48,null,1,"",true,16,0,2.2200000000000002,142.00000000000003,48,90,180,1,4,null,180,1,null,4,480,4]
[35,2.14,"Edward Lewis",56,null,1,"",true,17,0,2.14,134,56,90,180,1,4,null,180,1,null,4,480,4]
[37,null,"Poppy Limb",0,null,1,"",false,18,0,0,0,100,90,180,1,4,null,180,1,null,4,480,4]
[41,2.08,"Reuben Mann",62,null,1,"",true,19,0,2.08,128,62,90,180,1,4,null,180,1,null,4,480,4]
[42,null,"Eliza Verity Mason",0,null,1,"",false,20,0,0,0,100,90,180,1,4,null,180,1,null,4,480,4]
[47,2.04,"Max Papuca",66,null,1,"",true,21,0,2.04,124,66,90,180,1,4,null,180,1,null,4,480,4]
[49,2.11,"Lucy Reeves",59,null,1,"",true,22,0,2.11,131,59,90,180,1,4,null,180,1,null,4,480,4]
[51,2.12,"Albert George Rendell",58,null,1,"",true,23,0,2.12,132,58,90,180,1,4,null,180,1,null,4,480,4]
[53,2.19,"Amelia Robinson",51,null,1,"",true,24,0,2.19,139,51,90,180,1,4,null,180,1,null,4,480,4]
[54,2.19,"Laurence Andrew Rowett",51,null,1,"",true,25,0,2.19,139,51,90,180,1,4,null,180,1,null,4,480,4]
[55,2.34,"Alfie Edward Seymour",36,null,1,"",true,26,0,2.34,154,36,90,180,1,4,null,180,1,null,4,480,4]
[57,2.0699999999999998,"Henry Ronald Simpson",63,null,1,"",true,27,0,2.0699999999999998,126.99999999999999,63,90,180,1,4,null,180,1,null,4,480,4]
[59,2.19,"Natalee May Souch",51,null,1,"",true,28,0,2.19,139,51,90,180,1,4,null,180,1,null,4,480,4]
[60,2.29,"Lola Southernwood",41,null,1,"",true,29,0,2.29,149,41,90,180,1,4,null,180,1,null,4,480,4]
[63,null,"Allegra Flora Spicer",0,null,1,"",false,30,0,0,0,100,90,180,1,4,null,180,1,null,4,480,4]
[68,2.36,"Annabelle Weldon",34,null,1,"",true,31,0,2.36,156,34,90,180,1,4,null,180,1,null,4,480,4]
[72,2.2999999999999998,"Tayla Florence Williams",40,null,1,"",true,32,0,2.2999999999999998,149.99999999999997,40,90,180,1,4,null,180,1,null,4,480,4]
[73,2.29,"Bethan Frances Wilson",41,null,1,"",true,33,0,2.29,149,41,90,180,1,4,null,180,1,null,4,480,4]
[74,null,"Isla Wright",0,null,1,"",false,34,0,0,0,100,90,180,1,4,null,180,1,null,4,480,4]
[76,2.16,"Joshua Young",54,null,1,"",true,35,0,2.16,136,54,90,180,1,4,null,180,1,null,4,480,4]
[77,2.11,"Piero Zanca",59,null,1,"",true,36,0,2.11,131,59,90,180,1,4,null,180,1,null,4,480,4]
[null,null,"",0,null,0,"",false,0,0,0,0,100,90,180,1,4,null,180,1,null,4,480,4]
[null,null,"",0,null,0,"",false,0,0,0,0,100,90,180,1,4,null,180,1,null,4,480,4]
[null,null,"",0,null,0,"",false,0,0,0,0,100,90,180,1,4,null,180,1,null,4,480,4]
[null,null,"",0,null,0,"",false,0,0,0,0,100,90,180,1,4,null,180,1,null,4,480,4]
[null,null,"",0,null,0,"",false,0,0,0,0,100,90,180,1,4,null,180,1,null,4,480,4]
[null,null,"",0,null,0,"",false,0,0,0,0,100,90,180,1,4,null,180,1,null,4,480,4]
[null,null,"",0,null,0,"",false,0,0,0,0,100,90,180,1,4,null,180,1,null,4,480,4]
[null,null,"",0,null,0,"",false,0,0,0,0,100,90,180,1,4,null,180,1,null,4,480,4]
[null,null,"",0,null,0,"",false,0,0,0,0,100,90,180,1,4,null,180,1,null,4,480,4]
[null,null,"",0,null,0,"",false,0,0,0,0,100,90,180,1,4,null,180,1,null,4,480,4]
[null,null,"",0,null,0,"",false,0,0,0,0,100,90,180,1,4,null,180,1,null,4,480,4]
[null,null,"",0,null,0,"",false,0,0,0,0,100,90,180,1,4,null,180,1,null,4,480,4]
[null,null,"",0,null,0,"",false,0,0,0,0,100,90,180,1,4,null,180,1,null,4,480,4]
[null,null,"",0,null,0,"",false,0,0,0,0,100,90,180,1,4,null,180,1,null,4,480,4]
[null,null,"",0,null,0,"",false,0,0,0,0,100,90,180,1,4,null,180,1,null,4,480,4]
[null,null,"",0,null,0,"",false,0,0,0,0,100,90,180,1,4,null,180,1,null,4,480,4]
[null,null,"",0,null,0,"",false,0,0,0,0,100,90,180,1,4,null,180,1,null,4,480,4]
[null,null,"",0,null,0,"",false,0,0,0,0,100,90,180,1,4,null,180,1,null,4,480,4]
[null,null,"",0,null,0,"",false,0,0,0,0,100,90,180,1,4,null,180,1,null,4,480,4]
[null,null,"",0,null,0,"",false,0,0,0,0,100,90,180,1,4,null,180,1,null,4,480,4]
[null,null,"",0,null,0,"",false,0,0,0,0,100,90,180,1,4,null,180,1,null,4,480,4]
[null,null,"",0,null,0,"",false,0,0,0,0,100,90,180,1,4,null,180,1,null,4,480,4]
[null,null,"",0,null,0,"",false,0,0,0,0,100,90,180,1,4,null,180,1,null,4,480,4]
[null,null,"",0,null,0,"",false,0,0,0,0,100,90,180,1,4,null,180,1,null,4,480,4]
[null,null,"",0,null,0,"",false,0,0,0,0,100,90,180,1,4,null,180,1,null,4,480,4]
[null,null,"",0,null,0,"",false,0,0,0,0,100,90,180,1,4,null,180,1,null,4,480,4]
[null,null,"",0,null,0,"",false,0,0,0,0,100,90,180,1,4,null,180,1,null,4,480,4]
[null,null,"",0,null,0,"",false,0,0,0,0,100,90,180,1,4,null,180,1,null,4,480,4]
[null,null,{"$f":"IF(I67>0,INDEX(DB,I67,8),\"\")","v":""},0,null,0,"",false,{"$f":"IF(OR(ISBLANK(A67),ISNA(MATCH(A67&\"\",AthleteNumbers,0))),0,MATCH(A67&\"\",AthleteNumbers,0))","v":0},{"$f":"IF(I67>0,INDEX(DB,$I67,6),0)","v":0},0,0,{"$f":"IF(AND(L67>O67,O67>0),MinPoints,IF(AND(L67<N67,O67>0),100,+INT((O67-$L67)/P67)+MinPoints))","v":100},90,180,1,{"$f":"IF(I67>0,INDEX(DB,I67,9),EventIndex)","v":4},null,{"$f":"(INT(INDEX(MINVALUES,$Q67,$K$1))*60)+(MOD(INDEX(MINVALUES,$Q67,$K$1),1)*100)","v":180},{"$f":"(INDEX(INCVALUES,$Q67,$K$1)*100)","v":1},null,{"$f":"+J67+(4*(INDEX(MatchScoreTable,$Q67,20)-1))","v":4},{"$f":"INDEX(INC_MINVALUES,$V67,$K$1)","v":480},{"$f":"INDEX(INC_INCVALUES,$V67,$K$1)","v":4}]
[null,null,"",{"$f":"IF(AND(H68,B68<>0,ISNUMBER(B68)),IF(ISERR(M68),0,M68),0)","v":0},null,{"$f":"COUNTIF(A$3:A$1002,A68)","v":0},{"$f":"IF(AND(H68,OR(D68<=10,D68>=90)),\"CHECK\",\"\")","v":""},{"$f":"IF(AND(I68>0,LEN(C68)>0,B68<>0),TRUE,FALSE)","v":false},0,0,{"$f":"IF(ISNUMBER(B68),ROUND(+B68,2),0)","v":0},{"$f":"(INT(K68)*60)+(MOD(K68,1)*100)","v":0},100,{"$f":"+O68-(P68*90)","v":90},{"$f":"IF($J68=0,$S68,$W68)","v":180},{"$f":"IF($J68=0,$T68,$X68)","v":1},4,null,180,1,null,4,480,4]
[null,null,"",0,null,0,"",false,0,0,0,0,100,90,180,1,4,null,180,1,null,4,480,4]
[null,null,"",0,null,0,"",false,0,0,0,0,100,90,180,1,4,null,180,1,null,4,480,4]
[null,null,"",0,null,0,"",false,0,0,0,0,100,90,180,1,4,null,180,1,null,4,480,4]
[null,null,"",0,null,0,"",false,0,0,0,0,100,90,180,1,4,null,180,1,null,4,480,4]
[null,null,"",0,null,0,"",false,0,0,0,0,100,90,180,1,4,null,180,1,null,4,480,4]
[null,null,"",0,null,0,"",false,0,0,0,0,100,90,180,1,4,null,180,1,null,4,480,4]
[null,null,"",0,null,0,"",false,0,0,0,0,100,90,180,1,4,null,180,1,null,4,480,4]
[null,null,"",0,null,0,"",false,0,0,0,0,100,90,180,1,4,null,180,1,null,4,480,4]
[null,null,"",0,null,0,"",false,0,0,0,0,100,90,180,1,4,null,180,1,null,4,480,4]
[null,null,"",0,null,0,"",false,0,0,0,0,100,90,180,1,4,null,180,1,null,4,480,4]
[null,null,"",0,null,0,"",false,0,0,0,0,100,90,180,1,4,null,180,1,null,4,480,4]
[null,null,"",0,null,0,"",false,0,0,0,0,100,90,180,1,4,null,180,1,null,4,480,4]
[null,null,"",0,null,0,"",false,0,0,0,0,100,90,180,1,4,null,180,1,null,4,480,4]
[null,null,"",0,null,0,"",false,0,0,0,0,100,90,180,1,4,null,180,1,null,4,480,4]
[null,null,"",0,null,0,"",false,0,0,0,0,100,90,180,1,4,null,180,1,null,4,480,4]
[null,null,"",0,null,0,"",false,0,0,0,0,100,90,180,1,4,null,180,1,null,4,480,4]
[null,null,"",0,null,0,"",false,0,0,0,0,100,90,180,1,4,null,180,1,null,4,480,4]
[null,null,"",0,null,0,"",false,0,0,0,0,100,90,180,1,4,null,180,1,null,4,480,4]
[null,null,"",0,null,0,"",false,0,0,0,0,100,90,180,1,4,null,180,1,null,4,480,4]
[null,null,"",0,null,0,"",false,0,0,0,0,100,90,180,1,4,null,180,1,null,4,480,4]
[null,null,"",0,null,0,"",false,0,0,0,0,100,90,180,1,4,null,180,1,null,4,480,4]
[null,null,"",0,null,0,"",false,0,0,0,0,100,90,180,1,4,null,180,1,null,4,480,4]
[null,null,"",0,null,0,"",false,0,0,0,0,100,90,180,1,4,null,180,1,null,4,480,4]
[null,null,"",0,null,0,"",false,0,0,0,0,100,90,180,1,4,null,180,1,null,4,480,4]
[null,null,"",0,null,0,"",false,0,0,0,0,100,90,180,1,4,null,180,1,null,4,480,4]
[null,null,"",0,null,0,"",false,0,0,0,0,100,90,180,1,4,null,180,1,null,4,480,4]
[null,null,"",0,null,0,"",false,0,0,0,0,100,90,180,1,4,null,180,1,null,4,480,4]
[null,null,"",0,null,0,"",false,0,0,0,0,100,90,180,1,4,null,180,1,null,4,480,4]
[null,null,"",0,null,0,"",false,0,0,0,0,100,90,180,1,4,null,180,1,null,4,480,4]
[null,null,"",0,null,0,"",false,0,0,0,0,100,90,180,1,4,null,180,1,null,4,480,4]
[null,null,"",0,null,0,"",false,0,0,0,0,100,90,180,1,4,null,180,1,null,4,480,4]
[null,null,"",0,null,0,"",false,0,0,0,0,100,90,180,1,4,null,180,1,null,4,480,4]
[null,null,"",0,null,0,"",false,0,0,0,0,100,90,180,1,4,null,180,1,null,4,480,4]
[null,null,"",0,null,0,"",false,0,0,0,0,100,90,180,1,4,null,180,1,null,4,480,4]
[null,null,"",0,null,0,"",false,0,0,0,0,100,90,180,1,4,null,180,1,null,4,480,4]
[null,null,"",0,null,0,"",false,0,0,0,0,100,90,180,1,4,null,180,1,null,4,480,4]
[null,null,"",0,null,0,"",false,0,0,0,0,100,90,180,1,4,null,180,1,null,4,480,4]
[null,null,"",0,null,0,"",false,0,0,0,0,100,90,180,1,4,null,180,1,null,4,480,4]
[null,null,"",0,null,0,"",false,0,0,0,0,100,90,180,1,4,null,180,1,null,4,480,4]
[null,null,"",0,null,0,"",false,0,0,0,0,100,90,180,1,4,null,180,1,null,4,480,4]
[null,null,"",0,null,0,"",false,0,0,0,0,100,90,180,1,4,null,180,1,null,4,480,4]
[null,null,"",0,null,0,"",false,0,0,0,0,100,90,180,1,4,null,180,1,null,4,480,4]
[null,null,"",0,null,0,"",false,0,0,0,0,100,90,180,1,4,null,180,1,null,4,480,4]
[null,null,"",0,null,0,"",false,0,0,0,0,100,90,180,1,4,null,180,1,null,4,480,4]
[null,null,"",0,null,0,"",false,0,0,0,0,100,90,180,1,4,null,180,1,null,4,480,4]
[null,null,"",0,null,0,"",false,0,0,0,0,100,90,180,1,4,null,180,1,null,4,480,4]
[null,null,"",0,null,0,"",false,0,0,0,0,100,90,180,1,4,null,180,1,null,4,480,4]
[null,null,"",0,null,0,"",false,0,0,0,0,100,90,180,1,4,null,180,1,null,4,480,4]
[null,null,"",0,null,0,"",false,0,0,0,0,100,90,180,1,4,null,180,1,null,4,480,4]
[null,null,"",0,null,0,"",false,0,0,0,0,100,90,180,1,4,null,180,1,null,4,480,4]
[null,null,"",0,null,0,"",false,0,0,0,0,100,90,180,1,4,null,180,1,null,4,480,4]
[null,null,"",0,null,0,"",false,0,0,0,0,100,90,180,1,4,null,180,1,null,4,480,4]
[null,null,"",0,null,0,"",false,0,0,0,0,100,90,180,1,4,null,180,1,null,4,480,4]
[null,null,"",0,null,0,"",false,0,0,0,0,100,90,180,1,4,null,180,1,null,4,480,4]
[null,null,"",0,null,0,"",false,0,0,0,0,100,90,180,1,4,null,180,1,null,4,480,4]
[null,null,"",0,null,0,"",false,0,0,0,0,100,90,180,1,4,null,180,1,null,4,480,4]
[null,null,"",0,null,0,"",false,0,0,0,0,100,90,180,1,4,null,180,1,null,4,480,4]
[null,null,"",0,null,0,"",false,0,0,0,0,100,90,180,1,4,null,180,1,null,4,480,4]
[null,null,"",0,null,0,"",false,0,0,0,0,100,90,180,1,4,null,180,1,null,4,480,4]
[null,null,"",0,null,0,"",false,0,0,0,0,100,90,180,1,4,null,180,1,null,4,480,4]
[null,null,"",0,null,0,"",false,0,0,0,0,100,90,180,1,4,null,180,1,null,4,480,4]
[null,null,"",0,null,0,"",false,0,0,0,0,100,90,180,1,4,null,180,1,null,4,480,4]
[null,null,{"$f":"IF(I131>0,INDEX(DB,I131,8),\"\")","v":""},0,null,0,"",false,{"$f":"IF(OR(ISBLANK(A131),ISNA(MATCH(A131&\"\",AthleteNumbers,0))),0,MATCH(A131&\"\",AthleteNumbers,0))","v":0},{"$f":"IF(I131>0,INDEX(DB,$I131,6),0)","v":0},0,0,{"$f":"IF(AND(L131>O131,O131>0),MinPoints,IF(AND(L131<N131,O131>0),100,+INT((O131-$L131)/P131)+MinPoints))","v":100},90,180,1,{"$f":"IF(I131>0,INDEX(DB,I131,9),EventIndex)","v":4},null,{"$f":"(INT(INDEX(MINVALUES,$Q131,$K$1))*60)+(MOD(INDEX(MINVALUES,$Q131,$K$1),1)*100)","v":180},{"$f":"(INDEX(INCVALUES,$Q131,$K$1)*100)","v":1},null,{"$f":"+J131+(4*(INDEX(MatchScoreTable,$Q131,20)-1))","v":4},{"$f":"INDEX(INC_MINVALUES,$V131,$K$1)","v":480},{"$f":"INDEX(INC_INCVALUES,$V131,$K$1)","v":4}]
[null,null,"",{"$f":"IF(AND(H132,B132<>0,ISNUMBER(B132)),IF(ISERR(M132),0,M132),0)","v":0},null,{"$f":"COUNTIF(A$3:A$1002,A132)","v":0},{"$f":"IF(AND(H132,OR(D132<=10,D132>=90)),\"CHECK\",\"\")","v":""},{"$f":"IF(AND(I132>0,LEN(C132)>0,B132<>0),TRUE,FALSE)","v":false},0,0,{"$f":"IF(ISNUMBER(B132),ROUND(+B132,2),0)","v":0},{"$f":"(INT(K132)*60)+(MOD(K132,1)*100)","v":0},100,{"$f":"+O132-(P132*90)","v":90},{"$f":"IF($J132=0,$S132,$W132)","v":180},{"$f":"IF($J132=0,$T132,$X132)","v":1},4,null,180,1,null,4,480,4]
[null,null,"",0,null,0,"",false,0,0,0,0,100,90,180,1,4,null,180,1,null,4,480,4]
[null,null,"",0,null,0,"",false,0,0,0,0,100,90,180,1,4,null,180,1,null,4,480,4]
[null,null,"",0,null,0,"",false,0,0,0,0,100,90,180,1,4,null,180,1,null,4,480,4]
[null,null,"",0,null,0,"",false,0,0,0,0,100,90,180,1,4,null,180,1,null,4,480,4]
[null,null,"",0,null,0,"",false,0,0,0,0,100,90,180,1,4,null,180,1,null,4,480,4]
[null,null,"",0,null,0,"",false,0,0,0,0,100,90,180,1,4,null,180,1,null,4,480,4]
[null,null,"",0,null,0,"",false,0,0,0,0,100,90,180,1,4,null,180,1,null,4,480,4]
[null,null,"",0,null,0,"",false,0,0,0,0,100,90,180,1,4,null,180,1,null,4,480,4]
[null,null,"",0,null,0,"",false,0,0,0,0,100,90,180,1,4,null,180,1,null,4,480,4]
[null,null,"",0,null,0,"",false,0,0,0,0,100,90,180,1,4,null,180,1,null,4,480,4]
[null,null,"",0,null,0,"",false,0,0,0,0,100,90,180,1,4,null,180,1,null,4,480,4]
[null,null,"",0,null,0,"",false,0,0,0,0,100,90,180,1,4,null,180,1,null,4,480,4]
[null,null,"",0,null,0,"",false,0,0,0,0,100,90,180,1,4,null,180,1,null,4,480,4]
[null,null,"",0,null,0,"",false,0,0,0,0,100,90,180,1,4,null,180,1,null,4,480,4]
[null,null,"",0,null,0,"",false,0,0,0,0,100,90,180,1,4,null,180,1,null,4,480,4]
[null,null,"",0,null,0,"",false,0,0,0,0,100,90,180,1,4,null,180,1,null,4,480,4]
[null,null,"",0,null,0,"",false,0,0,0,0,100,90,180,1,4,null,180,1,null,4,480,4]
[null,null,"",0,null,0,"",false,0,0,0,0,100,90,180,1,4,null,180,1,null,4,480,4]
[null,null,"",0,null,0,"",false,0,0,0,0,100,90,180,1,4,null,180,1,null,4,480,4]
[null,null,"",0,null,0,"",false,0,0,0,0,100,90,180,1,4,null,180,1,null,4,480,4]
[null,null,"",0,null,0,"",false,0,0,0,0,100,90,180,1,4,null,180,1,null,4,480,4]
[null,null,"",0,null,0,"",false,0,0,0,0,100,90,180,1,4,null,180,1,null,4,480,4]
[null,null,"",0,null,0,"",false,0,0,0,0,100,90,180,1,4,null,180,1,null,4,480,4]
[null,null,"",0,null,0,"",false,0,0,0,0,100,90,180,1,4,null,180,1,null,4,480,4]
[null,null,"",0,null,0,"",false,0,0,0,0,100,90,180,1,4,null,180,1,null,4,480,4]
[null,null,"",0,null,0,"",false,0,0,0,0,100,90,180,1,4,null,180,1,null,4,480,4]
[null,null,"",0,null,0,"",false,0,0,0,0,100,90,180,1,4,null,180,1,null,4,480,4]
[null,null,"",0,null,0,"",false,0,0,0,0,100,90,180,1,4,null,180,1,null,4,480,4]
[null,null,"",0,null,0,"",false,0,0,0,0,100,90,180,1,4,null,180,1,null,4,480,4]
[null,null,"",0,null,0,"",false,0,0,0,0,100,90,180,1,4,null,180,1,null,4,480,4]
[null,null,"",0,null,0,"",false,0,0,0,0,100,90,180,1,4,null,180,1,null,4,480,4]
[null,null,"",0,null,0,"",false,0,0,0,0,100,90,180,1,4,null,180,1,null,4,480,4]
[null,null,"",0,null,0,"",false,0,0,0,0,100,90,180,1,4,null,180,1,null,4,480,4]
[null,null,"",0,null,0,"",false,0,0,0,0,100,90,180,1,4,null,180,1,null,4,480,4]
[null,null,"",0,null,0,"",false,0,0,0,0,100,90,180,1,4,null,180,1,null,4,480,4]
[null,null,"",0,null,0,"",false,0,0,0,0,100,90,180,1,4,null,180,1,null,4,480,4]
[null,null,"",0,null,0,"",false,0,0,0,0,100,90,180,1,4,null,180,1,null,4,480,4]
[null,null,"",0,null,0,"",false,0,0,0,0,100,90,180,1,4,null,180,1,null,4,480,4]
[null,null,"",0,null,0,"",false,0,0,0,0,100,90,180,1,4,null,180,1,null,4,480,4]
[null,null,"",0,null,0,"",false,0,0,0,0,100,90,180,1,4,null,180,1,null,4,480,4]
[null,null,"",0,null,0,"",false,0,0,0,0,100,90,180,1,4,null,180,1,null,4,480,4]
[null,null,"",0,null,0,"",false,0,0,0,0,100,90,180,1,4,null,180,1,null,4,480,4]
[null,null,"",0,null,0,"",false,0,0,0,0,100,90,180,1,4,null,180,1,null,4,480,4]
[null,null,"",0,null,0,"",false,0,0,0,0,100,90,180,1,4,null,180,1,null,4,480,4]
[null,null,"",0,null,0,"",false,0,0,0,0,100,90,180,1,4,null,180,1,null,4,480,4]
[null,null,"",0,null,0,"",false,0,0,0,0,100,90,180,1,4,null,180,1,null,4,480,4]
[null,null,"",0,null,0,"",false,0,0,0,0,100,90,180,1,4,null,180,1,null,4,480,4]
[null,null,"",0,null,0,"",false,0,0,0,0,100,90,180,1,4,null,180,1,null,4,480,4]
[null,null,"",0,null,0,"",false,0,0,0,0,100,90,180,1,4,null,180,1,null,4,480,4]
[null,null,"",0,null,0,"",false,0,0,0,0,100,90,180,1,4,null,180,1,null,4,480,4]
[null,null,"",0,null,0,"",false,0,0,0,0,100,90,180,1,4,null,180,1,null,4,480,4]
[null,null,"",0,null,0,"",false,0,0,0,0,100,90,180,1,4,null,180,1,null,4,480,4]
[null,null,"",0,null,0,"",false,0,0,0,0,100,90,180,1,4,null,180,1,null,4,480,4]
[null,null,"",0,null,0,"",false,0,0,0,0,100,90,180,1,4,null,180,1,null,4,480,4]
[null,null,"",0,null,0,"",false,0,0,0,0,100,90,180,1,4,null,180,1,null,4,480,4]
[null,null,"",0,null,0,"",false,0,0,0,0,100,90,180,1,4,null,180,1,null,4,480,4]
[null,null,"",0,null,0,"",false,0,0,0,0,100,90,180,1,4,null,180,1,null,4,480,4]
[null,null,"",0,null,0,"",false,0,0,0,0,100,90,180,1,4,null,180,1,null,4,480,4]
[null,null,"",0,null,0,"",false,0,0,0,0,100,90,180,1,4,null,180,1,null,4,480,4]
[null,null,"",0,null,0,"",false,0,0,0,0,100,90,180,1,4,null,180,1,null,4,480,4]
[null,null,"",0,null,0,"",false,0,0,0,0,100,90,180,1,4,null,180,1,null,4,480,4]
[null,null,"",0,null,0,"",false,0,0,0,0,100,90,180,1,4,null,180,1,null,4,480,4]
[null,null,{"$f":"IF(I195>0,INDEX(DB,I195,8),\"\")","v":""},0,null,0,"",false,{"$f":"IF(OR(ISBLANK(A195),ISNA(MATCH(A195&\"\",AthleteNumbers,0))),0,MATCH(A195&\"\",AthleteNumbers,0))","v":0},{"$f":"IF(I195>0,INDEX(DB,$I195,6),0)","v":0},0,0,{"$f":"IF(AND(L195>O195,O195>0),MinPoints,IF(AND(L195<N195,O195>0),100,+INT((O195-$L195)/P195)+MinPoints))","v":100},90,180,1,{"$f":"IF(I195>0,INDEX(DB,I195,9),EventIndex)","v":4},null,{"$f":"(INT(INDEX(MINVALUES,$Q195,$K$1))*60)+(MOD(INDEX(MINVALUES,$Q195,$K$1),1)*100)","v":180},{"$f":"(INDEX(INCVALUES,$Q195,$K$1)*100)","v":1},null,{"$f":"+J195+(4*(INDEX(MatchScoreTable,$Q195,20)-1))","v":4},{"$f":"INDEX(INC_MINVALUES,$V195,$K$1)","v":480},{"$f":"INDEX(INC_INCVALUES,$V195,$K$1)","v":4}]
[null,null,"",{"$f":"IF(AND(H196,B196<>0,ISNUMBER(B196)),IF(ISERR(M196),0,M196),0)","v":0},null,{"$f":"COUNTIF(A$3:A$1002,A196)","v":0},{"$f":"IF(AND(H196,OR(D196<=10,D196>=90)),\"CHECK\",\"\")","v":""},{"$f":"IF(AND(I196>0,LEN(C196)>0,B196<>0),TRUE,FALSE)","v":false},0,0,{"$f":"IF(ISNUMBER(B196),ROUND(+B196,2),0)","v":0},{"$f":"(INT(K196)*60)+(MOD(K196,1)*100)","v":0},100,{"$f":"+O196-(P196*90)","v":90},{"$f":"IF($J196=0,$S196,$W196)","v":180},{"$f":"IF($J196=0,$T196,$X196)","v":1},4,null,180,1,null,4,480,4]
[null,null,"",0,null,0,"",false,0,0,0,0,100,90,180,1,4,null,180,1,null,4,480,4]
[null,null,"",0,null,0,"",false,0,0,0,0,100,90,180,1,4,null,180,1,null,4,480,4]
[null,null,"",0,null,0,"",false,0,0,0,0,100,90,180,1,4,null,180,1,null,4,480,4]
[null,null,"",0,null,0,"",false,0,0,0,0,100,90,180,1,4,null,180,1,null,4,480,4]
[null,null,"",0,null,0,"",false,0,0,0,0,100,90,180,1,4,null,180,1,null,4,480,4]
[null,null,"",0,null,0,"",false,0,0,0,0,100,90,180,1,4,null,180,1,null,4,480,4]
[null,null,"",0,null,0,"",false,0,0,0,0,100,90,180,1,4,null,180,1,null,4,480,4]
[null,null,"",0,null,0,"",false,0,0,0,0,100,90,180,1,4,null,180,1,null,4,480,4]
[null,null,"",0,null,0,"",false,0,0,0,0,100,90,180,1,4,null,180,1,null,4,480,4]
[null,null,"",0,null,0,"",false,0,0,0,0,100,90,180,1,4,null,180,1,null,4,480,4]
[null,null,"",0,null,0,"",false,0,0,0,0,100,90,180,1,4,null,180,1,null,4,480,4]
[null,null,"",0,null,0,"",false,0,0,0,0,100,90,180,1,4,null,180,1,null,4,480,4]
[null,null,"",0,null,0,"",false,0,0,0,0,100,90,180,1,4,null,180,1,null,4,480,4]
[null,null,"",0,null,0,"",false,0,0,0,0,100,90,180,1,4,null,180,1,null,4,480,4]
[null,null,"",0,null,0,"",false,0,0,0,0,100,90,180,1,4,null,180,1,null,4,480,4]
[null,null,"",0,null,0,"",false,0,0,0,0,100,90,180,1,4,null,180,1,null,4,480,4]
[null,null,"",0,null,0,"",false,0,0,0,0,100,90,180,1,4,null,180,1,null,4,480,4]
[null,null,"",0,null,0,"",false,0,0,0,0,100,90,180,1,4,null,180,1,null,4,480,4]
[null,null,"",0,null,0,"",false,0,0,0,0,100,90,180,1,4,null,180,1,null,4,480,4]
[null,null,"",0,null,0,"",false,0,0,0,0,100,90,180,1,4,null,180,1,null,4,480,4]
[null,null,"",0,null,0,"",false,0,0,0,0,100,90,180,1,4,null,180,1,null,4,480,4]
[null,null,"",0,null,0,"",false,0,0,0,0,100,90,180,1,4,null,180,1,null,4,480,4]
[null,null,"",0,null,0,"",false,0,0,0,0,100,90,180,1,4,null,180,1,null,4,480,4]
[null,null,"",0,null,0,"",false,0,0,0,0,100,90,180,1,4,null,180,1,null,4,480,4]
[null,null,"",0,null,0,"",false,0,0,0,0,100,90,180,1,4,null,180,1,null,4,480,4]
[null,null,"",0,null,0,"",false,0,0,0,0,100,90,180,1,4,null,180,1,null,4,480,4]
[null,null,"",0,null,0,"",false,0,0,0,0,100,90,180,1,4,null,180,1,null,4,480,4]
[null,null,"",0,null,0,"",false,0,0,0,0,100,90,180,1,4,null,180,1,null,4,480,4]
[null,null,"",0,null,0,"",false,0,0,0,0,100,90,180,1,4,null,180,1,null,4,480,4]
[null,null,"",0,null,0,"",false,0,0,0,0,100,90,180,1,4,null,180,1,null,4,480,4]
[null,null,"",0,null,0,"",false,0,0,0,0,100,90,180,1,4,null,180,1,null,4,480,4]
[null,null,"",0,null,0,"",false,0,0,0,0,100,90,180,1,4,null,180,1,null,4,480,4]
[null,null,"",0,null,0,"",false,0,0,0,0,100,90,180,1,4,null,180,1,null,4,480,4]
[null,null,"",0,null,0,"",false,0,0,0,0,100,90,180,1,4,null,180,1,null,4,480,4]
[null,null,"",0,null,0,"",false,0,0,0,0,100,90,180,1,4,null,180,1,null,4,480,4]
[null,null,"",0,null,0,"",false,0,0,0,0,100,90,180,1,4,null,180,1,null,4,480,4]
[null,null,"",0,null,0,"",false,0,0,0,0,100,90,180,1,4,null,180,1,null,4,480,4]
[null,null,"",0,null,0,"",false,0,0,0,0,100,90,180,1,4,null,180,1,null,4,480,4]
[null,null,"",0,null,0,"",false,0,0,0,0,100,90,180,1,4,null,180,1,null,4,480,4]
[null,null,"",0,null,0,"",false,0,0,0,0,100,90,180,1,4,null,180,1,null,4,480,4]
[null,null,"",0,null,0,"",false,0,0,0,0,100,90,180,1,4,null,180,1,null,4,480,4]
[null,null,"",0,null,0,"",false,0,0,0,0,100,90,180,1,4,null,180,1,null,4,480,4]
[null,null,"",0,null,0,"",false,0,0,0,0,100,90,180,1,4,null,180,1,null,4,480,4]
[null,null,"",0,null,0,"",false,0,0,0,0,100,90,180,1,4,null,180,1,null,4,480,4]
[null,null,"",0,null,0,"",false,0,0,0,0,100,90,180,1,4,null,180,1,null,4,480,4]
[null,null,"",0,null,0,"",false,0,0,0,0,100,90,180,1,4,null,180,1,null,4,480,4]
[null,null,"",0,null,0,"",false,0,0,0,0,100,90,180,1,4,null,180,1,null,4,480,4]
[null,null,"",0,null,0,"",false,0,0,0,0,100,90,180,1,4,null,180,1,null,4,480,4]
[null,null,"",0,null,0,"",false,0,0,0,0,100,90,180,1,4,null,180,1,null,4,480,4]
[null,null,"",0,null,0,"",false,0,0,0,0,100,90,180,1,4,null,180,1,null,4,480,4]
[null,null,"",0,null,0,"",false,0,0,0,0,100,90,180,1,4,null,180,1,null,4,480,4]
[null,null,"",0,null,0,"",false,0,0,0,0,100,90,180,1,4,null,180,1,null,4,480,4]
[null,null,"",0,null,0,"",false,0,0,0,0,100,90,180,1,4,null,180,1,null,4,480,4]
[null,null,"",0,null,0,"",false,0,0,0,0,100,90,180,1,4,null,180,1,null,4,480,4]
[null,null,"",0,null,0,"",false,0,0,0,0,100,90,180,1,4,null,180,1,null,4,480,4]
[null,null,"",0,null,0,"",false,0,0,0,0,100,90,180,1,4,null,180,1,null,4,480,4]
[null,null,"",0,null,0,"",false,0,0,0,0,100,90,180,1,4,null,180,1,null,4,480,4]
[null,null,"",0,null,0,"",false,0,0,0,0,100,90,180,1,4,null,180,1,null,4,480,4]
[null,null,"",0,null,0,"",false,0,0,0,0,100,90,180,1,4,null,180,1,null,4,480,4]
[null,null,"",0,null,0,"",false,0,0,0,0,100,90,180,1,4,null,180,1,null,4,480,4]
[null,null,"",0,null,0,"",false,0,0,0,0,100,90,180,1,4,null,180,1,null,4,480,4]
[null,null,"",0,null,0,"",false,0,0,0,0,100,90,180,1,4,null,180,1,null,4,480,4]
[null,null,{"$f":"IF(I259>0,INDEX(DB,I259,8),\"\")","v":""},0,null,0,"",false,{"$f":"IF(OR(ISBLANK(A259),ISNA(MATCH(A259&\"\",AthleteNumbers,0))),0,MATCH(A259&\"\",AthleteNumbers,0))","v":0},{"$f":"IF(I259>0,INDEX(DB,$I259,6),0)","v":0},0,0,{"$f":"IF(AND(L259>O259,O259>0),MinPoints,IF(AND(L259<N259,O259>0),100,+INT((O259-$L259)/P259)+MinPoints))","v":100},90,180,1,{"$f":"IF(I259>0,INDEX(DB,I259,9),EventIndex)","v":4},null,{"$f":"(INT(INDEX(MINVALUES,$Q259,$K$1))*60)+(MOD(INDEX(MINVALUES,$Q259,$K$1),1)*100)","v":180},{"$f":"(INDEX(INCVALUES,$Q259,$K$1)*100)","v":1},null,{"$f":"+J259+(4*(INDEX(MatchScoreTable,$Q259,20)-1))","v":4},{"$f":"INDEX(INC_MINVALUES,$V259,$K$1)","v":480},{"$f":"INDEX(INC_INCVALUES,$V259,$K$1)","v":4}]
[null,null,"",{"$f":"IF(AND(H260,B260<>0,ISNUMBER(B260)),IF(ISERR(M260),0,M260),0)","v":0},null,{"$f":"COUNTIF(A$3:A$1002,A260)","v":0},{"$f":"IF(AND(H260,OR(D260<=10,D260>=90)),\"CHECK\",\"\")","v":""},{"$f":"IF(AND(I260>0,LEN(C260)>0,B260<>0),TRUE,FALSE)","v":false},0,0,{"$f":"IF(ISNUMBER(B260),ROUND(+B260,2),0)","v":0},{"$f":"(INT(K260)*60)+(MOD(K260,1)*100)","v":0},100,{"$f":"+O260-(P260*90)","v":90},{"$f":"IF($J260=0,$S260,$W260)","v":180},{"$f":"IF($J260=0,$T260,$X260)","v":1},4,null,180,1,null,4,480,4]
[null,null,"",0,null,0,"",false,0,0,0,0,100,90,180,1,4,null,180,1,null,4,480,4]
[null,null,"",0,null,0,"",false,0,0,0,0,100,90,180,1,4,null,180,1,null,4,480,4]
[null,null,"",0,null,0,"",false,0,0,0,0,100,90,180,1,4,null,180,1,null,4,480,4]
[null,null,"",0,null,0,"",false,0,0,0,0,100,90,180,1,4,null,180,1,null,4,480,4]
[null,null,"",0,null,0,"",false,0,0,0,0,100,90,180,1,4,null,180,1,null,4,480,4]
[null,null,"",0,null,0,"",false,0,0,0,0,100,90,180,1,4,null,180,1,null,4,480,4]
[null,null,"",0,null,0,"",false,0,0,0,0,100,90,180,1,4,null,180,1,null,4,480,4]
[null,null,"",0,null,0,"",false,0,0,0,0,100,90,180,1,4,null,180,1,null,4,480,4]
[null,null,"",0,null,0,"",false,0,0,0,0,100,90,180,1,4,null,180,1,null,4,480,4]
[null,null,"",0,null,0,"",false,0,0,0,0,100,90,180,1,4,null,180,1,null,4,480,4]
[null,null,"",0,null,0,"",false,0,0,0,0,100,90,180,1,4,null,180,1,null,4,480,4]
[null,null,"",0,null,0,"",false,0,0,0,0,100,90,180,1,4,null,180,1,null,4,480,4]
[null,null,"",0,null,0,"",false,0,0,0,0,100,90,180,1,4,null,180,1,null,4,480,4]
[null,null,"",0,null,0,"",false,0,0,0,0,100,90,180,1,4,null,180,1,null,4,480,4]
[null,null,"",0,null,0,"",false,0,0,0,0,100,90,180,1,4,null,180,1,null,4,480,4]
[null,null,"",0,null,0,"",false,0,0,0,0,100,90,180,1,4,null,180,1,null,4,480,4]
[null,null,"",0,null,0,"",false,0,0,0,0,100,90,180,1,4,null,180,1,null,4,480,4]
[null,null,"",0,null,0,"",false,0,0,0,0,100,90,180,1,4,null,180,1,null,4,480,4]
[null,null,"",0,null,0,"",false,0,0,0,0,100,90,180,1,4,null,180,1,null,4,480,4]
[null,null,"",0,null,0,"",false,0,0,0,0,100,90,180,1,4,null,180,1,null,4,480,4]
[null,null,"",0,null,0,"",false,0,0,0,0,100,90,180,1,4,null,180,1,null,4,480,4]
[null,null,"",0,null,0,"",false,0,0,0,0,100,90,180,1,4,null,180,1,null,4,480,4]
[null,null,"",0,null,0,"",false,0,0,0,0,100,90,180,1,4,null,180,1,null,4,480,4]
[null,null,"",0,null,0,"",false,0,0,0,0,100,90,180,1,4,null,180,1,null,4,480,4]
[null,null,"",0,null,0,"",false,0,0,0,0,100,90,180,1,4,null,180,1,null,4,480,4]
[null,null,"",0,null,0,"",false,0,0,0,0,100,90,180,1,4,null,180,1,null,4,480,4]
[null,null,"",0,null,0,"",false,0,0,0,0,100,90,180,1,4,null,180,1,null,4,480,4]
[null,null,"",0,null,0,"",false,0,0,0,0,100,90,180,1,4,null,180,1,null,4,480,4]
[null,null,"",0,null,0,"",false,0,0,0,0,100,90,180,1,4,null,180,1,null,4,480,4]
[null,null,"",0,null,0,"",false,0,0,0,0,100,90,180,1,4,null,180,1,null,4,480,4]
[null,null,"",0,null,0,"",false,0,0,0,0,100,90,180,1,4,null,180,1,null,4,480,4]
[null,null,"",0,null,0,"",false,0,0,0,0,100,90,180,1,4,null,180,1,null,4,480,4]
[null,null,"",0,null,0,"",false,0,0,0,0,100,90,180,1,4,null,180,1,null,4,480,4]
[null,null,"",0,null,0,"",false,0,0,0,0,100,90,180,1,4,null,180,1,null,4,480,4]
[null,null,"",0,null,0,"",false,0,0,0,0,100,90,180,1,4,null,180,1,null,4,480,4]
[null,null,"",0,null,0,"",false,0,0,0,0,100,90,180,1,4,null,180,1,null,4,480,4]
[null,null,"",0,null,0,"",false,0,0,0,0,100,90,180,1,4,null,180,1,null,4,480,4]
[null,null,"",0,null,0,"",false,0,0,0,0,100,90,180,1,4,null,180,1,null,4,480,4]
[null,null,"",0,null,0,"",false,0,0,0,0,100,90,180,1,4,null,180,1,null,4,480,4]
[null,null,"",0,null,0,"",false,0,0,0,0,100,90,180,1,4,null,180,1,null,4,480,4]
[null,null,"",0,null,0,"",false,0,0,0,0,100,90,180,1,4,null,180,1,null,4,480,4]
[null,null,"",0,null,0,"",false,0,0,0,0,100,90,180,1,4,null,180,1,null,4,480,4]
[null,null,"",0,null,0,"",false,0,0,0,0,100,90,180,1,4,null,180,1,null,4,480,4]
[null,null,"",0,null,0,"",false,0,0,0,0,100,90,180,1,4,null,180,1,null,4,480,4]
[null,null,"",0,null,0,"",false,0,0,0,0,100,90,180,1,4,null,180,1,null,4,480,4]
[null,null,"",0,null,0,"",false,0,0,0,0,100,90,180,1,4,null,180,1,null,4,480,4]
[null,null,"",0,null,0,"",false,0,0,0,0,100,90,180,1,4,null,180,1,null,4,480,4]
[null,null,"",0,null,0,"",false,0,0,0,0,100,90,180,1,4,null,180,1,null,4,480,4]
[null,null,"",0,null,0,"",false,0,0,0,0,100,90,180,1,4,null,180,1,null,4,480,4]
[null,null,"",0,null,0,"",false,0,0,0,0,100,90,180,1,4,null,180,1,null,4,480,4]
[null,null,"",0,null,0,"",false,0,0,0,0,100,90,180,1,4,null,180,1,null,4,480,4]
[null,null,"",0,null,0,"",false,0,0,0,0,100,90,180,1,4,null,180,1,null,4,480,4]
[null,null,"",0,null,0,"",false,0,0,0,0,100,90,180,1,4,null,180,1,null,4,480,4]
[null,null,"",0,null,0,"",false,0,0,0,0,100,90,180,1,4,null,180,1,null,4,480,4]
[null,null,"",0,null,0,"",false,0,0,0,0,100,90,180,1,4,null,180,1,null,4,480,4]
[null,null,"",0,null,0,"",false,0,0,0,0,100,90,180,1,4,null,180,1,null,4,480,4]
[null,null,"",0,null,0,"",false,0,0,0,0,100,90,180,1,4,null,180,1,null,4,480,4]
[null,null,"",0,null,0,"",false,0,0,0,0,100,90,180,1,4,null,180,1,null,4,480,4]
[null,null,"",0,null,0,"",false,0,0,0,0,100,90,180,1,4,null,180,1,null,4,480,4]
[null,null,"",0,null,0,"",false,0,0,0,0,100,90,180,1,4,null,180,1,null,4,480,4]
[null,null,"",0,null,0,"",false,0,0,0,0,100,90,180,1,4,null,180,1,null,4,480,4]
[null,null,"",0,null,0,"",false,0,0,0,0,100,90,180,1,4,null,180,1,null,4,480,4]
[null,null,{"$f":"IF(I323>0,INDEX(DB,I323,8),\"\")","v":""},0,null,0,"",false,{"$f":"IF(OR(ISBLANK(A323),ISNA(MATCH(A323&\"\",AthleteNumbers,0))),0,MATCH(A323&\"\",AthleteNumbers,0))","v":0},{"$f":"IF(I323>0,INDEX(DB,$I323,6),0)","v":0},0,0,{"$f":"IF(AND(L323>O323,O323>0),MinPoints,IF(AND(L323<N323,O323>0),100,+INT((O323-$L323)/P323)+MinPoints))","v":100},90,180,1,{"$f":"IF(I323>0,INDEX(DB,I323,9),EventIndex)","v":4},null,{"$f":"(INT(INDEX(MINVALUES,$Q323,$K$1))*60)+(MOD(INDEX(MINVALUES,$Q323,$K$1),1)*100)","v":180},{"$f":"(INDEX(INCVALUES,$Q323,$K$1)*100)","v":1},null,{"$f":"+J323+(4*(INDEX(MatchScoreTable,$Q323,20)-1))","v":4},{"$f":"INDEX(INC_MINVALUES,$V323,$K$1)","v":480},{"$f":"INDEX(INC_INCVALUES,$V323,$K$1)","v":4}]
[null,null,"",{"$f":"IF(AND(H324,B324<>0,ISNUMBER(B324)),IF(ISERR(M324),0,M324),0)","v":0},null,{"$f":"COUNTIF(A$3:A$1002,A324)","v":0},{"$f":"IF(AND(H324,OR(D324<=10,D324>=90)),\"CHECK\",\"\")","v":""},{"$f":"IF(AND(I324>0,LEN(C324)>0,B324<>0),TRUE,FALSE)","v":false},0,0,{"$f":"IF(ISNUMBER(B324),ROUND(+B324,2),0)","v":0},{"$f":"(INT(K324)*60)+(MOD(K324,1)*100)","v":0},100,{"$f":"+O324-(P324*90)","v":90},{"$f":"IF($J324=0,$S324,$W324)","v":180},{"$f":"IF($J324=0,$T324,$X324)","v":1},4,null,180,1,null,4,480,4]
[null,null,"",0,null,0,"",false,0,0,0,0,100,90,180,1,4,null,180,1,null,4,480,4]
[null,null,"",0,null,0,"",false,0,0,0,0,100,90,180,1,4,null,180,1,null,4,480,4]
[null,null,"",0,null,0,"",false,0,0,0,0,100,90,180,1,4,null,180,1,null,4,480,4]
[null,null,"",0,null,0,"",false,0,0,0,0,100,90,180,1,4,null,180,1,null,4,480,4]
[null,null,"",0,null,0,"",false,0,0,0,0,100,90,180,1,4,null,180,1,null,4,480,4]
[null,null,"",0,null,0,"",false,0,0,0,0,100,90,180,1,4,null,180,1,null,4,480,4]
[null,null,"",0,null,0,"",false,0,0,0,0,100,90,180,1,4,null,180,1,null,4,480,4]
[null,null,"",0,null,0,"",false,0,0,0,0,100,90,180,1,4,null,180,1,null,4,480,4]
[null,null,"",0,null,0,"",false,0,0,0,0,100,90,180,1,4,null,180,1,null,4,480,4]
[null,null,"",0,null,0,"",false,0,0,0,0,100,90,180,1,4,null,180,1,null,4,480,4]
[null,null,"",0,null,0,"",false,0,0,0,0,100,90,180,1,4,null,180,1,null,4,480,4]
[null,null,"",0,null,0,"",false,0,0,0,0,100,90,180,1,4,null,180,1,null,4,480,4]
[null,null,"",0,null,0,"",false,0,0,0,0,100,90,180,1,4,null,180,1,null,4,480,4]
[null,null,"",0,null,0,"",false,0,0,0,0,100,90,180,1,4,null,180,1,null,4,480,4]
[null,null,"",0,null,0,"",false,0,0,0,0,100,90,180,1,4,null,180,1,null,4,480,4]
[null,null,"",0,null,0,"",false,0,0,0,0,100,90,180,1,4,null,180,1,null,4,480,4]
[null,null,"",0,null,0,"",false,0,0,0,0,100,90,180,1,4,null,180,1,null,4,480,4]
[null,null,"",0,null,0,"",false,0,0,0,0,100,90,180,1,4,null,180,1,null,4,480,4]
[null,null,"",0,null,0,"",false,0,0,0,0,100,90,180,1,4,null,180,1,null,4,480,4]
[null,null,"",0,null,0,"",false,0,0,0,0,100,90,180,1,4,null,180,1,null,4,480,4]
[null,null,"",0,null,0,"",false,0,0,0,0,100,90,180,1,4,null,180,1,null,4,480,4]
[null,null,"",0,null,0,"",false,0,0,0,0,100,90,180,1,4,null,180,1,null,4,480,4]
[null,null,"",0,null,0,"",false,0,0,0,0,100,90,180,1,4,null,180,1,null,4,480,4]
[null,null,"",0,null,0,"",false,0,0,0,0,100,90,180,1,4,null,180,1,null,4,480,4]
[null,null,"",0,null,0,"",false,0,0,0,0,100,90,180,1,4,null,180,1,null,4,480,4]
[null,null,"",0,null,0,"",false,0,0,0,0,100,90,180,1,4,null,180,1,null,4,480,4]
[null,null,"",0,null,0,"",false,0,0,0,0,100,90,180,1,4,null,180,1,null,4,480,4]
[null,null,"",0,null,0,"",false,0,0,0,0,100,90,180,1,4,null,180,1,null,4,480,4]
[null,null,"",0,null,0,"",false,0,0,0,0,100,90,180,1,4,null,180,1,null,4,480,4]
[null,null,"",0,null,0,"",false,0,0,0,0,100,90,180,1,4,null,180,1,null,4,480,4]
[null,null,"",0,null,0,"",false,0,0,0,0,100,90,180,1,4,null,180,1,null,4,480,4]
[null,null,"",0,null,0,"",false,0,0,0,0,100,90,180,1,4,null,180,1,null,4,480,4]
[null,null,"",0,null,0,"",false,0,0,0,0,100,90,180,1,4,null,180,1,null,4,480,4]
[null,null,"",0,null,0,"",false,0,0,0,0,100,90,180,1,4,null,180,1,null,4,480,4]
[null,null,"",0,null,0,"",false,0,0,0,0,100,90,180,1,4,null,180,1,null,4,480,4]
[null,null,"",0,null,0,"",false,0,0,0,0,100,90,180,1,4,null,180,1,null,4,480,4]
[null,null,"",0,null,0,"",false,0,0,0,0,100,90,180,1,4,null,180,1,null,4,480,4]
[null,null,"",0,null,0,"",false,0,0,0,0,100,90,180,1,4,null,180,1,null,4,480,4]
[null,null,"",0,null,0,"",false,0,0,0,0,100,90,180,1,4,null,180,1,null,4,480,4]
[null,null,"",0,null,0,"",false,0,0,0,0,100,90,180,1,4,null,180,1,null,4,480,4]
[null,null,"",0,null,0,"",false,0,0,0,0,100,90,180,1,4,null,180,1,null,4,480,4]
[null,null,"",0,null,0,"",false,0,0,0,0,100,90,180,1,4,null,180,1,null,4,480,4]
[null,null,"",0,null,0,"",false,0,0,0,0,100,90,180,1,4,null,180,1,null,4,480,4]
[null,null,"",0,null,0,"",false,0,0,0,0,100,90,180,1,4,null,180,1,null,4,480,4]
[null,null,"",0,null,0,"",false,0,0,0,0,100,90,180,1,4,null,180,1,null,4,480,4]
[null,null,"",0,null,0,"",false,0,0,0,0,100,90,180,1,4,null,180,1,null,4,480,4]
[null,null,"",0,null,0,"",false,0,0,0,0,100,90,180,1,4,null,180,1,null,4,480,4]
[null,null,"",0,null,0,"",false,0,0,0,0,100,90,180,1,4,null,180,1,null,4,480,4]
[null,null,"",0,null,0,"",false,0,0,0,0,100,90,180,1,4,null,180,1,null,4,480,4]
[null,null,"",0,null,0,"",false,0,0,0,0,100,90,180,1,4,null,180,1,null,4,480,4]
[null,null,"",0,null,0,"",false,0,0,0,0,100,90,180,1,4,null,180,1,null,4,480,4]
[null,null,"",0,null,0,"",false,0,0,0,0,100,90,180,1,4,null,180,1,null,4,480,4]
[null,null,"",0,null,0,"",false,0,0,0,0,100,90,180,1,4,null,180,1,null,4,480,4]
[null,null,"",0,null,0,"",false,0,0,0,0,100,90,180,1,4,null,180,1,null,4,480,4]
[null,null,"",0,null,0,"",false,0,0,0,0,100,90,180,1,4,null,180,1,null,4,480,4]
[null,null,"",0,null,0,"",false,0,0,0,0,100,90,180,1,4,null,180,1,null,4,480,4]
[null,null,"",0,null,0,"",false,0,0,0,0,100,90,180,1,4,null,180,1,null,4,480,4]
[null,null,"",0,null,0,"",false,0,0,0,0,100,90,180,1,4,null,180,1,null,4,480,4]
[null,null,"",0,null,0,"",false,0,0,0,0,100,90,180,1,4,null,180,1,null,4,480,4]
[null,null,"",0,null,0,"",false,0,0,0,0,100,90,180,1,4,null,180,1,null,4,480,4]
[null,null,"",0,null,0,"",false,0,0,0,0,100,90,180,1,4,null,180,1,null,4,480,4]
[null,null,"",0,null,0,"",false,0,0,0,0,100,90,180,1,4,null,180,1,null,4,480,4]
[null,null,{"$f":"IF(I387>0,INDEX(DB,I387,8),\"\")","v":""},0,null,0,"",false,{"$f":"IF(OR(ISBLANK(A387),ISNA(MATCH(A387&\"\",AthleteNumbers,0))),0,MATCH(A387&\"\",AthleteNumbers,0))","v":0},{"$f":"IF(I387>0,INDEX(DB,$I387,6),0)","v":0},0,0,{"$f":"IF(AND(L387>O387,O387>0),MinPoints,IF(AND(L387<N387,O387>0),100,+INT((O387-$L387)/P387)+MinPoints))","v":100},90,180,1,{"$f":"IF(I387>0,INDEX(DB,I387,9),EventIndex)","v":4},null,{"$f":"(INT(INDEX(MINVALUES,$Q387,$K$1))*60)+(MOD(INDEX(MINVALUES,$Q387,$K$1),1)*100)","v":180},{"$f":"(INDEX(INCVALUES,$Q387,$K$1)*100)","v":1},null,{"$f":"+J387+(4*(INDEX(MatchScoreTable,$Q387,20)-1))","v":4},{"$f":"INDEX(INC_MINVALUES,$V387,$K$1)","v":480},{"$f":"INDEX(INC_INCVALUES,$V387,$K$1)","v":4}]
[null,null,"",{"$f":"IF(AND(H388,B388<>0,ISNUMBER(B388)),IF(ISERR(M388),0,M388),0)","v":0},null,{"$f":"COUNTIF(A$3:A$1002,A388)","v":0},{"$f":"IF(AND(H388,OR(D388<=10,D388>=90)),\"CHECK\",\"\")","v":""},{"$f":"IF(AND(I388>0,LEN(C388)>0,B388<>0),TRUE,FALSE)","v":false},0,0,{"$f":"IF(ISNUMBER(B388),ROUND(+B388,2),0)","v":0},{"$f":"(INT(K388)*60)+(MOD(K388,1)*100)","v":0},100,{"$f":"+O388-(P388*90)","v":90},{"$f":"IF($J388=0,$S388,$W388)","v":180},{"$f":"IF($J388=0,$T388,$X388)","v":1},4,null,180,1,null,4,480,4]
[null,null,"",0,null,0,"",false,0,0,0,0,100,90,180,1,4,null,180,1,null,4,480,4]
[null,null,"",0,null,0,"",false,0,0,0,0,100,90,180,1,4,null,180,1,null,4,480,4]
[null,null,"",0,null,0,"",false,0,0,0,0,100,90,180,1,4,null,180,1,null,4,480,4]
[null,null,"",0,null,0,"",false,0,0,0,0,100,90,180,1,4,null,180,1,null,4,480,4]
[null,null,"",0,null,0,"",false,0,0,0,0,100,90,180,1,4,null,180,1,null,4,480,4]
[null,null,"",0,null,0,"",false,0,0,0,0,100,90,180,1,4,null,180,1,null,4,480,4]
[null,null,"",0,null,0,"",false,0,0,0,0,100,90,180,1,4,null,180,1,null,4,480,4]
[null,null,"",0,null,0,"",false,0,0,0,0,100,90,180,1,4,null,180,1,null,4,480,4]
[null,null,"",0,null,0,"",false,0,0,0,0,100,90,180,1,4,null,180,1,null,4,480,4]
[null,null,"",0,null,0,"",false,0,0,0,0,100,90,180,1,4,null,180,1,null,4,480,4]
[null,null,"",0,null,0,"",false,0,0,0,0,100,90,180,1,4,null,180,1,null,4,480,4]
[null,null,"",0,null,0,"",false,0,0,0,0,100,90,180,1,4,null,180,1,null,4,480,4]
[null,null,"",0,null,0,"",false,0,0,0,0,100,90,180,1,4,null,180,1,null,4,480,4]
[null,null,"",0,null,0,"",false,0,0,0,0,100,90,180,1,4,null,180,1,null,4,480,4]
[null,null,"",0,null,0,"",false,0,0,0,0,100,90,180,1,4,null,180,1,null,4,480,4]
[null,null,"",0,null,0,"",false,0,0,0,0,100,90,180,1,4,null,180,1,null,4,480,4]
[null,null,"",0,null,0,"",false,0,0,0,0,100,90,180,1,4,null,180,1,null,4,480,4]
[null,null,"",0,null,0,"",false,0,0,0,0,100,90,180,1,4,null,180,1,null,4,480,4]
[null,null,"",0,null,0,"",false,0,0,0,0,100,90,180,1,4,null,180,1,null,4,480,4]
[null,null,"",0,null,0,"",false,0,0,0,0,100,90,180,1,4,null,180,1,null,4,480,4]
[null,null,"",0,null,0,"",false,0,0,0,0,100,90,180,1,4,null,180,1,null,4,480,4]
[null,null,"",0,null,0,"",false,0,0,0,0,100,90,180,1,4,null,180,1,null,4,480,4]
[null,null,"",0,null,0,"",false,0,0,0,0,100,90,180,1,4,null,180,1,null,4,480,4]
[null,null,"",0,null,0,"",false,0,0,0,0,100,90,180,1,4,null,180,1,null,4,480,4]
[null,null,"",0,null,0,"",false,0,0,0,0,100,90,180,1,4,null,180,1,null,4,480,4]
[null,null,"",0,null,0,"",false,0,0,0,0,100,90,180,1,4,null,180,1,null,4,480,4]
[null,null,"",0,null,0,"",false,0,0,0,0,100,90,180,1,4,null,180,1,null,4,480,4]
[null,null,"",0,null,0,"",false,0,0,0,0,100,90,180,1,4,null,180,1,null,4,480,4]
[null,null,"",0,null,0,"",false,0,0,0,0,100,90,180,1,4,null,180,1,null,4,480,4]
[null,null,"",0,null,0,"",false,0,0,0,0,100,90,180,1,4,null,180,1,null,4,480,4]
[null,null,"",0,null,0,"",false,0,0,0,0,100,90,180,1,4,null,180,1,null,4,480,4]
[null,null,"",0,null,0,"",false,0,0,0,0,100,90,180,1,4,null,180,1,null,4,480,4]
[null,null,"",0,null,0,"",false,0,0,0,0,100,90,180,1,4,null,180,1,null,4,480,4]
[null,null,"",0,null,0,"",false,0,0,0,0,100,90,180,1,4,null,180,1,null,4,480,4]
[null,null,"",0,null,0,"",false,0,0,0,0,100,90,180,1,4,null,180,1,null,4,480,4]
[null,null,"",0,null,0,"",false,0,0,0,0,100,90,180,1,4,null,180,1,null,4,480,4]
[null,null,"",0,null,0,"",false,0,0,0,0,100,90,180,1,4,null,180,1,null,4,480,4]
[null,null,"",0,null,0,"",false,0,0,0,0,100,90,180,1,4,null,180,1,null,4,480,4]
[null,null,"",0,null,0,"",false,0,0,0,0,100,90,180,1,4,null,180,1,null,4,480,4]
[null,null,"",0,null,0,"",false,0,0,0,0,100,90,180,1,4,null,180,1,null,4,480,4]
[null,null,"",0,null,0,"",false,0,0,0,0,100,90,180,1,4,null,180,1,null,4,480,4]
[null,null,"",0,null,0,"",false,0,0,0,0,100,90,180,1,4,null,180,1,null,4,480,4]
[null,null,"",0,null,0,"",false,0,0,0,0,100,90,180,1,4,null,180,1,null,4,480,4]
[null,null,"",0,null,0,"",false,0,0,0,0,100,90,180,1,4,null,180,1,null,4,480,4]
[null,null,"",0,null,0,"",false,0,0,0,0,100,90,180,1,4,null,180,1,null,4,480,4]
[null,null,"",0,null,0,"",false,0,0,0,0,100,90,180,1,4,null,180,1,null,4,480,4]
[null,null,"",0,null,0,"",false,0,0,0,0,100,90,180,1,4,null,180,1,null,4,480,4]
[null,null,"",0,null,0,"",false,0,0,0,0,100,90,180,1,4,null,180,1,null,4,480,4]
[null,null,"",0,null,0,"",false,0,0,0,0,100,90,180,1,4,null,180,1,null,4,480,4]
[null,null,"",0,null,0,"",false,0,0,0,0,100,90,180,1,4,null,180,1,null,4,480,4]
[null,null,"",0,null,0,"",false,0,0,0,0,100,90,180,1,4,null,180,1,null,4,480,4]
[null,null,"",0,null,0,"",false,0,0,0,0,100,90,180,1,4,null,180,1,null,4,480,4]
[null,null,"",0,null,0,"",false,0,0,0,0,100,90,180,1,4,null,180,1,null,4,480,4]
[null,null,"",0,null,0,"",false,0,0,0,0,100,90,180,1,4,null,180,1,null,4,480,4]
[null,null,"",0,null,0,"",false,0,0,0,0,100,90,180,1,4,null,180,1,null,4,480,4]
[null,null,"",0,null,0,"",false,0,0,0,0,100,90,180,1,4,null,180,1,null,4,480,4]
[null,null,"",0,null,0,"",false,0,0,0,0,100,90,180,1,4,null,180,1,null,4,480,4]
[null,null,"",0,null,0,"",false,0,0,0,0,100,90,180,1,4,null,180,1,null,4,480,4]
[null,null,"",0,null,0,"",false,0,0,0,0,100,90,180,1,4,null,180,1,null,4,480,4]
[null,null,"",0,null,0,"",false,0,0,0,0,100,90,180,1,4,null,180,1,null,4,480,4]
[null,null,"",0,null,0,"",false,0,0,0,0,100,90,180,1,4,null,180,1,null,4,480,4]
[null,null,"",0,null,0,"",false,0,0,0,0,100,90,180,1,4,null,180,1,null,4,480,4]
[null,null,{"$f":"IF(I451>0,INDEX(DB,I451,8),\"\")","v":""},0,null,0,"",false,{"$f":"IF(OR(ISBLANK(A451),ISNA(MATCH(A451&\"\",AthleteNumbers,0))),0,MATCH(A451&\"\",AthleteNumbers,0))","v":0},{"$f":"IF(I451>0,INDEX(DB,$I451,6),0)","v":0},0,0,{"$f":"IF(AND(L451>O451,O451>0),MinPoints,IF(AND(L451<N451,O451>0),100,+INT((O451-$L451)/P451)+MinPoints))","v":100},90,180,1,{"$f":"IF(I451>0,INDEX(DB,I451,9),EventIndex)","v":4},null,{"$f":"(INT(INDEX(MINVALUES,$Q451,$K$1))*60)+(MOD(INDEX(MINVALUES,$Q451,$K$1),1)*100)","v":180},{"$f":"(INDEX(INCVALUES,$Q451,$K$1)*100)","v":1},null,{"$f":"+J451+(4*(INDEX(MatchScoreTable,$Q451,20)-1))","v":4},{"$f":"INDEX(INC_MINVALUES,$V451,$K$1)","v":480},{"$f":"INDEX(INC_INCVALUES,$V451,$K$1)","v":4}]
[null,null,"",{"$f":"IF(AND(H452,B452<>0,ISNUMBER(B452)),IF(ISERR(M452),0,M452),0)","v":0},null,{"$f":"COUNTIF(A$3:A$1002,A452)","v":0},{"$f":"IF(AND(H452,OR(D452<=10,D452>=90)),\"CHECK\",\"\")","v":""},{"$f":"IF(AND(I452>0,LEN(C452)>0,B452<>0),TRUE,FALSE)","v":false},0,0,{"$f":"IF(ISNUMBER(B452),ROUND(+B452,2),0)","v":0},{"$f":"(INT(K452)*60)+(MOD(K452,1)*100)","v":0},100,{"$f":"+O452-(P452*90)","v":90},{"$f":"IF($J452=0,$S452,$W452)","v":180},{"$f":"IF($J452=0,$T452,$X452)","v":1},4,null,180,1,null,4,480,4]
[null,null,"",0,null,0,"",false,0,0,0,0,100,90,180,1,4,null,180,1,null,4,480,4]
[null,null,"",0,null,0,"",false,0,0,0,0,100,90,180,1,4,null,180,1,null,4,480,4]
[null,null,"",0,null,0,"",false,0,0,0,0,100,90,180,1,4,null,180,1,null,4,480,4]
[null,null,"",0,null,0,"",false,0,0,0,0,100,90,180,1,4,null,180,1,null,4,480,4]
[null,null,"",0,null,0,"",false,0,0,0,0,100,90,180,1,4,null,180,1,null,4,480,4]
[null,null,"",0,null,0,"",false,0,0,0,0,100,90,180,1,4,null,180,1,null,4,480,4]
[null,null,"",0,null,0,"",false,0,0,0,0,100,90,180,1,4,null,180,1,null,4,480,4]
[null,null,"",0,null,0,"",false,0,0,0,0,100,90,180,1,4,null,180,1,null,4,480,4]
[null,null,"",0,null,0,"",false,0,0,0,0,100,90,180,1,4,null,180,1,null,4,480,4]
[null,null,"",0,null,0,"",false,0,0,0,0,100,90,180,1,4,null,180,1,null,4,480,4]
[null,null,"",0,null,0,"",false,0,0,0,0,100,90,180,1,4,null,180,1,null,4,480,4]
[null,null,"",0,null,0,"",false,0,0,0,0,100,90,180,1,4,null,180,1,null,4,480,4]
[null,null,"",0,null,0,"",false,0,0,0,0,100,90,180,1,4,null,180,1,null,4,480,4]
[null,null,"",0,null,0,"",false,0,0,0,0,100,90,180,1,4,null,180,1,null,4,480,4]
[null,null,"",0,null,0,"",false,0,0,0,0,100,90,180,1,4,null,180,1,null,4,480,4]
[null,null,"",0,null,0,"",false,0,0,0,0,100,90,180,1,4,null,180,1,null,4,480,4]
[null,null,"",0,null,0,"",false,0,0,0,0,100,90,180,1,4,null,180,1,null,4,480,4]
[null,null,"",0,null,0,"",false,0,0,0,0,100,90,180,1,4,null,180,1,null,4,480,4]
[null,null,"",0,null,0,"",false,0,0,0,0,100,90,180,1,4,null,180,1,null,4,480,4]
[null,null,"",0,null,0,"",false,0,0,0,0,100,90,180,1,4,null,180,1,null,4,480,4]
[null,null,"",0,null,0,"",false,0,0,0,0,100,90,180,1,4,null,180,1,null,4,480,4]
[null,null,"",0,null,0,"",false,0,0,0,0,100,90,180,1,4,null,180,1,null,4,480,4]
[null,null,"",0,null,0,"",false,0,0,0,0,100,90,180,1,4,null,180,1,null,4,480,4]
[null,null,"",0,null,0,"",false,0,0,0,0,100,90,180,1,4,null,180,1,null,4,480,4]
[null,null,"",0,null,0,"",false,0,0,0,0,100,90,180,1,4,null,180,1,null,4,480,4]
[null,null,"",0,null,0,"",false,0,0,0,0,100,90,180,1,4,null,180,1,null,4,480,4]
[null,null,"",0,null,0,"",false,0,0,0,0,100,90,180,1,4,null,180,1,null,4,480,4]
[null,null,"",0,null,0,"",false,0,0,0,0,100,90,180,1,4,null,180,1,null,4,480,4]
[null,null,"",0,null,0,"",false,0,0,0,0,100,90,180,1,4,null,180,1,null,4,480,4]
[null,null,"",0,null,0,"",false,0,0,0,0,100,90,180,1,4,null,180,1,null,4,480,4]
[null,null,"",0,null,0,"",false,0,0,0,0,100,90,180,1,4,null,180,1,null,4,480,4]
[null,null,"",0,null,0,"",false,0,0,0,0,100,90,180,1,4,null,180,1,null,4,480,4]
[null,null,"",0,null,0,"",false,0,0,0,0,100,90,180,1,4,null,180,1,null,4,480,4]
[null,null,"",0,null,0,"",false,0,0,0,0,100,90,180,1,4,null,180,1,null,4,480,4]
[null,null,"",0,null,0,"",false,0,0,0,0,100,90,180,1,4,null,180,1,null,4,480,4]
[null,null,"",0,null,0,"",false,0,0,0,0,100,90,180,1,4,null,180,1,null,4,480,4]
[null,null,"",0,null,0,"",false,0,0,0,0,100,90,180,1,4,null,180,1,null,4,480,4]
[null,null,"",0,null,0,"",false,0,0,0,0,100,90,180,1,4,null,180,1,null,4,480,4]
[null,null,"",0,null,0,"",false,0,0,0,0,100,90,180,1,4,null,180,1,null,4,480,4]
[null,null,"",0,null,0,"",false,0,0,0,0,100,90,180,1,4,null,180,1,null,4,480,4]
[null,null,"",0,null,0,"",false,0,0,0,0,100,90,180,1,4,null,180,1,null,4,480,4]
[null,null,"",0,null,0,"",false,0,0,0,0,100,90,180,1,4,null,180,1,null,4,480,4]
[null,null,"",0,null,0,"",false,0,0,0,0,100,90,180,1,4,null,180,1,null,4,480,4]
[null,null,"",0,null,0,"",false,0,0,0,0,100,90,180,1,4,null,180,1,null,4,480,4]
[null,null,"",0,null,0,"",false,0,0,0,0,100,90,180,1,4,null,180,1,null,4,480,4]
[null,null,"",0,null,0,"",false,0,0,0,0,100,90,180,1,4,null,180,1,null,4,480,4]
[null,null,"",0,null,0,"",false,0,0,0,0,100,90,180,1,4,null,180,1,null,4,480,4]
[null,null,"",0,null,0,"",false,0,0,0,0,100,90,180,1,4,null,180,1,null,4,480,4]
[null,null,"",0,null,0,"",false,0,0,0,0,100,90,180,1,4,null,180,1,null,4,480,4]
[null,null,"",0,null,0,"",false,0,0,0,0,100,90,180,1,4,null,180,1,null,4,480,4]
[null,null,"",0,null,0,"",false,0,0,0,0,100,90,180,1,4,null,180,1,null,4,480,4]
[null,null,"",0,null,0,"",false,0,0,0,0,100,90,180,1,4,null,180,1,null,4,480,4]
[null,null,"",0,null,0,"",false,0,0,0,0,100,90,180,1,4,null,180,1,null,4,480,4]
[null,null,"",0,null,0,"",false,0,0,0,0,100,90,180,1,4,null,180,1,null,4,480,4]
[null,null,"",0,null,0,"",false,0,0,0,0,100,90,180,1,4,null,180,1,null,4,480,4]
[null,null,"",0,null,0,"",false,0,0,0,0,100,90,180,1,4,null,180,1,null,4,480,4]
[null,null,"",0,null,0,"",false,0,0,0,0,100,90,180,1,4,null,180,1,null,4,480,4]
[null,null,"",0,null,0,"",false,0,0,0,0,100,90,180,1,4,null,180,1,null,4,480,4]
[null,null,"",0,null,0,"",false,0,0,0,0,100,90,180,1,4,null,180,1,null,4,480,4]
[null,null,"",0,null,0,"",false,0,0,0,0,100,90,180,1,4,null,180,1,null,4,480,4]
[null,null,"",0,null,0,"",false,0,0,0,0,100,90,180,1,4,null,180,1,null,4,480,4]
[null,null,"",0,null,0,"",false,0,0,0,0,100,90,180,1,4,null,180,1,null,4,480,4]
[null,null,{"$f":"IF(I515>0,INDEX(DB,I515,8),\"\")","v":""},0,null,0,"",false,{"$f":"IF(OR(ISBLANK(A515),ISNA(MATCH(A515&\"\",AthleteNumbers,0))),0,MATCH(A515&\"\",AthleteNumbers,0))","v":0},{"$f":"IF(I515>0,INDEX(DB,$I515,6),0)","v":0},0,0,{"$f":"IF(AND(L515>O515,O515>0),MinPoints,IF(AND(L515<N515,O515>0),100,+INT((O515-$L515)/P515)+MinPoints))","v":100},90,180,1,{"$f":"IF(I515>0,INDEX(DB,I515,9),EventIndex)","v":4},null,{"$f":"(INT(INDEX(MINVALUES,$Q515,$K$1))*60)+(MOD(INDEX(MINVALUES,$Q515,$K$1),1)*100)","v":180},{"$f":"(INDEX(INCVALUES,$Q515,$K$1)*100)","v":1},null,{"$f":"+J515+(4*(INDEX(MatchScoreTable,$Q515,20)-1))","v":4},{"$f":"INDEX(INC_MINVALUES,$V515,$K$1)","v":480},{"$f":"INDEX(INC_INCVALUES,$V515,$K$1)","v":4}]
[null,null,"",{"$f":"IF(AND(H516,B516<>0,ISNUMBER(B516)),IF(ISERR(M516),0,M516),0)","v":0},null,{"$f":"COUNTIF(A$3:A$1002,A516)","v":0},{"$f":"IF(AND(H516,OR(D516<=10,D516>=90)),\"CHECK\",\"\")","v":""},{"$f":"IF(AND(I516>0,LEN(C516)>0,B516<>0),TRUE,FALSE)","v":false},0,0,{"$f":"IF(ISNUMBER(B516),ROUND(+B516,2),0)","v":0},{"$f":"(INT(K516)*60)+(MOD(K516,1)*100)","v":0},100,{"$f":"+O516-(P516*90)","v":90},{"$f":"IF($J516=0,$S516,$W516)","v":180},{"$f":"IF($J516=0,$T516,$X516)","v":1},4,null,180,1,null,4,480,4]
[null,null,"",0,null,0,"",false,0,0,0,0,100,90,180,1,4,null,180,1,null,4,480,4]
[null,null,"",0,null,0,"",false,0,0,0,0,100,90,180,1,4,null,180,1,null,4,480,4]
[null,null,"",0,null,0,"",false,0,0,0,0,100,90,180,1,4,null,180,1,null,4,480,4]
[null,null,"",0,null,0,"",false,0,0,0,0,100,90,180,1,4,null,180,1,null,4,480,4]
[null,null,"",0,null,0,"",false,0,0,0,0,100,90,180,1,4,null,180,1,null,4,480,4]
[null,null,"",0,null,0,"",false,0,0,0,0,100,90,180,1,4,null,180,1,null,4,480,4]
[null,null,"",0,null,0,"",false,0,0,0,0,100,90,180,1,4,null,180,1,null,4,480,4]
[null,null,"",0,null,0,"",false,0,0,0,0,100,90,180,1,4,null,180,1,null,4,480,4]
[null,null,"",0,null,0,"",false,0,0,0,0,100,90,180,1,4,null,180,1,null,4,480,4]
[null,null,"",0,null,0,"",false,0,0,0,0,100,90,180,1,4,null,180,1,null,4,480,4]
[null,null,"",0,null,0,"",false,0,0,0,0,100,90,180,1,4,null,180,1,null,4,480,4]
[null,null,"",0,null,0,"",false,0,0,0,0,100,90,180,1,4,null,180,1,null,4,480,4]
[null,null,"",0,null,0,"",false,0,0,0,0,100,90,180,1,4,null,180,1,null,4,480,4]
[null,null,"",0,null,0,"",false,0,0,0,0,100,90,180,1,4,null,180,1,null,4,480,4]
[null,null,"",0,null,0,"",false,0,0,0,0,100,90,180,1,4,null,180,1,null,4,480,4]
[null,null,"",0,null,0,"",false,0,0,0,0,100,90,180,1,4,null,180,1,null,4,480,4]
[null,null,"",0,null,0,"",false,0,0,0,0,100,90,180,1,4,null,180,1,null,4,480,4]
[null,null,"",0,null,0,"",false,0,0,0,0,100,90,180,1,4,null,180,1,null,4,480,4]
[null,null,"",0,null,0,"",false,0,0,0,0,100,90,180,1,4,null,180,1,null,4,480,4]
[null,null,"",0,null,0,"",false,0,0,0,0,100,90,180,1,4,null,180,1,null,4,480,4]
[null,null,"",0,null,0,"",false,0,0,0,0,100,90,180,1,4,null,180,1,null,4,480,4]
[null,null,"",0,null,0,"",false,0,0,0,0,100,90,180,1,4,null,180,1,null,4,480,4]
[null,null,"",0,null,0,"",false,0,0,0,0,100,90,180,1,4,null,180,1,null,4,480,4]
[null,null,"",0,null,0,"",false,0,0,0,0,100,90,180,1,4,null,180,1,null,4,480,4]
[null,null,"",0,null,0,"",false,0,0,0,0,100,90,180,1,4,null,180,1,null,4,480,4]
[null,null,"",0,null,0,"",false,0,0,0,0,100,90,180,1,4,null,180,1,null,4,480,4]
[null,null,"",0,null,0,"",false,0,0,0,0,100,90,180,1,4,null,180,1,null,4,480,4]
[null,null,"",0,null,0,"",false,0,0,0,0,100,90,180,1,4,null,180,1,null,4,480,4]
[null,null,"",0,null,0,"",false,0,0,0,0,100,90,180,1,4,null,180,1,null,4,480,4]
[null,null,"",0,null,0,"",false,0,0,0,0,100,90,180,1,4,null,180,1,null,4,480,4]
[null,null,"",0,null,0,"",false,0,0,0,0,100,90,180,1,4,null,180,1,null,4,480,4]
[null,null,"",0,null,0,"",false,0,0,0,0,100,90,180,1,4,null,180,1,null,4,480,4]
[null,null,"",0,null,0,"",false,0,0,0,0,100,90,180,1,4,null,180,1,null,4,480,4]
[null,null,"",0,null,0,"",false,0,0,0,0,100,90,180,1,4,null,180,1,null,4,480,4]
[null,null,"",0,null,0,"",false,0,0,0,0,100,90,180,1,4,null,180,1,null,4,480,4]
[null,null,"",0,null,0,"",false,0,0,0,0,100,90,180,1,4,null,180,1,null,4,480,4]
[null,null,"",0,null,0,"",false,0,0,0,0,100,90,180,1,4,null,180,1,null,4,480,4]
[null,null,"",0,null,0,"",false,0,0,0,0,100,90,180,1,4,null,180,1,null,4,480,4]
[null,null,"",0,null,0,"",false,0,0,0,0,100,90,180,1,4,null,180,1,null,4,480,4]
[null,null,"",0,null,0,"",false,0,0,0,0,100,90,180,1,4,null,180,1,null,4,480,4]
[null,null,"",0,null,0,"",false,0,0,0,0,100,90,180,1,4,null,180,1,null,4,480,4]
[null,null,"",0,null,0,"",false,0,0,0,0,100,90,180,1,4,null,180,1,null,4,480,4]
[null,null,"",0,null,0,"",false,0,0,0,0,100,90,180,1,4,null,180,1,null,4,480,4]
[null,null,"",0,null,0,"",false,0,0,0,0,100,90,180,1,4,null,180,1,null,4,480,4]
[null,null,"",0,null,0,"",false,0,0,0,0,100,90,180,1,4,null,180,1,null,4,480,4]
[null,null,"",0,null,0,"",false,0,0,0,0,100,90,180,1,4,null,180,1,null,4,480,4]
[null,null,"",0,null,0,"",false,0,0,0,0,100,90,180,1,4,null,180,1,null,4,480,4]
[null,null,"",0,null,0,"",false,0,0,0,0,100,90,180,1,4,null,180,1,null,4,480,4]
[null,null,"",0,null,0,"",false,0,0,0,0,100,90,180,1,4,null,180,1,null,4,480,4]
[null,null,"",0,null,0,"",false,0,0,0,0,100,90,180,1,4,null,180,1,null,4,480,4]
[null,null,"",0,null,0,"",false,0,0,0,0,100,90,180,1,4,null,180,1,null,4,480,4]
[null,null,"",0,null,0,"",false,0,0,0,0,100,90,180,1,4,null,180,1,null,4,480,4]
[null,null,"",0,null,0,"",false,0,0,0,0,100,90,180,1,4,null,180,1,null,4,480,4]
[null,null,"",0,null,0,"",false,0,0,0,0,100,90,180,1,4,null,180,1,null,4,480,4]
[null,null,"",0,null,0,"",false,0,0,0,0,100,90,180,1,4,null,180,1,null,4,480,4]
[null,null,"",0,null,0,"",false,0,0,0,0,100,90,180,1,4,null,180,1,null,4,480,4]
[null,null,"",0,null,0,"",false,0,0,0,0,100,90,180,1,4,null,180,1,null,4,480,4]
[null,null,"",0,null,0,"",false,0,0,0,0,100,90,180,1,4,null,180,1,null,4,480,4]
[null,null,"",0,null,0,"",false,0,0,0,0,100,90,180,1,4,null,180,1,null,4,480,4]
[null,null,"",0,null,0,"",false,0,0,0,0,100,90,180,1,4,null,180,1,null,4,480,4]
[null,null,"",0,null,0,"",false,0,0,0,0,100,90,180,1,4,null,180,1,null,4,480,4]
[null,null,"",0,null,0,"",false,0,0,0,0,100,90,180,1,4,null,180,1,null,4,480,4]
[null,null,{"$f":"IF(I579>0,INDEX(DB,I579,8),\"\")","v":""},0,null,0,"",false,{"$f":"IF(OR(ISBLANK(A579),ISNA(MATCH(A579&\"\",AthleteNumbers,0))),0,MATCH(A579&\"\",AthleteNumbers,0))","v":0},{"$f":"IF(I579>0,INDEX(DB,$I579,6),0)","v":0},0,0,{"$f":"IF(AND(L579>O579,O579>0),MinPoints,IF(AND(L579<N579,O579>0),100,+INT((O579-$L579)/P579)+MinPoints))","v":100},90,180,1,{"$f":"IF(I579>0,INDEX(DB,I579,9),EventIndex)","v":4},null,{"$f":"(INT(INDEX(MINVALUES,$Q579,$K$1))*60)+(MOD(INDEX(MINVALUES,$Q579,$K$1),1)*100)","v":180},{"$f":"(INDEX(INCVALUES,$Q579,$K$1)*100)","v":1},null,{"$f":"+J579+(4*(INDEX(MatchScoreTable,$Q579,20)-1))","v":4},{"$f":"INDEX(INC_MINVALUES,$V579,$K$1)","v":480},{"$f":"INDEX(INC_INCVALUES,$V579,$K$1)","v":4}]
[null,null,"",{"$f":"IF(AND(H580,B580<>0,ISNUMBER(B580)),IF(ISERR(M580),0,M580),0)","v":0},null,{"$f":"COUNTIF(A$3:A$1002,A580)","v":0},{"$f":"IF(AND(H580,OR(D580<=10,D580>=90)),\"CHECK\",\"\")","v":""},{"$f":"IF(AND(I580>0,LEN(C580)>0,B580<>0),TRUE,FALSE)","v":false},0,0,{"$f":"IF(ISNUMBER(B580),ROUND(+B580,2),0)","v":0},{"$f":"(INT(K580)*60)+(MOD(K580,1)*100)","v":0},100,{"$f":"+O580-(P580*90)","v":90},{"$f":"IF($J580=0,$S580,$W580)","v":180},{"$f":"IF($J580=0,$T580,$X580)","v":1},4,null,180,1,null,4,480,4]
[null,null,"",0,null,0,"",false,0,0,0,0,100,90,180,1,4,null,180,1,null,4,480,4]
[null,null,"",0,null,0,"",false,0,0,0,0,100,90,180,1,4,null,180,1,null,4,480,4]
[null,null,"",0,null,0,"",false,0,0,0,0,100,90,180,1,4,null,180,1,null,4,480,4]
[null,null,"",0,null,0,"",false,0,0,0,0,100,90,180,1,4,null,180,1,null,4,480,4]
[null,null,"",0,null,0,"",false,0,0,0,0,100,90,180,1,4,null,180,1,null,4,480,4]
[null,null,"",0,null,0,"",false,0,0,0,0,100,90,180,1,4,null,180,1,null,4,480,4]
[null,null,"",0,null,0,"",false,0,0,0,0,100,90,180,1,4,null,180,1,null,4,480,4]
[null,null,"",0,null,0,"",false,0,0,0,0,100,90,180,1,4,null,180,1,null,4,480,4]
[null,null,"",0,null,0,"",false,0,0,0,0,100,90,180,1,4,null,180,1,null,4,480,4]
[null,null,"",0,null,0,"",false,0,0,0,0,100,90,180,1,4,null,180,1,null,4,480,4]
[null,null,"",0,null,0,"",false,0,0,0,0,100,90,180,1,4,null,180,1,null,4,480,4]
[null,null,"",0,null,0,"",false,0,0,0,0,100,90,180,1,4,null,180,1,null,4,480,4]
[null,null,"",0,null,0,"",false,0,0,0,0,100,90,180,1,4,null,180,1,null,4,480,4]
[null,null,"",0,null,0,"",false,0,0,0,0,100,90,180,1,4,null,180,1,null,4,480,4]
[null,null,"",0,null,0,"",false,0,0,0,0,100,90,180,1,4,null,180,1,null,4,480,4]
[null,null,"",0,null,0,"",false,0,0,0,0,100,90,180,1,4,null,180,1,null,4,480,4]
[null,null,"",0,null,0,"",false,0,0,0,0,100,90,180,1,4,null,180,1,null,4,480,4]
[null,null,"",0,null,0,"",false,0,0,0,0,100,90,180,1,4,null,180,1,null,4,480,4]
[null,null,"",0,null,0,"",false,0,0,0,0,100,90,180,1,4,null,180,1,null,4,480,4]
[null,null,"",0,null,0,"",false,0,0,0,0,100,90,180,1,4,null,180,1,null,4,480,4]
[null,null,"",0,null,0,"",false,0,0,0,0,100,90,180,1,4,null,180,1,null,4,480,4]
[null,null,"",0,null,0,"",false,0,0,0,0,100,90,180,1,4,null,180,1,null,4,480,4]
[null,null,"",0,null,0,"",false,0,0,0,0,100,90,180,1,4,null,180,1,null,4,480,4]
[null,null,"",0,null,0,"",false,0,0,0,0,100,90,180,1,4,null,180,1,null,4,480,4]
[null,null,"",0,null,0,"",false,0,0,0,0,100,90,180,1,4,null,180,1,null,4,480,4]
[null,null,"",0,null,0,"",false,0,0,0,0,100,90,180,1,4,null,180,1,null,4,480,4]
[null,null,"",0,null,0,"",false,0,0,0,0,100,90,180,1,4,null,180,1,null,4,480,4]
[null,null,"",0,null,0,"",false,0,0,0,0,100,90,180,1,4,null,180,1,null,4,480,4]
[null,null,"",0,null,0,"",false,0,0,0,0,100,90,180,1,4,null,180,1,null,4,480,4]
[null,null,"",0,null,0,"",false,0,0,0,0,100,90,180,1,4,null,180,1,null,4,480,4]
[null,null,"",0,null,0,"",false,0,0,0,0,100,90,180,1,4,null,180,1,null,4,480,4]
[null,null,"",0,null,0,"",false,0,0,0,0,100,90,180,1,4,null,180,1,null,4,480,4]
[null,null,"",0,null,0,"",false,0,0,0,0,100,90,180,1,4,null,180,1,null,4,480,4]
[null,null,"",0,null,0,"",false,0,0,0,0,100,90,180,1,4,null,180,1,null,4,480,4]
[null,null,"",0,null,0,"",false,0,0,0,0,100,90,180,1,4,null,180,1,null,4,480,4]
[null,null,"",0,null,0,"",false,0,0,0,0,100,90,180,1,4,null,180,1,null,4,480,4]
[null,null,"",0,null,0,"",false,0,0,0,0,100,90,180,1,4,null,180,1,null,4,480,4]
[null,null,"",0,null,0,"",false,0,0,0,0,100,90,180,1,4,null,180,1,null,4,480,4]
[null,null,"",0,null,0,"",false,0,0,0,0,100,90,180,1,4,null,180,1,null,4,480,4]
[null,null,"",0,null,0,"",false,0,0,0,0,100,90,180,1,4,null,180,1,null,4,480,4]
[null,null,"",0,null,0,"",false,0,0,0,0,100,90,180,1,4,null,180,1,null,4,480,4]
[null,null,"",0,null,0,"",false,0,0,0,0,100,90,180,1,4,null,180,1,null,4,480,4]
[null,null,"",0,null,0,"",false,0,0,0,0,100,90,180,1,4,null,180,1,null,4,480,4]
[null,null,"",0,null,0,"",false,0,0,0,0,100,90,180,1,4,null,180,1,null,4,480,4]
[null,null,"",0,null,0,"",false,0,0,0,0,100,90,180,1,4,null,180,1,null,4,480,4]
[null,null,"",0,null,0,"",false,0,0,0,0,100,90,180,1,4,null,180,1,null,4,480,4]
[null,null,"",0,null,0,"",false,0,0,0,0,100,90,180,1,4,null,180,1,null,4,480,4]
[null,null,"",0,null,0,"",false,0,0,0,0,100,90,180,1,4,null,180,1,null,4,480,4]
[null,null,"",0,null,0,"",false,0,0,0,0,100,90,180,1,4,null,180,1,null,4,480,4]
[null,null,"",0,null,0,"",false,0,0,0,0,100,90,180,1,4,null,180,1,null,4,480,4]
[null,null,"",0,null,0,"",false,0,0,0,0,100,90,180,1,4,null,180,1,null,4,480,4]
[null,null,"",0,null,0,"",false,0,0,0,0,100,90,180,1,4,null,180,1,null,4,480,4]
[null,null,"",0,null,0,"",false,0,0,0,0,100,90,180,1,4,null,180,1,null,4,480,4]
[null,null,"",0,null,0,"",false,0,0,0,0,100,90,180,1,4,null,180,1,null,4,480,4]
[null,null,"",0,null,0,"",false,0,0,0,0,100,90,180,1,4,null,180,1,null,4,480,4]
[null,null,"",0,null,0,"",false,0,0,0,0,100,90,180,1,4,null,180,1,null,4,480,4]
[null,null,"",0,null,0,"",false,0,0,0,0,100,90,180,1,4,null,180,1,null,4,480,4]
[null,null,"",0,null,0,"",false,0,0,0,0,100,90,180,1,4,null,180,1,null,4,480,4]
[null,null,"",0,null,0,"",false,0,0,0,0,100,90,180,1,4,null,180,1,null,4,480,4]
[null,null,"",0,null,0,"",false,0,0,0,0,100,90,180,1,4,null,180,1,null,4,480,4]
[null,null,"",0,null,0,"",false,0,0,0,0,100,90,180,1,4,null,180,1,null,4,480,4]
[null,null,"",0,null,0,"",false,0,0,0,0,100,90,180,1,4,null,180,1,null,4,480,4]
[null,null,{"$f":"IF(I643>0,INDEX(DB,I643,8),\"\")","v":""},0,null,0,"",false,{"$f":"IF(OR(ISBLANK(A643),ISNA(MATCH(A643&\"\",AthleteNumbers,0))),0,MATCH(A643&\"\",AthleteNumbers,0))","v":0},{"$f":"IF(I643>0,INDEX(DB,$I643,6),0)","v":0},0,0,{"$f":"IF(AND(L643>O643,O643>0),MinPoints,IF(AND(L643<N643,O643>0),100,+INT((O643-$L643)/P643)+MinPoints))","v":100},90,180,1,{"$f":"IF(I643>0,INDEX(DB,I643,9),EventIndex)","v":4},null,{"$f":"(INT(INDEX(MINVALUES,$Q643,$K$1))*60)+(MOD(INDEX(MINVALUES,$Q643,$K$1),1)*100)","v":180},{"$f":"(INDEX(INCVALUES,$Q643,$K$1)*100)","v":1},null,{"$f":"+J643+(4*(INDEX(MatchScoreTable,$Q643,20)-1))","v":4},{"$f":"INDEX(INC_MINVALUES,$V643,$K$1)","v":480},{"$f":"INDEX(INC_INCVALUES,$V643,$K$1)","v":4}]
[null,null,"",{"$f":"IF(AND(H644,B644<>0,ISNUMBER(B644)),IF(ISERR(M644),0,M644),0)","v":0},null,{"$f":"COUNTIF(A$3:A$1002,A644)","v":0},{"$f":"IF(AND(H644,OR(D644<=10,D644>=90)),\"CHECK\",\"\")","v":""},{"$f":"IF(AND(I644>0,LEN(C644)>0,B644<>0),TRUE,FALSE)","v":false},0,0,{"$f":"IF(ISNUMBER(B644),ROUND(+B644,2),0)","v":0},{"$f":"(INT(K644)*60)+(MOD(K644,1)*100)","v":0},100,{"$f":"+O644-(P644*90)","v":90},{"$f":"IF($J644=0,$S644,$W644)","v":180},{"$f":"IF($J644=0,$T644,$X644)","v":1},4,null,180,1,null,4,480,4]
[null,null,"",0,null,0,"",false,0,0,0,0,100,90,180,1,4,null,180,1,null,4,480,4]
[null,null,"",0,null,0,"",false,0,0,0,0,100,90,180,1,4,null,180,1,null,4,480,4]
[null,null,"",0,null,0,"",false,0,0,0,0,100,90,180,1,4,null,180,1,null,4,480,4]
[null,null,"",0,null,0,"",false,0,0,0,0,100,90,180,1,4,null,180,1,null,4,480,4]
[null,null,"",0,null,0,"",false,0,0,0,0,100,90,180,1,4,null,180,1,null,4,480,4]
[null,null,"",0,null,0,"",false,0,0,0,0,100,90,180,1,4,null,180,1,null,4,480,4]
[null,null,"",0,null,0,"",false,0,0,0,0,100,90,180,1,4,null,180,1,null,4,480,4]
[null,null,"",0,null,0,"",false,0,0,0,0,100,90,180,1,4,null,180,1,null,4,480,4]
[null,null,"",0,null,0,"",false,0,0,0,0,100,90,180,1,4,null,180,1,null,4,480,4]
[null,null,"",0,null,0,"",false,0,0,0,0,100,90,180,1,4,null,180,1,null,4,480,4]
[null,null,"",0,null,0,"",false,0,0,0,0,100,90,180,1,4,null,180,1,null,4,480,4]
[null,null,"",0,null,0,"",false,0,0,0,0,100,90,180,1,4,null,180,1,null,4,480,4]
[null,null,"",0,null,0,"",false,0,0,0,0,100,90,180,1,4,null,180,1,null,4,480,4]
[null,null,"",0,null,0,"",false,0,0,0,0,100,90,180,1,4,null,180,1,null,4,480,4]
[null,null,"",0,null,0,"",false,0,0,0,0,100,90,180,1,4,null,180,1,null,4,480,4]
[null,null,"",0,null,0,"",false,0,0,0,0,100,90,180,1,4,null,180,1,null,4,480,4]
[null,null,"",0,null,0,"",false,0,0,0,0,100,90,180,1,4,null,180,1,null,4,480,4]
[null,null,"",0,null,0,"",false,0,0,0,0,100,90,180,1,4,null,180,1,null,4,480,4]
[null,null,"",0,null,0,"",false,0,0,0,0,100,90,180,1,4,null,180,1,null,4,480,4]
[null,null,"",0,null,0,"",false,0,0,0,0,100,90,180,1,4,null,180,1,null,4,480,4]
[null,null,"",0,null,0,"",false,0,0,0,0,100,90,180,1,4,null,180,1,null,4,480,4]
[null,null,"",0,null,0,"",false,0,0,0,0,100,90,180,1,4,null,180,1,null,4,480,4]
[null,null,"",0,null,0,"",false,0,0,0,0,100,90,180,1,4,null,180,1,null,4,480,4]
[null,null,"",0,null,0,"",false,0,0,0,0,100,90,180,1,4,null,180,1,null,4,480,4]
[null,null,"",0,null,0,"",false,0,0,0,0,100,90,180,1,4,null,180,1,null,4,480,4]
[null,null,"",0,null,0,"",false,0,0,0,0,100,90,180,1,4,null,180,1,null,4,480,4]
[null,null,"",0,null,0,"",false,0,0,0,0,100,90,180,1,4,null,180,1,null,4,480,4]
[null,null,"",0,null,0,"",false,0,0,0,0,100,90,180,1,4,null,180,1,null,4,480,4]
[null,null,"",0,null,0,"",false,0,0,0,0,100,90,180,1,4,null,180,1,null,4,480,4]
[null,null,"",0,null,0,"",false,0,0,0,0,100,90,180,1,4,null,180,1,null,4,480,4]
[null,null,"",0,null,0,"",false,0,0,0,0,100,90,180,1,4,null,180,1,null,4,480,4]
[null,null,"",0,null,0,"",false,0,0,0,0,100,90,180,1,4,null,180,1,null,4,480,4]
[null,null,"",0,null,0,"",false,0,0,0,0,100,90,180,1,4,null,180,1,null,4,480,4]
[null,null,"",0,null,0,"",false,0,0,0,0,100,90,180,1,4,null,180,1,null,4,480,4]
[null,null,"",0,null,0,"",false,0,0,0,0,100,90,180,1,4,null,180,1,null,4,480,4]
[null,null,"",0,null,0,"",false,0,0,0,0,100,90,180,1,4,null,180,1,null,4,480,4]
[null,null,"",0,null,0,"",false,0,0,0,0,100,90,180,1,4,null,180,1,null,4,480,4]
[null,null,"",0,null,0,"",false,0,0,0,0,100,90,180,1,4,null,180,1,null,4,480,4]
[null,null,"",0,null,0,"",false,0,0,0,0,100,90,180,1,4,null,180,1,null,4,480,4]
[null,null,"",0,null,0,"",false,0,0,0,0,100,90,180,1,4,null,180,1,null,4,480,4]
[null,null,"",0,null,0,"",false,0,0,0,0,100,90,180,1,4,null,180,1,null,4,480,4]
[null,null,"",0,null,0,"",false,0,0,0,0,100,90,180,1,4,null,180,1,null,4,480,4]
[null,null,"",0,null,0,"",false,0,0,0,0,100,90,180,1,4,null,180,1,null,4,480,4]
[null,null,"",0,null,0,"",false,0,0,0,0,100,90,180,1,4,null,180,1,null,4,480,4]
[null,null,"",0,null,0,"",false,0,0,0,0,100,90,180,1,4,null,180,1,null,4,480,4]
[null,null,"",0,null,0,"",false,0,0,0,0,100,90,180,1,4,null,180,1,null,4,480,4]
[null,null,"",0,null,0,"",false,0,0,0,0,100,90,180,1,4,null,180,1,null,4,480,4]
[null,null,"",0,null,0,"",false,0,0,0,0,100,90,180,1,4,null,180,1,null,4,480,4]
[null,null,"",0,null,0,"",false,0,0,0,0,100,90,180,1,4,null,180,1,null,4,480,4]
[null,null,"",0,null,0,"",false,0,0,0,0,100,90,180,1,4,null,180,1,null,4,480,4]
[null,null,"",0,null,0,"",false,0,0,0,0,100,90,180,1,4,null,180,1,null,4,480,4]
[null,null,"",0,null,0,"",false,0,0,0,0,100,90,180,1,4,null,180,1,null,4,480,4]
[null,null,"",0,null,0,"",false,0,0,0,0,100,90,180,1,4,null,180,1,null,4,480,4]
[null,null,"",0,null,0,"",false,0,0,0,0,100,90,180,1,4,null,180,1,null,4,480,4]
[null,null,"",0,null,0,"",false,0,0,0,0,100,90,180,1,4,null,180,1,null,4,480,4]
[null,null,"",0,null,0,"",false,0,0,0,0,100,90,180,1,4,null,180,1,null,4,480,4]
[null,null,"",0,null,0,"",false,0,0,0,0,100,90,180,1,4,null,180,1,null,4,480,4]
[null,null,"",0,null,0,"",false,0,0,0,0,100,90,180,1,4,null,180,1,null,4,480,4]
[null,null,"",0,null,0,"",false,0,0,0,0,100,90,180,1,4,null,180,1,null,4,480,4]
[null,null,"",0,null,0,"",false,0,0,0,0,100,90,180,1,4,null,180,1,null,4,480,4]
[null,null,"",0,null,0,"",false,0,0,0,0,100,90,180,1,4,null,180,1,null,4,480,4]
[null,null,"",0,null,0,"",false,0,0,0,0,100,90,180,1,4,null,180,1,null,4,480,4]
[null,null,{"$f":"IF(I707>0,INDEX(DB,I707,8),\"\")","v":""},0,null,0,"",false,{"$f":"IF(OR(ISBLANK(A707),ISNA(MATCH(A707&\"\",AthleteNumbers,0))),0,MATCH(A707&\"\",AthleteNumbers,0))","v":0},{"$f":"IF(I707>0,INDEX(DB,$I707,6),0)","v":0},0,0,{"$f":"IF(AND(L707>O707,O707>0),MinPoints,IF(AND(L707<N707,O707>0),100,+INT((O707-$L707)/P707)+MinPoints))","v":100},90,180,1,{"$f":"IF(I707>0,INDEX(DB,I707,9),EventIndex)","v":4},null,{"$f":"(INT(INDEX(MINVALUES,$Q707,$K$1))*60)+(MOD(INDEX(MINVALUES,$Q707,$K$1),1)*100)","v":180},{"$f":"(INDEX(INCVALUES,$Q707,$K$1)*100)","v":1},null,{"$f":"+J707+(4*(INDEX(MatchScoreTable,$Q707,20)-1))","v":4},{"$f":"INDEX(INC_MINVALUES,$V707,$K$1)","v":480},{"$f":"INDEX(INC_INCVALUES,$V707,$K$1)","v":4}]
[null,null,"",{"$f":"IF(AND(H708,B708<>0,ISNUMBER(B708)),IF(ISERR(M708),0,M708),0)","v":0},null,{"$f":"COUNTIF(A$3:A$1002,A708)","v":0},{"$f":"IF(AND(H708,OR(D708<=10,D708>=90)),\"CHECK\",\"\")","v":""},{"$f":"IF(AND(I708>0,LEN(C708)>0,B708<>0),TRUE,FALSE)","v":false},0,0,{"$f":"IF(ISNUMBER(B708),ROUND(+B708,2),0)","v":0},{"$f":"(INT(K708)*60)+(MOD(K708,1)*100)","v":0},100,{"$f":"+O708-(P708*90)","v":90},{"$f":"IF($J708=0,$S708,$W708)","v":180},{"$f":"IF($J708=0,$T708,$X708)","v":1},4,null,180,1,null,4,480,4]
[null,null,"",0,null,0,"",false,0,0,0,0,100,90,180,1,4,null,180,1,null,4,480,4]
[null,null,"",0,null,0,"",false,0,0,0,0,100,90,180,1,4,null,180,1,null,4,480,4]
[null,null,"",0,null,0,"",false,0,0,0,0,100,90,180,1,4,null,180,1,null,4,480,4]
[null,null,"",0,null,0,"",false,0,0,0,0,100,90,180,1,4,null,180,1,null,4,480,4]
[null,null,"",0,null,0,"",false,0,0,0,0,100,90,180,1,4,null,180,1,null,4,480,4]
[null,null,"",0,null,0,"",false,0,0,0,0,100,90,180,1,4,null,180,1,null,4,480,4]
[null,null,"",0,null,0,"",false,0,0,0,0,100,90,180,1,4,null,180,1,null,4,480,4]
[null,null,"",0,null,0,"",false,0,0,0,0,100,90,180,1,4,null,180,1,null,4,480,4]
[null,null,"",0,null,0,"",false,0,0,0,0,100,90,180,1,4,null,180,1,null,4,480,4]
[null,null,"",0,null,0,"",false,0,0,0,0,100,90,180,1,4,null,180,1,null,4,480,4]
[null,null,"",0,null,0,"",false,0,0,0,0,100,90,180,1,4,null,180,1,null,4,480,4]
[null,null,"",0,null,0,"",false,0,0,0,0,100,90,180,1,4,null,180,1,null,4,480,4]
[null,null,"",0,null,0,"",false,0,0,0,0,100,90,180,1,4,null,180,1,null,4,480,4]
[null,null,"",0,null,0,"",false,0,0,0,0,100,90,180,1,4,null,180,1,null,4,480,4]
[null,null,"",0,null,0,"",false,0,0,0,0,100,90,180,1,4,null,180,1,null,4,480,4]
[null,null,"",0,null,0,"",false,0,0,0,0,100,90,180,1,4,null,180,1,null,4,480,4]
[null,null,"",0,null,0,"",false,0,0,0,0,100,90,180,1,4,null,180,1,null,4,480,4]
[null,null,"",0,null,0,"",false,0,0,0,0,100,90,180,1,4,null,180,1,null,4,480,4]
[null,null,"",0,null,0,"",false,0,0,0,0,100,90,180,1,4,null,180,1,null,4,480,4]
[null,null,"",0,null,0,"",false,0,0,0,0,100,90,180,1,4,null,180,1,null,4,480,4]
[null,null,"",0,null,0,"",false,0,0,0,0,100,90,180,1,4,null,180,1,null,4,480,4]
[null,null,"",0,null,0,"",false,0,0,0,0,100,90,180,1,4,null,180,1,null,4,480,4]
[null,null,"",0,null,0,"",false,0,0,0,0,100,90,180,1,4,null,180,1,null,4,480,4]
[null,null,"",0,null,0,"",false,0,0,0,0,100,90,180,1,4,null,180,1,null,4,480,4]
[null,null,"",0,null,0,"",false,0,0,0,0,100,90,180,1,4,null,180,1,null,4,480,4]
[null,null,"",0,null,0,"",false,0,0,0,0,100,90,180,1,4,null,180,1,null,4,480,4]
[null,null,"",0,null,0,"",false,0,0,0,0,100,90,180,1,4,null,180,1,null,4,480,4]
[null,null,"",0,null,0,"",false,0,0,0,0,100,90,180,1,4,null,180,1,null,4,480,4]
[null,null,"",0,null,0,"",false,0,0,0,0,100,90,180,1,4,null,180,1,null,4,480,4]
[null,null,"",0,null,0,"",false,0,0,0,0,100,90,180,1,4,null,180,1,null,4,480,4]
[null,null,"",0,null,0,"",false,0,0,0,0,100,90,180,1,4,null,180,1,null,4,480,4]
[null,null,"",0,null,0,"",false,0,0,0,0,100,90,180,1,4,null,180,1,null,4,480,4]
[null,null,"",0,null,0,"",false,0,0,0,0,100,90,180,1,4,null,180,1,null,4,480,4]
[null,null,"",0,null,0,"",false,0,0,0,0,100,90,180,1,4,null,180,1,null,4,480,4]
[null,null,"",0,null,0,"",false,0,0,0,0,100,90,180,1,4,null,180,1,null,4,480,4]
[null,null,"",0,null,0,"",false,0,0,0,0,100,90,180,1,4,null,180,1,null,4,480,4]
[null,null,"",0,null,0,"",false,0,0,0,0,100,90,180,1,4,null,180,1,null,4,480,4]
[null,null,"",0,null,0,"",false,0,0,0,0,100,90,180,1,4,null,180,1,null,4,480,4]
[null,null,"",0,null,0,"",false,0,0,0,0,100,90,180,1,4,null,180,1,null,4,480,4]
[null,null,"",0,null,0,"",false,0,0,0,0,100,90,180,1,4,null,180,1,null,4,480,4]
[null,null,"",0,null,0,"",false,0,0,0,0,100,90,180,1,4,null,180,1,null,4,480,4]
[null,null,"",0,null,0,"",false,0,0,0,0,100,90,180,1,4,null,180,1,null,4,480,4]
[null,null,"",0,null,0,"",false,0,0,0,0,100,90,180,1,4,null,180,1,null,4,480,4]
[null,null,"",0,null,0,"",false,0,0,0,0,100,90,180,1,4,null,180,1,null,4,480,4]
[null,null,"",0,null,0,"",false,0,0,0,0,100,90,180,1,4,null,180,1,null,4,480,4]
[null,null,"",0,null,0,"",false,0,0,0,0,100,90,180,1,4,null,180,1,null,4,480,4]
[null,null,"",0,null,0,"",false,0,0,0,0,100,90,180,1,4,null,180,1,null,4,480,4]
[null,null,"",0,null,0,"",false,0,0,0,0,100,90,180,1,4,null,180,1,null,4,480,4]
[null,null,"",0,null,0,"",false,0,0,0,0,100,90,180,1,4,null,180,1,null,4,480,4]
[null,null,"",0,null,0,"",false,0,0,0,0,100,90,180,1,4,null,180,1,null,4,480,4]
[null,null,"",0,null,0,"",false,0,0,0,0,100,90,180,1,4,null,180,1,null,4,480,4]
[null,null,"",0,null,0,"",false,0,0,0,0,100,90,180,1,4,null,180,1,null,4,480,4]
[null,null,"",0,null,0,"",false,0,0,0,0,100,90,180,1,4,null,180,1,null,4,480,4]
[null,null,"",0,null,0,"",false,0,0,0,0,100,90,180,1,4,null,180,1,null,4,480,4]
[null,null,"",0,null,0,"",false,0,0,0,0,100,90,180,1,4,null,180,1,null,4,480,4]
[null,null,"",0,null,0,"",false,0,0,0,0,100,90,180,1,4,null,180,1,null,4,480,4]
[null,null,"",0,null,0,"",false,0,0,0,0,100,90,180,1,4,null,180,1,null,4,480,4]
[null,null,"",0,null,0,"",false,0,0,0,0,100,90,180,1,4,null,180,1,null,4,480,4]
[null,null,"",0,null,0,"",false,0,0,0,0,100,90,180,1,4,null,180,1,null,4,480,4]
[null,null,"",0,null,0,"",false,0,0,0,0,100,90,180,1,4,null,180,1,null,4,480,4]
[null,null,"",0,null,0,"",false,0,0,0,0,100,90,180,1,4,null,180,1,null,4,480,4]
[null,null,"",0,null,0,"",false,0,0,0,0,100,90,180,1,4,null,180,1,null,4,480,4]
[null,null,{"$f":"IF(I771>0,INDEX(DB,I771,8),\"\")","v":""},0,null,0,"",false,{"$f":"IF(OR(ISBLANK(A771),ISNA(MATCH(A771&\"\",AthleteNumbers,0))),0,MATCH(A771&\"\",AthleteNumbers,0))","v":0},{"$f":"IF(I771>0,INDEX(DB,$I771,6),0)","v":0},0,0,{"$f":"IF(AND(L771>O771,O771>0),MinPoints,IF(AND(L771<N771,O771>0),100,+INT((O771-$L771)/P771)+MinPoints))","v":100},90,180,1,{"$f":"IF(I771>0,INDEX(DB,I771,9),EventIndex)","v":4},null,{"$f":"(INT(INDEX(MINVALUES,$Q771,$K$1))*60)+(MOD(INDEX(MINVALUES,$Q771,$K$1),1)*100)","v":180},{"$f":"(INDEX(INCVALUES,$Q771,$K$1)*100)","v":1},null,{"$f":"+J771+(4*(INDEX(MatchScoreTable,$Q771,20)-1))","v":4},{"$f":"INDEX(INC_MINVALUES,$V771,$K$1)","v":480},{"$f":"INDEX(INC_INCVALUES,$V771,$K$1)","v":4}]
[null,null,"",{"$f":"IF(AND(H772,B772<>0,ISNUMBER(B772)),IF(ISERR(M772),0,M772),0)","v":0},null,{"$f":"COUNTIF(A$3:A$1002,A772)","v":0},{"$f":"IF(AND(H772,OR(D772<=10,D772>=90)),\"CHECK\",\"\")","v":""},{"$f":"IF(AND(I772>0,LEN(C772)>0,B772<>0),TRUE,FALSE)","v":false},0,0,{"$f":"IF(ISNUMBER(B772),ROUND(+B772,2),0)","v":0},{"$f":"(INT(K772)*60)+(MOD(K772,1)*100)","v":0},100,{"$f":"+O772-(P772*90)","v":90},{"$f":"IF($J772=0,$S772,$W772)","v":180},{"$f":"IF($J772=0,$T772,$X772)","v":1},4,null,180,1,null,4,480,4]
[null,null,"",0,null,0,"",false,0,0,0,0,100,90,180,1,4,null,180,1,null,4,480,4]
[null,null,"",0,null,0,"",false,0,0,0,0,100,90,180,1,4,null,180,1,null,4,480,4]
[null,null,"",0,null,0,"",false,0,0,0,0,100,90,180,1,4,null,180,1,null,4,480,4]
[null,null,"",0,null,0,"",false,0,0,0,0,100,90,180,1,4,null,180,1,null,4,480,4]
[null,null,"",0,null,0,"",false,0,0,0,0,100,90,180,1,4,null,180,1,null,4,480,4]
[null,null,"",0,null,0,"",false,0,0,0,0,100,90,180,1,4,null,180,1,null,4,480,4]
[null,null,"",0,null,0,"",false,0,0,0,0,100,90,180,1,4,null,180,1,null,4,480,4]
[null,null,"",0,null,0,"",false,0,0,0,0,100,90,180,1,4,null,180,1,null,4,480,4]
[null,null,"",0,null,0,"",false,0,0,0,0,100,90,180,1,4,null,180,1,null,4,480,4]
[null,null,"",0,null,0,"",false,0,0,0,0,100,90,180,1,4,null,180,1,null,4,480,4]
[null,null,"",0,null,0,"",false,0,0,0,0,100,90,180,1,4,null,180,1,null,4,480,4]
[null,null,"",0,null,0,"",false,0,0,0,0,100,90,180,1,4,null,180,1,null,4,480,4]
[null,null,"",0,null,0,"",false,0,0,0,0,100,90,180,1,4,null,180,1,null,4,480,4]
[null,null,"",0,null,0,"",false,0,0,0,0,100,90,180,1,4,null,180,1,null,4,480,4]
[null,null,"",0,null,0,"",false,0,0,0,0,100,90,180,1,4,null,180,1,null,4,480,4]
[null,null,"",0,null,0,"",false,0,0,0,0,100,90,180,1,4,null,180,1,null,4,480,4]
[null,null,"",0,null,0,"",false,0,0,0,0,100,90,180,1,4,null,180,1,null,4,480,4]
[null,null,"",0,null,0,"",false,0,0,0,0,100,90,180,1,4,null,180,1,null,4,480,4]
[null,null,"",0,null,0,"",false,0,0,0,0,100,90,180,1,4,null,180,1,null,4,480,4]
[null,null,"",0,null,0,"",false,0,0,0,0,100,90,180,1,4,null,180,1,null,4,480,4]
[null,null,"",0,null,0,"",false,0,0,0,0,100,90,180,1,4,null,180,1,null,4,480,4]
[null,null,"",0,null,0,"",false,0,0,0,0,100,90,180,1,4,null,180,1,null,4,480,4]
[null,null,"",0,null,0,"",false,0,0,0,0,100,90,180,1,4,null,180,1,null,4,480,4]
[null,null,"",0,null,0,"",false,0,0,0,0,100,90,180,1,4,null,180,1,null,4,480,4]
[null,null,"",0,null,0,"",false,0,0,0,0,100,90,180,1,4,null,180,1,null,4,480,4]
[null,null,"",0,null,0,"",false,0,0,0,0,100,90,180,1,4,null,180,1,null,4,480,4]
[null,null,"",0,null,0,"",false,0,0,0,0,100,90,180,1,4,null,180,1,null,4,480,4]
[null,null,"",0,null,0,"",false,0,0,0,0,100,90,180,1,4,null,180,1,null,4,480,4]
[null,null,"",0,null,0,"",false,0,0,0,0,100,90,180,1,4,null,180,1,null,4,480,4]
[null,null,"",0,null,0,"",false,0,0,0,0,100,90,180,1,4,null,180,1,null,4,480,4]
[null,null,"",0,null,0,"",false,0,0,0,0,100,90,180,1,4,null,180,1,null,4,480,4]
[null,null,"",0,null,0,"",false,0,0,0,0,100,90,180,1,4,null,180,1,null,4,480,4]
[null,null,"",0,null,0,"",false,0,0,0,0,100,90,180,1,4,null,180,1,null,4,480,4]
[null,null,"",0,null,0,"",false,0,0,0,0,100,90,180,1,4,null,180,1,null,4,480,4]
[null,null,"",0,null,0,"",false,0,0,0,0,100,90,180,1,4,null,180,1,null,4,480,4]
[null,null,"",0,null,0,"",false,0,0,0,0,100,90,180,1,4,null,180,1,null,4,480,4]
[null,null,"",0,null,0,"",false,0,0,0,0,100,90,180,1,4,null,180,1,null,4,480,4]
[null,null,"",0,null,0,"",false,0,0,0,0,100,90,180,1,4,null,180,1,null,4,480,4]
[null,null,"",0,null,0,"",false,0,0,0,0,100,90,180,1,4,null,180,1,null,4,480,4]
[null,null,"",0,null,0,"",false,0,0,0,0,100,90,180,1,4,null,180,1,null,4,480,4]
[null,null,"",0,null,0,"",false,0,0,0,0,100,90,180,1,4,null,180,1,null,4,480,4]
[null,null,"",0,null,0,"",false,0,0,0,0,100,90,180,1,4,null,180,1,null,4,480,4]
[null,null,"",0,null,0,"",false,0,0,0,0,100,90,180,1,4,null,180,1,null,4,480,4]
[null,null,"",0,null,0,"",false,0,0,0,0,100,90,180,1,4,null,180,1,null,4,480,4]
[null,null,"",0,null,0,"",false,0,0,0,0,100,90,180,1,4,null,180,1,null,4,480,4]
[null,null,"",0,null,0,"",false,0,0,0,0,100,90,180,1,4,null,180,1,null,4,480,4]
[null,null,"",0,null,0,"",false,0,0,0,0,100,90,180,1,4,null,180,1,null,4,480,4]
[null,null,"",0,null,0,"",false,0,0,0,0,100,90,180,1,4,null,180,1,null,4,480,4]
[null,null,"",0,null,0,"",false,0,0,0,0,100,90,180,1,4,null,180,1,null,4,480,4]
[null,null,"",0,null,0,"",false,0,0,0,0,100,90,180,1,4,null,180,1,null,4,480,4]
[null,null,"",0,null,0,"",false,0,0,0,0,100,90,180,1,4,null,180,1,null,4,480,4]
[null,null,"",0,null,0,"",false,0,0,0,0,100,90,180,1,4,null,180,1,null,4,480,4]
[null,null,"",0,null,0,"",false,0,0,0,0,100,90,180,1,4,null,180,1,null,4,480,4]
[null,null,"",0,null,0,"",false,0,0,0,0,100,90,180,1,4,null,180,1,null,4,480,4]
[null,null,"",0,null,0,"",false,0,0,0,0,100,90,180,1,4,null,180,1,null,4,480,4]
[null,null,"",0,null,0,"",false,0,0,0,0,100,90,180,1,4,null,180,1,null,4,480,4]
[null,null,"",0,null,0,"",false,0,0,0,0,100,90,180,1,4,null,180,1,null,4,480,4]
[null,null,"",0,null,0,"",false,0,0,0,0,100,90,180,1,4,null,180,1,null,4,480,4]
[null,null,"",0,null,0,"",false,0,0,0,0,100,90,180,1,4,null,180,1,null,4,480,4]
[null,null,"",0,null,0,"",false,0,0,0,0,100,90,180,1,4,null,180,1,null,4,480,4]
[null,null,"",0,null,0,"",false,0,0,0,0,100,90,180,1,4,null,180,1,null,4,480,4]
[null,null,"",0,null,0,"",false,0,0,0,0,100,90,180,1,4,null,180,1,null,4,480,4]
[null,null,{"$f":"IF(I835>0,INDEX(DB,I835,8),\"\")","v":""},0,null,0,"",false,{"$f":"IF(OR(ISBLANK(A835),ISNA(MATCH(A835&\"\",AthleteNumbers,0))),0,MATCH(A835&\"\",AthleteNumbers,0))","v":0},{"$f":"IF(I835>0,INDEX(DB,$I835,6),0)","v":0},0,0,{"$f":"IF(AND(L835>O835,O835>0),MinPoints,IF(AND(L835<N835,O835>0),100,+INT((O835-$L835)/P835)+MinPoints))","v":100},90,180,1,{"$f":"IF(I835>0,INDEX(DB,I835,9),EventIndex)","v":4},null,{"$f":"(INT(INDEX(MINVALUES,$Q835,$K$1))*60)+(MOD(INDEX(MINVALUES,$Q835,$K$1),1)*100)","v":180},{"$f":"(INDEX(INCVALUES,$Q835,$K$1)*100)","v":1},null,{"$f":"+J835+(4*(INDEX(MatchScoreTable,$Q835,20)-1))","v":4},{"$f":"INDEX(INC_MINVALUES,$V835,$K$1)","v":480},{"$f":"INDEX(INC_INCVALUES,$V835,$K$1)","v":4}]
[null,null,"",{"$f":"IF(AND(H836,B836<>0,ISNUMBER(B836)),IF(ISERR(M836),0,M836),0)","v":0},null,{"$f":"COUNTIF(A$3:A$1002,A836)","v":0},{"$f":"IF(AND(H836,OR(D836<=10,D836>=90)),\"CHECK\",\"\")","v":""},{"$f":"IF(AND(I836>0,LEN(C836)>0,B836<>0),TRUE,FALSE)","v":false},0,0,{"$f":"IF(ISNUMBER(B836),ROUND(+B836,2),0)","v":0},{"$f":"(INT(K836)*60)+(MOD(K836,1)*100)","v":0},100,{"$f":"+O836-(P836*90)","v":90},{"$f":"IF($J836=0,$S836,$W836)","v":180},{"$f":"IF($J836=0,$T836,$X836)","v":1},4,null,180,1,null,4,480,4]
[null,null,"",0,null,0,"",false,0,0,0,0,100,90,180,1,4,null,180,1,null,4,480,4]
[null,null,"",0,null,0,"",false,0,0,0,0,100,90,180,1,4,null,180,1,null,4,480,4]
[null,null,"",0,null,0,"",false,0,0,0,0,100,90,180,1,4,null,180,1,null,4,480,4]
[null,null,"",0,null,0,"",false,0,0,0,0,100,90,180,1,4,null,180,1,null,4,480,4]
[null,null,"",0,null,0,"",false,0,0,0,0,100,90,180,1,4,null,180,1,null,4,480,4]
[null,null,"",0,null,0,"",false,0,0,0,0,100,90,180,1,4,null,180,1,null,4,480,4]
[null,null,"",0,null,0,"",false,0,0,0,0,100,90,180,1,4,null,180,1,null,4,480,4]
[null,null,"",0,null,0,"",false,0,0,0,0,100,90,180,1,4,null,180,1,null,4,480,4]
[null,null,"",0,null,0,"",false,0,0,0,0,100,90,180,1,4,null,180,1,null,4,480,4]
[null,null,"",0,null,0,"",false,0,0,0,0,100,90,180,1,4,null,180,1,null,4,480,4]
[null,null,"",0,null,0,"",false,0,0,0,0,100,90,180,1,4,null,180,1,null,4,480,4]
[null,null,"",0,null,0,"",false,0,0,0,0,100,90,180,1,4,null,180,1,null,4,480,4]
[null,null,"",0,null,0,"",false,0,0,0,0,100,90,180,1,4,null,180,1,null,4,480,4]
[null,null,"",0,null,0,"",false,0,0,0,0,100,90,180,1,4,null,180,1,null,4,480,4]
[null,null,"",0,null,0,"",false,0,0,0,0,100,90,180,1,4,null,180,1,null,4,480,4]
[null,null,"",0,null,0,"",false,0,0,0,0,100,90,180,1,4,null,180,1,null,4,480,4]
[null,null,"",0,null,0,"",false,0,0,0,0,100,90,180,1,4,null,180,1,null,4,480,4]
[null,null,"",0,null,0,"",false,0,0,0,0,100,90,180,1,4,null,180,1,null,4,480,4]
[null,null,"",0,null,0,"",false,0,0,0,0,100,90,180,1,4,null,180,1,null,4,480,4]
[null,null,"",0,null,0,"",false,0,0,0,0,100,90,180,1,4,null,180,1,null,4,480,4]
[null,null,"",0,null,0,"",false,0,0,0,0,100,90,180,1,4,null,180,1,null,4,480,4]
[null,null,"",0,null,0,"",false,0,0,0,0,100,90,180,1,4,null,180,1,null,4,480,4]
[null,null,"",0,null,0,"",false,0,0,0,0,100,90,180,1,4,null,180,1,null,4,480,4]
[null,null,"",0,null,0,"",false,0,0,0,0,100,90,180,1,4,null,180,1,null,4,480,4]
[null,null,"",0,null,0,"",false,0,0,0,0,100,90,180,1,4,null,180,1,null,4,480,4]
[null,null,"",0,null,0,"",false,0,0,0,0,100,90,180,1,4,null,180,1,null,4,480,4]
[null,null,"",0,null,0,"",false,0,0,0,0,100,90,180,1,4,null,180,1,null,4,480,4]
[null,null,"",0,null,0,"",false,0,0,0,0,100,90,180,1,4,null,180,1,null,4,480,4]
[null,null,"",0,null,0,"",false,0,0,0,0,100,90,180,1,4,null,180,1,null,4,480,4]
[null,null,"",0,null,0,"",false,0,0,0,0,100,90,180,1,4,null,180,1,null,4,480,4]
[null,null,"",0,null,0,"",false,0,0,0,0,100,90,180,1,4,null,180,1,null,4,480,4]
[null,null,"",0,null,0,"",false,0,0,0,0,100,90,180,1,4,null,180,1,null,4,480,4]
[null,null,"",0,null,0,"",false,0,0,0,0,100,90,180,1,4,null,180,1,null,4,480,4]
[null,null,"",0,null,0,"",false,0,0,0,0,100,90,180,1,4,null,180,1,null,4,480,4]
[null,null,"",0,null,0,"",false,0,0,0,0,100,90,180,1,4,null,180,1,null,4,480,4]
[null,null,"",0,null,0,"",false,0,0,0,0,100,90,180,1,4,null,180,1,null,4,480,4]
[null,null,"",0,null,0,"",false,0,0,0,0,100,90,180,1,4,null,180,1,null,4,480,4]
[null,null,"",0,null,0,"",false,0,0,0,0,100,90,180,1,4,null,180,1,null,4,480,4]
[null,null,"",0,null,0,"",false,0,0,0,0,100,90,180,1,4,null,180,1,null,4,480,4]
[null,null,"",0,null,0,"",false,0,0,0,0,100,90,180,1,4,null,180,1,null,4,480,4]
[null,null,"",0,null,0,"",false,0,0,0,0,100,90,180,1,4,null,180,1,null,4,480,4]
[null,null,"",0,null,0,"",false,0,0,0,0,100,90,180,1,4,null,180,1,null,4,480,4]
[null,null,"",0,null,0,"",false,0,0,0,0,100,90,180,1,4,null,180,1,null,4,480,4]
[null,null,"",0,null,0,"",false,0,0,0,0,100,90,180,1,4,null,180,1,null,4,480,4]
[null,null,"",0,null,0,"",false,0,0,0,0,100,90,180,1,4,null,180,1,null,4,480,4]
[null,null,"",0,null,0,"",false,0,0,0,0,100,90,180,1,4,null,180,1,null,4,480,4]
[null,null,"",0,null,0,"",false,0,0,0,0,100,90,180,1,4,null,180,1,null,4,480,4]
[null,null,"",0,null,0,"",false,0,0,0,0,100,90,180,1,4,null,180,1,null,4,480,4]
[null,null,"",0,null,0,"",false,0,0,0,0,100,90,180,1,4,null,180,1,null,4,480,4]
[null,null,"",0,null,0,"",false,0,0,0,0,100,90,180,1,4,null,180,1,null,4,480,4]
[null,null,"",0,null,0,"",false,0,0,0,0,100,90,180,1,4,null,180,1,null,4,480,4]
[null,null,"",0,null,0,"",false,0,0,0,0,100,90,180,1,4,null,180,1,null,4,480,4]
[null,null,"",0,null,0,"",false,0,0,0,0,100,90,180,1,4,null,180,1,null,4,480,4]
[null,null,"",0,null,0,"",false,0,0,0,0,100,90,180,1,4,null,180,1,null,4,480,4]
[null,null,"",0,null,0,"",false,0,0,0,0,100,90,180,1,4,null,180,1,null,4,480,4]
[null,null,"",0,null,0,"",false,0,0,0,0,100,90,180,1,4,null,180,1,null,4,480,4]
[null,null,"",0,null,0,"",false,0,0,0,0,100,90,180,1,4,null,180,1,null,4,480,4]
[null,null,"",0,null,0,"",false,0,0,0,0,100,90,180,1,4,null,180,1,null,4,480,4]
[null,null,"",0,null,0,"",false,0,0,0,0,100,90,180,1,4,null,180,1,null,4,480,4]
[null,null,"",0,null,0,"",false,0,0,0,0,100,90,180,1,4,null,180,1,null,4,480,4]
[null,null,"",0,null,0,"",false,0,0,0,0,100,90,180,1,4,null,180,1,null,4,480,4]
[null,null,"",0,null,0,"",false,0,0,0,0,100,90,180,1,4,null,180,1,null,4,480,4]
[null,null,{"$f":"IF(I899>0,INDEX(DB,I899,8),\"\")","v":""},0,null,0,"",false,{"$f":"IF(OR(ISBLANK(A899),ISNA(MATCH(A899&\"\",AthleteNumbers,0))),0,MATCH(A899&\"\",AthleteNumbers,0))","v":0},{"$f":"IF(I899>0,INDEX(DB,$I899,6),0)","v":0},0,0,{"$f":"IF(AND(L899>O899,O899>0),MinPoints,IF(AND(L899<N899,O899>0),100,+INT((O899-$L899)/P899)+MinPoints))","v":100},90,180,1,{"$f":"IF(I899>0,INDEX(DB,I899,9),EventIndex)","v":4},null,{"$f":"(INT(INDEX(MINVALUES,$Q899,$K$1))*60)+(MOD(INDEX(MINVALUES,$Q899,$K$1),1)*100)","v":180},{"$f":"(INDEX(INCVALUES,$Q899,$K$1)*100)","v":1},null,{"$f":"+J899+(4*(INDEX(MatchScoreTable,$Q899,20)-1))","v":4},{"$f":"INDEX(INC_MINVALUES,$V899,$K$1)","v":480},{"$f":"INDEX(INC_INCVALUES,$V899,$K$1)","v":4}]
[null,null,"",{"$f":"IF(AND(H900,B900<>0,ISNUMBER(B900)),IF(ISERR(M900),0,M900),0)","v":0},null,{"$f":"COUNTIF(A$3:A$1002,A900)","v":0},{"$f":"IF(AND(H900,OR(D900<=10,D900>=90)),\"CHECK\",\"\")","v":""},{"$f":"IF(AND(I900>0,LEN(C900)>0,B900<>0),TRUE,FALSE)","v":false},0,0,{"$f":"IF(ISNUMBER(B900),ROUND(+B900,2),0)","v":0},{"$f":"(INT(K900)*60)+(MOD(K900,1)*100)","v":0},100,{"$f":"+O900-(P900*90)","v":90},{"$f":"IF($J900=0,$S900,$W900)","v":180},{"$f":"IF($J900=0,$T900,$X900)","v":1},4,null,180,1,null,4,480,4]
[null,null,"",0,null,0,"",false,0,0,0,0,100,90,180,1,4,null,180,1,null,4,480,4]
[null,null,"",0,null,0,"",false,0,0,0,0,100,90,180,1,4,null,180,1,null,4,480,4]
[null,null,"",0,null,0,"",false,0,0,0,0,100,90,180,1,4,null,180,1,null,4,480,4]
[null,null,"",0,null,0,"",false,0,0,0,0,100,90,180,1,4,null,180,1,null,4,480,4]
[null,null,"",0,null,0,"",false,0,0,0,0,100,90,180,1,4,null,180,1,null,4,480,4]
[null,null,"",0,null,0,"",false,0,0,0,0,100,90,180,1,4,null,180,1,null,4,480,4]
[null,null,"",0,null,0,"",false,0,0,0,0,100,90,180,1,4,null,180,1,null,4,480,4]
[null,null,"",0,null,0,"",false,0,0,0,0,100,90,180,1,4,null,180,1,null,4,480,4]
[null,null,"",0,null,0,"",false,0,0,0,0,100,90,180,1,4,null,180,1,null,4,480,4]
[null,null,"",0,null,0,"",false,0,0,0,0,100,90,180,1,4,null,180,1,null,4,480,4]
[null,null,"",0,null,0,"",false,0,0,0,0,100,90,180,1,4,null,180,1,null,4,480,4]
[null,null,"",0,null,0,"",false,0,0,0,0,100,90,180,1,4,null,180,1,null,4,480,4]
[null,null,"",0,null,0,"",false,0,0,0,0,100,90,180,1,4,null,180,1,null,4,480,4]
[null,null,"",0,null,0,"",false,0,0,0,0,100,90,180,1,4,null,180,1,null,4,480,4]
[null,null,"",0,null,0,"",false,0,0,0,0,100,90,180,1,4,null,180,1,null,4,480,4]
[null,null,"",0,null,0,"",false,0,0,0,0,100,90,180,1,4,null,180,1,null,4,480,4]
[null,null,"",0,null,0,"",false,0,0,0,0,100,90,180,1,4,null,180,1,null,4,480,4]
[null,null,"",0,null,0,"",false,0,0,0,0,100,90,180,1,4,null,180,1,null,4,480,4]
[null,null,"",0,null,0,"",false,0,0,0,0,100,90,180,1,4,null,180,1,null,4,480,4]
[null,null,"",0,null,0,"",false,0,0,0,0,100,90,180,1,4,null,180,1,null,4,480,4]
[null,null,"",0,null,0,"",false,0,0,0,0,100,90,180,1,4,null,180,1,null,4,480,4]
[null,null,"",0,null,0,"",false,0,0,0,0,100,90,180,1,4,null,180,1,null,4,480,4]
[null,null,"",0,null,0,"",false,0,0,0,0,100,90,180,1,4,null,180,1,null,4,480,4]
[null,null,"",0,null,0,"",false,0,0,0,0,100,90,180,1,4,null,180,1,null,4,480,4]
[null,null,"",0,null,0,"",false,0,0,0,0,100,90,180,1,4,null,180,1,null,4,480,4]
[null,null,"",0,null,0,"",false,0,0,0,0,100,90,180,1,4,null,180,1,null,4,480,4]
[null,null,"",0,null,0,"",false,0,0,0,0,100,90,180,1,4,null,180,1,null,4,480,4]
[null,null,"",0,null,0,"",false,0,0,0,0,100,90,180,1,4,null,180,1,null,4,480,4]
[null,null,"",0,null,0,"",false,0,0,0,0,100,90,180,1,4,null,180,1,null,4,480,4]
[null,null,"",0,null,0,"",false,0,0,0,0,100,90,180,1,4,null,180,1,null,4,480,4]
[null,null,"",0,null,0,"",false,0,0,0,0,100,90,180,1,4,null,180,1,null,4,480,4]
[null,null,"",0,null,0,"",false,0,0,0,0,100,90,180,1,4,null,180,1,null,4,480,4]
[null,null,"",0,null,0,"",false,0,0,0,0,100,90,180,1,4,null,180,1,null,4,480,4]
[null,null,"",0,null,0,"",false,0,0,0,0,100,90,180,1,4,null,180,1,null,4,480,4]
[null,null,"",0,null,0,"",false,0,0,0,0,100,90,180,1,4,null,180,1,null,4,480,4]
[null,null,"",0,null,0,"",false,0,0,0,0,100,90,180,1,4,null,180,1,null,4,480,4]
[null,null,"",0,null,0,"",false,0,0,0,0,100,90,180,1,4,null,180,1,null,4,480,4]
[null,null,"",0,null,0,"",false,0,0,0,0,100,90,180,1,4,null,180,1,null,4,480,4]
[null,null,"",0,null,0,"",false,0,0,0,0,100,90,180,1,4,null,180,1,null,4,480,4]
[null,null,"",0,null,0,"",false,0,0,0,0,100,90,180,1,4,null,180,1,null,4,480,4]
[null,null,"",0,null,0,"",false,0,0,0,0,100,90,180,1,4,null,180,1,null,4,480,4]
[null,null,"",0,null,0,"",false,0,0,0,0,100,90,180,1,4,null,180,1,null,4,480,4]
[null,null,"",0,null,0,"",false,0,0,0,0,100,90,180,1,4,null,180,1,null,4,480,4]
[null,null,"",0,null,0,"",false,0,0,0,0,100,90,180,1,4,null,180,1,null,4,480,4]
[null,null,"",0,null,0,"",false,0,0,0,0,100,90,180,1,4,null,180,1,null,4,480,4]
[null,null,"",0,null,0,"",false,0,0,0,0,100,90,180,1,4,null,180,1,null,4,480,4]
[null,null,"",0,null,0,"",false,0,0,0,0,100,90,180,1,4,null,180,1,null,4,480,4]
[null,null,"",0,null,0,"",false,0,0,0,0,100,90,180,1,4,null,180,1,null,4,480,4]
[null,null,"",0,null,0,"",false,0,0,0,0,100,90,180,1,4,null,180,1,null,4,480,4]
[null,null,"",0,null,0,"",false,0,0,0,0,100,90,180,1,4,null,180,1,null,4,480,4]
[null,null,"",0,null,0,"",false,0,0,0,0,100,90,180,1,4,null,180,1,null,4,480,4]
[null,null,"",0,null,0,"",false,0,0,0,0,100,90,180,1,4,null,180,1,null,4,480,4]
[null,null,"",0,null,0,"",false,0,0,0,0,100,90,180,1,4,null,180,1,null,4,480,4]
[null,null,"",0,null,0,"",false,0,0,0,0,100,90,180,1,4,null,180,1,null,4,480,4]
[null,null,"",0,null,0,"",false,0,0,0,0,100,90,180,1,4,null,180,1,null,4,480,4]
[null,null,"",0,null,0,"",false,0,0,0,0,100,90,180,1,4,null,180,1,null,4,480,4]
[null,null,"",0,null,0,"",false,0,0,0,0,100,90,180,1,4,null,180,1,null,4,480,4]
[null,null,"",0,null,0,"",false,0,0,0,0,100,90,180,1,4,null,180,1,null,4,480,4]
[null,null,"",0,null,0,"",false,0,0,0,0,100,90,180,1,4,null,180,1,null,4,480,4]
[null,null,"",0,null,0,"",false,0,0,0,0,100,90,180,1,4,null,180,1,null,4,480,4]
[null,null,"",0,null,0,"",false,0,0,0,0,100,90,180,1,4,null,180,1,null,4,480,4]
[null,null,"",0,null,0,"",false,0,0,0,0,100,90,180,1,4,null,180,1,null,4,480,4]
[null,null,{"$f":"IF(I963>0,INDEX(DB,I963,8),\"\")","v":""},0,null,0,"",false,{"$f":"IF(OR(ISBLANK(A963),ISNA(MATCH(A963&\"\",AthleteNumbers,0))),0,MATCH(A963&\"\",AthleteNumbers,0))","v":0},{"$f":"IF(I963>0,INDEX(DB,$I963,6),0)","v":0},0,0,{"$f":"IF(AND(L963>O963,O963>0),MinPoints,IF(AND(L963<N963,O963>0),100,+INT((O963-$L963)/P963)+MinPoints))","v":100},90,180,1,{"$f":"IF(I963>0,INDEX(DB,I963,9),EventIndex)","v":4},null,{"$f":"(INT(INDEX(MINVALUES,$Q963,$K$1))*60)+(MOD(INDEX(MINVALUES,$Q963,$K$1),1)*100)","v":180},{"$f":"(INDEX(INCVALUES,$Q963,$K$1)*100)","v":1},null,{"$f":"+J963+(4*(INDEX(MatchScoreTable,$Q963,20)-1))","v":4},{"$f":"INDEX(INC_MINVALUES,$V963,$K$1)","v":480},{"$f":"INDEX(INC_INCVALUES,$V963,$K$1)","v":4}]
[null,null,"",{"$f":"IF(AND(H964,B964<>0,ISNUMBER(B964)),IF(ISERR(M964),0,M964),0)","v":0},null,{"$f":"COUNTIF(A$3:A$1002,A964)","v":0},{"$f":"IF(AND(H964,OR(D964<=10,D964>=90)),\"CHECK\",\"\")","v":""},{"$f":"IF(AND(I964>0,LEN(C964)>0,B964<>0),TRUE,FALSE)","v":false},0,0,{"$f":"IF(ISNUMBER(B964),ROUND(+B964,2),0)","v":0},{"$f":"(INT(K964)*60)+(MOD(K964,1)*100)","v":0},100,{"$f":"+O964-(P964*90)","v":90},{"$f":"IF($J964=0,$S964,$W964)","v":180},{"$f":"IF($J964=0,$T964,$X964)","v":1},4,null,180,1,null,4,480,4]
[null,null,"",0,null,0,"",false,0,0,0,0,100,90,180,1,4,null,180,1,null,4,480,4]
[null,null,"",0,null,0,"",false,0,0,0,0,100,90,180,1,4,null,180,1,null,4,480,4]
[null,null,"",0,null,0,"",false,0,0,0,0,100,90,180,1,4,null,180,1,null,4,480,4]
[null,null,"",0,null,0,"",false,0,0,0,0,100,90,180,1,4,null,180,1,null,4,480,4]
[null,null,"",0,null,0,"",false,0,0,0,0,100,90,180,1,4,null,180,1,null,4,480,4]
[null,null,"",0,null,0,"",false,0,0,0,0,100,90,180,1,4,null,180,1,null,4,480,4]
[null,null,"",0,null,0,"",false,0,0,0,0,100,90,180,1,4,null,180,1,null,4,480,4]
[null,null,"",0,null,0,"",false,0,0,0,0,100,90,180,1,4,null,180,1,null,4,480,4]
[null,null,"",0,null,0,"",false,0,0,0,0,100,90,180,1,4,null,180,1,null,4,480,4]
[null,null,"",0,null,0,"",false,0,0,0,0,100,90,180,1,4,null,180,1,null,4,480,4]
[null,null,"",0,null,0,"",false,0,0,0,0,100,90,180,1,4,null,180,1,null,4,480,4]
[null,null,"",0,null,0,"",false,0,0,0,0,100,90,180,1,4,null,180,1,null,4,480,4]
[null,null,"",0,null,0,"",false,0,0,0,0,100,90,180,1,4,null,180,1,null,4,480,4]
[null,null,"",0,null,0,"",false,0,0,0,0,100,90,180,1,4,null,180,1,null,4,480,4]
[null,null,"",0,null,0,"",false,0,0,0,0,100,90,180,1,4,null,180,1,null,4,480,4]
[null,null,"",0,null,0,"",false,0,0,0,0,100,90,180,1,4,null,180,1,null,4,480,4]
[null,null,"",0,null,0,"",false,0,0,0,0,100,90,180,1,4,null,180,1,null,4,480,4]
[null,null,"",0,null,0,"",false,0,0,0,0,100,90,180,1,4,null,180,1,null,4,480,4]
[null,null,"",0,null,0,"",false,0,0,0,0,100,90,180,1,4,null,180,1,null,4,480,4]
[null,null,"",0,null,0,"",false,0,0,0,0,100,90,180,1,4,null,180,1,null,4,480,4]
[null,null,"",0,null,0,"",false,0,0,0,0,100,90,180,1,4,null,180,1,null,4,480,4]
[null,null,"",0,null,0,"",false,0,0,0,0,100,90,180,1,4,null,180,1,null,4,480,4]
[null,null,"",0,null,0,"",false,0,0,0,0,100,90,180,1,4,null,180,1,null,4,480,4]
[null,null,"",0,null,0,"",false,0,0,0,0,100,90,180,1,4,null,180,1,null,4,480,4]
[null,null,"",0,null,0,"",false,0,0,0,0,100,90,180,1,4,null,180,1,null,4,480,4]
[null,null,"",0,null,0,"",false,0,0,0,0,100,90,180,1,4,null,180,1,null,4,480,4]
[null,null,"",0,null,0,"",false,0,0,0,0,100,90,180,1,4,null,180,1,null,4,480,4]
[null,null,"",0,null,0,"",false,0,0,0,0,100,90,180,1,4,null,180,1,null,4,480,4]
[null,null,"",0,null,0,"",false,0,0,0,0,100,90,180,1,4,null,180,1,null,4,480,4]
[null,null,"",0,null,0,"",false,0,0,0,0,100,90,180,1,4,null,180,1,null,4,480,4]
[null,null,"",0,null,0,"",false,0,0,0,0,100,90,180,1,4,null,180,1,null,4,480,4]
[null,null,"",0,null,0,"",false,0,0,0,0,100,90,180,1,4,null,180,1,null,4,480,4]
[null,null,"",0,null,0,"",false,0,0,0,0,100,90,180,1,4,null,180,1,null,4,480,4]
[null,null,"",0,null,0,"",false,0,0,0,0,100,90,180,1,4,null,180,1,null,4,480,4]
[null,null,"",0,null,0,"",false,0,0,0,0,100,90,180,1,4,null,180,1,null,4,480,4]
[null,null,"",0,null,0,"",false,0,0,0,0,100,90,180,1,4,null,180,1,null,4,480,4]
[null,null,"",0,null,0,"",false,0,0,0,0,100,90,180,1,4,null,180,1,null,4,480,4]
[null,null,"",0]

{"sheet":"EVENT - JUMP","index":10,"n_rows":1002,"n_cols":24,"rows_kept":1002,"cut":false,"hidden":false,"merged":[[0,0,0,1]]}
[{"$f":"\"Event:\"","v":"Event:"},null,"JUMP",null,null,{"$f":"IF(TotalAthletes,COUNTIF(D3:D1002,\">0\")/TotalAthletes,0)","v":0.80555555555555558},null,null,null,"EvtIdx",3,"Min",{"$f":"INDEX(ScoreValues,2,$K$1)","v":1.02},"Inc",{"$f":"INDEX(ScoreValues,4,$K$1)","v":0.02},null,"Max",{"$f":"INDEX(ScoreValues,3,$K$1)","v":2.8200000000000016},null,"DefAgeGrp",{"$f":"+EventIndex","v":4}]
["Athlete No","Distance (m.mm)","Name","Points",null,"Duplicates","CheckPoint","ValidAthlete","AthleteIdx","Dgroup","meters","Adjusted","Points","Max","Min","Inc","AgeGroup",null,"MIN","INC",null,"Inc_Idx","MIN","INC"]
[3,1.69,{"$f":"IF(I3>0,INDEX(DB,I3,8),\"\")","v":"Jess Bailey"},{"$f":"IF(AND(H3,B3<>0,ISNUMBER(B3)),IF(ISERR(M3),0,M3),0)","v":43},null,{"$f":"COUNTIF(A$3:A$1002,A3)","v":1},{"$f":"IF(AND(H3,OR(D3<=10,D3>=90)),\"CHECK\",\"\")","v":""},{"$f":"IF(AND(I3>0,LEN(C3)>0,B3<>0),TRUE,FALSE)","v":true},{"$f":"IF(OR(ISBLANK(A3),ISNA(MATCH(A3&\"\",AthleteNumbers,0))),0,MATCH(A3&\"\",AthleteNumbers,0))","v":1},{"$f":"IF(I3>0,INDEX(DB,$I3,6),0)","v":0},{"$f":"IF(ISNUMBER(B3),ROUND(+B3,2),0)","v":1.69},{"$f":"+K3","v":1.69},{"$f":"IF(L3<O3,MinPoints,IF(AND(L3>N3,O3>0),100,+INT(($L3-O3)/P3)+MinPoints))","v":43},{"$f":"+O3+(P3*90)","v":2.8200000000000003},{"$f":"IF($J3=0,$S3,$W3)","v":1.02},{"$f":"IF($J3=0,$T3,$X3)","v":0.02},{"$f":"IF(I3>0,INDEX(DB,I3,9),EventIndex)","v":4},null,{"$f":"INDEX(MINVALUES,$Q3,$K$1)","v":1.02},{"$f":"INDEX(INCVALUES,$Q3,$K$1)","v":0.02},null,{"$f":"+J3+(4*(INDEX(MatchScoreTable,$Q3,20)-1))","v":4},{"$f":"INDEX(INC_MINVALUES,$V3,$K$1)","v":0.2},{"$f":"INDEX(INC_INCVALUES,$V3,$K$1)","v":0.02}]
[5,1.44,"Poppy Burtwell",{"$f":"IF(AND(H4,B4<>0,ISNUMBER(B4)),IF(ISERR(M4),0,M4),0)","v":31},null,{"$f":"COUNTIF(A$3:A$1002,A4)","v":1},{"$f":"IF(AND(H4,OR(D4<=10,D4>=90)),\"CHECK\",\"\")","v":""},{"$f":"IF(AND(I4>0,LEN(C4)>0,B4<>0),TRUE,FALSE)","v":true},2,0,{"$f":"IF(ISNUMBER(B4),ROUND(+B4,2),0)","v":1.44},{"$f":"+K4","v":1.44},{"$f":"IF(L4<O4,MinPoints,IF(AND(L4>N4,O4>0),100,+INT(($L4-O4)/P4)+MinPoints))","v":31},{"$f":"+O4+(P4*90)","v":2.8200000000000003},{"$f":"IF($J4=0,$S4,$W4)","v":1.02},{"$f":"IF($J4=0,$T4,$X4)","v":0.02},4,null,1.02,0.02,null,4,0.2,0.02]
[6,1.72,"Albie Jack Bussey",45,null,1,"",true,3,0,1.72,1.72,45,2.8200000000000003,1.02,0.02,4,null,1.02,0.02,null,4,0.2,0.02]
[11,null,"Molly Elizabeth Creek",0,null,1,"",false,4,0,0,0,10,2.8200000000000003,1.02,0.02,4,null,1.02,0.02,null,4,0.2,0.02]
[13,1.56,"Imogen Edwards",37,null,1,"",true,5,0,1.56,1.56,37,2.8200000000000003,1.02,0.02,4,null,1.02,0.02,null,4,0.2,0.02]
[15,null,"Ezra Frick",0,null,1,"",false,6,0,0,0,10,2.8200000000000003,1.02,0.02,4,null,1.02,0.02,null,4,0.2,0.02]
[16,1.25,"Emilia Game",21,null,1,"",true,7,0,1.25,1.25,21,2.8200000000000003,1.02,0.02,4,null,1.02,0.02,null,4,0.2,0.02]
[19,1.0900000000000001,"Charlotte Harvey",13,null,1,"",true,8,0,1.0900000000000001,1.0900000000000001,13,2.8200000000000003,1.02,0.02,4,null,1.02,0.02,null,4,0.2,0.02]
[21,1.67,"Dylan Jacob Hockin",42,null,1,"",true,9,0,1.67,1.67,42,2.8200000000000003,1.02,0.02,4,null,1.02,0.02,null,4,0.2,0.02]
[24,1.44,"Hermione Howard",31,null,1,"",true,10,0,1.44,1.44,31,2.8200000000000003,1.02,0.02,4,null,1.02,0.02,null,4,0.2,0.02]
[26,1.79,"Evalyn Humphries",48,null,1,"",true,11,0,1.79,1.79,48,2.8200000000000003,1.02,0.02,4,null,1.02,0.02,null,4,0.2,0.02]
[28,1.81,"William Peter Stuart Johnson",49,null,1,"",true,12,0,1.81,1.81,49,2.8200000000000003,1.02,0.02,4,null,1.02,0.02,null,4,0.2,0.02]
[29,1.65,"Ben Jones",41,null,1,"",true,13,0,1.65,1.65,41,2.8200000000000003,1.02,0.02,4,null,1.02,0.02,null,4,0.2,0.02]
[30,1.6,"Olivia Andrea Lilly Jones",39,null,1,"",true,14,0,1.6,1.6,39,2.8200000000000003,1.02,0.02,4,null,1.02,0.02,null,4,0.2,0.02]
[31,1.49,"Rhys Callen Jones",33,null,1,"",true,15,0,1.49,1.49,33,2.8200000000000003,1.02,0.02,4,null,1.02,0.02,null,4,0.2,0.02]
[33,1.52,"Arthur Lawson",35,null,1,"",true,16,0,1.52,1.52,35,2.8200000000000003,1.02,0.02,4,null,1.02,0.02,null,4,0.2,0.02]
[35,1.37,"Edward Lewis",27,null,1,"",true,17,0,1.37,1.37,27,2.8200000000000003,1.02,0.02,4,null,1.02,0.02,null,4,0.2,0.02]
[37,null,"Poppy Limb",0,null,1,"",false,18,0,0,0,10,2.8200000000000003,1.02,0.02,4,null,1.02,0.02,null,4,0.2,0.02]
[41,1.9,"Reuben Mann",54,null,1,"",true,19,0,1.9,1.9,54,2.8200000000000003,1.02,0.02,4,null,1.02,0.02,null,4,0.2,0.02]
[42,null,"Eliza Verity Mason",0,null,1,"",false,20,0,0,0,10,2.8200000000000003,1.02,0.02,4,null,1.02,0.02,null,4,0.2,0.02]
[47,1.94,"Max Papuca",56,null,1,"",true,21,0,1.94,1.94,56,2.8200000000000003,1.02,0.02,4,null,1.02,0.02,null,4,0.2,0.02]
[49,1.68,"Lucy Reeves",43,null,1,"",true,22,0,1.68,1.68,43,2.8200000000000003,1.02,0.02,4,null,1.02,0.02,null,4,0.2,0.02]
[51,null,"Albert George Rendell",0,null,1,"",false,23,0,0,0,10,2.8200000000000003,1.02,0.02,4,null,1.02,0.02,null,4,0.2,0.02]
[53,1.1299999999999999,"Amelia Robinson",15,null,1,"",true,24,0,1.1299999999999999,1.1299999999999999,15,2.8200000000000003,1.02,0.02,4,null,1.02,0.02,null,4,0.2,0.02]
[54,1.46,"Laurence Andrew Rowett",32,null,1,"",true,25,0,1.46,1.46,32,2.8200000000000003,1.02,0.02,4,null,1.02,0.02,null,4,0.2,0.02]
[55,1.41,"Alfie Edward Seymour",29,null,1,"",true,26,0,1.41,1.41,29,2.8200000000000003,1.02,0.02,4,null,1.02,0.02,null,4,0.2,0.02]
[57,1.77,"Henry Ronald Simpson",47,null,1,"",true,27,0,1.77,1.77,47,2.8200000000000003,1.02,0.02,4,null,1.02,0.02,null,4,0.2,0.02]
[59,1.78,"Natalee May Souch",48,null,1,"",true,28,0,1.78,1.78,48,2.8200000000000003,1.02,0.02,4,null,1.02,0.02,null,4,0.2,0.02]
[60,1.72,"Lola Southernwood",45,null,1,"",true,29,0,1.72,1.72,45,2.8200000000000003,1.02,0.02,4,null,1.02,0.02,null,4,0.2,0.02]
[63,null,"Allegra Flora Spicer",0,null,1,"",false,30,0,0,0,10,2.8200000000000003,1.02,0.02,4,null,1.02,0.02,null,4,0.2,0.02]
[68,1.77,"Annabelle Weldon",47,null,1,"",true,31,0,1.77,1.77,47,2.8200000000000003,1.02,0.02,4,null,1.02,0.02,null,4,0.2,0.02]
[72,1.4,"Tayla Florence Williams",29,null,1,"",true,32,0,1.4,1.4,29,2.8200000000000003,1.02,0.02,4,null,1.02,0.02,null,4,0.2,0.02]
[73,1.39,"Bethan Frances Wilson",28,null,1,"",true,33,0,1.39,1.39,28,2.8200000000000003,1.02,0.02,4,null,1.02,0.02,null,4,0.2,0.02]
[74,null,"Isla Wright",0,null,1,"",false,34,0,0,0,10,2.8200000000000003,1.02,0.02,4,null,1.02,0.02,null,4,0.2,0.02]
[76,1.44,"Joshua Young",31,null,1,"",true,35,0,1.44,1.44,31,2.8200000000000003,1.02,0.02,4,null,1.02,0.02,null,4,0.2,0.02]
[77,1.39,"Piero Zanca",28,null,1,"",true,36,0,1.39,1.39,28,2.8200000000000003,1.02,0.02,4,null,1.02,0.02,null,4,0.2,0.02]
[null,null,"",0,null,0,"",false,0,0,0,0,10,2.8200000000000003,1.02,0.02,4,null,1.02,0.02,null,4,0.2,0.02]
[null,null,"",0,null,0,"",false,0,0,0,0,10,2.8200000000000003,1.02,0.02,4,null,1.02,0.02,null,4,0.2,0.02]
[null,null,"",0,null,0,"",false,0,0,0,0,10,2.8200000000000003,1.02,0.02,4,null,1.02,0.02,null,4,0.2,0.02]
[null,null,"",0,null,0,"",false,0,0,0,0,10,2.8200000000000003,1.02,0.02,4,null,1.02,0.02,null,4,0.2,0.02]
[null,null,"",0,null,0,"",false,0,0,0,0,10,2.8200000000000003,1.02,0.02,4,null,1.02,0.02,null,4,0.2,0.02]
[null,null,"",0,null,0,"",false,0,0,0,0,10,2.8200000000000003,1.02,0.02,4,null,1.02,0.02,null,4,0.2,0.02]
[null,null,"",0,null,0,"",false,0,0,0,0,10,2.8200000000000003,1.02,0.02,4,null,1.02,0.02,null,4,0.2,0.02]
[null,null,"",0,null,0,"",false,0,0,0,0,10,2.8200000000000003,1.02,0.02,4,null,1.02,0.02,null,4,0.2,0.02]
[null,null,"",0,null,0,"",false,0,0,0,0,10,2.8200000000000003,1.02,0.02,4,null,1.02,0.02,null,4,0.2,0.02]
[null,null,"",0,null,0,"",false,0,0,0,0,10,2.8200000000000003,1.02,0.02,4,null,1.02,0.02,null,4,0.2,0.02]
[null,null,"",0,null,0,"",false,0,0,0,0,10,2.8200000000000003,1.02,0.02,4,null,1.02,0.02,null,4,0.2,0.02]
[null,null,"",0,null,0,"",false,0,0,0,0,10,2.8200000000000003,1.02,0.02,4,null,1.02,0.02,null,4,0.2,0.02]
[null,null,"",0,null,0,"",false,0,0,0,0,10,2.8200000000000003,1.02,0.02,4,null,1.02,0.02,null,4,0.2,0.02]
[null,null,"",0,null,0,"",false,0,0,0,0,10,2.8200000000000003,1.02,0.02,4,null,1.02,0.02,null,4,0.2,0.02]
[null,null,"",0,null,0,"",false,0,0,0,0,10,2.8200000000000003,1.02,0.02,4,null,1.02,0.02,null,4,0.2,0.02]
[null,null,"",0,null,0,"",false,0,0,0,0,10,2.8200000000000003,1.02,0.02,4,null,1.02,0.02,null,4,0.2,0.02]
[null,null,"",0,null,0,"",false,0,0,0,0,10,2.8200000000000003,1.02,0.02,4,null,1.02,0.02,null,4,0.2,0.02]
[null,null,"",0,null,0,"",false,0,0,0,0,10,2.8200000000000003,1.02,0.02,4,null,1.02,0.02,null,4,0.2,0.02]
[null,null,"",0,null,0,"",false,0,0,0,0,10,2.8200000000000003,1.02,0.02,4,null,1.02,0.02,null,4,0.2,0.02]
[null,null,"",0,null,0,"",false,0,0,0,0,10,2.8200000000000003,1.02,0.02,4,null,1.02,0.02,null,4,0.2,0.02]
[null,null,"",0,null,0,"",false,0,0,0,0,10,2.8200000000000003,1.02,0.02,4,null,1.02,0.02,null,4,0.2,0.02]
[null,null,"",0,null,0,"",false,0,0,0,0,10,2.8200000000000003,1.02,0.02,4,null,1.02,0.02,null,4,0.2,0.02]
[null,null,"",0,null,0,"",false,0,0,0,0,10,2.8200000000000003,1.02,0.02,4,null,1.02,0.02,null,4,0.2,0.02]
[null,null,"",0,null,0,"",false,0,0,0,0,10,2.8200000000000003,1.02,0.02,4,null,1.02,0.02,null,4,0.2,0.02]
[null,null,"",0,null,0,"",false,0,0,0,0,10,2.8200000000000003,1.02,0.02,4,null,1.02,0.02,null,4,0.2,0.02]
[null,null,"",0,null,0,"",false,0,0,0,0,10,2.8200000000000003,1.02,0.02,4,null,1.02,0.02,null,4,0.2,0.02]
[null,null,"",0,null,0,"",false,0,0,0,0,10,2.8200000000000003,1.02,0.02,4,null,1.02,0.02,null,4,0.2,0.02]
[null,null,"",0,null,0,"",false,0,0,0,0,10,2.8200000000000003,1.02,0.02,4,null,1.02,0.02,null,4,0.2,0.02]
[null,null,{"$f":"IF(I67>0,INDEX(DB,I67,8),\"\")","v":""},0,null,0,"",false,{"$f":"IF(OR(ISBLANK(A67),ISNA(MATCH(A67&\"\",AthleteNumbers,0))),0,MATCH(A67&\"\",AthleteNumbers,0))","v":0},{"$f":"IF(I67>0,INDEX(DB,$I67,6),0)","v":0},0,0,10,2.8200000000000003,1.02,0.02,{"$f":"IF(I67>0,INDEX(DB,I67,9),EventIndex)","v":4},null,{"$f":"INDEX(MINVALUES,$Q67,$K$1)","v":1.02},{"$f":"INDEX(INCVALUES,$Q67,$K$1)","v":0.02},null,{"$f":"+J67+(4*(INDEX(MatchScoreTable,$Q67,20)-1))","v":4},{"$f":"INDEX(INC_MINVALUES,$V67,$K$1)","v":0.2},{"$f":"INDEX(INC_INCVALUES,$V67,$K$1)","v":0.02}]
[null,null,"",{"$f":"IF(AND(H68,B68<>0,ISNUMBER(B68)),IF(ISERR(M68),0,M68),0)","v":0},null,{"$f":"COUNTIF(A$3:A$1002,A68)","v":0},{"$f":"IF(AND(H68,OR(D68<=10,D68>=90)),\"CHECK\",\"\")","v":""},{"$f":"IF(AND(I68>0,LEN(C68)>0,B68<>0),TRUE,FALSE)","v":false},0,0,{"$f":"IF(ISNUMBER(B68),ROUND(+B68,2),0)","v":0},{"$f":"+K68","v":0},{"$f":"IF(L68<O68,MinPoints,IF(AND(L68>N68,O68>0),100,+INT(($L68-O68)/P68)+MinPoints))","v":10},{"$f":"+O68+(P68*90)","v":2.8200000000000003},{"$f":"IF($J68=0,$S68,$W68)","v":1.02},{"$f":"IF($J68=0,$T68,$X68)","v":0.02},4,null,1.02,0.02,null,4,0.2,0.02]
[null,null,"",0,null,0,"",false,0,0,0,0,10,2.8200000000000003,1.02,0.02,4,null,1.02,0.02,null,4,0.2,0.02]
[null,null,"",0,null,0,"",false,0,0,0,0,10,2.8200000000000003,1.02,0.02,4,null,1.02,0.02,null,4,0.2,0.02]
[null,null,"",0,null,0,"",false,0,0,0,0,10,2.8200000000000003,1.02,0.02,4,null,1.02,0.02,null,4,0.2,0.02]
[null,null,"",0,null,0,"",false,0,0,0,0,10,2.8200000000000003,1.02,0.02,4,null,1.02,0.02,null,4,0.2,0.02]
[null,null,"",0,null,0,"",false,0,0,0,0,10,2.8200000000000003,1.02,0.02,4,null,1.02,0.02,null,4,0.2,0.02]
[null,null,"",0,null,0,"",false,0,0,0,0,10,2.8200000000000003,1.02,0.02,4,null,1.02,0.02,null,4,0.2,0.02]
[null,null,"",0,null,0,"",false,0,0,0,0,10,2.8200000000000003,1.02,0.02,4,null,1.02,0.02,null,4,0.2,0.02]
[null,null,"",0,null,0,"",false,0,0,0,0,10,2.8200000000000003,1.02,0.02,4,null,1.02,0.02,null,4,0.2,0.02]
[null,null,"",0,null,0,"",false,0,0,0,0,10,2.8200000000000003,1.02,0.02,4,null,1.02,0.02,null,4,0.2,0.02]
[null,null,"",0,null,0,"",false,0,0,0,0,10,2.8200000000000003,1.02,0.02,4,null,1.02,0.02,null,4,0.2,0.02]
[null,null,"",0,null,0,"",false,0,0,0,0,10,2.8200000000000003,1.02,0.02,4,null,1.02,0.02,null,4,0.2,0.02]
[null,null,"",0,null,0,"",false,0,0,0,0,10,2.8200000000000003,1.02,0.02,4,null,1.02,0.02,null,4,0.2,0.02]
[null,null,"",0,null,0,"",false,0,0,0,0,10,2.8200000000000003,1.02,0.02,4,null,1.02,0.02,null,4,0.2,0.02]
[null,null,"",0,null,0,"",false,0,0,0,0,10,2.8200000000000003,1.02,0.02,4,null,1.02,0.02,null,4,0.2,0.02]
[null,null,"",0,null,0,"",false,0,0,0,0,10,2.8200000000000003,1.02,0.02,4,null,1.02,0.02,null,4,0.2,0.02]
[null,null,"",0,null,0,"",false,0,0,0,0,10,2.8200000000000003,1.02,0.02,4,null,1.02,0.02,null,4,0.2,0.02]
[null,null,"",0,null,0,"",false,0,0,0,0,10,2.8200000000000003,1.02,0.02,4,null,1.02,0.02,null,4,0.2,0.02]
[null,null,"",0,null,0,"",false,0,0,0,0,10,2.8200000000000003,1.02,0.02,4,null,1.02,0.02,null,4,0.2,0.02]
[null,null,"",0,null,0,"",false,0,0,0,0,10,2.8200000000000003,1.02,0.02,4,null,1.02,0.02,null,4,0.2,0.02]
[null,null,"",0,null,0,"",false,0,0,0,0,10,2.8200000000000003,1.02,0.02,4,null,1.02,0.02,null,4,0.2,0.02]
[null,null,"",0,null,0,"",false,0,0,0,0,10,2.8200000000000003,1.02,0.02,4,null,1.02,0.02,null,4,0.2,0.02]
[null,null,"",0,null,0,"",false,0,0,0,0,10,2.8200000000000003,1.02,0.02,4,null,1.02,0.02,null,4,0.2,0.02]
[null,null,"",0,null,0,"",false,0,0,0,0,10,2.8200000000000003,1.02,0.02,4,null,1.02,0.02,null,4,0.2,0.02]
[null,null,"",0,null,0,"",false,0,0,0,0,10,2.8200000000000003,1.02,0.02,4,null,1.02,0.02,null,4,0.2,0.02]
[null,null,"",0,null,0,"",false,0,0,0,0,10,2.8200000000000003,1.02,0.02,4,null,1.02,0.02,null,4,0.2,0.02]
[null,null,"",0,null,0,"",false,0,0,0,0,10,2.8200000000000003,1.02,0.02,4,null,1.02,0.02,null,4,0.2,0.02]
[null,null,"",0,null,0,"",false,0,0,0,0,10,2.8200000000000003,1.02,0.02,4,null,1.02,0.02,null,4,0.2,0.02]
[null,null,"",0,null,0,"",false,0,0,0,0,10,2.8200000000000003,1.02,0.02,4,null,1.02,0.02,null,4,0.2,0.02]
[null,null,"",0,null,0,"",false,0,0,0,0,10,2.8200000000000003,1.02,0.02,4,null,1.02,0.02,null,4,0.2,0.02]
[null,null,"",0,null,0,"",false,0,0,0,0,10,2.8200000000000003,1.02,0.02,4,null,1.02,0.02,null,4,0.2,0.02]
[null,null,"",0,null,0,"",false,0,0,0,0,10,2.8200000000000003,1.02,0.02,4,null,1.02,0.02,null,4,0.2,0.02]
[null,null,"",0,null,0,"",false,0,0,0,0,10,2.8200000000000003,1.02,0.02,4,null,1.02,0.02,null,4,0.2,0.02]
[null,null,"",0,null,0,"",false,0,0,0,0,10,2.8200000000000003,1.02,0.02,4,null,1.02,0.02,null,4,0.2,0.02]
[null,null,"",0,null,0,"",false,0,0,0,0,10,2.8200000000000003,1.02,0.02,4,null,1.02,0.02,null,4,0.2,0.02]
[null,null,"",0,null,0,"",false,0,0,0,0,10,2.8200000000000003,1.02,0.02,4,null,1.02,0.02,null,4,0.2,0.02]
[null,null,"",0,null,0,"",false,0,0,0,0,10,2.8200000000000003,1.02,0.02,4,null,1.02,0.02,null,4,0.2,0.02]
[null,null,"",0,null,0,"",false,0,0,0,0,10,2.8200000000000003,1.02,0.02,4,null,1.02,0.02,null,4,0.2,0.02]
[null,null,"",0,null,0,"",false,0,0,0,0,10,2.8200000000000003,1.02,0.02,4,null,1.02,0.02,null,4,0.2,0.02]
[null,null,"",0,null,0,"",false,0,0,0,0,10,2.8200000000000003,1.02,0.02,4,null,1.02,0.02,null,4,0.2,0.02]
[null,null,"",0,null,0,"",false,0,0,0,0,10,2.8200000000000003,1.02,0.02,4,null,1.02,0.02,null,4,0.2,0.02]
[null,null,"",0,null,0,"",false,0,0,0,0,10,2.8200000000000003,1.02,0.02,4,null,1.02,0.02,null,4,0.2,0.02]
[null,null,"",0,null,0,"",false,0,0,0,0,10,2.8200000000000003,1.02,0.02,4,null,1.02,0.02,null,4,0.2,0.02]
[null,null,"",0,null,0,"",false,0,0,0,0,10,2.8200000000000003,1.02,0.02,4,null,1.02,0.02,null,4,0.2,0.02]
[null,null,"",0,null,0,"",false,0,0,0,0,10,2.8200000000000003,1.02,0.02,4,null,1.02,0.02,null,4,0.2,0.02]
[null,null,"",0,null,0,"",false,0,0,0,0,10,2.8200000000000003,1.02,0.02,4,null,1.02,0.02,null,4,0.2,0.02]
[null,null,"",0,null,0,"",false,0,0,0,0,10,2.8200000000000003,1.02,0.02,4,null,1.02,0.02,null,4,0.2,0.02]
[null,null,"",0,null,0,"",false,0,0,0,0,10,2.8200000000000003,1.02,0.02,4,null,1.02,0.02,null,4,0.2,0.02]
[null,null,"",0,null,0,"",false,0,0,0,0,10,2.8200000000000003,1.02,0.02,4,null,1.02,0.02,null,4,0.2,0.02]
[null,null,"",0,null,0,"",false,0,0,0,0,10,2.8200000000000003,1.02,0.02,4,null,1.02,0.02,null,4,0.2,0.02]
[null,null,"",0,null,0,"",false,0,0,0,0,10,2.8200000000000003,1.02,0.02,4,null,1.02,0.02,null,4,0.2,0.02]
[null,null,"",0,null,0,"",false,0,0,0,0,10,2.8200000000000003,1.02,0.02,4,null,1.02,0.02,null,4,0.2,0.02]
[null,null,"",0,null,0,"",false,0,0,0,0,10,2.8200000000000003,1.02,0.02,4,null,1.02,0.02,null,4,0.2,0.02]
[null,null,"",0,null,0,"",false,0,0,0,0,10,2.8200000000000003,1.02,0.02,4,null,1.02,0.02,null,4,0.2,0.02]
[null,null,"",0,null,0,"",false,0,0,0,0,10,2.8200000000000003,1.02,0.02,4,null,1.02,0.02,null,4,0.2,0.02]
[null,null,"",0,null,0,"",false,0,0,0,0,10,2.8200000000000003,1.02,0.02,4,null,1.02,0.02,null,4,0.2,0.02]
[null,null,"",0,null,0,"",false,0,0,0,0,10,2.8200000000000003,1.02,0.02,4,null,1.02,0.02,null,4,0.2,0.02]
[null,null,"",0,null,0,"",false,0,0,0,0,10,2.8200000000000003,1.02,0.02,4,null,1.02,0.02,null,4,0.2,0.02]
[null,null,"",0,null,0,"",false,0,0,0,0,10,2.8200000000000003,1.02,0.02,4,null,1.02,0.02,null,4,0.2,0.02]
[null,null,"",0,null,0,"",false,0,0,0,0,10,2.8200000000000003,1.02,0.02,4,null,1.02,0.02,null,4,0.2,0.02]
[null,null,"",0,null,0,"",false,0,0,0,0,10,2.8200000000000003,1.02,0.02,4,null,1.02,0.02,null,4,0.2,0.02]
[null,null,"",0,null,0,"",false,0,0,0,0,10,2.8200000000000003,1.02,0.02,4,null,1.02,0.02,null,4,0.2,0.02]
[null,null,"",0,null,0,"",false,0,0,0,0,10,2.8200000000000003,1.02,0.02,4,null,1.02,0.02,null,4,0.2,0.02]
[null,null,{"$f":"IF(I131>0,INDEX(DB,I131,8),\"\")","v":""},0,null,0,"",false,{"$f":"IF(OR(ISBLANK(A131),ISNA(MATCH(A131&\"\",AthleteNumbers,0))),0,MATCH(A131&\"\",AthleteNumbers,0))","v":0},{"$f":"IF(I131>0,INDEX(DB,$I131,6),0)","v":0},0,0,10,2.8200000000000003,1.02,0.02,{"$f":"IF(I131>0,INDEX(DB,I131,9),EventIndex)","v":4},null,{"$f":"INDEX(MINVALUES,$Q131,$K$1)","v":1.02},{"$f":"INDEX(INCVALUES,$Q131,$K$1)","v":0.02},null,{"$f":"+J131+(4*(INDEX(MatchScoreTable,$Q131,20)-1))","v":4},{"$f":"INDEX(INC_MINVALUES,$V131,$K$1)","v":0.2},{"$f":"INDEX(INC_INCVALUES,$V131,$K$1)","v":0.02}]
[null,null,"",{"$f":"IF(AND(H132,B132<>0,ISNUMBER(B132)),IF(ISERR(M132),0,M132),0)","v":0},null,{"$f":"COUNTIF(A$3:A$1002,A132)","v":0},{"$f":"IF(AND(H132,OR(D132<=10,D132>=90)),\"CHECK\",\"\")","v":""},{"$f":"IF(AND(I132>0,LEN(C132)>0,B132<>0),TRUE,FALSE)","v":false},0,0,{"$f":"IF(ISNUMBER(B132),ROUND(+B132,2),0)","v":0},{"$f":"+K132","v":0},{"$f":"IF(L132<O132,MinPoints,IF(AND(L132>N132,O132>0),100,+INT(($L132-O132)/P132)+MinPoints))","v":10},{"$f":"+O132+(P132*90)","v":2.8200000000000003},{"$f":"IF($J132=0,$S132,$W132)","v":1.02},{"$f":"IF($J132=0,$T132,$X132)","v":0.02},4,null,1.02,0.02,null,4,0.2,0.02]
[null,null,"",0,null,0,"",false,0,0,0,0,10,2.8200000000000003,1.02,0.02,4,null,1.02,0.02,null,4,0.2,0.02]
[null,null,"",0,null,0,"",false,0,0,0,0,10,2.8200000000000003,1.02,0.02,4,null,1.02,0.02,null,4,0.2,0.02]
[null,null,"",0,null,0,"",false,0,0,0,0,10,2.8200000000000003,1.02,0.02,4,null,1.02,0.02,null,4,0.2,0.02]
[null,null,"",0,null,0,"",false,0,0,0,0,10,2.8200000000000003,1.02,0.02,4,null,1.02,0.02,null,4,0.2,0.02]
[null,null,"",0,null,0,"",false,0,0,0,0,10,2.8200000000000003,1.02,0.02,4,null,1.02,0.02,null,4,0.2,0.02]
[null,null,"",0,null,0,"",false,0,0,0,0,10,2.8200000000000003,1.02,0.02,4,null,1.02,0.02,null,4,0.2,0.02]
[null,null,"",0,null,0,"",false,0,0,0,0,10,2.8200000000000003,1.02,0.02,4,null,1.02,0.02,null,4,0.2,0.02]
[null,null,"",0,null,0,"",false,0,0,0,0,10,2.8200000000000003,1.02,0.02,4,null,1.02,0.02,null,4,0.2,0.02]
[null,null,"",0,null,0,"",false,0,0,0,0,10,2.8200000000000003,1.02,0.02,4,null,1.02,0.02,null,4,0.2,0.02]
[null,null,"",0,null,0,"",false,0,0,0,0,10,2.8200000000000003,1.02,0.02,4,null,1.02,0.02,null,4,0.2,0.02]
[null,null,"",0,null,0,"",false,0,0,0,0,10,2.8200000000000003,1.02,0.02,4,null,1.02,0.02,null,4,0.2,0.02]
[null,null,"",0,null,0,"",false,0,0,0,0,10,2.8200000000000003,1.02,0.02,4,null,1.02,0.02,null,4,0.2,0.02]
[null,null,"",0,null,0,"",false,0,0,0,0,10,2.8200000000000003,1.02,0.02,4,null,1.02,0.02,null,4,0.2,0.02]
[null,null,"",0,null,0,"",false,0,0,0,0,10,2.8200000000000003,1.02,0.02,4,null,1.02,0.02,null,4,0.2,0.02]
[null,null,"",0,null,0,"",false,0,0,0,0,10,2.8200000000000003,1.02,0.02,4,null,1.02,0.02,null,4,0.2,0.02]
[null,null,"",0,null,0,"",false,0,0,0,0,10,2.8200000000000003,1.02,0.02,4,null,1.02,0.02,null,4,0.2,0.02]
[null,null,"",0,null,0,"",false,0,0,0,0,10,2.8200000000000003,1.02,0.02,4,null,1.02,0.02,null,4,0.2,0.02]
[null,null,"",0,null,0,"",false,0,0,0,0,10,2.8200000000000003,1.02,0.02,4,null,1.02,0.02,null,4,0.2,0.02]
[null,null,"",0,null,0,"",false,0,0,0,0,10,2.8200000000000003,1.02,0.02,4,null,1.02,0.02,null,4,0.2,0.02]
[null,null,"",0,null,0,"",false,0,0,0,0,10,2.8200000000000003,1.02,0.02,4,null,1.02,0.02,null,4,0.2,0.02]
[null,null,"",0,null,0,"",false,0,0,0,0,10,2.8200000000000003,1.02,0.02,4,null,1.02,0.02,null,4,0.2,0.02]
[null,null,"",0,null,0,"",false,0,0,0,0,10,2.8200000000000003,1.02,0.02,4,null,1.02,0.02,null,4,0.2,0.02]
[null,null,"",0,null,0,"",false,0,0,0,0,10,2.8200000000000003,1.02,0.02,4,null,1.02,0.02,null,4,0.2,0.02]
[null,null,"",0,null,0,"",false,0,0,0,0,10,2.8200000000000003,1.02,0.02,4,null,1.02,0.02,null,4,0.2,0.02]
[null,null,"",0,null,0,"",false,0,0,0,0,10,2.8200000000000003,1.02,0.02,4,null,1.02,0.02,null,4,0.2,0.02]
[null,null,"",0,null,0,"",false,0,0,0,0,10,2.8200000000000003,1.02,0.02,4,null,1.02,0.02,null,4,0.2,0.02]
[null,null,"",0,null,0,"",false,0,0,0,0,10,2.8200000000000003,1.02,0.02,4,null,1.02,0.02,null,4,0.2,0.02]
[null,null,"",0,null,0,"",false,0,0,0,0,10,2.8200000000000003,1.02,0.02,4,null,1.02,0.02,null,4,0.2,0.02]
[null,null,"",0,null,0,"",false,0,0,0,0,10,2.8200000000000003,1.02,0.02,4,null,1.02,0.02,null,4,0.2,0.02]
[null,null,"",0,null,0,"",false,0,0,0,0,10,2.8200000000000003,1.02,0.02,4,null,1.02,0.02,null,4,0.2,0.02]
[null,null,"",0,null,0,"",false,0,0,0,0,10,2.8200000000000003,1.02,0.02,4,null,1.02,0.02,null,4,0.2,0.02]
[null,null,"",0,null,0,"",false,0,0,0,0,10,2.8200000000000003,1.02,0.02,4,null,1.02,0.02,null,4,0.2,0.02]
[null,null,"",0,null,0,"",false,0,0,0,0,10,2.8200000000000003,1.02,0.02,4,null,1.02,0.02,null,4,0.2,0.02]
[null,null,"",0,null,0,"",false,0,0,0,0,10,2.8200000000000003,1.02,0.02,4,null,1.02,0.02,null,4,0.2,0.02]
[null,null,"",0,null,0,"",false,0,0,0,0,10,2.8200000000000003,1.02,0.02,4,null,1.02,0.02,null,4,0.2,0.02]
[null,null,"",0,null,0,"",false,0,0,0,0,10,2.8200000000000003,1.02,0.02,4,null,1.02,0.02,null,4,0.2,0.02]
[null,null,"",0,null,0,"",false,0,0,0,0,10,2.8200000000000003,1.02,0.02,4,null,1.02,0.02,null,4,0.2,0.02]
[null,null,"",0,null,0,"",false,0,0,0,0,10,2.8200000000000003,1.02,0.02,4,null,1.02,0.02,null,4,0.2,0.02]
[null,null,"",0,null,0,"",false,0,0,0,0,10,2.8200000000000003,1.02,0.02,4,null,1.02,0.02,null,4,0.2,0.02]
[null,null,"",0,null,0,"",false,0,0,0,0,10,2.8200000000000003,1.02,0.02,4,null,1.02,0.02,null,4,0.2,0.02]
[null,null,"",0,null,0,"",false,0,0,0,0,10,2.8200000000000003,1.02,0.02,4,null,1.02,0.02,null,4,0.2,0.02]
[null,null,"",0,null,0,"",false,0,0,0,0,10,2.8200000000000003,1.02,0.02,4,null,1.02,0.02,null,4,0.2,0.02]
[null,null,"",0,null,0,"",false,0,0,0,0,10,2.8200000000000003,1.02,0.02,4,null,1.02,0.02,null,4,0.2,0.02]
[null,null,"",0,null,0,"",false,0,0,0,0,10,2.8200000000000003,1.02,0.02,4,null,1.02,0.02,null,4,0.2,0.02]
[null,null,"",0,null,0,"",false,0,0,0,0,10,2.8200000000000003,1.02,0.02,4,null,1.02,0.02,null,4,0.2,0.02]
[null,null,"",0,null,0,"",false,0,0,0,0,10,2.8200000000000003,1.02,0.02,4,null,1.02,0.02,null,4,0.2,0.02]
[null,null,"",0,null,0,"",false,0,0,0,0,10,2.8200000000000003,1.02,0.02,4,null,1.02,0.02,null,4,0.2,0.02]
[null,null,"",0,null,0,"",false,0,0,0,0,10,2.8200000000000003,1.02,0.02,4,null,1.02,0.02,null,4,0.2,0.02]
[null,null,"",0,null,0,"",false,0,0,0,0,10,2.8200000000000003,1.02,0.02,4,null,1.02,0.02,null,4,0.2,0.02]
[null,null,"",0,null,0,"",false,0,0,0,0,10,2.8200000000000003,1.02,0.02,4,null,1.02,0.02,null,4,0.2,0.02]
[null,null,"",0,null,0,"",false,0,0,0,0,10,2.8200000000000003,1.02,0.02,4,null,1.02,0.02,null,4,0.2,0.02]
[null,null,"",0,null,0,"",false,0,0,0,0,10,2.8200000000000003,1.02,0.02,4,null,1.02,0.02,null,4,0.2,0.02]
[null,null,"",0,null,0,"",false,0,0,0,0,10,2.8200000000000003,1.02,0.02,4,null,1.02,0.02,null,4,0.2,0.02]
[null,null,"",0,null,0,"",false,0,0,0,0,10,2.8200000000000003,1.02,0.02,4,null,1.02,0.02,null,4,0.2,0.02]
[null,null,"",0,null,0,"",false,0,0,0,0,10,2.8200000000000003,1.02,0.02,4,null,1.02,0.02,null,4,0.2,0.02]
[null,null,"",0,null,0,"",false,0,0,0,0,10,2.8200000000000003,1.02,0.02,4,null,1.02,0.02,null,4,0.2,0.02]
[null,null,"",0,null,0,"",false,0,0,0,0,10,2.8200000000000003,1.02,0.02,4,null,1.02,0.02,null,4,0.2,0.02]
[null,null,"",0,null,0,"",false,0,0,0,0,10,2.8200000000000003,1.02,0.02,4,null,1.02,0.02,null,4,0.2,0.02]
[null,null,"",0,null,0,"",false,0,0,0,0,10,2.8200000000000003,1.02,0.02,4,null,1.02,0.02,null,4,0.2,0.02]
[null,null,"",0,null,0,"",false,0,0,0,0,10,2.8200000000000003,1.02,0.02,4,null,1.02,0.02,null,4,0.2,0.02]
[null,null,"",0,null,0,"",false,0,0,0,0,10,2.8200000000000003,1.02,0.02,4,null,1.02,0.02,null,4,0.2,0.02]
[null,null,"",0,null,0,"",false,0,0,0,0,10,2.8200000000000003,1.02,0.02,4,null,1.02,0.02,null,4,0.2,0.02]
[null,null,{"$f":"IF(I195>0,INDEX(DB,I195,8),\"\")","v":""},0,null,0,"",false,{"$f":"IF(OR(ISBLANK(A195),ISNA(MATCH(A195&\"\",AthleteNumbers,0))),0,MATCH(A195&\"\",AthleteNumbers,0))","v":0},{"$f":"IF(I195>0,INDEX(DB,$I195,6),0)","v":0},0,0,10,2.8200000000000003,1.02,0.02,{"$f":"IF(I195>0,INDEX(DB,I195,9),EventIndex)","v":4},null,{"$f":"INDEX(MINVALUES,$Q195,$K$1)","v":1.02},{"$f":"INDEX(INCVALUES,$Q195,$K$1)","v":0.02},null,{"$f":"+J195+(4*(INDEX(MatchScoreTable,$Q195,20)-1))","v":4},{"$f":"INDEX(INC_MINVALUES,$V195,$K$1)","v":0.2},{"$f":"INDEX(INC_INCVALUES,$V195,$K$1)","v":0.02}]
[null,null,"",{"$f":"IF(AND(H196,B196<>0,ISNUMBER(B196)),IF(ISERR(M196),0,M196),0)","v":0},null,{"$f":"COUNTIF(A$3:A$1002,A196)","v":0},{"$f":"IF(AND(H196,OR(D196<=10,D196>=90)),\"CHECK\",\"\")","v":""},{"$f":"IF(AND(I196>0,LEN(C196)>0,B196<>0),TRUE,FALSE)","v":false},0,0,{"$f":"IF(ISNUMBER(B196),ROUND(+B196,2),0)","v":0},{"$f":"+K196","v":0},{"$f":"IF(L196<O196,MinPoints,IF(AND(L196>N196,O196>0),100,+INT(($L196-O196)/P196)+MinPoints))","v":10},{"$f":"+O196+(P196*90)","v":2.8200000000000003},{"$f":"IF($J196=0,$S196,$W196)","v":1.02},{"$f":"IF($J196=0,$T196,$X196)","v":0.02},4,null,1.02,0.02,null,4,0.2,0.02]
[null,null,"",0,null,0,"",false,0,0,0,0,10,2.8200000000000003,1.02,0.02,4,null,1.02,0.02,null,4,0.2,0.02]
[null,null,"",0,null,0,"",false,0,0,0,0,10,2.8200000000000003,1.02,0.02,4,null,1.02,0.02,null,4,0.2,0.02]
[null,null,"",0,null,0,"",false,0,0,0,0,10,2.8200000000000003,1.02,0.02,4,null,1.02,0.02,null,4,0.2,0.02]
[null,null,"",0,null,0,"",false,0,0,0,0,10,2.8200000000000003,1.02,0.02,4,null,1.02,0.02,null,4,0.2,0.02]
[null,null,"",0,null,0,"",false,0,0,0,0,10,2.8200000000000003,1.02,0.02,4,null,1.02,0.02,null,4,0.2,0.02]
[null,null,"",0,null,0,"",false,0,0,0,0,10,2.8200000000000003,1.02,0.02,4,null,1.02,0.02,null,4,0.2,0.02]
[null,null,"",0,null,0,"",false,0,0,0,0,10,2.8200000000000003,1.02,0.02,4,null,1.02,0.02,null,4,0.2,0.02]
[null,null,"",0,null,0,"",false,0,0,0,0,10,2.8200000000000003,1.02,0.02,4,null,1.02,0.02,null,4,0.2,0.02]
[null,null,"",0,null,0,"",false,0,0,0,0,10,2.8200000000000003,1.02,0.02,4,null,1.02,0.02,null,4,0.2,0.02]
[null,null,"",0,null,0,"",false,0,0,0,0,10,2.8200000000000003,1.02,0.02,4,null,1.02,0.02,null,4,0.2,0.02]
[null,null,"",0,null,0,"",false,0,0,0,0,10,2.8200000000000003,1.02,0.02,4,null,1.02,0.02,null,4,0.2,0.02]
[null,null,"",0,null,0,"",false,0,0,0,0,10,2.8200000000000003,1.02,0.02,4,null,1.02,0.02,null,4,0.2,0.02]
[null,null,"",0,null,0,"",false,0,0,0,0,10,2.8200000000000003,1.02,0.02,4,null,1.02,0.02,null,4,0.2,0.02]
[null,null,"",0,null,0,"",false,0,0,0,0,10,2.8200000000000003,1.02,0.02,4,null,1.02,0.02,null,4,0.2,0.02]
[null,null,"",0,null,0,"",false,0,0,0,0,10,2.8200000000000003,1.02,0.02,4,null,1.02,0.02,null,4,0.2,0.02]
[null,null,"",0,null,0,"",false,0,0,0,0,10,2.8200000000000003,1.02,0.02,4,null,1.02,0.02,null,4,0.2,0.02]
[null,null,"",0,null,0,"",false,0,0,0,0,10,2.8200000000000003,1.02,0.02,4,null,1.02,0.02,null,4,0.2,0.02]
[null,null,"",0,null,0,"",false,0,0,0,0,10,2.8200000000000003,1.02,0.02,4,null,1.02,0.02,null,4,0.2,0.02]
[null,null,"",0,null,0,"",false,0,0,0,0,10,2.8200000000000003,1.02,0.02,4,null,1.02,0.02,null,4,0.2,0.02]
[null,null,"",0,null,0,"",false,0,0,0,0,10,2.8200000000000003,1.02,0.02,4,null,1.02,0.02,null,4,0.2,0.02]
[null,null,"",0,null,0,"",false,0,0,0,0,10,2.8200000000000003,1.02,0.02,4,null,1.02,0.02,null,4,0.2,0.02]
[null,null,"",0,null,0,"",false,0,0,0,0,10,2.8200000000000003,1.02,0.02,4,null,1.02,0.02,null,4,0.2,0.02]
[null,null,"",0,null,0,"",false,0,0,0,0,10,2.8200000000000003,1.02,0.02,4,null,1.02,0.02,null,4,0.2,0.02]
[null,null,"",0,null,0,"",false,0,0,0,0,10,2.8200000000000003,1.02,0.02,4,null,1.02,0.02,null,4,0.2,0.02]
[null,null,"",0,null,0,"",false,0,0,0,0,10,2.8200000000000003,1.02,0.02,4,null,1.02,0.02,null,4,0.2,0.02]
[null,null,"",0,null,0,"",false,0,0,0,0,10,2.8200000000000003,1.02,0.02,4,null,1.02,0.02,null,4,0.2,0.02]
[null,null,"",0,null,0,"",false,0,0,0,0,10,2.8200000000000003,1.02,0.02,4,null,1.02,0.02,null,4,0.2,0.02]
[null,null,"",0,null,0,"",false,0,0,0,0,10,2.8200000000000003,1.02,0.02,4,null,1.02,0.02,null,4,0.2,0.02]
[null,null,"",0,null,0,"",false,0,0,0,0,10,2.8200000000000003,1.02,0.02,4,null,1.02,0.02,null,4,0.2,0.02]
[null,null,"",0,null,0,"",false,0,0,0,0,10,2.8200000000000003,1.02,0.02,4,null,1.02,0.02,null,4,0.2,0.02]
[null,null,"",0,null,0,"",false,0,0,0,0,10,2.8200000000000003,1.02,0.02,4,null,1.02,0.02,null,4,0.2,0.02]
[null,null,"",0,null,0,"",false,0,0,0,0,10,2.8200000000000003,1.02,0.02,4,null,1.02,0.02,null,4,0.2,0.02]
[null,null,"",0,null,0,"",false,0,0,0,0,10,2.8200000000000003,1.02,0.02,4,null,1.02,0.02,null,4,0.2,0.02]
[null,null,"",0,null,0,"",false,0,0,0,0,10,2.8200000000000003,1.02,0.02,4,null,1.02,0.02,null,4,0.2,0.02]
[null,null,"",0,null,0,"",false,0,0,0,0,10,2.8200000000000003,1.02,0.02,4,null,1.02,0.02,null,4,0.2,0.02]
[null,null,"",0,null,0,"",false,0,0,0,0,10,2.8200000000000003,1.02,0.02,4,null,1.02,0.02,null,4,0.2,0.02]
[null,null,"",0,null,0,"",false,0,0,0,0,10,2.8200000000000003,1.02,0.02,4,null,1.02,0.02,null,4,0.2,0.02]
[null,null,"",0,null,0,"",false,0,0,0,0,10,2.8200000000000003,1.02,0.02,4,null,1.02,0.02,null,4,0.2,0.02]
[null,null,"",0,null,0,"",false,0,0,0,0,10,2.8200000000000003,1.02,0.02,4,null,1.02,0.02,null,4,0.2,0.02]
[null,null,"",0,null,0,"",false,0,0,0,0,10,2.8200000000000003,1.02,0.02,4,null,1.02,0.02,null,4,0.2,0.02]
[null,null,"",0,null,0,"",false,0,0,0,0,10,2.8200000000000003,1.02,0.02,4,null,1.02,0.02,null,4,0.2,0.02]
[null,null,"",0,null,0,"",false,0,0,0,0,10,2.8200000000000003,1.02,0.02,4,null,1.02,0.02,null,4,0.2,0.02]
[null,null,"",0,null,0,"",false,0,0,0,0,10,2.8200000000000003,1.02,0.02,4,null,1.02,0.02,null,4,0.2,0.02]
[null,null,"",0,null,0,"",false,0,0,0,0,10,2.8200000000000003,1.02,0.02,4,null,1.02,0.02,null,4,0.2,0.02]
[null,null,"",0,null,0,"",false,0,0,0,0,10,2.8200000000000003,1.02,0.02,4,null,1.02,0.02,null,4,0.2,0.02]
[null,null,"",0,null,0,"",false,0,0,0,0,10,2.8200000000000003,1.02,0.02,4,null,1.02,0.02,null,4,0.2,0.02]
[null,null,"",0,null,0,"",false,0,0,0,0,10,2.8200000000000003,1.02,0.02,4,null,1.02,0.02,null,4,0.2,0.02]
[null,null,"",0,null,0,"",false,0,0,0,0,10,2.8200000000000003,1.02,0.02,4,null,1.02,0.02,null,4,0.2,0.02]
[null,null,"",0,null,0,"",false,0,0,0,0,10,2.8200000000000003,1.02,0.02,4,null,1.02,0.02,null,4,0.2,0.02]
[null,null,"",0,null,0,"",false,0,0,0,0,10,2.8200000000000003,1.02,0.02,4,null,1.02,0.02,null,4,0.2,0.02]
[null,null,"",0,null,0,"",false,0,0,0,0,10,2.8200000000000003,1.02,0.02,4,null,1.02,0.02,null,4,0.2,0.02]
[null,null,"",0,null,0,"",false,0,0,0,0,10,2.8200000000000003,1.02,0.02,4,null,1.02,0.02,null,4,0.2,0.02]
[null,null,"",0,null,0,"",false,0,0,0,0,10,2.8200000000000003,1.02,0.02,4,null,1.02,0.02,null,4,0.2,0.02]
[null,null,"",0,null,0,"",false,0,0,0,0,10,2.8200000000000003,1.02,0.02,4,null,1.02,0.02,null,4,0.2,0.02]
[null,null,"",0,null,0,"",false,0,0,0,0,10,2.8200000000000003,1.02,0.02,4,null,1.02,0.02,null,4,0.2,0.02]
[null,null,"",0,null,0,"",false,0,0,0,0,10,2.8200000000000003,1.02,0.02,4,null,1.02,0.02,null,4,0.2,0.02]
[null,null,"",0,null,0,"",false,0,0,0,0,10,2.8200000000000003,1.02,0.02,4,null,1.02,0.02,null,4,0.2,0.02]
[null,null,"",0,null,0,"",false,0,0,0,0,10,2.8200000000000003,1.02,0.02,4,null,1.02,0.02,null,4,0.2,0.02]
[null,null,"",0,null,0,"",false,0,0,0,0,10,2.8200000000000003,1.02,0.02,4,null,1.02,0.02,null,4,0.2,0.02]
[null,null,"",0,null,0,"",false,0,0,0,0,10,2.8200000000000003,1.02,0.02,4,null,1.02,0.02,null,4,0.2,0.02]
[null,null,"",0,null,0,"",false,0,0,0,0,10,2.8200000000000003,1.02,0.02,4,null,1.02,0.02,null,4,0.2,0.02]
[null,null,"",0,null,0,"",false,0,0,0,0,10,2.8200000000000003,1.02,0.02,4,null,1.02,0.02,null,4,0.2,0.02]
[null,null,{"$f":"IF(I259>0,INDEX(DB,I259,8),\"\")","v":""},0,null,0,"",false,{"$f":"IF(OR(ISBLANK(A259),ISNA(MATCH(A259&\"\",AthleteNumbers,0))),0,MATCH(A259&\"\",AthleteNumbers,0))","v":0},{"$f":"IF(I259>0,INDEX(DB,$I259,6),0)","v":0},0,0,10,2.8200000000000003,1.02,0.02,{"$f":"IF(I259>0,INDEX(DB,I259,9),EventIndex)","v":4},null,{"$f":"INDEX(MINVALUES,$Q259,$K$1)","v":1.02},{"$f":"INDEX(INCVALUES,$Q259,$K$1)","v":0.02},null,{"$f":"+J259+(4*(INDEX(MatchScoreTable,$Q259,20)-1))","v":4},{"$f":"INDEX(INC_MINVALUES,$V259,$K$1)","v":0.2},{"$f":"INDEX(INC_INCVALUES,$V259,$K$1)","v":0.02}]
[null,null,"",{"$f":"IF(AND(H260,B260<>0,ISNUMBER(B260)),IF(ISERR(M260),0,M260),0)","v":0},null,{"$f":"COUNTIF(A$3:A$1002,A260)","v":0},{"$f":"IF(AND(H260,OR(D260<=10,D260>=90)),\"CHECK\",\"\")","v":""},{"$f":"IF(AND(I260>0,LEN(C260)>0,B260<>0),TRUE,FALSE)","v":false},0,0,{"$f":"IF(ISNUMBER(B260),ROUND(+B260,2),0)","v":0},{"$f":"+K260","v":0},{"$f":"IF(L260<O260,MinPoints,IF(AND(L260>N260,O260>0),100,+INT(($L260-O260)/P260)+MinPoints))","v":10},{"$f":"+O260+(P260*90)","v":2.8200000000000003},{"$f":"IF($J260=0,$S260,$W260)","v":1.02},{"$f":"IF($J260=0,$T260,$X260)","v":0.02},4,null,1.02,0.02,null,4,0.2,0.02]
[null,null,"",0,null,0,"",false,0,0,0,0,10,2.8200000000000003,1.02,0.02,4,null,1.02,0.02,null,4,0.2,0.02]
[null,null,"",0,null,0,"",false,0,0,0,0,10,2.8200000000000003,1.02,0.02,4,null,1.02,0.02,null,4,0.2,0.02]
[null,null,"",0,null,0,"",false,0,0,0,0,10,2.8200000000000003,1.02,0.02,4,null,1.02,0.02,null,4,0.2,0.02]
[null,null,"",0,null,0,"",false,0,0,0,0,10,2.8200000000000003,1.02,0.02,4,null,1.02,0.02,null,4,0.2,0.02]
[null,null,"",0,null,0,"",false,0,0,0,0,10,2.8200000000000003,1.02,0.02,4,null,1.02,0.02,null,4,0.2,0.02]
[null,null,"",0,null,0,"",false,0,0,0,0,10,2.8200000000000003,1.02,0.02,4,null,1.02,0.02,null,4,0.2,0.02]
[null,null,"",0,null,0,"",false,0,0,0,0,10,2.8200000000000003,1.02,0.02,4,null,1.02,0.02,null,4,0.2,0.02]
[null,null,"",0,null,0,"",false,0,0,0,0,10,2.8200000000000003,1.02,0.02,4,null,1.02,0.02,null,4,0.2,0.02]
[null,null,"",0,null,0,"",false,0,0,0,0,10,2.8200000000000003,1.02,0.02,4,null,1.02,0.02,null,4,0.2,0.02]
[null,null,"",0,null,0,"",false,0,0,0,0,10,2.8200000000000003,1.02,0.02,4,null,1.02,0.02,null,4,0.2,0.02]
[null,null,"",0,null,0,"",false,0,0,0,0,10,2.8200000000000003,1.02,0.02,4,null,1.02,0.02,null,4,0.2,0.02]
[null,null,"",0,null,0,"",false,0,0,0,0,10,2.8200000000000003,1.02,0.02,4,null,1.02,0.02,null,4,0.2,0.02]
[null,null,"",0,null,0,"",false,0,0,0,0,10,2.8200000000000003,1.02,0.02,4,null,1.02,0.02,null,4,0.2,0.02]
[null,null,"",0,null,0,"",false,0,0,0,0,10,2.8200000000000003,1.02,0.02,4,null,1.02,0.02,null,4,0.2,0.02]
[null,null,"",0,null,0,"",false,0,0,0,0,10,2.8200000000000003,1.02,0.02,4,null,1.02,0.02,null,4,0.2,0.02]
[null,null,"",0,null,0,"",false,0,0,0,0,10,2.8200000000000003,1.02,0.02,4,null,1.02,0.02,null,4,0.2,0.02]
[null,null,"",0,null,0,"",false,0,0,0,0,10,2.8200000000000003,1.02,0.02,4,null,1.02,0.02,null,4,0.2,0.02]
[null,null,"",0,null,0,"",false,0,0,0,0,10,2.8200000000000003,1.02,0.02,4,null,1.02,0.02,null,4,0.2,0.02]
[null,null,"",0,null,0,"",false,0,0,0,0,10,2.8200000000000003,1.02,0.02,4,null,1.02,0.02,null,4,0.2,0.02]
[null,null,"",0,null,0,"",false,0,0,0,0,10,2.8200000000000003,1.02,0.02,4,null,1.02,0.02,null,4,0.2,0.02]
[null,null,"",0,null,0,"",false,0,0,0,0,10,2.8200000000000003,1.02,0.02,4,null,1.02,0.02,null,4,0.2,0.02]
[null,null,"",0,null,0,"",false,0,0,0,0,10,2.8200000000000003,1.02,0.02,4,null,1.02,0.02,null,4,0.2,0.02]
[null,null,"",0,null,0,"",false,0,0,0,0,10,2.8200000000000003,1.02,0.02,4,null,1.02,0.02,null,4,0.2,0.02]
[null,null,"",0,null,0,"",false,0,0,0,0,10,2.8200000000000003,1.02,0.02,4,null,1.02,0.02,null,4,0.2,0.02]
[null,null,"",0,null,0,"",false,0,0,0,0,10,2.8200000000000003,1.02,0.02,4,null,1.02,0.02,null,4,0.2,0.02]
[null,null,"",0,null,0,"",false,0,0,0,0,10,2.8200000000000003,1.02,0.02,4,null,1.02,0.02,null,4,0.2,0.02]
[null,null,"",0,null,0,"",false,0,0,0,0,10,2.8200000000000003,1.02,0.02,4,null,1.02,0.02,null,4,0.2,0.02]
[null,null,"",0,null,0,"",false,0,0,0,0,10,2.8200000000000003,1.02,0.02,4,null,1.02,0.02,null,4,0.2,0.02]
[null,null,"",0,null,0,"",false,0,0,0,0,10,2.8200000000000003,1.02,0.02,4,null,1.02,0.02,null,4,0.2,0.02]
[null,null,"",0,null,0,"",false,0,0,0,0,10,2.8200000000000003,1.02,0.02,4,null,1.02,0.02,null,4,0.2,0.02]
[null,null,"",0,null,0,"",false,0,0,0,0,10,2.8200000000000003,1.02,0.02,4,null,1.02,0.02,null,4,0.2,0.02]
[null,null,"",0,null,0,"",false,0,0,0,0,10,2.8200000000000003,1.02,0.02,4,null,1.02,0.02,null,4,0.2,0.02]
[null,null,"",0,null,0,"",false,0,0,0,0,10,2.8200000000000003,1.02,0.02,4,null,1.02,0.02,null,4,0.2,0.02]
[null,null,"",0,null,0,"",false,0,0,0,0,10,2.8200000000000003,1.02,0.02,4,null,1.02,0.02,null,4,0.2,0.02]
[null,null,"",0,null,0,"",false,0,0,0,0,10,2.8200000000000003,1.02,0.02,4,null,1.02,0.02,null,4,0.2,0.02]
[null,null,"",0,null,0,"",false,0,0,0,0,10,2.8200000000000003,1.02,0.02,4,null,1.02,0.02,null,4,0.2,0.02]
[null,null,"",0,null,0,"",false,0,0,0,0,10,2.8200000000000003,1.02,0.02,4,null,1.02,0.02,null,4,0.2,0.02]
[null,null,"",0,null,0,"",false,0,0,0,0,10,2.8200000000000003,1.02,0.02,4,null,1.02,0.02,null,4,0.2,0.02]
[null,null,"",0,null,0,"",false,0,0,0,0,10,2.8200000000000003,1.02,0.02,4,null,1.02,0.02,null,4,0.2,0.02]
[null,null,"",0,null,0,"",false,0,0,0,0,10,2.8200000000000003,1.02,0.02,4,null,1.02,0.02,null,4,0.2,0.02]
[null,null,"",0,null,0,"",false,0,0,0,0,10,2.8200000000000003,1.02,0.02,4,null,1.02,0.02,null,4,0.2,0.02]
[null,null,"",0,null,0,"",false,0,0,0,0,10,2.8200000000000003,1.02,0.02,4,null,1.02,0.02,null,4,0.2,0.02]
[null,null,"",0,null,0,"",false,0,0,0,0,10,2.8200000000000003,1.02,0.02,4,null,1.02,0.02,null,4,0.2,0.02]
[null,null,"",0,null,0,"",false,0,0,0,0,10,2.8200000000000003,1.02,0.02,4,null,1.02,0.02,null,4,0.2,0.02]
[null,null,"",0,null,0,"",false,0,0,0,0,10,2.8200000000000003,1.02,0.02,4,null,1.02,0.02,null,4,0.2,0.02]
[null,null,"",0,null,0,"",false,0,0,0,0,10,2.8200000000000003,1.02,0.02,4,null,1.02,0.02,null,4,0.2,0.02]
[null,null,"",0,null,0,"",false,0,0,0,0,10,2.8200000000000003,1.02,0.02,4,null,1.02,0.02,null,4,0.2,0.02]
[null,null,"",0,null,0,"",false,0,0,0,0,10,2.8200000000000003,1.02,0.02,4,null,1.02,0.02,null,4,0.2,0.02]
[null,null,"",0,null,0,"",false,0,0,0,0,10,2.8200000000000003,1.02,0.02,4,null,1.02,0.02,null,4,0.2,0.02]
[null,null,"",0,null,0,"",false,0,0,0,0,10,2.8200000000000003,1.02,0.02,4,null,1.02,0.02,null,4,0.2,0.02]
[null,null,"",0,null,0,"",false,0,0,0,0,10,2.8200000000000003,1.02,0.02,4,null,1.02,0.02,null,4,0.2,0.02]
[null,null,"",0,null,0,"",false,0,0,0,0,10,2.8200000000000003,1.02,0.02,4,null,1.02,0.02,null,4,0.2,0.02]
[null,null,"",0,null,0,"",false,0,0,0,0,10,2.8200000000000003,1.02,0.02,4,null,1.02,0.02,null,4,0.2,0.02]
[null,null,"",0,null,0,"",false,0,0,0,0,10,2.8200000000000003,1.02,0.02,4,null,1.02,0.02,null,4,0.2,0.02]
[null,null,"",0,null,0,"",false,0,0,0,0,10,2.8200000000000003,1.02,0.02,4,null,1.02,0.02,null,4,0.2,0.02]
[null,null,"",0,null,0,"",false,0,0,0,0,10,2.8200000000000003,1.02,0.02,4,null,1.02,0.02,null,4,0.2,0.02]
[null,null,"",0,null,0,"",false,0,0,0,0,10,2.8200000000000003,1.02,0.02,4,null,1.02,0.02,null,4,0.2,0.02]
[null,null,"",0,null,0,"",false,0,0,0,0,10,2.8200000000000003,1.02,0.02,4,null,1.02,0.02,null,4,0.2,0.02]
[null,null,"",0,null,0,"",false,0,0,0,0,10,2.8200000000000003,1.02,0.02,4,null,1.02,0.02,null,4,0.2,0.02]
[null,null,"",0,null,0,"",false,0,0,0,0,10,2.8200000000000003,1.02,0.02,4,null,1.02,0.02,null,4,0.2,0.02]
[null,null,"",0,null,0,"",false,0,0,0,0,10,2.8200000000000003,1.02,0.02,4,null,1.02,0.02,null,4,0.2,0.02]
[null,null,"",0,null,0,"",false,0,0,0,0,10,2.8200000000000003,1.02,0.02,4,null,1.02,0.02,null,4,0.2,0.02]
[null,null,{"$f":"IF(I323>0,INDEX(DB,I323,8),\"\")","v":""},0,null,0,"",false,{"$f":"IF(OR(ISBLANK(A323),ISNA(MATCH(A323&\"\",AthleteNumbers,0))),0,MATCH(A323&\"\",AthleteNumbers,0))","v":0},{"$f":"IF(I323>0,INDEX(DB,$I323,6),0)","v":0},0,0,10,2.8200000000000003,1.02,0.02,{"$f":"IF(I323>0,INDEX(DB,I323,9),EventIndex)","v":4},null,{"$f":"INDEX(MINVALUES,$Q323,$K$1)","v":1.02},{"$f":"INDEX(INCVALUES,$Q323,$K$1)","v":0.02},null,{"$f":"+J323+(4*(INDEX(MatchScoreTable,$Q323,20)-1))","v":4},{"$f":"INDEX(INC_MINVALUES,$V323,$K$1)","v":0.2},{"$f":"INDEX(INC_INCVALUES,$V323,$K$1)","v":0.02}]
[null,null,"",{"$f":"IF(AND(H324,B324<>0,ISNUMBER(B324)),IF(ISERR(M324),0,M324),0)","v":0},null,{"$f":"COUNTIF(A$3:A$1002,A324)","v":0},{"$f":"IF(AND(H324,OR(D324<=10,D324>=90)),\"CHECK\",\"\")","v":""},{"$f":"IF(AND(I324>0,LEN(C324)>0,B324<>0),TRUE,FALSE)","v":false},0,0,{"$f":"IF(ISNUMBER(B324),ROUND(+B324,2),0)","v":0},{"$f":"+K324","v":0},{"$f":"IF(L324<O324,MinPoints,IF(AND(L324>N324,O324>0),100,+INT(($L324-O324)/P324)+MinPoints))","v":10},{"$f":"+O324+(P324*90)","v":2.8200000000000003},{"$f":"IF($J324=0,$S324,$W324)","v":1.02},{"$f":"IF($J324=0,$T324,$X324)","v":0.02},4,null,1.02,0.02,null,4,0.2,0.02]
[null,null,"",0,null,0,"",false,0,0,0,0,10,2.8200000000000003,1.02,0.02,4,null,1.02,0.02,null,4,0.2,0.02]
[null,null,"",0,null,0,"",false,0,0,0,0,10,2.8200000000000003,1.02,0.02,4,null,1.02,0.02,null,4,0.2,0.02]
[null,null,"",0,null,0,"",false,0,0,0,0,10,2.8200000000000003,1.02,0.02,4,null,1.02,0.02,null,4,0.2,0.02]
[null,null,"",0,null,0,"",false,0,0,0,0,10,2.8200000000000003,1.02,0.02,4,null,1.02,0.02,null,4,0.2,0.02]
[null,null,"",0,null,0,"",false,0,0,0,0,10,2.8200000000000003,1.02,0.02,4,null,1.02,0.02,null,4,0.2,0.02]
[null,null,"",0,null,0,"",false,0,0,0,0,10,2.8200000000000003,1.02,0.02,4,null,1.02,0.02,null,4,0.2,0.02]
[null,null,"",0,null,0,"",false,0,0,0,0,10,2.8200000000000003,1.02,0.02,4,null,1.02,0.02,null,4,0.2,0.02]
[null,null,"",0,null,0,"",false,0,0,0,0,10,2.8200000000000003,1.02,0.02,4,null,1.02,0.02,null,4,0.2,0.02]
[null,null,"",0,null,0,"",false,0,0,0,0,10,2.8200000000000003,1.02,0.02,4,null,1.02,0.02,null,4,0.2,0.02]
[null,null,"",0,null,0,"",false,0,0,0,0,10,2.8200000000000003,1.02,0.02,4,null,1.02,0.02,null,4,0.2,0.02]
[null,null,"",0,null,0,"",false,0,0,0,0,10,2.8200000000000003,1.02,0.02,4,null,1.02,0.02,null,4,0.2,0.02]
[null,null,"",0,null,0,"",false,0,0,0,0,10,2.8200000000000003,1.02,0.02,4,null,1.02,0.02,null,4,0.2,0.02]
[null,null,"",0,null,0,"",false,0,0,0,0,10,2.8200000000000003,1.02,0.02,4,null,1.02,0.02,null,4,0.2,0.02]
[null,null,"",0,null,0,"",false,0,0,0,0,10,2.8200000000000003,1.02,0.02,4,null,1.02,0.02,null,4,0.2,0.02]
[null,null,"",0,null,0,"",false,0,0,0,0,10,2.8200000000000003,1.02,0.02,4,null,1.02,0.02,null,4,0.2,0.02]
[null,null,"",0,null,0,"",false,0,0,0,0,10,2.8200000000000003,1.02,0.02,4,null,1.02,0.02,null,4,0.2,0.02]
[null,null,"",0,null,0,"",false,0,0,0,0,10,2.8200000000000003,1.02,0.02,4,null,1.02,0.02,null,4,0.2,0.02]
[null,null,"",0,null,0,"",false,0,0,0,0,10,2.8200000000000003,1.02,0.02,4,null,1.02,0.02,null,4,0.2,0.02]
[null,null,"",0,null,0,"",false,0,0,0,0,10,2.8200000000000003,1.02,0.02,4,null,1.02,0.02,null,4,0.2,0.02]
[null,null,"",0,null,0,"",false,0,0,0,0,10,2.8200000000000003,1.02,0.02,4,null,1.02,0.02,null,4,0.2,0.02]
[null,null,"",0,null,0,"",false,0,0,0,0,10,2.8200000000000003,1.02,0.02,4,null,1.02,0.02,null,4,0.2,0.02]
[null,null,"",0,null,0,"",false,0,0,0,0,10,2.8200000000000003,1.02,0.02,4,null,1.02,0.02,null,4,0.2,0.02]
[null,null,"",0,null,0,"",false,0,0,0,0,10,2.8200000000000003,1.02,0.02,4,null,1.02,0.02,null,4,0.2,0.02]
[null,null,"",0,null,0,"",false,0,0,0,0,10,2.8200000000000003,1.02,0.02,4,null,1.02,0.02,null,4,0.2,0.02]
[null,null,"",0,null,0,"",false,0,0,0,0,10,2.8200000000000003,1.02,0.02,4,null,1.02,0.02,null,4,0.2,0.02]
[null,null,"",0,null,0,"",false,0,0,0,0,10,2.8200000000000003,1.02,0.02,4,null,1.02,0.02,null,4,0.2,0.02]
[null,null,"",0,null,0,"",false,0,0,0,0,10,2.8200000000000003,1.02,0.02,4,null,1.02,0.02,null,4,0.2,0.02]
[null,null,"",0,null,0,"",false,0,0,0,0,10,2.8200000000000003,1.02,0.02,4,null,1.02,0.02,null,4,0.2,0.02]
[null,null,"",0,null,0,"",false,0,0,0,0,10,2.8200000000000003,1.02,0.02,4,null,1.02,0.02,null,4,0.2,0.02]
[null,null,"",0,null,0,"",false,0,0,0,0,10,2.8200000000000003,1.02,0.02,4,null,1.02,0.02,null,4,0.2,0.02]
[null,null,"",0,null,0,"",false,0,0,0,0,10,2.8200000000000003,1.02,0.02,4,null,1.02,0.02,null,4,0.2,0.02]
[null,null,"",0,null,0,"",false,0,0,0,0,10,2.8200000000000003,1.02,0.02,4,null,1.02,0.02,null,4,0.2,0.02]
[null,null,"",0,null,0,"",false,0,0,0,0,10,2.8200000000000003,1.02,0.02,4,null,1.02,0.02,null,4,0.2,0.02]
[null,null,"",0,null,0,"",false,0,0,0,0,10,2.8200000000000003,1.02,0.02,4,null,1.02,0.02,null,4,0.2,0.02]
[null,null,"",0,null,0,"",false,0,0,0,0,10,2.8200000000000003,1.02,0.02,4,null,1.02,0.02,null,4,0.2,0.02]
[null,null,"",0,null,0,"",false,0,0,0,0,10,2.8200000000000003,1.02,0.02,4,null,1.02,0.02,null,4,0.2,0.02]
[null,null,"",0,null,0,"",false,0,0,0,0,10,2.8200000000000003,1.02,0.02,4,null,1.02,0.02,null,4,0.2,0.02]
[null,null,"",0,null,0,"",false,0,0,0,0,10,2.8200000000000003,1.02,0.02,4,null,1.02,0.02,null,4,0.2,0.02]
[null,null,"",0,null,0,"",false,0,0,0,0,10,2.8200000000000003,1.02,0.02,4,null,1.02,0.02,null,4,0.2,0.02]
[null,null,"",0,null,0,"",false,0,0,0,0,10,2.8200000000000003,1.02,0.02,4,null,1.02,0.02,null,4,0.2,0.02]
[null,null,"",0,null,0,"",false,0,0,0,0,10,2.8200000000000003,1.02,0.02,4,null,1.02,0.02,null,4,0.2,0.02]
[null,null,"",0,null,0,"",false,0,0,0,0,10,2.8200000000000003,1.02,0.02,4,null,1.02,0.02,null,4,0.2,0.02]
[null,null,"",0,null,0,"",false,0,0,0,0,10,2.8200000000000003,1.02,0.02,4,null,1.02,0.02,null,4,0.2,0.02]
[null,null,"",0,null,0,"",false,0,0,0,0,10,2.8200000000000003,1.02,0.02,4,null,1.02,0.02,null,4,0.2,0.02]
[null,null,"",0,null,0,"",false,0,0,0,0,10,2.8200000000000003,1.02,0.02,4,null,1.02,0.02,null,4,0.2,0.02]
[null,null,"",0,null,0,"",false,0,0,0,0,10,2.8200000000000003,1.02,0.02,4,null,1.02,0.02,null,4,0.2,0.02]
[null,null,"",0,null,0,"",false,0,0,0,0,10,2.8200000000000003,1.02,0.02,4,null,1.02,0.02,null,4,0.2,0.02]
[null,null,"",0,null,0,"",false,0,0,0,0,10,2.8200000000000003,1.02,0.02,4,null,1.02,0.02,null,4,0.2,0.02]
[null,null,"",0,null,0,"",false,0,0,0,0,10,2.8200000000000003,1.02,0.02,4,null,1.02,0.02,null,4,0.2,0.02]
[null,null,"",0,null,0,"",false,0,0,0,0,10,2.8200000000000003,1.02,0.02,4,null,1.02,0.02,null,4,0.2,0.02]
[null,null,"",0,null,0,"",false,0,0,0,0,10,2.8200000000000003,1.02,0.02,4,null,1.02,0.02,null,4,0.2,0.02]
[null,null,"",0,null,0,"",false,0,0,0,0,10,2.8200000000000003,1.02,0.02,4,null,1.02,0.02,null,4,0.2,0.02]
[null,null,"",0,null,0,"",false,0,0,0,0,10,2.8200000000000003,1.02,0.02,4,null,1.02,0.02,null,4,0.2,0.02]
[null,null,"",0,null,0,"",false,0,0,0,0,10,2.8200000000000003,1.02,0.02,4,null,1.02,0.02,null,4,0.2,0.02]
[null,null,"",0,null,0,"",false,0,0,0,0,10,2.8200000000000003,1.02,0.02,4,null,1.02,0.02,null,4,0.2,0.02]
[null,null,"",0,null,0,"",false,0,0,0,0,10,2.8200000000000003,1.02,0.02,4,null,1.02,0.02,null,4,0.2,0.02]
[null,null,"",0,null,0,"",false,0,0,0,0,10,2.8200000000000003,1.02,0.02,4,null,1.02,0.02,null,4,0.2,0.02]
[null,null,"",0,null,0,"",false,0,0,0,0,10,2.8200000000000003,1.02,0.02,4,null,1.02,0.02,null,4,0.2,0.02]
[null,null,"",0,null,0,"",false,0,0,0,0,10,2.8200000000000003,1.02,0.02,4,null,1.02,0.02,null,4,0.2,0.02]
[null,null,"",0,null,0,"",false,0,0,0,0,10,2.8200000000000003,1.02,0.02,4,null,1.02,0.02,null,4,0.2,0.02]
[null,null,"",0,null,0,"",false,0,0,0,0,10,2.8200000000000003,1.02,0.02,4,null,1.02,0.02,null,4,0.2,0.02]
[null,null,"",0,null,0,"",false,0,0,0,0,10,2.8200000000000003,1.02,0.02,4,null,1.02,0.02,null,4,0.2,0.02]
[null,null,{"$f":"IF(I387>0,INDEX(DB,I387,8),\"\")","v":""},0,null,0,"",false,{"$f":"IF(OR(ISBLANK(A387),ISNA(MATCH(A387&\"\",AthleteNumbers,0))),0,MATCH(A387&\"\",AthleteNumbers,0))","v":0},{"$f":"IF(I387>0,INDEX(DB,$I387,6),0)","v":0},0,0,10,2.8200000000000003,1.02,0.02,{"$f":"IF(I387>0,INDEX(DB,I387,9),EventIndex)","v":4},null,{"$f":"INDEX(MINVALUES,$Q387,$K$1)","v":1.02},{"$f":"INDEX(INCVALUES,$Q387,$K$1)","v":0.02},null,{"$f":"+J387+(4*(INDEX(MatchScoreTable,$Q387,20)-1))","v":4},{"$f":"INDEX(INC_MINVALUES,$V387,$K$1)","v":0.2},{"$f":"INDEX(INC_INCVALUES,$V387,$K$1)","v":0.02}]
[null,null,"",{"$f":"IF(AND(H388,B388<>0,ISNUMBER(B388)),IF(ISERR(M388),0,M388),0)","v":0},null,{"$f":"COUNTIF(A$3:A$1002,A388)","v":0},{"$f":"IF(AND(H388,OR(D388<=10,D388>=90)),\"CHECK\",\"\")","v":""},{"$f":"IF(AND(I388>0,LEN(C388)>0,B388<>0),TRUE,FALSE)","v":false},0,0,{"$f":"IF(ISNUMBER(B388),ROUND(+B388,2),0)","v":0},{"$f":"+K388","v":0},{"$f":"IF(L388<O388,MinPoints,IF(AND(L388>N388,O388>0),100,+INT(($L388-O388)/P388)+MinPoints))","v":10},{"$f":"+O388+(P388*90)","v":2.8200000000000003},{"$f":"IF($J388=0,$S388,$W388)","v":1.02},{"$f":"IF($J388=0,$T388,$X388)","v":0.02},4,null,1.02,0.02,null,4,0.2,0.02]
[null,null,"",0,null,0,"",false,0,0,0,0,10,2.8200000000000003,1.02,0.02,4,null,1.02,0.02,null,4,0.2,0.02]
[null,null,"",0,null,0,"",false,0,0,0,0,10,2.8200000000000003,1.02,0.02,4,null,1.02,0.02,null,4,0.2,0.02]
[null,null,"",0,null,0,"",false,0,0,0,0,10,2.8200000000000003,1.02,0.02,4,null,1.02,0.02,null,4,0.2,0.02]
[null,null,"",0,null,0,"",false,0,0,0,0,10,2.8200000000000003,1.02,0.02,4,null,1.02,0.02,null,4,0.2,0.02]
[null,null,"",0,null,0,"",false,0,0,0,0,10,2.8200000000000003,1.02,0.02,4,null,1.02,0.02,null,4,0.2,0.02]
[null,null,"",0,null,0,"",false,0,0,0,0,10,2.8200000000000003,1.02,0.02,4,null,1.02,0.02,null,4,0.2,0.02]
[null,null,"",0,null,0,"",false,0,0,0,0,10,2.8200000000000003,1.02,0.02,4,null,1.02,0.02,null,4,0.2,0.02]
[null,null,"",0,null,0,"",false,0,0,0,0,10,2.8200000000000003,1.02,0.02,4,null,1.02,0.02,null,4,0.2,0.02]
[null,null,"",0,null,0,"",false,0,0,0,0,10,2.8200000000000003,1.02,0.02,4,null,1.02,0.02,null,4,0.2,0.02]
[null,null,"",0,null,0,"",false,0,0,0,0,10,2.8200000000000003,1.02,0.02,4,null,1.02,0.02,null,4,0.2,0.02]
[null,null,"",0,null,0,"",false,0,0,0,0,10,2.8200000000000003,1.02,0.02,4,null,1.02,0.02,null,4,0.2,0.02]
[null,null,"",0,null,0,"",false,0,0,0,0,10,2.8200000000000003,1.02,0.02,4,null,1.02,0.02,null,4,0.2,0.02]
[null,null,"",0,null,0,"",false,0,0,0,0,10,2.8200000000000003,1.02,0.02,4,null,1.02,0.02,null,4,0.2,0.02]
[null,null,"",0,null,0,"",false,0,0,0,0,10,2.8200000000000003,1.02,0.02,4,null,1.02,0.02,null,4,0.2,0.02]
[null,null,"",0,null,0,"",false,0,0,0,0,10,2.8200000000000003,1.02,0.02,4,null,1.02,0.02,null,4,0.2,0.02]
[null,null,"",0,null,0,"",false,0,0,0,0,10,2.8200000000000003,1.02,0.02,4,null,1.02,0.02,null,4,0.2,0.02]
[null,null,"",0,null,0,"",false,0,0,0,0,10,2.8200000000000003,1.02,0.02,4,null,1.02,0.02,null,4,0.2,0.02]
[null,null,"",0,null,0,"",false,0,0,0,0,10,2.8200000000000003,1.02,0.02,4,null,1.02,0.02,null,4,0.2,0.02]
[null,null,"",0,null,0,"",false,0,0,0,0,10,2.8200000000000003,1.02,0.02,4,null,1.02,0.02,null,4,0.2,0.02]
[null,null,"",0,null,0,"",false,0,0,0,0,10,2.8200000000000003,1.02,0.02,4,null,1.02,0.02,null,4,0.2,0.02]
[null,null,"",0,null,0,"",false,0,0,0,0,10,2.8200000000000003,1.02,0.02,4,null,1.02,0.02,null,4,0.2,0.02]
[null,null,"",0,null,0,"",false,0,0,0,0,10,2.8200000000000003,1.02,0.02,4,null,1.02,0.02,null,4,0.2,0.02]
[null,null,"",0,null,0,"",false,0,0,0,0,10,2.8200000000000003,1.02,0.02,4,null,1.02,0.02,null,4,0.2,0.02]
[null,null,"",0,null,0,"",false,0,0,0,0,10,2.8200000000000003,1.02,0.02,4,null,1.02,0.02,null,4,0.2,0.02]
[null,null,"",0,null,0,"",false,0,0,0,0,10,2.8200000000000003,1.02,0.02,4,null,1.02,0.02,null,4,0.2,0.02]
[null,null,"",0,null,0,"",false,0,0,0,0,10,2.8200000000000003,1.02,0.02,4,null,1.02,0.02,null,4,0.2,0.02]
[null,null,"",0,null,0,"",false,0,0,0,0,10,2.8200000000000003,1.02,0.02,4,null,1.02,0.02,null,4,0.2,0.02]
[null,null,"",0,null,0,"",false,0,0,0,0,10,2.8200000000000003,1.02,0.02,4,null,1.02,0.02,null,4,0.2,0.02]
[null,null,"",0,null,0,"",false,0,0,0,0,10,2.8200000000000003,1.02,0.02,4,null,1.02,0.02,null,4,0.2,0.02]
[null,null,"",0,null,0,"",false,0,0,0,0,10,2.8200000000000003,1.02,0.02,4,null,1.02,0.02,null,4,0.2,0.02]
[null,null,"",0,null,0,"",false,0,0,0,0,10,2.8200000000000003,1.02,0.02,4,null,1.02,0.02,null,4,0.2,0.02]
[null,null,"",0,null,0,"",false,0,0,0,0,10,2.8200000000000003,1.02,0.02,4,null,1.02,0.02,null,4,0.2,0.02]
[null,null,"",0,null,0,"",false,0,0,0,0,10,2.8200000000000003,1.02,0.02,4,null,1.02,0.02,null,4,0.2,0.02]
[null,null,"",0,null,0,"",false,0,0,0,0,10,2.8200000000000003,1.02,0.02,4,null,1.02,0.02,null,4,0.2,0.02]
[null,null,"",0,null,0,"",false,0,0,0,0,10,2.8200000000000003,1.02,0.02,4,null,1.02,0.02,null,4,0.2,0.02]
[null,null,"",0,null,0,"",false,0,0,0,0,10,2.8200000000000003,1.02,0.02,4,null,1.02,0.02,null,4,0.2,0.02]
[null,null,"",0,null,0,"",false,0,0,0,0,10,2.8200000000000003,1.02,0.02,4,null,1.02,0.02,null,4,0.2,0.02]
[null,null,"",0,null,0,"",false,0,0,0,0,10,2.8200000000000003,1.02,0.02,4,null,1.02,0.02,null,4,0.2,0.02]
[null,null,"",0,null,0,"",false,0,0,0,0,10,2.8200000000000003,1.02,0.02,4,null,1.02,0.02,null,4,0.2,0.02]
[null,null,"",0,null,0,"",false,0,0,0,0,10,2.8200000000000003,1.02,0.02,4,null,1.02,0.02,null,4,0.2,0.02]
[null,null,"",0,null,0,"",false,0,0,0,0,10,2.8200000000000003,1.02,0.02,4,null,1.02,0.02,null,4,0.2,0.02]
[null,null,"",0,null,0,"",false,0,0,0,0,10,2.8200000000000003,1.02,0.02,4,null,1.02,0.02,null,4,0.2,0.02]
[null,null,"",0,null,0,"",false,0,0,0,0,10,2.8200000000000003,1.02,0.02,4,null,1.02,0.02,null,4,0.2,0.02]
[null,null,"",0,null,0,"",false,0,0,0,0,10,2.8200000000000003,1.02,0.02,4,null,1.02,0.02,null,4,0.2,0.02]
[null,null,"",0,null,0,"",false,0,0,0,0,10,2.8200000000000003,1.02,0.02,4,null,1.02,0.02,null,4,0.2,0.02]
[null,null,"",0,null,0,"",false,0,0,0,0,10,2.8200000000000003,1.02,0.02,4,null,1.02,0.02,null,4,0.2,0.02]
[null,null,"",0,null,0,"",false,0,0,0,0,10,2.8200000000000003,1.02,0.02,4,null,1.02,0.02,null,4,0.2,0.02]
[null,null,"",0,null,0,"",false,0,0,0,0,10,2.8200000000000003,1.02,0.02,4,null,1.02,0.02,null,4,0.2,0.02]
[null,null,"",0,null,0,"",false,0,0,0,0,10,2.8200000000000003,1.02,0.02,4,null,1.02,0.02,null,4,0.2,0.02]
[null,null,"",0,null,0,"",false,0,0,0,0,10,2.8200000000000003,1.02,0.02,4,null,1.02,0.02,null,4,0.2,0.02]
[null,null,"",0,null,0,"",false,0,0,0,0,10,2.8200000000000003,1.02,0.02,4,null,1.02,0.02,null,4,0.2,0.02]
[null,null,"",0,null,0,"",false,0,0,0,0,10,2.8200000000000003,1.02,0.02,4,null,1.02,0.02,null,4,0.2,0.02]
[null,null,"",0,null,0,"",false,0,0,0,0,10,2.8200000000000003,1.02,0.02,4,null,1.02,0.02,null,4,0.2,0.02]
[null,null,"",0,null,0,"",false,0,0,0,0,10,2.8200000000000003,1.02,0.02,4,null,1.02,0.02,null,4,0.2,0.02]
[null,null,"",0,null,0,"",false,0,0,0,0,10,2.8200000000000003,1.02,0.02,4,null,1.02,0.02,null,4,0.2,0.02]
[null,null,"",0,null,0,"",false,0,0,0,0,10,2.8200000000000003,1.02,0.02,4,null,1.02,0.02,null,4,0.2,0.02]
[null,null,"",0,null,0,"",false,0,0,0,0,10,2.8200000000000003,1.02,0.02,4,null,1.02,0.02,null,4,0.2,0.02]
[null,null,"",0,null,0,"",false,0,0,0,0,10,2.8200000000000003,1.02,0.02,4,null,1.02,0.02,null,4,0.2,0.02]
[null,null,"",0,null,0,"",false,0,0,0,0,10,2.8200000000000003,1.02,0.02,4,null,1.02,0.02,null,4,0.2,0.02]
[null,null,"",0,null,0,"",false,0,0,0,0,10,2.8200000000000003,1.02,0.02,4,null,1.02,0.02,null,4,0.2,0.02]
[null,null,"",0,null,0,"",false,0,0,0,0,10,2.8200000000000003,1.02,0.02,4,null,1.02,0.02,null,4,0.2,0.02]
[null,null,"",0,null,0,"",false,0,0,0,0,10,2.8200000000000003,1.02,0.02,4,null,1.02,0.02,null,4,0.2,0.02]
[null,null,{"$f":"IF(I451>0,INDEX(DB,I451,8),\"\")","v":""},0,null,0,"",false,{"$f":"IF(OR(ISBLANK(A451),ISNA(MATCH(A451&\"\",AthleteNumbers,0))),0,MATCH(A451&\"\",AthleteNumbers,0))","v":0},{"$f":"IF(I451>0,INDEX(DB,$I451,6),0)","v":0},0,0,10,2.8200000000000003,1.02,0.02,{"$f":"IF(I451>0,INDEX(DB,I451,9),EventIndex)","v":4},null,{"$f":"INDEX(MINVALUES,$Q451,$K$1)","v":1.02},{"$f":"INDEX(INCVALUES,$Q451,$K$1)","v":0.02},null,{"$f":"+J451+(4*(INDEX(MatchScoreTable,$Q451,20)-1))","v":4},{"$f":"INDEX(INC_MINVALUES,$V451,$K$1)","v":0.2},{"$f":"INDEX(INC_INCVALUES,$V451,$K$1)","v":0.02}]
[null,null,"",{"$f":"IF(AND(H452,B452<>0,ISNUMBER(B452)),IF(ISERR(M452),0,M452),0)","v":0},null,{"$f":"COUNTIF(A$3:A$1002,A452)","v":0},{"$f":"IF(AND(H452,OR(D452<=10,D452>=90)),\"CHECK\",\"\")","v":""},{"$f":"IF(AND(I452>0,LEN(C452)>0,B452<>0),TRUE,FALSE)","v":false},0,0,{"$f":"IF(ISNUMBER(B452),ROUND(+B452,2),0)","v":0},{"$f":"+K452","v":0},{"$f":"IF(L452<O452,MinPoints,IF(AND(L452>N452,O452>0),100,+INT(($L452-O452)/P452)+MinPoints))","v":10},{"$f":"+O452+(P452*90)","v":2.8200000000000003},{"$f":"IF($J452=0,$S452,$W452)","v":1.02},{"$f":"IF($J452=0,$T452,$X452)","v":0.02},4,null,1.02,0.02,null,4,0.2,0.02]
[null,null,"",0,null,0,"",false,0,0,0,0,10,2.8200000000000003,1.02,0.02,4,null,1.02,0.02,null,4,0.2,0.02]
[null,null,"",0,null,0,"",false,0,0,0,0,10,2.8200000000000003,1.02,0.02,4,null,1.02,0.02,null,4,0.2,0.02]
[null,null,"",0,null,0,"",false,0,0,0,0,10,2.8200000000000003,1.02,0.02,4,null,1.02,0.02,null,4,0.2,0.02]
[null,null,"",0,null,0,"",false,0,0,0,0,10,2.8200000000000003,1.02,0.02,4,null,1.02,0.02,null,4,0.2,0.02]
[null,null,"",0,null,0,"",false,0,0,0,0,10,2.8200000000000003,1.02,0.02,4,null,1.02,0.02,null,4,0.2,0.02]
[null,null,"",0,null,0,"",false,0,0,0,0,10,2.8200000000000003,1.02,0.02,4,null,1.02,0.02,null,4,0.2,0.02]
[null,null,"",0,null,0,"",false,0,0,0,0,10,2.8200000000000003,1.02,0.02,4,null,1.02,0.02,null,4,0.2,0.02]
[null,null,"",0,null,0,"",false,0,0,0,0,10,2.8200000000000003,1.02,0.02,4,null,1.02,0.02,null,4,0.2,0.02]
[null,null,"",0,null,0,"",false,0,0,0,0,10,2.8200000000000003,1.02,0.02,4,null,1.02,0.02,null,4,0.2,0.02]
[null,null,"",0,null,0,"",false,0,0,0,0,10,2.8200000000000003,1.02,0.02,4,null,1.02,0.02,null,4,0.2,0.02]
[null,null,"",0,null,0,"",false,0,0,0,0,10,2.8200000000000003,1.02,0.02,4,null,1.02,0.02,null,4,0.2,0.02]
[null,null,"",0,null,0,"",false,0,0,0,0,10,2.8200000000000003,1.02,0.02,4,null,1.02,0.02,null,4,0.2,0.02]
[null,null,"",0,null,0,"",false,0,0,0,0,10,2.8200000000000003,1.02,0.02,4,null,1.02,0.02,null,4,0.2,0.02]
[null,null,"",0,null,0,"",false,0,0,0,0,10,2.8200000000000003,1.02,0.02,4,null,1.02,0.02,null,4,0.2,0.02]
[null,null,"",0,null,0,"",false,0,0,0,0,10,2.8200000000000003,1.02,0.02,4,null,1.02,0.02,null,4,0.2,0.02]
[null,null,"",0,null,0,"",false,0,0,0,0,10,2.8200000000000003,1.02,0.02,4,null,1.02,0.02,null,4,0.2,0.02]
[null,null,"",0,null,0,"",false,0,0,0,0,10,2.8200000000000003,1.02,0.02,4,null,1.02,0.02,null,4,0.2,0.02]
[null,null,"",0,null,0,"",false,0,0,0,0,10,2.8200000000000003,1.02,0.02,4,null,1.02,0.02,null,4,0.2,0.02]
[null,null,"",0,null,0,"",false,0,0,0,0,10,2.8200000000000003,1.02,0.02,4,null,1.02,0.02,null,4,0.2,0.02]
[null,null,"",0,null,0,"",false,0,0,0,0,10,2.8200000000000003,1.02,0.02,4,null,1.02,0.02,null,4,0.2,0.02]
[null,null,"",0,null,0,"",false,0,0,0,0,10,2.8200000000000003,1.02,0.02,4,null,1.02,0.02,null,4,0.2,0.02]
[null,null,"",0,null,0,"",false,0,0,0,0,10,2.8200000000000003,1.02,0.02,4,null,1.02,0.02,null,4,0.2,0.02]
[null,null,"",0,null,0,"",false,0,0,0,0,10,2.8200000000000003,1.02,0.02,4,null,1.02,0.02,null,4,0.2,0.02]
[null,null,"",0,null,0,"",false,0,0,0,0,10,2.8200000000000003,1.02,0.02,4,null,1.02,0.02,null,4,0.2,0.02]
[null,null,"",0,null,0,"",false,0,0,0,0,10,2.8200000000000003,1.02,0.02,4,null,1.02,0.02,null,4,0.2,0.02]
[null,null,"",0,null,0,"",false,0,0,0,0,10,2.8200000000000003,1.02,0.02,4,null,1.02,0.02,null,4,0.2,0.02]
[null,null,"",0,null,0,"",false,0,0,0,0,10,2.8200000000000003,1.02,0.02,4,null,1.02,0.02,null,4,0.2,0.02]
[null,null,"",0,null,0,"",false,0,0,0,0,10,2.8200000000000003,1.02,0.02,4,null,1.02,0.02,null,4,0.2,0.02]
[null,null,"",0,null,0,"",false,0,0,0,0,10,2.8200000000000003,1.02,0.02,4,null,1.02,0.02,null,4,0.2,0.02]
[null,null,"",0,null,0,"",false,0,0,0,0,10,2.8200000000000003,1.02,0.02,4,null,1.02,0.02,null,4,0.2,0.02]
[null,null,"",0,null,0,"",false,0,0,0,0,10,2.8200000000000003,1.02,0.02,4,null,1.02,0.02,null,4,0.2,0.02]
[null,null,"",0,null,0,"",false,0,0,0,0,10,2.8200000000000003,1.02,0.02,4,null,1.02,0.02,null,4,0.2,0.02]
[null,null,"",0,null,0,"",false,0,0,0,0,10,2.8200000000000003,1.02,0.02,4,null,1.02,0.02,null,4,0.2,0.02]
[null,null,"",0,null,0,"",false,0,0,0,0,10,2.8200000000000003,1.02,0.02,4,null,1.02,0.02,null,4,0.2,0.02]
[null,null,"",0,null,0,"",false,0,0,0,0,10,2.8200000000000003,1.02,0.02,4,null,1.02,0.02,null,4,0.2,0.02]
[null,null,"",0,null,0,"",false,0,0,0,0,10,2.8200000000000003,1.02,0.02,4,null,1.02,0.02,null,4,0.2,0.02]
[null,null,"",0,null,0,"",false,0,0,0,0,10,2.8200000000000003,1.02,0.02,4,null,1.02,0.02,null,4,0.2,0.02]
[null,null,"",0,null,0,"",false,0,0,0,0,10,2.8200000000000003,1.02,0.02,4,null,1.02,0.02,null,4,0.2,0.02]
[null,null,"",0,null,0,"",false,0,0,0,0,10,2.8200000000000003,1.02,0.02,4,null,1.02,0.02,null,4,0.2,0.02]
[null,null,"",0,null,0,"",false,0,0,0,0,10,2.8200000000000003,1.02,0.02,4,null,1.02,0.02,null,4,0.2,0.02]
[null,null,"",0,null,0,"",false,0,0,0,0,10,2.8200000000000003,1.02,0.02,4,null,1.02,0.02,null,4,0.2,0.02]
[null,null,"",0,null,0,"",false,0,0,0,0,10,2.8200000000000003,1.02,0.02,4,null,1.02,0.02,null,4,0.2,0.02]
[null,null,"",0,null,0,"",false,0,0,0,0,10,2.8200000000000003,1.02,0.02,4,null,1.02,0.02,null,4,0.2,0.02]
[null,null,"",0,null,0,"",false,0,0,0,0,10,2.8200000000000003,1.02,0.02,4,null,1.02,0.02,null,4,0.2,0.02]
[null,null,"",0,null,0,"",false,0,0,0,0,10,2.8200000000000003,1.02,0.02,4,null,1.02,0.02,null,4,0.2,0.02]
[null,null,"",0,null,0,"",false,0,0,0,0,10,2.8200000000000003,1.02,0.02,4,null,1.02,0.02,null,4,0.2,0.02]
[null,null,"",0,null,0,"",false,0,0,0,0,10,2.8200000000000003,1.02,0.02,4,null,1.02,0.02,null,4,0.2,0.02]
[null,null,"",0,null,0,"",false,0,0,0,0,10,2.8200000000000003,1.02,0.02,4,null,1.02,0.02,null,4,0.2,0.02]
[null,null,"",0,null,0,"",false,0,0,0,0,10,2.8200000000000003,1.02,0.02,4,null,1.02,0.02,null,4,0.2,0.02]
[null,null,"",0,null,0,"",false,0,0,0,0,10,2.8200000000000003,1.02,0.02,4,null,1.02,0.02,null,4,0.2,0.02]
[null,null,"",0,null,0,"",false,0,0,0,0,10,2.8200000000000003,1.02,0.02,4,null,1.02,0.02,null,4,0.2,0.02]
[null,null,"",0,null,0,"",false,0,0,0,0,10,2.8200000000000003,1.02,0.02,4,null,1.02,0.02,null,4,0.2,0.02]
[null,null,"",0,null,0,"",false,0,0,0,0,10,2.8200000000000003,1.02,0.02,4,null,1.02,0.02,null,4,0.2,0.02]
[null,null,"",0,null,0,"",false,0,0,0,0,10,2.8200000000000003,1.02,0.02,4,null,1.02,0.02,null,4,0.2,0.02]
[null,null,"",0,null,0,"",false,0,0,0,0,10,2.8200000000000003,1.02,0.02,4,null,1.02,0.02,null,4,0.2,0.02]
[null,null,"",0,null,0,"",false,0,0,0,0,10,2.8200000000000003,1.02,0.02,4,null,1.02,0.02,null,4,0.2,0.02]
[null,null,"",0,null,0,"",false,0,0,0,0,10,2.8200000000000003,1.02,0.02,4,null,1.02,0.02,null,4,0.2,0.02]
[null,null,"",0,null,0,"",false,0,0,0,0,10,2.8200000000000003,1.02,0.02,4,null,1.02,0.02,null,4,0.2,0.02]
[null,null,"",0,null,0,"",false,0,0,0,0,10,2.8200000000000003,1.02,0.02,4,null,1.02,0.02,null,4,0.2,0.02]
[null,null,"",0,null,0,"",false,0,0,0,0,10,2.8200000000000003,1.02,0.02,4,null,1.02,0.02,null,4,0.2,0.02]
[null,null,"",0,null,0,"",false,0,0,0,0,10,2.8200000000000003,1.02,0.02,4,null,1.02,0.02,null,4,0.2,0.02]
[null,null,"",0,null,0,"",false,0,0,0,0,10,2.8200000000000003,1.02,0.02,4,null,1.02,0.02,null,4,0.2,0.02]
[null,null,{"$f":"IF(I515>0,INDEX(DB,I515,8),\"\")","v":""},0,null,0,"",false,{"$f":"IF(OR(ISBLANK(A515),ISNA(MATCH(A515&\"\",AthleteNumbers,0))),0,MATCH(A515&\"\",AthleteNumbers,0))","v":0},{"$f":"IF(I515>0,INDEX(DB,$I515,6),0)","v":0},0,0,10,2.8200000000000003,1.02,0.02,{"$f":"IF(I515>0,INDEX(DB,I515,9),EventIndex)","v":4},null,{"$f":"INDEX(MINVALUES,$Q515,$K$1)","v":1.02},{"$f":"INDEX(INCVALUES,$Q515,$K$1)","v":0.02},null,{"$f":"+J515+(4*(INDEX(MatchScoreTable,$Q515,20)-1))","v":4},{"$f":"INDEX(INC_MINVALUES,$V515,$K$1)","v":0.2},{"$f":"INDEX(INC_INCVALUES,$V515,$K$1)","v":0.02}]
[null,null,"",{"$f":"IF(AND(H516,B516<>0,ISNUMBER(B516)),IF(ISERR(M516),0,M516),0)","v":0},null,{"$f":"COUNTIF(A$3:A$1002,A516)","v":0},{"$f":"IF(AND(H516,OR(D516<=10,D516>=90)),\"CHECK\",\"\")","v":""},{"$f":"IF(AND(I516>0,LEN(C516)>0,B516<>0),TRUE,FALSE)","v":false},0,0,{"$f":"IF(ISNUMBER(B516),ROUND(+B516,2),0)","v":0},{"$f":"+K516","v":0},{"$f":"IF(L516<O516,MinPoints,IF(AND(L516>N516,O516>0),100,+INT(($L516-O516)/P516)+MinPoints))","v":10},{"$f":"+O516+(P516*90)","v":2.8200000000000003},{"$f":"IF($J516=0,$S516,$W516)","v":1.02},{"$f":"IF($J516=0,$T516,$X516)","v":0.02},4,null,1.02,0.02,null,4,0.2,0.02]
[null,null,"",0,null,0,"",false,0,0,0,0,10,2.8200000000000003,1.02,0.02,4,null,1.02,0.02,null,4,0.2,0.02]
[null,null,"",0,null,0,"",false,0,0,0,0,10,2.8200000000000003,1.02,0.02,4,null,1.02,0.02,null,4,0.2,0.02]
[null,null,"",0,null,0,"",false,0,0,0,0,10,2.8200000000000003,1.02,0.02,4,null,1.02,0.02,null,4,0.2,0.02]
[null,null,"",0,null,0,"",false,0,0,0,0,10,2.8200000000000003,1.02,0.02,4,null,1.02,0.02,null,4,0.2,0.02]
[null,null,"",0,null,0,"",false,0,0,0,0,10,2.8200000000000003,1.02,0.02,4,null,1.02,0.02,null,4,0.2,0.02]
[null,null,"",0,null,0,"",false,0,0,0,0,10,2.8200000000000003,1.02,0.02,4,null,1.02,0.02,null,4,0.2,0.02]
[null,null,"",0,null,0,"",false,0,0,0,0,10,2.8200000000000003,1.02,0.02,4,null,1.02,0.02,null,4,0.2,0.02]
[null,null,"",0,null,0,"",false,0,0,0,0,10,2.8200000000000003,1.02,0.02,4,null,1.02,0.02,null,4,0.2,0.02]
[null,null,"",0,null,0,"",false,0,0,0,0,10,2.8200000000000003,1.02,0.02,4,null,1.02,0.02,null,4,0.2,0.02]
[null,null,"",0,null,0,"",false,0,0,0,0,10,2.8200000000000003,1.02,0.02,4,null,1.02,0.02,null,4,0.2,0.02]
[null,null,"",0,null,0,"",false,0,0,0,0,10,2.8200000000000003,1.02,0.02,4,null,1.02,0.02,null,4,0.2,0.02]
[null,null,"",0,null,0,"",false,0,0,0,0,10,2.8200000000000003,1.02,0.02,4,null,1.02,0.02,null,4,0.2,0.02]
[null,null,"",0,null,0,"",false,0,0,0,0,10,2.8200000000000003,1.02,0.02,4,null,1.02,0.02,null,4,0.2,0.02]
[null,null,"",0,null,0,"",false,0,0,0,0,10,2.8200000000000003,1.02,0.02,4,null,1.02,0.02,null,4,0.2,0.02]
[null,null,"",0,null,0,"",false,0,0,0,0,10,2.8200000000000003,1.02,0.02,4,null,1.02,0.02,null,4,0.2,0.02]
[null,null,"",0,null,0,"",false,0,0,0,0,10,2.8200000000000003,1.02,0.02,4,null,1.02,0.02,null,4,0.2,0.02]
[null,null,"",0,null,0,"",false,0,0,0,0,10,2.8200000000000003,1.02,0.02,4,null,1.02,0.02,null,4,0.2,0.02]
[null,null,"",0,null,0,"",false,0,0,0,0,10,2.8200000000000003,1.02,0.02,4,null,1.02,0.02,null,4,0.2,0.02]
[null,null,"",0,null,0,"",false,0,0,0,0,10,2.8200000000000003,1.02,0.02,4,null,1.02,0.02,null,4,0.2,0.02]
[null,null,"",0,null,0,"",false,0,0,0,0,10,2.8200000000000003,1.02,0.02,4,null,1.02,0.02,null,4,0.2,0.02]
[null,null,"",0,null,0,"",false,0,0,0,0,10,2.8200000000000003,1.02,0.02,4,null,1.02,0.02,null,4,0.2,0.02]
[null,null,"",0,null,0,"",false,0,0,0,0,10,2.8200000000000003,1.02,0.02,4,null,1.02,0.02,null,4,0.2,0.02]
[null,null,"",0,null,0,"",false,0,0,0,0,10,2.8200000000000003,1.02,0.02,4,null,1.02,0.02,null,4,0.2,0.02]
[null,null,"",0,null,0,"",false,0,0,0,0,10,2.8200000000000003,1.02,0.02,4,null,1.02,0.02,null,4,0.2,0.02]
[null,null,"",0,null,0,"",false,0,0,0,0,10,2.8200000000000003,1.02,0.02,4,null,1.02,0.02,null,4,0.2,0.02]
[null,null,"",0,null,0,"",false,0,0,0,0,10,2.8200000000000003,1.02,0.02,4,null,1.02,0.02,null,4,0.2,0.02]
[null,null,"",0,null,0,"",false,0,0,0,0,10,2.8200000000000003,1.02,0.02,4,null,1.02,0.02,null,4,0.2,0.02]
[null,null,"",0,null,0,"",false,0,0,0,0,10,2.8200000000000003,1.02,0.02,4,null,1.02,0.02,null,4,0.2,0.02]
[null,null,"",0,null,0,"",false,0,0,0,0,10,2.8200000000000003,1.02,0.02,4,null,1.02,0.02,null,4,0.2,0.02]
[null,null,"",0,null,0,"",false,0,0,0,0,10,2.8200000000000003,1.02,0.02,4,null,1.02,0.02,null,4,0.2,0.02]
[null,null,"",0,null,0,"",false,0,0,0,0,10,2.8200000000000003,1.02,0.02,4,null,1.02,0.02,null,4,0.2,0.02]
[null,null,"",0,null,0,"",false,0,0,0,0,10,2.8200000000000003,1.02,0.02,4,null,1.02,0.02,null,4,0.2,0.02]
[null,null,"",0,null,0,"",false,0,0,0,0,10,2.8200000000000003,1.02,0.02,4,null,1.02,0.02,null,4,0.2,0.02]
[null,null,"",0,null,0,"",false,0,0,0,0,10,2.8200000000000003,1.02,0.02,4,null,1.02,0.02,null,4,0.2,0.02]
[null,null,"",0,null,0,"",false,0,0,0,0,10,2.8200000000000003,1.02,0.02,4,null,1.02,0.02,null,4,0.2,0.02]
[null,null,"",0,null,0,"",false,0,0,0,0,10,2.8200000000000003,1.02,0.02,4,null,1.02,0.02,null,4,0.2,0.02]
[null,null,"",0,null,0,"",false,0,0,0,0,10,2.8200000000000003,1.02,0.02,4,null,1.02,0.02,null,4,0.2,0.02]
[null,null,"",0,null,0,"",false,0,0,0,0,10,2.8200000000000003,1.02,0.02,4,null,1.02,0.02,null,4,0.2,0.02]
[null,null,"",0,null,0,"",false,0,0,0,0,10,2.8200000000000003,1.02,0.02,4,null,1.02,0.02,null,4,0.2,0.02]
[null,null,"",0,null,0,"",false,0,0,0,0,10,2.8200000000000003,1.02,0.02,4,null,1.02,0.02,null,4,0.2,0.02]
[null,null,"",0,null,0,"",false,0,0,0,0,10,2.8200000000000003,1.02,0.02,4,null,1.02,0.02,null,4,0.2,0.02]
[null,null,"",0,null,0,"",false,0,0,0,0,10,2.8200000000000003,1.02,0.02,4,null,1.02,0.02,null,4,0.2,0.02]
[null,null,"",0,null,0,"",false,0,0,0,0,10,2.8200000000000003,1.02,0.02,4,null,1.02,0.02,null,4,0.2,0.02]
[null,null,"",0,null,0,"",false,0,0,0,0,10,2.8200000000000003,1.02,0.02,4,null,1.02,0.02,null,4,0.2,0.02]
[null,null,"",0,null,0,"",false,0,0,0,0,10,2.8200000000000003,1.02,0.02,4,null,1.02,0.02,null,4,0.2,0.02]
[null,null,"",0,null,0,"",false,0,0,0,0,10,2.8200000000000003,1.02,0.02,4,null,1.02,0.02,null,4,0.2,0.02]
[null,null,"",0,null,0,"",false,0,0,0,0,10,2.8200000000000003,1.02,0.02,4,null,1.02,0.02,null,4,0.2,0.02]
[null,null,"",0,null,0,"",false,0,0,0,0,10,2.8200000000000003,1.02,0.02,4,null,1.02,0.02,null,4,0.2,0.02]
[null,null,"",0,null,0,"",false,0,0,0,0,10,2.8200000000000003,1.02,0.02,4,null,1.02,0.02,null,4,0.2,0.02]
[null,null,"",0,null,0,"",false,0,0,0,0,10,2.8200000000000003,1.02,0.02,4,null,1.02,0.02,null,4,0.2,0.02]
[null,null,"",0,null,0,"",false,0,0,0,0,10,2.8200000000000003,1.02,0.02,4,null,1.02,0.02,null,4,0.2,0.02]
[null,null,"",0,null,0,"",false,0,0,0,0,10,2.8200000000000003,1.02,0.02,4,null,1.02,0.02,null,4,0.2,0.02]
[null,null,"",0,null,0,"",false,0,0,0,0,10,2.8200000000000003,1.02,0.02,4,null,1.02,0.02,null,4,0.2,0.02]
[null,null,"",0,null,0,"",false,0,0,0,0,10,2.8200000000000003,1.02,0.02,4,null,1.02,0.02,null,4,0.2,0.02]
[null,null,"",0,null,0,"",false,0,0,0,0,10,2.8200000000000003,1.02,0.02,4,null,1.02,0.02,null,4,0.2,0.02]
[null,null,"",0,null,0,"",false,0,0,0,0,10,2.8200000000000003,1.02,0.02,4,null,1.02,0.02,null,4,0.2,0.02]
[null,null,"",0,null,0,"",false,0,0,0,0,10,2.8200000000000003,1.02,0.02,4,null,1.02,0.02,null,4,0.2,0.02]
[null,null,"",0,null,0,"",false,0,0,0,0,10,2.8200000000000003,1.02,0.02,4,null,1.02,0.02,null,4,0.2,0.02]
[null,null,"",0,null,0,"",false,0,0,0,0,10,2.8200000000000003,1.02,0.02,4,null,1.02,0.02,null,4,0.2,0.02]
[null,null,"",0,null,0,"",false,0,0,0,0,10,2.8200000000000003,1.02,0.02,4,null,1.02,0.02,null,4,0.2,0.02]
[null,null,"",0,null,0,"",false,0,0,0,0,10,2.8200000000000003,1.02,0.02,4,null,1.02,0.02,null,4,0.2,0.02]
[null,null,"",0,null,0,"",false,0,0,0,0,10,2.8200000000000003,1.02,0.02,4,null,1.02,0.02,null,4,0.2,0.02]
[null,null,{"$f":"IF(I579>0,INDEX(DB,I579,8),\"\")","v":""},0,null,0,"",false,{"$f":"IF(OR(ISBLANK(A579),ISNA(MATCH(A579&\"\",AthleteNumbers,0))),0,MATCH(A579&\"\",AthleteNumbers,0))","v":0},{"$f":"IF(I579>0,INDEX(DB,$I579,6),0)","v":0},0,0,10,2.8200000000000003,1.02,0.02,{"$f":"IF(I579>0,INDEX(DB,I579,9),EventIndex)","v":4},null,{"$f":"INDEX(MINVALUES,$Q579,$K$1)","v":1.02},{"$f":"INDEX(INCVALUES,$Q579,$K$1)","v":0.02},null,{"$f":"+J579+(4*(INDEX(MatchScoreTable,$Q579,20)-1))","v":4},{"$f":"INDEX(INC_MINVALUES,$V579,$K$1)","v":0.2},{"$f":"INDEX(INC_INCVALUES,$V579,$K$1)","v":0.02}]
[null,null,"",{"$f":"IF(AND(H580,B580<>0,ISNUMBER(B580)),IF(ISERR(M580),0,M580),0)","v":0},null,{"$f":"COUNTIF(A$3:A$1002,A580)","v":0},{"$f":"IF(AND(H580,OR(D580<=10,D580>=90)),\"CHECK\",\"\")","v":""},{"$f":"IF(AND(I580>0,LEN(C580)>0,B580<>0),TRUE,FALSE)","v":false},0,0,{"$f":"IF(ISNUMBER(B580),ROUND(+B580,2),0)","v":0},{"$f":"+K580","v":0},{"$f":"IF(L580<O580,MinPoints,IF(AND(L580>N580,O580>0),100,+INT(($L580-O580)/P580)+MinPoints))","v":10},{"$f":"+O580+(P580*90)","v":2.8200000000000003},{"$f":"IF($J580=0,$S580,$W580)","v":1.02},{"$f":"IF($J580=0,$T580,$X580)","v":0.02},4,null,1.02,0.02,null,4,0.2,0.02]
[null,null,"",0,null,0,"",false,0,0,0,0,10,2.8200000000000003,1.02,0.02,4,null,1.02,0.02,null,4,0.2,0.02]
[null,null,"",0,null,0,"",false,0,0,0,0,10,2.8200000000000003,1.02,0.02,4,null,1.02,0.02,null,4,0.2,0.02]
[null,null,"",0,null,0,"",false,0,0,0,0,10,2.8200000000000003,1.02,0.02,4,null,1.02,0.02,null,4,0.2,0.02]
[null,null,"",0,null,0,"",false,0,0,0,0,10,2.8200000000000003,1.02,0.02,4,null,1.02,0.02,null,4,0.2,0.02]
[null,null,"",0,null,0,"",false,0,0,0,0,10,2.8200000000000003,1.02,0.02,4,null,1.02,0.02,null,4,0.2,0.02]
[null,null,"",0,null,0,"",false,0,0,0,0,10,2.8200000000000003,1.02,0.02,4,null,1.02,0.02,null,4,0.2,0.02]
[null,null,"",0,null,0,"",false,0,0,0,0,10,2.8200000000000003,1.02,0.02,4,null,1.02,0.02,null,4,0.2,0.02]
[null,null,"",0,null,0,"",false,0,0,0,0,10,2.8200000000000003,1.02,0.02,4,null,1.02,0.02,null,4,0.2,0.02]
[null,null,"",0,null,0,"",false,0,0,0,0,10,2.8200000000000003,1.02,0.02,4,null,1.02,0.02,null,4,0.2,0.02]
[null,null,"",0,null,0,"",false,0,0,0,0,10,2.8200000000000003,1.02,0.02,4,null,1.02,0.02,null,4,0.2,0.02]
[null,null,"",0,null,0,"",false,0,0,0,0,10,2.8200000000000003,1.02,0.02,4,null,1.02,0.02,null,4,0.2,0.02]
[null,null,"",0,null,0,"",false,0,0,0,0,10,2.8200000000000003,1.02,0.02,4,null,1.02,0.02,null,4,0.2,0.02]
[null,null,"",0,null,0,"",false,0,0,0,0,10,2.8200000000000003,1.02,0.02,4,null,1.02,0.02,null,4,0.2,0.02]
[null,null,"",0,null,0,"",false,0,0,0,0,10,2.8200000000000003,1.02,0.02,4,null,1.02,0.02,null,4,0.2,0.02]
[null,null,"",0,null,0,"",false,0,0,0,0,10,2.8200000000000003,1.02,0.02,4,null,1.02,0.02,null,4,0.2,0.02]
[null,null,"",0,null,0,"",false,0,0,0,0,10,2.8200000000000003,1.02,0.02,4,null,1.02,0.02,null,4,0.2,0.02]
[null,null,"",0,null,0,"",false,0,0,0,0,10,2.8200000000000003,1.02,0.02,4,null,1.02,0.02,null,4,0.2,0.02]
[null,null,"",0,null,0,"",false,0,0,0,0,10,2.8200000000000003,1.02,0.02,4,null,1.02,0.02,null,4,0.2,0.02]
[null,null,"",0,null,0,"",false,0,0,0,0,10,2.8200000000000003,1.02,0.02,4,null,1.02,0.02,null,4,0.2,0.02]
[null,null,"",0,null,0,"",false,0,0,0,0,10,2.8200000000000003,1.02,0.02,4,null,1.02,0.02,null,4,0.2,0.02]
[null,null,"",0,null,0,"",false,0,0,0,0,10,2.8200000000000003,1.02,0.02,4,null,1.02,0.02,null,4,0.2,0.02]
[null,null,"",0,null,0,"",false,0,0,0,0,10,2.8200000000000003,1.02,0.02,4,null,1.02,0.02,null,4,0.2,0.02]
[null,null,"",0,null,0,"",false,0,0,0,0,10,2.8200000000000003,1.02,0.02,4,null,1.02,0.02,null,4,0.2,0.02]
[null,null,"",0,null,0,"",false,0,0,0,0,10,2.8200000000000003,1.02,0.02,4,null,1.02,0.02,null,4,0.2,0.02]
[null,null,"",0,null,0,"",false,0,0,0,0,10,2.8200000000000003,1.02,0.02,4,null,1.02,0.02,null,4,0.2,0.02]
[null,null,"",0,null,0,"",false,0,0,0,0,10,2.8200000000000003,1.02,0.02,4,null,1.02,0.02,null,4,0.2,0.02]
[null,null,"",0,null,0,"",false,0,0,0,0,10,2.8200000000000003,1.02,0.02,4,null,1.02,0.02,null,4,0.2,0.02]
[null,null,"",0,null,0,"",false,0,0,0,0,10,2.8200000000000003,1.02,0.02,4,null,1.02,0.02,null,4,0.2,0.02]
[null,null,"",0,null,0,"",false,0,0,0,0,10,2.8200000000000003,1.02,0.02,4,null,1.02,0.02,null,4,0.2,0.02]
[null,null,"",0,null,0,"",false,0,0,0,0,10,2.8200000000000003,1.02,0.02,4,null,1.02,0.02,null,4,0.2,0.02]
[null,null,"",0,null,0,"",false,0,0,0,0,10,2.8200000000000003,1.02,0.02,4,null,1.02,0.02,null,4,0.2,0.02]
[null,null,"",0,null,0,"",false,0,0,0,0,10,2.8200000000000003,1.02,0.02,4,null,1.02,0.02,null,4,0.2,0.02]
[null,null,"",0,null,0,"",false,0,0,0,0,10,2.8200000000000003,1.02,0.02,4,null,1.02,0.02,null,4,0.2,0.02]
[null,null,"",0,null,0,"",false,0,0,0,0,10,2.8200000000000003,1.02,0.02,4,null,1.02,0.02,null,4,0.2,0.02]
[null,null,"",0,null,0,"",false,0,0,0,0,10,2.8200000000000003,1.02,0.02,4,null,1.02,0.02,null,4,0.2,0.02]
[null,null,"",0,null,0,"",false,0,0,0,0,10,2.8200000000000003,1.02,0.02,4,null,1.02,0.02,null,4,0.2,0.02]
[null,null,"",0,null,0,"",false,0,0,0,0,10,2.8200000000000003,1.02,0.02,4,null,1.02,0.02,null,4,0.2,0.02]
[null,null,"",0,null,0,"",false,0,0,0,0,10,2.8200000000000003,1.02,0.02,4,null,1.02,0.02,null,4,0.2,0.02]
[null,null,"",0,null,0,"",false,0,0,0,0,10,2.8200000000000003,1.02,0.02,4,null,1.02,0.02,null,4,0.2,0.02]
[null,null,"",0,null,0,"",false,0,0,0,0,10,2.8200000000000003,1.02,0.02,4,null,1.02,0.02,null,4,0.2,0.02]
[null,null,"",0,null,0,"",false,0,0,0,0,10,2.8200000000000003,1.02,0.02,4,null,1.02,0.02,null,4,0.2,0.02]
[null,null,"",0,null,0,"",false,0,0,0,0,10,2.8200000000000003,1.02,0.02,4,null,1.02,0.02,null,4,0.2,0.02]
[null,null,"",0,null,0,"",false,0,0,0,0,10,2.8200000000000003,1.02,0.02,4,null,1.02,0.02,null,4,0.2,0.02]
[null,null,"",0,null,0,"",false,0,0,0,0,10,2.8200000000000003,1.02,0.02,4,null,1.02,0.02,null,4,0.2,0.02]
[null,null,"",0,null,0,"",false,0,0,0,0,10,2.8200000000000003,1.02,0.02,4,null,1.02,0.02,null,4,0.2,0.02]
[null,null,"",0,null,0,"",false,0,0,0,0,10,2.8200000000000003,1.02,0.02,4,null,1.02,0.02,null,4,0.2,0.02]
[null,null,"",0,null,0,"",false,0,0,0,0,10,2.8200000000000003,1.02,0.02,4,null,1.02,0.02,null,4,0.2,0.02]
[null,null,"",0,null,0,"",false,0,0,0,0,10,2.8200000000000003,1.02,0.02,4,null,1.02,0.02,null,4,0.2,0.02]
[null,null,"",0,null,0,"",false,0,0,0,0,10,2.8200000000000003,1.02,0.02,4,null,1.02,0.02,null,4,0.2,0.02]
[null,null,"",0,null,0,"",false,0,0,0,0,10,2.8200000000000003,1.02,0.02,4,null,1.02,0.02,null,4,0.2,0.02]
[null,null,"",0,null,0,"",false,0,0,0,0,10,2.8200000000000003,1.02,0.02,4,null,1.02,0.02,null,4,0.2,0.02]
[null,null,"",0,null,0,"",false,0,0,0,0,10,2.8200000000000003,1.02,0.02,4,null,1.02,0.02,null,4,0.2,0.02]
[null,null,"",0,null,0,"",false,0,0,0,0,10,2.8200000000000003,1.02,0.02,4,null,1.02,0.02,null,4,0.2,0.02]
[null,null,"",0,null,0,"",false,0,0,0,0,10,2.8200000000000003,1.02,0.02,4,null,1.02,0.02,null,4,0.2,0.02]
[null,null,"",0,null,0,"",false,0,0,0,0,10,2.8200000000000003,1.02,0.02,4,null,1.02,0.02,null,4,0.2,0.02]
[null,null,"",0,null,0,"",false,0,0,0,0,10,2.8200000000000003,1.02,0.02,4,null,1.02,0.02,null,4,0.2,0.02]
[null,null,"",0,null,0,"",false,0,0,0,0,10,2.8200000000000003,1.02,0.02,4,null,1.02,0.02,null,4,0.2,0.02]
[null,null,"",0,null,0,"",false,0,0,0,0,10,2.8200000000000003,1.02,0.02,4,null,1.02,0.02,null,4,0.2,0.02]
[null,null,"",0,null,0,"",false,0,0,0,0,10,2.8200000000000003,1.02,0.02,4,null,1.02,0.02,null,4,0.2,0.02]
[null,null,"",0,null,0,"",false,0,0,0,0,10,2.8200000000000003,1.02,0.02,4,null,1.02,0.02,null,4,0.2,0.02]
[null,null,"",0,null,0,"",false,0,0,0,0,10,2.8200000000000003,1.02,0.02,4,null,1.02,0.02,null,4,0.2,0.02]
[null,null,"",0,null,0,"",false,0,0,0,0,10,2.8200000000000003,1.02,0.02,4,null,1.02,0.02,null,4,0.2,0.02]
[null,null,{"$f":"IF(I643>0,INDEX(DB,I643,8),\"\")","v":""},0,null,0,"",false,{"$f":"IF(OR(ISBLANK(A643),ISNA(MATCH(A643&\"\",AthleteNumbers,0))),0,MATCH(A643&\"\",AthleteNumbers,0))","v":0},{"$f":"IF(I643>0,INDEX(DB,$I643,6),0)","v":0},0,0,10,2.8200000000000003,1.02,0.02,{"$f":"IF(I643>0,INDEX(DB,I643,9),EventIndex)","v":4},null,{"$f":"INDEX(MINVALUES,$Q643,$K$1)","v":1.02},{"$f":"INDEX(INCVALUES,$Q643,$K$1)","v":0.02},null,{"$f":"+J643+(4*(INDEX(MatchScoreTable,$Q643,20)-1))","v":4},{"$f":"INDEX(INC_MINVALUES,$V643,$K$1)","v":0.2},{"$f":"INDEX(INC_INCVALUES,$V643,$K$1)","v":0.02}]
[null,null,"",{"$f":"IF(AND(H644,B644<>0,ISNUMBER(B644)),IF(ISERR(M644),0,M644),0)","v":0},null,{"$f":"COUNTIF(A$3:A$1002,A644)","v":0},{"$f":"IF(AND(H644,OR(D644<=10,D644>=90)),\"CHECK\",\"\")","v":""},{"$f":"IF(AND(I644>0,LEN(C644)>0,B644<>0),TRUE,FALSE)","v":false},0,0,{"$f":"IF(ISNUMBER(B644),ROUND(+B644,2),0)","v":0},{"$f":"+K644","v":0},{"$f":"IF(L644<O644,MinPoints,IF(AND(L644>N644,O644>0),100,+INT(($L644-O644)/P644)+MinPoints))","v":10},{"$f":"+O644+(P644*90)","v":2.8200000000000003},{"$f":"IF($J644=0,$S644,$W644)","v":1.02},{"$f":"IF($J644=0,$T644,$X644)","v":0.02},4,null,1.02,0.02,null,4,0.2,0.02]
[null,null,"",0,null,0,"",false,0,0,0,0,10,2.8200000000000003,1.02,0.02,4,null,1.02,0.02,null,4,0.2,0.02]
[null,null,"",0,null,0,"",false,0,0,0,0,10,2.8200000000000003,1.02,0.02,4,null,1.02,0.02,null,4,0.2,0.02]
[null,null,"",0,null,0,"",false,0,0,0,0,10,2.8200000000000003,1.02,0.02,4,null,1.02,0.02,null,4,0.2,0.02]
[null,null,"",0,null,0,"",false,0,0,0,0,10,2.8200000000000003,1.02,0.02,4,null,1.02,0.02,null,4,0.2,0.02]
[null,null,"",0,null,0,"",false,0,0,0,0,10,2.8200000000000003,1.02,0.02,4,null,1.02,0.02,null,4,0.2,0.02]
[null,null,"",0,null,0,"",false,0,0,0,0,10,2.8200000000000003,1.02,0.02,4,null,1.02,0.02,null,4,0.2,0.02]
[null,null,"",0,null,0,"",false,0,0,0,0,10,2.8200000000000003,1.02,0.02,4,null,1.02,0.02,null,4,0.2,0.02]
[null,null,"",0,null,0,"",false,0,0,0,0,10,2.8200000000000003,1.02,0.02,4,null,1.02,0.02,null,4,0.2,0.02]
[null,null,"",0,null,0,"",false,0,0,0,0,10,2.8200000000000003,1.02,0.02,4,null,1.02,0.02,null,4,0.2,0.02]
[null,null,"",0,null,0,"",false,0,0,0,0,10,2.8200000000000003,1.02,0.02,4,null,1.02,0.02,null,4,0.2,0.02]
[null,null,"",0,null,0,"",false,0,0,0,0,10,2.8200000000000003,1.02,0.02,4,null,1.02,0.02,null,4,0.2,0.02]
[null,null,"",0,null,0,"",false,0,0,0,0,10,2.8200000000000003,1.02,0.02,4,null,1.02,0.02,null,4,0.2,0.02]
[null,null,"",0,null,0,"",false,0,0,0,0,10,2.8200000000000003,1.02,0.02,4,null,1.02,0.02,null,4,0.2,0.02]
[null,null,"",0,null,0,"",false,0,0,0,0,10,2.8200000000000003,1.02,0.02,4,null,1.02,0.02,null,4,0.2,0.02]
[null,null,"",0,null,0,"",false,0,0,0,0,10,2.8200000000000003,1.02,0.02,4,null,1.02,0.02,null,4,0.2,0.02]
[null,null,"",0,null,0,"",false,0,0,0,0,10,2.8200000000000003,1.02,0.02,4,null,1.02,0.02,null,4,0.2,0.02]
[null,null,"",0,null,0,"",false,0,0,0,0,10,2.8200000000000003,1.02,0.02,4,null,1.02,0.02,null,4,0.2,0.02]
[null,null,"",0,null,0,"",false,0,0,0,0,10,2.8200000000000003,1.02,0.02,4,null,1.02,0.02,null,4,0.2,0.02]
[null,null,"",0,null,0,"",false,0,0,0,0,10,2.8200000000000003,1.02,0.02,4,null,1.02,0.02,null,4,0.2,0.02]
[null,null,"",0,null,0,"",false,0,0,0,0,10,2.8200000000000003,1.02,0.02,4,null,1.02,0.02,null,4,0.2,0.02]
[null,null,"",0,null,0,"",false,0,0,0,0,10,2.8200000000000003,1.02,0.02,4,null,1.02,0.02,null,4,0.2,0.02]
[null,null,"",0,null,0,"",false,0,0,0,0,10,2.8200000000000003,1.02,0.02,4,null,1.02,0.02,null,4,0.2,0.02]
[null,null,"",0,null,0,"",false,0,0,0,0,10,2.8200000000000003,1.02,0.02,4,null,1.02,0.02,null,4,0.2,0.02]
[null,null,"",0,null,0,"",false,0,0,0,0,10,2.8200000000000003,1.02,0.02,4,null,1.02,0.02,null,4,0.2,0.02]
[null,null,"",0,null,0,"",false,0,0,0,0,10,2.8200000000000003,1.02,0.02,4,null,1.02,0.02,null,4,0.2,0.02]
[null,null,"",0,null,0,"",false,0,0,0,0,10,2.8200000000000003,1.02,0.02,4,null,1.02,0.02,null,4,0.2,0.02]
[null,null,"",0,null,0,"",false,0,0,0,0,10,2.8200000000000003,1.02,0.02,4,null,1.02,0.02,null,4,0.2,0.02]
[null,null,"",0,null,0,"",false,0,0,0,0,10,2.8200000000000003,1.02,0.02,4,null,1.02,0.02,null,4,0.2,0.02]
[null,null,"",0,null,0,"",false,0,0,0,0,10,2.8200000000000003,1.02,0.02,4,null,1.02,0.02,null,4,0.2,0.02]
[null,null,"",0,null,0,"",false,0,0,0,0,10,2.8200000000000003,1.02,0.02,4,null,1.02,0.02,null,4,0.2,0.02]
[null,null,"",0,null,0,"",false,0,0,0,0,10,2.8200000000000003,1.02,0.02,4,null,1.02,0.02,null,4,0.2,0.02]
[null,null,"",0,null,0,"",false,0,0,0,0,10,2.8200000000000003,1.02,0.02,4,null,1.02,0.02,null,4,0.2,0.02]
[null,null,"",0,null,0,"",false,0,0,0,0,10,2.8200000000000003,1.02,0.02,4,null,1.02,0.02,null,4,0.2,0.02]
[null,null,"",0,null,0,"",false,0,0,0,0,10,2.8200000000000003,1.02,0.02,4,null,1.02,0.02,null,4,0.2,0.02]
[null,null,"",0,null,0,"",false,0,0,0,0,10,2.8200000000000003,1.02,0.02,4,null,1.02,0.02,null,4,0.2,0.02]
[null,null,"",0,null,0,"",false,0,0,0,0,10,2.8200000000000003,1.02,0.02,4,null,1.02,0.02,null,4,0.2,0.02]
[null,null,"",0,null,0,"",false,0,0,0,0,10,2.8200000000000003,1.02,0.02,4,null,1.02,0.02,null,4,0.2,0.02]
[null,null,"",0,null,0,"",false,0,0,0,0,10,2.8200000000000003,1.02,0.02,4,null,1.02,0.02,null,4,0.2,0.02]
[null,null,"",0,null,0,"",false,0,0,0,0,10,2.8200000000000003,1.02,0.02,4,null,1.02,0.02,null,4,0.2,0.02]
[null,null,"",0,null,0,"",false,0,0,0,0,10,2.8200000000000003,1.02,0.02,4,null,1.02,0.02,null,4,0.2,0.02]
[null,null,"",0,null,0,"",false,0,0,0,0,10,2.8200000000000003,1.02,0.02,4,null,1.02,0.02,null,4,0.2,0.02]
[null,null,"",0,null,0,"",false,0,0,0,0,10,2.8200000000000003,1.02,0.02,4,null,1.02,0.02,null,4,0.2,0.02]
[null,null,"",0,null,0,"",false,0,0,0,0,10,2.8200000000000003,1.02,0.02,4,null,1.02,0.02,null,4,0.2,0.02]
[null,null,"",0,null,0,"",false,0,0,0,0,10,2.8200000000000003,1.02,0.02,4,null,1.02,0.02,null,4,0.2,0.02]
[null,null,"",0,null,0,"",false,0,0,0,0,10,2.8200000000000003,1.02,0.02,4,null,1.02,0.02,null,4,0.2,0.02]
[null,null,"",0,null,0,"",false,0,0,0,0,10,2.8200000000000003,1.02,0.02,4,null,1.02,0.02,null,4,0.2,0.02]
[null,null,"",0,null,0,"",false,0,0,0,0,10,2.8200000000000003,1.02,0.02,4,null,1.02,0.02,null,4,0.2,0.02]
[null,null,"",0,null,0,"",false,0,0,0,0,10,2.8200000000000003,1.02,0.02,4,null,1.02,0.02,null,4,0.2,0.02]
[null,null,"",0,null,0,"",false,0,0,0,0,10,2.8200000000000003,1.02,0.02,4,null,1.02,0.02,null,4,0.2,0.02]
[null,null,"",0,null,0,"",false,0,0,0,0,10,2.8200000000000003,1.02,0.02,4,null,1.02,0.02,null,4,0.2,0.02]
[null,null,"",0,null,0,"",false,0,0,0,0,10,2.8200000000000003,1.02,0.02,4,null,1.02,0.02,null,4,0.2,0.02]
[null,null,"",0,null,0,"",false,0,0,0,0,10,2.8200000000000003,1.02,0.02,4,null,1.02,0.02,null,4,0.2,0.02]
[null,null,"",0,null,0,"",false,0,0,0,0,10,2.8200000000000003,1.02,0.02,4,null,1.02,0.02,null,4,0.2,0.02]
[null,null,"",0,null,0,"",false,0,0,0,0,10,2.8200000000000003,1.02,0.02,4,null,1.02,0.02,null,4,0.2,0.02]
[null,null,"",0,null,0,"",false,0,0,0,0,10,2.8200000000000003,1.02,0.02,4,null,1.02,0.02,null,4,0.2,0.02]
[null,null,"",0,null,0,"",false,0,0,0,0,10,2.8200000000000003,1.02,0.02,4,null,1.02,0.02,null,4,0.2,0.02]
[null,null,"",0,null,0,"",false,0,0,0,0,10,2.8200000000000003,1.02,0.02,4,null,1.02,0.02,null,4,0.2,0.02]
[null,null,"",0,null,0,"",false,0,0,0,0,10,2.8200000000000003,1.02,0.02,4,null,1.02,0.02,null,4,0.2,0.02]
[null,null,"",0,null,0,"",false,0,0,0,0,10,2.8200000000000003,1.02,0.02,4,null,1.02,0.02,null,4,0.2,0.02]
[null,null,"",0,null,0,"",false,0,0,0,0,10,2.8200000000000003,1.02,0.02,4,null,1.02,0.02,null,4,0.2,0.02]
[null,null,"",0,null,0,"",false,0,0,0,0,10,2.8200000000000003,1.02,0.02,4,null,1.02,0.02,null,4,0.2,0.02]
[null,null,"",0,null,0,"",false,0,0,0,0,10,2.8200000000000003,1.02,0.02,4,null,1.02,0.02,null,4,0.2,0.02]
[null,null,{"$f":"IF(I707>0,INDEX(DB,I707,8),\"\")","v":""},0,null,0,"",false,{"$f":"IF(OR(ISBLANK(A707),ISNA(MATCH(A707&\"\",AthleteNumbers,0))),0,MATCH(A707&\"\",AthleteNumbers,0))","v":0},{"$f":"IF(I707>0,INDEX(DB,$I707,6),0)","v":0},0,0,10,2.8200000000000003,1.02,0.02,{"$f":"IF(I707>0,INDEX(DB,I707,9),EventIndex)","v":4},null,{"$f":"INDEX(MINVALUES,$Q707,$K$1)","v":1.02},{"$f":"INDEX(INCVALUES,$Q707,$K$1)","v":0.02},null,{"$f":"+J707+(4*(INDEX(MatchScoreTable,$Q707,20)-1))","v":4},{"$f":"INDEX(INC_MINVALUES,$V707,$K$1)","v":0.2},{"$f":"INDEX(INC_INCVALUES,$V707,$K$1)","v":0.02}]
[null,null,"",{"$f":"IF(AND(H708,B708<>0,ISNUMBER(B708)),IF(ISERR(M708),0,M708),0)","v":0},null,{"$f":"COUNTIF(A$3:A$1002,A708)","v":0},{"$f":"IF(AND(H708,OR(D708<=10,D708>=90)),\"CHECK\",\"\")","v":""},{"$f":"IF(AND(I708>0,LEN(C708)>0,B708<>0),TRUE,FALSE)","v":false},0,0,{"$f":"IF(ISNUMBER(B708),ROUND(+B708,2),0)","v":0},{"$f":"+K708","v":0},{"$f":"IF(L708<O708,MinPoints,IF(AND(L708>N708,O708>0),100,+INT(($L708-O708)/P708)+MinPoints))","v":10},{"$f":"+O708+(P708*90)","v":2.8200000000000003},{"$f":"IF($J708=0,$S708,$W708)","v":1.02},{"$f":"IF($J708=0,$T708,$X708)","v":0.02},4,null,1.02,0.02,null,4,0.2,0.02]
[null,null,"",0,null,0,"",false,0,0,0,0,10,2.8200000000000003,1.02,0.02,4,null,1.02,0.02,null,4,0.2,0.02]
[null,null,"",0,null,0,"",false,0,0,0,0,10,2.8200000000000003,1.02,0.02,4,null,1.02,0.02,null,4,0.2,0.02]
[null,null,"",0,null,0,"",false,0,0,0,0,10,2.8200000000000003,1.02,0.02,4,null,1.02,0.02,null,4,0.2,0.02]
[null,null,"",0,null,0,"",false,0,0,0,0,10,2.8200000000000003,1.02,0.02,4,null,1.02,0.02,null,4,0.2,0.02]
[null,null,"",0,null,0,"",false,0,0,0,0,10,2.8200000000000003,1.02,0.02,4,null,1.02,0.02,null,4,0.2,0.02]
[null,null,"",0,null,0,"",false,0,0,0,0,10,2.8200000000000003,1.02,0.02,4,null,1.02,0.02,null,4,0.2,0.02]
[null,null,"",0,null,0,"",false,0,0,0,0,10,2.8200000000000003,1.02,0.02,4,null,1.02,0.02,null,4,0.2,0.02]
[null,null,"",0,null,0,"",false,0,0,0,0,10,2.8200000000000003,1.02,0.02,4,null,1.02,0.02,null,4,0.2,0.02]
[null,null,"",0,null,0,"",false,0,0,0,0,10,2.8200000000000003,1.02,0.02,4,null,1.02,0.02,null,4,0.2,0.02]
[null,null,"",0,null,0,"",false,0,0,0,0,10,2.8200000000000003,1.02,0.02,4,null,1.02,0.02,null,4,0.2,0.02]
[null,null,"",0,null,0,"",false,0,0,0,0,10,2.8200000000000003,1.02,0.02,4,null,1.02,0.02,null,4,0.2,0.02]
[null,null,"",0,null,0,"",false,0,0,0,0,10,2.8200000000000003,1.02,0.02,4,null,1.02,0.02,null,4,0.2,0.02]
[null,null,"",0,null,0,"",false,0,0,0,0,10,2.8200000000000003,1.02,0.02,4,null,1.02,0.02,null,4,0.2,0.02]
[null,null,"",0,null,0,"",false,0,0,0,0,10,2.8200000000000003,1.02,0.02,4,null,1.02,0.02,null,4,0.2,0.02]
[null,null,"",0,null,0,"",false,0,0,0,0,10,2.8200000000000003,1.02,0.02,4,null,1.02,0.02,null,4,0.2,0.02]
[null,null,"",0,null,0,"",false,0,0,0,0,10,2.8200000000000003,1.02,0.02,4,null,1.02,0.02,null,4,0.2,0.02]
[null,null,"",0,null,0,"",false,0,0,0,0,10,2.8200000000000003,1.02,0.02,4,null,1.02,0.02,null,4,0.2,0.02]
[null,null,"",0,null,0,"",false,0,0,0,0,10,2.8200000000000003,1.02,0.02,4,null,1.02,0.02,null,4,0.2,0.02]
[null,null,"",0,null,0,"",false,0,0,0,0,10,2.8200000000000003,1.02,0.02,4,null,1.02,0.02,null,4,0.2,0.02]
[null,null,"",0,null,0,"",false,0,0,0,0,10,2.8200000000000003,1.02,0.02,4,null,1.02,0.02,null,4,0.2,0.02]
[null,null,"",0,null,0,"",false,0,0,0,0,10,2.8200000000000003,1.02,0.02,4,null,1.02,0.02,null,4,0.2,0.02]
[null,null,"",0,null,0,"",false,0,0,0,0,10,2.8200000000000003,1.02,0.02,4,null,1.02,0.02,null,4,0.2,0.02]
[null,null,"",0,null,0,"",false,0,0,0,0,10,2.8200000000000003,1.02,0.02,4,null,1.02,0.02,null,4,0.2,0.02]
[null,null,"",0,null,0,"",false,0,0,0,0,10,2.8200000000000003,1.02,0.02,4,null,1.02,0.02,null,4,0.2,0.02]
[null,null,"",0,null,0,"",false,0,0,0,0,10,2.8200000000000003,1.02,0.02,4,null,1.02,0.02,null,4,0.2,0.02]
[null,null,"",0,null,0,"",false,0,0,0,0,10,2.8200000000000003,1.02,0.02,4,null,1.02,0.02,null,4,0.2,0.02]
[null,null,"",0,null,0,"",false,0,0,0,0,10,2.8200000000000003,1.02,0.02,4,null,1.02,0.02,null,4,0.2,0.02]
[null,null,"",0,null,0,"",false,0,0,0,0,10,2.8200000000000003,1.02,0.02,4,null,1.02,0.02,null,4,0.2,0.02]
[null,null,"",0,null,0,"",false,0,0,0,0,10,2.8200000000000003,1.02,0.02,4,null,1.02,0.02,null,4,0.2,0.02]
[null,null,"",0,null,0,"",false,0,0,0,0,10,2.8200000000000003,1.02,0.02,4,null,1.02,0.02,null,4,0.2,0.02]
[null,null,"",0,null,0,"",false,0,0,0,0,10,2.8200000000000003,1.02,0.02,4,null,1.02,0.02,null,4,0.2,0.02]
[null,null,"",0,null,0,"",false,0,0,0,0,10,2.8200000000000003,1.02,0.02,4,null,1.02,0.02,null,4,0.2,0.02]
[null,null,"",0,null,0,"",false,0,0,0,0,10,2.8200000000000003,1.02,0.02,4,null,1.02,0.02,null,4,0.2,0.02]
[null,null,"",0,null,0,"",false,0,0,0,0,10,2.8200000000000003,1.02,0.02,4,null,1.02,0.02,null,4,0.2,0.02]
[null,null,"",0,null,0,"",false,0,0,0,0,10,2.8200000000000003,1.02,0.02,4,null,1.02,0.02,null,4,0.2,0.02]
[null,null,"",0,null,0,"",false,0,0,0,0,10,2.8200000000000003,1.02,0.02,4,null,1.02,0.02,null,4,0.2,0.02]
[null,null,"",0,null,0,"",false,0,0,0,0,10,2.8200000000000003,1.02,0.02,4,null,1.02,0.02,null,4,0.2,0.02]
[null,null,"",0,null,0,"",false,0,0,0,0,10,2.8200000000000003,1.02,0.02,4,null,1.02,0.02,null,4,0.2,0.02]
[null,null,"",0,null,0,"",false,0,0,0,0,10,2.8200000000000003,1.02,0.02,4,null,1.02,0.02,null,4,0.2,0.02]
[null,null,"",0,null,0,"",false,0,0,0,0,10,2.8200000000000003,1.02,0.02,4,null,1.02,0.02,null,4,0.2,0.02]
[null,null,"",0,null,0,"",false,0,0,0,0,10,2.8200000000000003,1.02,0.02,4,null,1.02,0.02,null,4,0.2,0.02]
[null,null,"",0,null,0,"",false,0,0,0,0,10,2.8200000000000003,1.02,0.02,4,null,1.02,0.02,null,4,0.2,0.02]
[null,null,"",0,null,0,"",false,0,0,0,0,10,2.8200000000000003,1.02,0.02,4,null,1.02,0.02,null,4,0.2,0.02]
[null,null,"",0,null,0,"",false,0,0,0,0,10,2.8200000000000003,1.02,0.02,4,null,1.02,0.02,null,4,0.2,0.02]
[null,null,"",0,null,0,"",false,0,0,0,0,10,2.8200000000000003,1.02,0.02,4,null,1.02,0.02,null,4,0.2,0.02]
[null,null,"",0,null,0,"",false,0,0,0,0,10,2.8200000000000003,1.02,0.02,4,null,1.02,0.02,null,4,0.2,0.02]
[null,null,"",0,null,0,"",false,0,0,0,0,10,2.8200000000000003,1.02,0.02,4,null,1.02,0.02,null,4,0.2,0.02]
[null,null,"",0,null,0,"",false,0,0,0,0,10,2.8200000000000003,1.02,0.02,4,null,1.02,0.02,null,4,0.2,0.02]
[null,null,"",0,null,0,"",false,0,0,0,0,10,2.8200000000000003,1.02,0.02,4,null,1.02,0.02,null,4,0.2,0.02]
[null,null,"",0,null,0,"",false,0,0,0,0,10,2.8200000000000003,1.02,0.02,4,null,1.02,0.02,null,4,0.2,0.02]
[null,null,"",0,null,0,"",false,0,0,0,0,10,2.8200000000000003,1.02,0.02,4,null,1.02,0.02,null,4,0.2,0.02]
[null,null,"",0,null,0,"",false,0,0,0,0,10,2.8200000000000003,1.02,0.02,4,null,1.02,0.02,null,4,0.2,0.02]
[null,null,"",0,null,0,"",false,0,0,0,0,10,2.8200000000000003,1.02,0.02,4,null,1.02,0.02,null,4,0.2,0.02]
[null,null,"",0,null,0,"",false,0,0,0,0,10,2.8200000000000003,1.02,0.02,4,null,1.02,0.02,null,4,0.2,0.02]
[null,null,"",0,null,0,"",false,0,0,0,0,10,2.8200000000000003,1.02,0.02,4,null,1.02,0.02,null,4,0.2,0.02]
[null,null,"",0,null,0,"",false,0,0,0,0,10,2.8200000000000003,1.02,0.02,4,null,1.02,0.02,null,4,0.2,0.02]
[null,null,"",0,null,0,"",false,0,0,0,0,10,2.8200000000000003,1.02,0.02,4,null,1.02,0.02,null,4,0.2,0.02]
[null,null,"",0,null,0,"",false,0,0,0,0,10,2.8200000000000003,1.02,0.02,4,null,1.02,0.02,null,4,0.2,0.02]
[null,null,"",0,null,0,"",false,0,0,0,0,10,2.8200000000000003,1.02,0.02,4,null,1.02,0.02,null,4,0.2,0.02]
[null,null,"",0,null,0,"",false,0,0,0,0,10,2.8200000000000003,1.02,0.02,4,null,1.02,0.02,null,4,0.2,0.02]
[null,null,"",0,null,0,"",false,0,0,0,0,10,2.8200000000000003,1.02,0.02,4,null,1.02,0.02,null,4,0.2,0.02]
[null,null,"",0,null,0,"",false,0,0,0,0,10,2.8200000000000003,1.02,0.02,4,null,1.02,0.02,null,4,0.2,0.02]
[null,null,{"$f":"IF(I771>0,INDEX(DB,I771,8),\"\")","v":""},0,null,0,"",false,{"$f":"IF(OR(ISBLANK(A771),ISNA(MATCH(A771&\"\",AthleteNumbers,0))),0,MATCH(A771&\"\",AthleteNumbers,0))","v":0},{"$f":"IF(I771>0,INDEX(DB,$I771,6),0)","v":0},0,0,10,2.8200000000000003,1.02,0.02,{"$f":"IF(I771>0,INDEX(DB,I771,9),EventIndex)","v":4},null,{"$f":"INDEX(MINVALUES,$Q771,$K$1)","v":1.02},{"$f":"INDEX(INCVALUES,$Q771,$K$1)","v":0.02},null,{"$f":"+J771+(4*(INDEX(MatchScoreTable,$Q771,20)-1))","v":4},{"$f":"INDEX(INC_MINVALUES,$V771,$K$1)","v":0.2},{"$f":"INDEX(INC_INCVALUES,$V771,$K$1)","v":0.02}]
[null,null,"",{"$f":"IF(AND(H772,B772<>0,ISNUMBER(B772)),IF(ISERR(M772),0,M772),0)","v":0},null,{"$f":"COUNTIF(A$3:A$1002,A772)","v":0},{"$f":"IF(AND(H772,OR(D772<=10,D772>=90)),\"CHECK\",\"\")","v":""},{"$f":"IF(AND(I772>0,LEN(C772)>0,B772<>0),TRUE,FALSE)","v":false},0,0,{"$f":"IF(ISNUMBER(B772),ROUND(+B772,2),0)","v":0},{"$f":"+K772","v":0},{"$f":"IF(L772<O772,MinPoints,IF(AND(L772>N772,O772>0),100,+INT(($L772-O772)/P772)+MinPoints))","v":10},{"$f":"+O772+(P772*90)","v":2.8200000000000003},{"$f":"IF($J772=0,$S772,$W772)","v":1.02},{"$f":"IF($J772=0,$T772,$X772)","v":0.02},4,null,1.02,0.02,null,4,0.2,0.02]
[null,null,"",0,null,0,"",false,0,0,0,0,10,2.8200000000000003,1.02,0.02,4,null,1.02,0.02,null,4,0.2,0.02]
[null,null,"",0,null,0,"",false,0,0,0,0,10,2.8200000000000003,1.02,0.02,4,null,1.02,0.02,null,4,0.2,0.02]
[null,null,"",0,null,0,"",false,0,0,0,0,10,2.8200000000000003,1.02,0.02,4,null,1.02,0.02,null,4,0.2,0.02]
[null,null,"",0,null,0,"",false,0,0,0,0,10,2.8200000000000003,1.02,0.02,4,null,1.02,0.02,null,4,0.2,0.02]
[null,null,"",0,null,0,"",false,0,0,0,0,10,2.8200000000000003,1.02,0.02,4,null,1.02,0.02,null,4,0.2,0.02]
[null,null,"",0,null,0,"",false,0,0,0,0,10,2.8200000000000003,1.02,0.02,4,null,1.02,0.02,null,4,0.2,0.02]
[null,null,"",0,null,0,"",false,0,0,0,0,10,2.8200000000000003,1.02,0.02,4,null,1.02,0.02,null,4,0.2,0.02]
[null,null,"",0,null,0,"",false,0,0,0,0,10,2.8200000000000003,1.02,0.02,4,null,1.02,0.02,null,4,0.2,0.02]
[null,null,"",0,null,0,"",false,0,0,0,0,10,2.8200000000000003,1.02,0.02,4,null,1.02,0.02,null,4,0.2,0.02]
[null,null,"",0,null,0,"",false,0,0,0,0,10,2.8200000000000003,1.02,0.02,4,null,1.02,0.02,null,4,0.2,0.02]
[null,null,"",0,null,0,"",false,0,0,0,0,10,2.8200000000000003,1.02,0.02,4,null,1.02,0.02,null,4,0.2,0.02]
[null,null,"",0,null,0,"",false,0,0,0,0,10,2.8200000000000003,1.02,0.02,4,null,1.02,0.02,null,4,0.2,0.02]
[null,null,"",0,null,0,"",false,0,0,0,0,10,2.8200000000000003,1.02,0.02,4,null,1.02,0.02,null,4,0.2,0.02]
[null,null,"",0,null,0,"",false,0,0,0,0,10,2.8200000000000003,1.02,0.02,4,null,1.02,0.02,null,4,0.2,0.02]
[null,null,"",0,null,0,"",false,0,0,0,0,10,2.8200000000000003,1.02,0.02,4,null,1.02,0.02,null,4,0.2,0.02]
[null,null,"",0,null,0,"",false,0,0,0,0,10,2.8200000000000003,1.02,0.02,4,null,1.02,0.02,null,4,0.2,0.02]
[null,null,"",0,null,0,"",false,0,0,0,0,10,2.8200000000000003,1.02,0.02,4,null,1.02,0.02,null,4,0.2,0.02]
[null,null,"",0,null,0,"",false,0,0,0,0,10,2.8200000000000003,1.02,0.02,4,null,1.02,0.02,null,4,0.2,0.02]
[null,null,"",0,null,0,"",false,0,0,0,0,10,2.8200000000000003,1.02,0.02,4,null,1.02,0.02,null,4,0.2,0.02]
[null,null,"",0,null,0,"",false,0,0,0,0,10,2.8200000000000003,1.02,0.02,4,null,1.02,0.02,null,4,0.2,0.02]
[null,null,"",0,null,0,"",false,0,0,0,0,10,2.8200000000000003,1.02,0.02,4,null,1.02,0.02,null,4,0.2,0.02]
[null,null,"",0,null,0,"",false,0,0,0,0,10,2.8200000000000003,1.02,0.02,4,null,1.02,0.02,null,4,0.2,0.02]
[null,null,"",0,null,0,"",false,0,0,0,0,10,2.8200000000000003,1.02,0.02,4,null,1.02,0.02,null,4,0.2,0.02]
[null,null,"",0,null,0,"",false,0,0,0,0,10,2.8200000000000003,1.02,0.02,4,null,1.02,0.02,null,4,0.2,0.02]
[null,null,"",0,null,0,"",false,0,0,0,0,10,2.8200000000000003,1.02,0.02,4,null,1.02,0.02,null,4,0.2,0.02]
[null,null,"",0,null,0,"",false,0,0,0,0,10,2.8200000000000003,1.02,0.02,4,null,1.02,0.02,null,4,0.2,0.02]
[null,null,"",0,null,0,"",false,0,0,0,0,10,2.8200000000000003,1.02,0.02,4,null,1.02,0.02,null,4,0.2,0.02]
[null,null,"",0,null,0,"",false,0,0,0,0,10,2.8200000000000003,1.02,0.02,4,null,1.02,0.02,null,4,0.2,0.02]
[null,null,"",0,null,0,"",false,0,0,0,0,10,2.8200000000000003,1.02,0.02,4,null,1.02,0.02,null,4,0.2,0.02]
[null,null,"",0,null,0,"",false,0,0,0,0,10,2.8200000000000003,1.02,0.02,4,null,1.02,0.02,null,4,0.2,0.02]
[null,null,"",0,null,0,"",false,0,0,0,0,10,2.8200000000000003,1.02,0.02,4,null,1.02,0.02,null,4,0.2,0.02]
[null,null,"",0,null,0,"",false,0,0,0,0,10,2.8200000000000003,1.02,0.02,4,null,1.02,0.02,null,4,0.2,0.02]
[null,null,"",0,null,0,"",false,0,0,0,0,10,2.8200000000000003,1.02,0.02,4,null,1.02,0.02,null,4,0.2,0.02]
[null,null,"",0,null,0,"",false,0,0,0,0,10,2.8200000000000003,1.02,0.02,4,null,1.02,0.02,null,4,0.2,0.02]
[null,null,"",0,null,0,"",false,0,0,0,0,10,2.8200000000000003,1.02,0.02,4,null,1.02,0.02,null,4,0.2,0.02]
[null,null,"",0,null,0,"",false,0,0,0,0,10,2.8200000000000003,1.02,0.02,4,null,1.02,0.02,null,4,0.2,0.02]
[null,null,"",0,null,0,"",false,0,0,0,0,10,2.8200000000000003,1.02,0.02,4,null,1.02,0.02,null,4,0.2,0.02]
[null,null,"",0,null,0,"",false,0,0,0,0,10,2.8200000000000003,1.02,0.02,4,null,1.02,0.02,null,4,0.2,0.02]
[null,null,"",0,null,0,"",false,0,0,0,0,10,2.8200000000000003,1.02,0.02,4,null,1.02,0.02,null,4,0.2,0.02]
[null,null,"",0,null,0,"",false,0,0,0,0,10,2.8200000000000003,1.02,0.02,4,null,1.02,0.02,null,4,0.2,0.02]
[null,null,"",0,null,0,"",false,0,0,0,0,10,2.8200000000000003,1.02,0.02,4,null,1.02,0.02,null,4,0.2,0.02]
[null,null,"",0,null,0,"",false,0,0,0,0,10,2.8200000000000003,1.02,0.02,4,null,1.02,0.02,null,4,0.2,0.02]
[null,null,"",0,null,0,"",false,0,0,0,0,10,2.8200000000000003,1.02,0.02,4,null,1.02,0.02,null,4,0.2,0.02]
[null,null,"",0,null,0,"",false,0,0,0,0,10,2.8200000000000003,1.02,0.02,4,null,1.02,0.02,null,4,0.2,0.02]
[null,null,"",0,null,0,"",false,0,0,0,0,10,2.8200000000000003,1.02,0.02,4,null,1.02,0.02,null,4,0.2,0.02]
[null,null,"",0,null,0,"",false,0,0,0,0,10,2.8200000000000003,1.02,0.02,4,null,1.02,0.02,null,4,0.2,0.02]
[null,null,"",0,null,0,"",false,0,0,0,0,10,2.8200000000000003,1.02,0.02,4,null,1.02,0.02,null,4,0.2,0.02]
[null,null,"",0,null,0,"",false,0,0,0,0,10,2.8200000000000003,1.02,0.02,4,null,1.02,0.02,null,4,0.2,0.02]
[null,null,"",0,null,0,"",false,0,0,0,0,10,2.8200000000000003,1.02,0.02,4,null,1.02,0.02,null,4,0.2,0.02]
[null,null,"",0,null,0,"",false,0,0,0,0,10,2.8200000000000003,1.02,0.02,4,null,1.02,0.02,null,4,0.2,0.02]
[null,null,"",0,null,0,"",false,0,0,0,0,10,2.8200000000000003,1.02,0.02,4,null,1.02,0.02,null,4,0.2,0.02]
[null,null,"",0,null,0,"",false,0,0,0,0,10,2.8200000000000003,1.02,0.02,4,null,1.02,0.02,null,4,0.2,0.02]
[null,null,"",0,null,0,"",false,0,0,0,0,10,2.8200000000000003,1.02,0.02,4,null,1.02,0.02,null,4,0.2,0.02]
[null,null,"",0,null,0,"",false,0,0,0,0,10,2.8200000000000003,1.02,0.02,4,null,1.02,0.02,null,4,0.2,0.02]
[null,null,"",0,null,0,"",false,0,0,0,0,10,2.8200000000000003,1.02,0.02,4,null,1.02,0.02,null,4,0.2,0.02]
[null,null,"",0,null,0,"",false,0,0,0,0,10,2.8200000000000003,1.02,0.02,4,null,1.02,0.02,null,4,0.2,0.02]
[null,null,"",0,null,0,"",false,0,0,0,0,10,2.8200000000000003,1.02,0.02,4,null,1.02,0.02,null,4,0.2,0.02]
[null,null,"",0,null,0,"",false,0,0,0,0,10,2.8200000000000003,1.02,0.02,4,null,1.02,0.02,null,4,0.2,0.02]
[null,null,"",0,null,0,"",false,0,0,0,0,10,2.8200000000000003,1.02,0.02,4,null,1.02,0.02,null,4,0.2,0.02]
[null,null,"",0,null,0,"",false,0,0,0,0,10,2.8200000000000003,1.02,0.02,4,null,1.02,0.02,null,4,0.2,0.02]
[null,null,"",0,null,0,"",false,0,0,0,0,10,2.8200000000000003,1.02,0.02,4,null,1.02,0.02,null,4,0.2,0.02]
[null,null,"",0,null,0,"",false,0,0,0,0,10,2.8200000000000003,1.02,0.02,4,null,1.02,0.02,null,4,0.2,0.02]
[null,null,{"$f":"IF(I835>0,INDEX(DB,I835,8),\"\")","v":""},0,null,0,"",false,{"$f":"IF(OR(ISBLANK(A835),ISNA(MATCH(A835&\"\",AthleteNumbers,0))),0,MATCH(A835&\"\",AthleteNumbers,0))","v":0},{"$f":"IF(I835>0,INDEX(DB,$I835,6),0)","v":0},0,0,10,2.8200000000000003,1.02,0.02,{"$f":"IF(I835>0,INDEX(DB,I835,9),EventIndex)","v":4},null,{"$f":"INDEX(MINVALUES,$Q835,$K$1)","v":1.02},{"$f":"INDEX(INCVALUES,$Q835,$K$1)","v":0.02},null,{"$f":"+J835+(4*(INDEX(MatchScoreTable,$Q835,20)-1))","v":4},{"$f":"INDEX(INC_MINVALUES,$V835,$K$1)","v":0.2},{"$f":"INDEX(INC_INCVALUES,$V835,$K$1)","v":0.02}]
[null,null,"",{"$f":"IF(AND(H836,B836<>0,ISNUMBER(B836)),IF(ISERR(M836),0,M836),0)","v":0},null,{"$f":"COUNTIF(A$3:A$1002,A836)","v":0},{"$f":"IF(AND(H836,OR(D836<=10,D836>=90)),\"CHECK\",\"\")","v":""},{"$f":"IF(AND(I836>0,LEN(C836)>0,B836<>0),TRUE,FALSE)","v":false},0,0,{"$f":"IF(ISNUMBER(B836),ROUND(+B836,2),0)","v":0},{"$f":"+K836","v":0},{"$f":"IF(L836<O836,MinPoints,IF(AND(L836>N836,O836>0),100,+INT(($L836-O836)/P836)+MinPoints))","v":10},{"$f":"+O836+(P836*90)","v":2.8200000000000003},{"$f":"IF($J836=0,$S836,$W836)","v":1.02},{"$f":"IF($J836=0,$T836,$X836)","v":0.02},4,null,1.02,0.02,null,4,0.2,0.02]
[null,null,"",0,null,0,"",false,0,0,0,0,10,2.8200000000000003,1.02,0.02,4,null,1.02,0.02,null,4,0.2,0.02]
[null,null,"",0,null,0,"",false,0,0,0,0,10,2.8200000000000003,1.02,0.02,4,null,1.02,0.02,null,4,0.2,0.02]
[null,null,"",0,null,0,"",false,0,0,0,0,10,2.8200000000000003,1.02,0.02,4,null,1.02,0.02,null,4,0.2,0.02]
[null,null,"",0,null,0,"",false,0,0,0,0,10,2.8200000000000003,1.02,0.02,4,null,1.02,0.02,null,4,0.2,0.02]
[null,null,"",0,null,0,"",false,0,0,0,0,10,2.8200000000000003,1.02,0.02,4,null,1.02,0.02,null,4,0.2,0.02]
[null,null,"",0,null,0,"",false,0,0,0,0,10,2.8200000000000003,1.02,0.02,4,null,1.02,0.02,null,4,0.2,0.02]
[null,null,"",0,null,0,"",false,0,0,0,0,10,2.8200000000000003,1.02,0.02,4,null,1.02,0.02,null,4,0.2,0.02]
[null,null,"",0,null,0,"",false,0,0,0,0,10,2.8200000000000003,1.02,0.02,4,null,1.02,0.02,null,4,0.2,0.02]
[null,null,"",0,null,0,"",false,0,0,0,0,10,2.8200000000000003,1.02,0.02,4,null,1.02,0.02,null,4,0.2,0.02]
[null,null,"",0,null,0,"",false,0,0,0,0,10,2.8200000000000003,1.02,0.02,4,null,1.02,0.02,null,4,0.2,0.02]
[null,null,"",0,null,0,"",false,0,0,0,0,10,2.8200000000000003,1.02,0.02,4,null,1.02,0.02,null,4,0.2,0.02]
[null,null,"",0,null,0,"",false,0,0,0,0,10,2.8200000000000003,1.02,0.02,4,null,1.02,0.02,null,4,0.2,0.02]
[null,null,"",0,null,0,"",false,0,0,0,0,10,2.8200000000000003,1.02,0.02,4,null,1.02,0.02,null,4,0.2,0.02]
[null,null,"",0,null,0,"",false,0,0,0,0,10,2.8200000000000003,1.02,0.02,4,null,1.02,0.02,null,4,0.2,0.02]
[null,null,"",0,null,0,"",false,0,0,0,0,10,2.8200000000000003,1.02,0.02,4,null,1.02,0.02,null,4,0.2,0.02]
[null,null,"",0,null,0,"",false,0,0,0,0,10,2.8200000000000003,1.02,0.02,4,null,1.02,0.02,null,4,0.2,0.02]
[null,null,"",0,null,0,"",false,0,0,0,0,10,2.8200000000000003,1.02,0.02,4,null,1.02,0.02,null,4,0.2,0.02]
[null,null,"",0,null,0,"",false,0,0,0,0,10,2.8200000000000003,1.02,0.02,4,null,1.02,0.02,null,4,0.2,0.02]
[null,null,"",0,null,0,"",false,0,0,0,0,10,2.8200000000000003,1.02,0.02,4,null,1.02,0.02,null,4,0.2,0.02]
[null,null,"",0,null,0,"",false,0,0,0,0,10,2.8200000000000003,1.02,0.02,4,null,1.02,0.02,null,4,0.2,0.02]
[null,null,"",0,null,0,"",false,0,0,0,0,10,2.8200000000000003,1.02,0.02,4,null,1.02,0.02,null,4,0.2,0.02]
[null,null,"",0,null,0,"",false,0,0,0,0,10,2.8200000000000003,1.02,0.02,4,null,1.02,0.02,null,4,0.2,0.02]
[null,null,"",0,null,0,"",false,0,0,0,0,10,2.8200000000000003,1.02,0.02,4,null,1.02,0.02,null,4,0.2,0.02]
[null,null,"",0,null,0,"",false,0,0,0,0,10,2.8200000000000003,1.02,0.02,4,null,1.02,0.02,null,4,0.2,0.02]
[null,null,"",0,null,0,"",false,0,0,0,0,10,2.8200000000000003,1.02,0.02,4,null,1.02,0.02,null,4,0.2,0.02]
[null,null,"",0,null,0,"",false,0,0,0,0,10,2.8200000000000003,1.02,0.02,4,null,1.02,0.02,null,4,0.2,0.02]
[null,null,"",0,null,0,"",false,0,0,0,0,10,2.8200000000000003,1.02,0.02,4,null,1.02,0.02,null,4,0.2,0.02]
[null,null,"",0,null,0,"",false,0,0,0,0,10,2.8200000000000003,1.02,0.02,4,null,1.02,0.02,null,4,0.2,0.02]
[null,null,"",0,null,0,"",false,0,0,0,0,10,2.8200000000000003,1.02,0.02,4,null,1.02,0.02,null,4,0.2,0.02]
[null,null,"",0,null,0,"",false,0,0,0,0,10,2.8200000000000003,1.02,0.02,4,null,1.02,0.02,null,4,0.2,0.02]
[null,null,"",0,null,0,"",false,0,0,0,0,10,2.8200000000000003,1.02,0.02,4,null,1.02,0.02,null,4,0.2,0.02]
[null,null,"",0,null,0,"",false,0,0,0,0,10,2.8200000000000003,1.02,0.02,4,null,1.02,0.02,null,4,0.2,0.02]
[null,null,"",0,null,0,"",false,0,0,0,0,10,2.8200000000000003,1.02,0.02,4,null,1.02,0.02,null,4,0.2,0.02]
[null,null,"",0,null,0,"",false,0,0,0,0,10,2.8200000000000003,1.02,0.02,4,null,1.02,0.02,null,4,0.2,0.02]
[null,null,"",0,null,0,"",false,0,0,0,0,10,2.8200000000000003,1.02,0.02,4,null,1.02,0.02,null,4,0.2,0.02]
[null,null,"",0,null,0,"",false,0,0,0,0,10,2.8200000000000003,1.02,0.02,4,null,1.02,0.02,null,4,0.2,0.02]
[null,null,"",0,null,0,"",false,0,0,0,0,10,2.8200000000000003,1.02,0.02,4,null,1.02,0.02,null,4,0.2,0.02]
[null,null,"",0,null,0,"",false,0,0,0,0,10,2.8200000000000003,1.02,0.02,4,null,1.02,0.02,null,4,0.2,0.02]
[null,null,"",0,null,0,"",false,0,0,0,0,10,2.8200000000000003,1.02,0.02,4,null,1.02,0.02,null,4,0.2,0.02]
[null,null,"",0,null,0,"",false,0,0,0,0,10,2.8200000000000003,1.02,0.02,4,null,1.02,0.02,null,4,0.2,0.02]
[null,null,"",0,null,0,"",false,0,0,0,0,10,2.8200000000000003,1.02,0.02,4,null,1.02,0.02,null,4,0.2,0.02]
[null,null,"",0,null,0,"",false,0,0,0,0,10,2.8200000000000003,1.02,0.02,4,null,1.02,0.02,null,4,0.2,0.02]
[null,null,"",0,null,0,"",false,0,0,0,0,10,2.8200000000000003,1.02,0.02,4,null,1.02,0.02,null,4,0.2,0.02]
[null,null,"",0,null,0,"",false,0,0,0,0,10,2.8200000000000003,1.02,0.02,4,null,1.02,0.02,null,4,0.2,0.02]
[null,null,"",0,null,0,"",false,0,0,0,0,10,2.8200000000000003,1.02,0.02,4,null,1.02,0.02,null,4,0.2,0.02]
[null,null,"",0,null,0,"",false,0,0,0,0,10,2.8200000000000003,1.02,0.02,4,null,1.02,0.02,null,4,0.2,0.02]
[null,null,"",0,null,0,"",false,0,0,0,0,10,2.8200000000000003,1.02,0.02,4,null,1.02,0.02,null,4,0.2,0.02]
[null,null,"",0,null,0,"",false,0,0,0,0,10,2.8200000000000003,1.02,0.02,4,null,1.02,0.02,null,4,0.2,0.02]
[null,null,"",0,null,0,"",false,0,0,0,0,10,2.8200000000000003,1.02,0.02,4,null,1.02,0.02,null,4,0.2,0.02]
[null,null,"",0,null,0,"",false,0,0,0,0,10,2.8200000000000003,1.02,0.02,4,null,1.02,0.02,null,4,0.2,0.02]
[null,null,"",0,null,0,"",false,0,0,0,0,10,2.8200000000000003,1.02,0.02,4,null,1.02,0.02,null,4,0.2,0.02]
[null,null,"",0,null,0,"",false,0,0,0,0,10,2.8200000000000003,1.02,0.02,4,null,1.02,0.02,null,4,0.2,0.02]
[null,null,"",0,null,0,"",false,0,0,0,0,10,2.8200000000000003,1.02,0.02,4,null,1.02,0.02,null,4,0.2,0.02]
[null,null,"",0,null,0,"",false,0,0,0,0,10,2.8200000000000003,1.02,0.02,4,null,1.02,0.02,null,4,0.2,0.02]
[null,null,"",0,null,0,"",false,0,0,0,0,10,2.8200000000000003,1.02,0.02,4,null,1.02,0.02,null,4,0.2,0.02]
[null,null,"",0,null,0,"",false,0,0,0,0,10,2.8200000000000003,1.02,0.02,4,null,1.02,0.02,null,4,0.2,0.02]
[null,null,"",0,null,0,"",false,0,0,0,0,10,2.8200000000000003,1.02,0.02,4,null,1.02,0.02,null,4,0.2,0.02]
[null,null,"",0,null,0,"",false,0,0,0,0,10,2.8200000000000003,1.02,0.02,4,null,1.02,0.02,null,4,0.2,0.02]
[null,null,"",0,null,0,"",false,0,0,0,0,10,2.8200000000000003,1.02,0.02,4,null,1.02,0.02,null,4,0.2,0.02]
[null,null,"",0,null,0,"",false,0,0,0,0,10,2.8200000000000003,1.02,0.02,4,null,1.02,0.02,null,4,0.2,0.02]
[null,null,"",0,null,0,"",false,0,0,0,0,10,2.8200000000000003,1.02,0.02,4,null,1.02,0.02,null,4,0.2,0.02]
[null,null,"",0,null,0,"",false,0,0,0,0,10,2.8200000000000003,1.02,0.02,4,null,1.02,0.02,null,4,0.2,0.02]
[null,null,{"$f":"IF(I899>0,INDEX(DB,I899,8),\"\")","v":""},0,null,0,"",false,{"$f":"IF(OR(ISBLANK(A899),ISNA(MATCH(A899&\"\",AthleteNumbers,0))),0,MATCH(A899&\"\",AthleteNumbers,0))","v":0},{"$f":"IF(I899>0,INDEX(DB,$I899,6),0)","v":0},0,0,10,2.8200000000000003,1.02,0.02,{"$f":"IF(I899>0,INDEX(DB,I899,9),EventIndex)","v":4},null,{"$f":"INDEX(MINVALUES,$Q899,$K$1)","v":1.02},{"$f":"INDEX(INCVALUES,$Q899,$K$1)","v":0.02},null,{"$f":"+J899+(4*(INDEX(MatchScoreTable,$Q899,20)-1))","v":4},{"$f":"INDEX(INC_MINVALUES,$V899,$K$1)","v":0.2},{"$f":"INDEX(INC_INCVALUES,$V899,$K$1)","v":0.02}]
[null,null,"",{"$f":"IF(AND(H900,B900<>0,ISNUMBER(B900)),IF(ISERR(M900),0,M900),0)","v":0},null,{"$f":"COUNTIF(A$3:A$1002,A900)","v":0},{"$f":"IF(AND(H900,OR(D900<=10,D900>=90)),\"CHECK\",\"\")","v":""},{"$f":"IF(AND(I900>0,LEN(C900)>0,B900<>0),TRUE,FALSE)","v":false},0,0,{"$f":"IF(ISNUMBER(B900),ROUND(+B900,2),0)","v":0},{"$f":"+K900","v":0},{"$f":"IF(L900<O900,MinPoints,IF(AND(L900>N900,O900>0),100,+INT(($L900-O900)/P900)+MinPoints))","v":10},{"$f":"+O900+(P900*90)","v":2.8200000000000003},{"$f":"IF($J900=0,$S900,$W900)","v":1.02},{"$f":"IF($J900=0,$T900,$X900)","v":0.02},4,null,1.02,0.02,null,4,0.2,0.02]
[null,null,"",0,null,0,"",false,0,0,0,0,10,2.8200000000000003,1.02,0.02,4,null,1.02,0.02,null,4,0.2,0.02]
[null,null,"",0,null,0,"",false,0,0,0,0,10,2.8200000000000003,1.02,0.02,4,null,1.02,0.02,null,4,0.2,0.02]
[null,null,"",0,null,0,"",false,0,0,0,0,10,2.8200000000000003,1.02,0.02,4,null,1.02,0.02,null,4,0.2,0.02]
[null,null,"",0,null,0,"",false,0,0,0,0,10,2.8200000000000003,1.02,0.02,4,null,1.02,0.02,null,4,0.2,0.02]
[null,null,"",0,null,0,"",false,0,0,0,0,10,2.8200000000000003,1.02,0.02,4,null,1.02,0.02,null,4,0.2,0.02]
[null,null,"",0,null,0,"",false,0,0,0,0,10,2.8200000000000003,1.02,0.02,4,null,1.02,0.02,null,4,0.2,0.02]
[null,null,"",0,null,0,"",false,0,0,0,0,10,2.8200000000000003,1.02,0.02,4,null,1.02,0.02,null,4,0.2,0.02]
[null,null,"",0,null,0,"",false,0,0,0,0,10,2.8200000000000003,1.02,0.02,4,null,1.02,0.02,null,4,0.2,0.02]
[null,null,"",0,null,0,"",false,0,0,0,0,10,2.8200000000000003,1.02,0.02,4,null,1.02,0.02,null,4,0.2,0.02]
[null,null,"",0,null,0,"",false,0,0,0,0,10,2.8200000000000003,1.02,0.02,4,null,1.02,0.02,null,4,0.2,0.02]
[null,null,"",0,null,0,"",false,0,0,0,0,10,2.8200000000000003,1.02,0.02,4,null,1.02,0.02,null,4,0.2,0.02]
[null,null,"",0,null,0,"",false,0,0,0,0,10,2.8200000000000003,1.02,0.02,4,null,1.02,0.02,null,4,0.2,0.02]
[null,null,"",0,null,0,"",false,0,0,0,0,10,2.8200000000000003,1.02,0.02,4,null,1.02,0.02,null,4,0.2,0.02]
[null,null,"",0,null,0,"",false,0,0,0,0,10,2.8200000000000003,1.02,0.02,4,null,1.02,0.02,null,4,0.2,0.02]
[null,null,"",0,null,0,"",false,0,0,0,0,10,2.8200000000000003,1.02,0.02,4,null,1.02,0.02,null,4,0.2,0.02]
[null,null,"",0,null,0,"",false,0,0,0,0,10,2.8200000000000003,1.02,0.02,4,null,1.02,0.02,null,4,0.2,0.02]
[null,null,"",0,null,0,"",false,0,0,0,0,10,2.8200000000000003,1.02,0.02,4,null,1.02,0.02,null,4,0.2,0.02]
[null,null,"",0,null,0,"",false,0,0,0,0,10,2.8200000000000003,1.02,0.02,4,null,1.02,0.02,null,4,0.2,0.02]
[null,null,"",0,null,0,"",false,0,0,0,0,10,2.8200000000000003,1.02,0.02,4,null,1.02,0.02,null,4,0.2,0.02]
[null,null,"",0,null,0,"",false,0,0,0,0,10,2.8200000000000003,1.02,0.02,4,null,1.02,0.02,null,4,0.2,0.02]
[null,null,"",0,null,0,"",false,0,0,0,0,10,2.8200000000000003,1.02,0.02,4,null,1.02,0.02,null,4,0.2,0.02]
[null,null,"",0,null,0,"",false,0,0,0,0,10,2.8200000000000003,1.02,0.02,4,null,1.02,0.02,null,4,0.2,0.02]
[null,null,"",0,null,0,"",false,0,0,0,0,10,2.8200000000000003,1.02,0.02,4,null,1.02,0.02,null,4,0.2,0.02]
[null,null,"",0,null,0,"",false,0,0,0,0,10,2.8200000000000003,1.02,0.02,4,null,1.02,0.02,null,4,0.2,0.02]
[null,null,"",0,null,0,"",false,0,0,0,0,10,2.8200000000000003,1.02,0.02,4,null,1.02,0.02,null,4,0.2,0.02]
[null,null,"",0,null,0,"",false,0,0,0,0,10,2.8200000000000003,1.02,0.02,4,null,1.02,0.02,null,4,0.2,0.02]
[null,null,"",0,null,0,"",false,0,0,0,0,10,2.8200000000000003,1.02,0.02,4,null,1.02,0.02,null,4,0.2,0.02]
[null,null,"",0,null,0,"",false,0,0,0,0,10,2.8200000000000003,1.02,0.02,4,null,1.02,0.02,null,4,0.2,0.02]
[null,null,"",0,null,0,"",false,0,0,0,0,10,2.8200000000000003,1.02,0.02,4,null,1.02,0.02,null,4,0.2,0.02]
[null,null,"",0,null,0,"",false,0,0,0,0,10,2.8200000000000003,1.02,0.02,4,null,1.02,0.02,null,4,0.2,0.02]
[null,null,"",0,null,0,"",false,0,0,0,0,10,2.8200000000000003,1.02,0.02,4,null,1.02,0.02,null,4,0.2,0.02]
[null,null,"",0,null,0,"",false,0,0,0,0,10,2.8200000000000003,1.02,0.02,4,null,1.02,0.02,null,4,0.2,0.02]
[null,null,"",0,null,0,"",false,0,0,0,0,10,2.8200000000000003,1.02,0.02,4,null,1.02,0.02,null,4,0.2,0.02]
[null,null,"",0,null,0,"",false,0,0,0,0,10,2.8200000000000003,1.02,0.02,4,null,1.02,0.02,null,4,0.2,0.02]
[null,null,"",0,null,0,"",false,0,0,0,0,10,2.8200000000000003,1.02,0.02,4,null,1.02,0.02,null,4,0.2,0.02]
[null,null,"",0,null,0,"",false,0,0,0,0,10,2.8200000000000003,1.02,0.02,4,null,1.02,0.02,null,4,0.2,0.02]
[null,null,"",0,null,0,"",false,0,0,0,0,10,2.8200000000000003,1.02,0.02,4,null,1.02,0.02,null,4,0.2,0.02]
[null,null,"",0,null,0,"",false,0,0,0,0,10,2.8200000000000003,1.02,0.02,4,null,1.02,0.02,null,4,0.2,0.02]
[null,null,"",0,null,0,"",false,0,0,0,0,10,2.8200000000000003,1.02,0.02,4,null,1.02,0.02,null,4,0.2,0.02]
[null,null,"",0,null,0,"",false,0,0,0,0,10,2.8200000000000003,1.02,0.02,4,null,1.02,0.02,null,4,0.2,0.02]
[null,null,"",0,null,0,"",false,0,0,0,0,10,2.8200000000000003,1.02,0.02,4,null,1.02,0.02,null,4,0.2,0.02]
[null,null,"",0,null,0,"",false,0,0,0,0,10,2.8200000000000003,1.02,0.02,4,null,1.02,0.02,null,4,0.2,0.02]
[null,null,"",0,null,0,"",false,0,0,0,0,10,2.8200000000000003,1.02,0.02,4,null,1.02,0.02,null,4,0.2,0.02]
[null,null,"",0,null,0,"",false,0,0,0,0,10,2.8200000000000003,1.02,0.02,4,null,1.02,0.02,null,4,0.2,0.02]
[null,null,"",0,null,0,"",false,0,0,0,0,10,2.8200000000000003,1.02,0.02,4,null,1.02,0.02,null,4,0.2,0.02]
[null,null,"",0,null,0,"",false,0,0,0,0,10,2.8200000000000003,1.02,0.02,4,null,1.02,0.02,null,4,0.2,0.02]
[null,null,"",0,null,0,"",false,0,0,0,0,10,2.8200000000000003,1.02,0.02,4,null,1.02,0.02,null,4,0.2,0.02]
[null,null,"",0,null,0,"",false,0,0,0,0,10,2.8200000000000003,1.02,0.02,4,null,1.02,0.02,null,4,0.2,0.02]
[null,null,"",0,null,0,"",false,0,0,0,0,10,2.8200000000000003,1.02,0.02,4,null,1.02,0.02,null,4,0.2,0.02]
[null,null,"",0,null,0,"",false,0,0,0,0,10,2.8200000000000003,1.02,0.02,4,null,1.02,0.02,null,4,0.2,0.02]
[null,null,"",0,null,0,"",false,0,0,0,0,10,2.8200000000000003,1.02,0.02,4,null,1.02,0.02,null,4,0.2,0.02]
[null,null,"",0,null,0,"",false,0,0,0,0,10,2.8200000000000003,1.02,0.02,4,null,1.02,0.02,null,4,0.2,0.02]
[null,null,"",0,null,0,"",false,0,0,0,0,10,2.8200000000000003,1.02,0.02,4,null,1.02,0.02,null,4,0.2,0.02]
[null,null,"",0,null,0,"",false,0,0,0,0,10,2.8200000000000003,1.02,0.02,4,null,1.02,0.02,null,4,0.2,0.02]
[null,null,"",0,null,0,"",false,0,0,0,0,10,2.8200000000000003,1.02,0.02,4,null,1.02,0.02,null,4,0.2,0.02]
[null,null,"",0,null,0,"",false,0,0,0,0,10,2.8200000000000003,1.02,0.02,4,null,1.02,0.02,null,4,0.2,0.02]
[null,null,"",0,null,0,"",false,0,0,0,0,10,2.8200000000000003,1.02,0.02,4,null,1.02,0.02,null,4,0.2,0.02]
[null,null,"",0,null,0,"",false,0,0,0,0,10,2.8200000000000003,1.02,0.02,4,null,1.02,0.02,null,4,0.2,0.02]
[null,null,"",0,null,0,"",false,0,0,0,0,10,2.8200000000000003,1.02,0.02,4,null,1.02,0.02,null,4,0.2,0.02]
[null,null,"",0,null,0,"",false,0,0,0,0,10,2.8200000000000003,1.02,0.02,4,null,1.02,0.02,null,4,0.2,0.02]
[null,null,"",0,null,0,"",false,0,0,0,0,10,2.8200000000000003,1.02,0.02,4,null,1.02,0.02,null,4,0.2,0.02]
[null,null,"",0,null,0,"",false,0,0,0,0,10,2.8200000000000003,1.02,0.02,4,null,1.02,0.02,null,4,0.2,0.02]
[null,null,{"$f":"IF(I963>0,INDEX(DB,I963,8),\"\")","v":""},0,null,0,"",false,{"$f":"IF(OR(ISBLANK(A963),ISNA(MATCH(A963&\"\",AthleteNumbers,0))),0,MATCH(A963&\"\",AthleteNumbers,0))","v":0},{"$f":"IF(I963>0,INDEX(DB,$I963,6),0)","v":0},0,0,10,2.8200000000000003,1.02,0.02,{"$f":"IF(I963>0,INDEX(DB,I963,9),EventIndex)","v":4},null,{"$f":"INDEX(MINVALUES,$Q963,$K$1)","v":1.02},{"$f":"INDEX(INCVALUES,$Q963,$K$1)","v":0.02},null,{"$f":"+J963+(4*(INDEX(MatchScoreTable,$Q963,20)-1))","v":4},{"$f":"INDEX(INC_MINVALUES,$V963,$K$1)","v":0.2},{"$f":"INDEX(INC_INCVALUES,$V963,$K$1)","v":0.02}]
[null,null,"",{"$f":"IF(AND(H964,B964<>0,ISNUMBER(B964)),IF(ISERR(M964),0,M964),0)","v":0},null,{"$f":"COUNTIF(A$3:A$1002,A964)","v":0},{"$f":"IF(AND(H964,OR(D964<=10,D964>=90)),\"CHECK\",\"\")","v":""},{"$f":"IF(AND(I964>0,LEN(C964)>0,B964<>0),TRUE,FALSE)","v":false},0,0,{"$f":"IF(ISNUMBER(B964),ROUND(+B964,2),0)","v":0},{"$f":"+K964","v":0},{"$f":"IF(L964<O964,MinPoints,IF(AND(L964>N964,O964>0),100,+INT(($L964-O964)/P964)+MinPoints))","v":10},{"$f":"+O964+(P964*90)","v":2.8200000000000003},{"$f":"IF($J964=0,$S964,$W964)","v":1.02},{"$f":"IF($J964=0,$T964,$X964)","v":0.02},4,null,1.02,0.02,null,4,0.2,0.02]
[null,null,"",0,null,0,"",false,0,0,0,0,10,2.8200000000000003,1.02,0.02,4,null,1.02,0.02,null,4,0.2,0.02]
[null,null,"",0,null,0,"",false,0,0,0,0,10,2.8200000000000003,1.02,0.02,4,null,1.02,0.02,null,4,0.2,0.02]
[null,null,"",0,null,0,"",false,0,0,0,0,10,2.8200000000000003,1.02,0.02,4,null,1.02,0.02,null,4,0.2,0.02]
[null,null,"",0,null,0,"",false,0,0,0,0,10,2.8200000000000003,1.02,0.02,4,null,1.02,0.02,null,4,0.2,0.02]
[null,null,"",0,null,0,"",false,0,0,0,0,10,2.8200000000000003,1.02,0.02,4,null,1.02,0.02,null,4,0.2,0.02]
[null,null,"",0,null,0,"",false,0,0,0,0,10,2.8200000000000003,1.02,0.02,4,null,1.02,0.02,null,4,0.2,0.02]
[null,null,"",0,null,0,"",false,0,0,0,0,10,2.8200000000000003,1.02,0.02,4,null,1.02,0.02,null,4,0.2,0.02]
[null,null,"",0,null,0,"",false,0,0,0,0,10,2.8200000000000003,1.02,0.02,4,null,1.02,0.02,null,4,0.2,0.02]
[null,null,"",0,null,0,"",false,0,0,0,0,10,2.8200000000000003,1.02,0.02,4,null,1.02,0.02,null,4,0.2,0.02]
[null,null,"",0,null,0,"",false,0,0,0,0,10,2.8200000000000003,1.02,0.02,4,null,1.02,0.02,null,4,0.2,0.02]
[null,null,"",0,null,0,"",false,0,0,0,0,10,2.8200000000000003,1.02,0.02,4,null,1.02,0.02,null,4,0.2,0.02]
[null,null,"",0,null,0,"",false,0,0,0,0,10,2.8200000000000003,1.02,0.02,4,null,1.02,0.02,null,4,0.2,0.02]
[null,null,"",0,null,0,"",false,0,0,0,0,10,2.8200000000000003,1.02,0.02,4,null,1.02,0.02,null,4,0.2,0.02]
[null,null,"",0,null,0,"",false,0,0,0,0,10,2.8200000000000003,1.02,0.02,4,null,1.02,0.02,null,4,0.2,0.02]
[null,null,"",0,null,0,"",false,0,0,0,0,10,2.8200000000000003,1.02,0.02,4,null,1.02,0.02,null,4,0.2,0.02]
[null,null,"",0,null,0,"",false,0,0,0,0,10,2.8200000000000003,1.02,0.02,4,null,1.02,0.02,null,4,0.2,0.02]
[null,null,"",0,null,0,"",false,0,0,0,0,10,2.8200000000000003,1.02,0.02,4,null,1.02,0.02,null,4,0.2,0.02]
[null,null,"",0,null,0,"",false,0,0,0,0,10,2.8200000000000003,1.02,0.02,4,null,1.02,0.02,null,4,0.2,0.02]
[null,null,"",0,null,0,"",false,0,0,0,0,10,2.8200000000000003,1.02,0.02,4,null,1.02,0.02,null,4,0.2,0.02]
[null,null,"",0,null,0,"",false,0,0,0,0,10,2.8200000000000003,1.02,0.02,4,null,1.02,0.02,null,4,0.2,0.02]
[null,null,"",0,null,0,"",false,0,0,0,0,10,2.8200000000000003,1.02,0.02,4,null,1.02,0.02,null,4,0.2,0.02]
[null,null,"",0,null,0,"",false,0,0,0,0,10,2.8200000000000003,1.02,0.02,4,null,1.02,0.02,null,4,0.2,0.02]
[null,null,"",0,null,0,"",false,0,0,0,0,10,2.8200000000000003,1.02,0.02,4,null,1.02,0.02,null,4,0.2,0.02]
[null,null,"",0,null,0,"",false,0,0,0,0,10,2.8200000000000003,1.02,0.02,4,null,1.02,0.02,null,4,0.2,0.02]
[null,null,"",0,null,0,"",false,0,0,0,0,10,2.8200000000000003,1.02,0.02,4,null,1.02,0.02,null,4,0.2,0.02]
[null,null,"",0,null,0,"",false,0,0,0,0,10,2.8200000000000003,1.02,0.02,4,null,1.02,0.02,null,4,0.2,0.02]
[null,null,"",0,null,0,"",false,0,0,0,0,10,2.8200000000000003,1.02,0.02,4,null,1.02,0.02,null,4,0.2,0.02]
[null,null,"",0,null,0,"",false,0,0,0,0,10,2.8200000000000003,1.02,0.02,4,null,1.02,0.02,null,4,0.2,0.02]
[null,null,"",0,null,0,"",false,0,0,0,0,10,2.8200000000000003,1.02,0.02,4,null,1.02,0.02,null,4,0.2,0.02]
[null,null,"",0,null,0,"",false,0,0,0,0,10,2.8200000000000003,1.02,0.02,4,null,1.02,0.02,null,4,0.2,0.02]
[null,null,"",0,null,0,"",false,0,0,0,0,10,2.8200000000000003,1.02,0.02,4,null,1.02,0.02,null,4,0.2,0.02]
[null,null,"",0,null,0,"",false,0,0,0,0,10,2.8200000000000003,1.02,0.02,4,null,1.02,0.02,null,4,0.2,0.02]
[null,null,"",0,null,0,"",false,0,0,0,0,10,2.8200000000000003,1.02,0.02,4,null,1.02,0.02,null,4,0.2,0.02]
[null,null,"",0,null,0,"",false,0,0,0,0,10,2.8200000000000003,1.02,0.02,4,null,1.02,0.02,null,4,0.2,0.02]
[null,null,"",0,null,0,"",false,0,0,0,0,10,2.8200000000000003,1.02,0.02,4,null,1.02,0.02,null,4,0.2,0.02]
[null,null,"",0,null,0,"",false,0,0,0,0,10,2.8200000000000003,1.02,0.02,4,null,1.02,0.02,null,4,0.2,0.02]
[null,null,"",0,null,0,"",false,0,0,0,0,10,2.8200000000000003,1.02,0.02,4,null,1.02,0.02,null,4,0.2,0.02]
[null,null,"",0]

{"sheet":"EVENT - THROW","index":11,"n_rows":1002,"n_cols":24,"rows_kept":1002,"cut":false,"hidden":false,"merged":[[0,0,0,1]]}
[{"$f":"\"Event:\"","v":"Event:"},null,"THROW",null,null,{"$f":"IF(TotalAthletes,COUNTIF(D3:D1002,\">0\")/TotalAthletes,0)","v":0.86111111111111116},null,null,null,"EvtIdx",4,"Min",{"$f":"INDEX(ScoreValues,2,$K$1)","v":5},"Inc",{"$f":"INDEX(ScoreValues,4,$K$1)","v":0.5},null,"Max",{"$f":"INDEX(ScoreValues,3,$K$1)","v":50}]
["Athlete No","Distance (m.mm)","Name","Points",null,"Duplicates","CheckPoint","ValidAthlete","AthleteIdx","Dgroup","meters","Adjusted","Points","Max","Min","Inc","AgeGroup",null,"MIN","INC",null,"Inc_Idx","MIN","INC"]
[3,19.11,{"$f":"IF(I3>0,INDEX(DB,I3,8),\"\")","v":"Jess Bailey"},{"$f":"IF(AND(H3,B3<>0,ISNUMBER(B3)),IF(ISERR(M3),0,M3),0)","v":38},null,{"$f":"COUNTIF(A$3:A$1002,A3)","v":1},{"$f":"IF(AND(H3,OR(D3<=10,D3>=90)),\"CHECK\",\"\")","v":""},{"$f":"IF(AND(I3>0,LEN(C3)>0,B3<>0),TRUE,FALSE)","v":true},{"$f":"IF(OR(ISBLANK(A3),ISNA(MATCH(A3&\"\",AthleteNumbers,0))),0,MATCH(A3&\"\",AthleteNumbers,0))","v":1},{"$f":"IF(I3>0,INDEX(DB,$I3,6),0)","v":0},{"$f":"IF(ISNUMBER(B3),ROUND(+B3,2),0)","v":19.11},{"$f":"+K3","v":19.11},{"$f":"IF(L3<O3,MinPoints,IF(AND(L3>N3,O3>0),100,+INT(($L3-O3)/P3)+MinPoints))","v":38},{"$f":"+O3+(P3*90)","v":50},{"$f":"IF($J3=0,$S3,$W3)","v":5},{"$f":"IF($J3=0,$T3,$X3)","v":0.5},{"$f":"IF(I3>0,INDEX(DB,I3,9),EventIndex)","v":4},null,{"$f":"INDEX(MINVALUES,$Q3,$K$1)","v":5},{"$f":"INDEX(INCVALUES,$Q3,$K$1)","v":0.5},null,{"$f":"+J3+(4*(INDEX(MatchScoreTable,$Q3,20)-1))","v":4},{"$f":"INDEX(INC_MINVALUES,$V3,$K$1)","v":2.5},{"$f":"INDEX(INC_INCVALUES,$V3,$K$1)","v":0.5}]
[5,11.26,"Poppy Burtwell",{"$f":"IF(AND(H4,B4<>0,ISNUMBER(B4)),IF(ISERR(M4),0,M4),0)","v":22},null,{"$f":"COUNTIF(A$3:A$1002,A4)","v":1},{"$f":"IF(AND(H4,OR(D4<=10,D4>=90)),\"CHECK\",\"\")","v":""},{"$f":"IF(AND(I4>0,LEN(C4)>0,B4<>0),TRUE,FALSE)","v":true},2,0,{"$f":"IF(ISNUMBER(B4),ROUND(+B4,2),0)","v":11.26},{"$f":"+K4","v":11.26},{"$f":"IF(L4<O4,MinPoints,IF(AND(L4>N4,O4>0),100,+INT(($L4-O4)/P4)+MinPoints))","v":22},{"$f":"+O4+(P4*90)","v":50},{"$f":"IF($J4=0,$S4,$W4)","v":5},{"$f":"IF($J4=0,$T4,$X4)","v":0.5},4,null,5,0.5,null,4,2.5,0.5]
[6,20.6,"Albie Jack Bussey",41,null,1,"",true,3,0,20.6,20.6,41,50,5,0.5,4,null,5,0.5,null,4,2.5,0.5]
[11,null,"Molly Elizabeth Creek",0,null,1,"",false,4,0,0,0,10,50,5,0.5,4,null,5,0.5,null,4,2.5,0.5]
[13,14.29,"Imogen Edwards",28,null,1,"",true,5,0,14.29,14.29,28,50,5,0.5,4,null,5,0.5,null,4,2.5,0.5]
[15,null,"Ezra Frick",0,null,1,"",false,6,0,0,0,10,50,5,0.5,4,null,5,0.5,null,4,2.5,0.5]
[16,8.02,"Emilia Game",16,null,1,"",true,7,0,8.02,8.02,16,50,5,0.5,4,null,5,0.5,null,4,2.5,0.5]
[19,9.23,"Charlotte Harvey",18,null,1,"",true,8,0,9.23,9.23,18,50,5,0.5,4,null,5,0.5,null,4,2.5,0.5]
[21,22.31,"Dylan Jacob Hockin",44,null,1,"",true,9,0,22.31,22.31,44,50,5,0.5,4,null,5,0.5,null,4,2.5,0.5]
[24,11.24,"Hermione Howard",22,null,1,"",true,10,0,11.24,11.24,22,50,5,0.5,4,null,5,0.5,null,4,2.5,0.5]
[26,20.260000000000002,"Evalyn Humphries",40,null,1,"",true,11,0,20.260000000000002,20.260000000000002,40,50,5,0.5,4,null,5,0.5,null,4,2.5,0.5]
[28,27.07,"William Peter Stuart Johnson",54,null,1,"",true,12,0,27.07,27.07,54,50,5,0.5,4,null,5,0.5,null,4,2.5,0.5]
[29,25.02,"Ben Jones",50,null,1,"",true,13,0,25.02,25.02,50,50,5,0.5,4,null,5,0.5,null,4,2.5,0.5]
[30,17.39,"Olivia Andrea Lilly Jones",34,null,1,"",true,14,0,17.39,17.39,34,50,5,0.5,4,null,5,0.5,null,4,2.5,0.5]
[31,18.75,"Rhys Callen Jones",37,null,1,"",true,15,0,18.75,18.75,37,50,5,0.5,4,null,5,0.5,null,4,2.5,0.5]
[33,27.05,"Arthur Lawson",54,null,1,"",true,16,0,27.05,27.05,54,50,5,0.5,4,null,5,0.5,null,4,2.5,0.5]
[35,17.63,"Edward Lewis",35,null,1,"",true,17,0,17.63,17.63,35,50,5,0.5,4,null,5,0.5,null,4,2.5,0.5]
[37,19.079999999999998,"Poppy Limb",38,null,1,"",true,18,0,19.079999999999998,19.079999999999998,38,50,5,0.5,4,null,5,0.5,null,4,2.5,0.5]
[41,22.15,"Reuben Mann",44,null,1,"",true,19,0,22.15,22.15,44,50,5,0.5,4,null,5,0.5,null,4,2.5,0.5]
[42,16.82,"Eliza Verity Mason",33,null,1,"",true,20,0,16.82,16.82,33,50,5,0.5,4,null,5,0.5,null,4,2.5,0.5]
[47,34.49,"Max Papuca",68,null,1,"",true,21,0,34.49,34.49,68,50,5,0.5,4,null,5,0.5,null,4,2.5,0.5]
[49,22.06,"Lucy Reeves",44,null,1,"",true,22,0,22.06,22.06,44,50,5,0.5,4,null,5,0.5,null,4,2.5,0.5]
[51,null,"Albert George Rendell",0,null,1,"",false,23,0,0,0,10,50,5,0.5,4,null,5,0.5,null,4,2.5,0.5]
[53,13.9,"Amelia Robinson",27,null,1,"",true,24,0,13.9,13.9,27,50,5,0.5,4,null,5,0.5,null,4,2.5,0.5]
[54,22.73,"Laurence Andrew Rowett",45,null,1,"",true,25,0,22.73,22.73,45,50,5,0.5,4,null,5,0.5,null,4,2.5,0.5]
[55,17.399999999999999,"Alfie Edward Seymour",34,null,1,"",true,26,0,17.399999999999999,17.399999999999999,34,50,5,0.5,4,null,5,0.5,null,4,2.5,0.5]
[57,22.89,"Henry Ronald Simpson",45,null,1,"",true,27,0,22.89,22.89,45,50,5,0.5,4,null,5,0.5,null,4,2.5,0.5]
[59,20.079999999999998,"Natalee May Souch",40,null,1,"",true,28,0,20.079999999999998,20.079999999999998,40,50,5,0.5,4,null,5,0.5,null,4,2.5,0.5]
[60,15.39,"Lola Southernwood",30,null,1,"",true,29,0,15.39,15.39,30,50,5,0.5,4,null,5,0.5,null,4,2.5,0.5]
[63,null,"Allegra Flora Spicer",0,null,1,"",false,30,0,0,0,10,50,5,0.5,4,null,5,0.5,null,4,2.5,0.5]
[68,21.7,"Annabelle Weldon",43,null,1,"",true,31,0,21.7,21.7,43,50,5,0.5,4,null,5,0.5,null,4,2.5,0.5]
[72,13.09,"Tayla Florence Williams",26,null,1,"",true,32,0,13.09,13.09,26,50,5,0.5,4,null,5,0.5,null,4,2.5,0.5]
[73,6.38,"Bethan Frances Wilson",12,null,1,"",true,33,0,6.38,6.38,12,50,5,0.5,4,null,5,0.5,null,4,2.5,0.5]
[74,null,"Isla Wright",0,null,1,"",false,34,0,0,0,10,50,5,0.5,4,null,5,0.5,null,4,2.5,0.5]
[76,12.8,"Joshua Young",25,null,1,"",true,35,0,12.8,12.8,25,50,5,0.5,4,null,5,0.5,null,4,2.5,0.5]
[77,20.399999999999999,"Piero Zanca",40,null,1,"",true,36,0,20.399999999999999,20.399999999999999,40,50,5,0.5,4,null,5,0.5,null,4,2.5,0.5]
[null,null,"",0,null,0,"",false,0,0,0,0,10,50,5,0.5,4,null,5,0.5,null,4,2.5,0.5]
[null,null,"",0,null,0,"",false,0,0,0,0,10,50,5,0.5,4,null,5,0.5,null,4,2.5,0.5]
[null,null,"",0,null,0,"",false,0,0,0,0,10,50,5,0.5,4,null,5,0.5,null,4,2.5,0.5]
[null,null,"",0,null,0,"",false,0,0,0,0,10,50,5,0.5,4,null,5,0.5,null,4,2.5,0.5]
[null,null,"",0,null,0,"",false,0,0,0,0,10,50,5,0.5,4,null,5,0.5,null,4,2.5,0.5]
[null,null,"",0,null,0,"",false,0,0,0,0,10,50,5,0.5,4,null,5,0.5,null,4,2.5,0.5]
[null,null,"",0,null,0,"",false,0,0,0,0,10,50,5,0.5,4,null,5,0.5,null,4,2.5,0.5]
[null,null,"",0,null,0,"",false,0,0,0,0,10,50,5,0.5,4,null,5,0.5,null,4,2.5,0.5]
[null,null,"",0,null,0,"",false,0,0,0,0,10,50,5,0.5,4,null,5,0.5,null,4,2.5,0.5]
[null,null,"",0,null,0,"",false,0,0,0,0,10,50,5,0.5,4,null,5,0.5,null,4,2.5,0.5]
[null,null,"",0,null,0,"",false,0,0,0,0,10,50,5,0.5,4,null,5,0.5,null,4,2.5,0.5]
[null,null,"",0,null,0,"",false,0,0,0,0,10,50,5,0.5,4,null,5,0.5,null,4,2.5,0.5]
[null,null,"",0,null,0,"",false,0,0,0,0,10,50,5,0.5,4,null,5,0.5,null,4,2.5,0.5]
[null,null,"",0,null,0,"",false,0,0,0,0,10,50,5,0.5,4,null,5,0.5,null,4,2.5,0.5]
[null,null,"",0,null,0,"",false,0,0,0,0,10,50,5,0.5,4,null,5,0.5,null,4,2.5,0.5]
[null,null,"",0,null,0,"",false,0,0,0,0,10,50,5,0.5,4,null,5,0.5,null,4,2.5,0.5]
[null,null,"",0,null,0,"",false,0,0,0,0,10,50,5,0.5,4,null,5,0.5,null,4,2.5,0.5]
[null,null,"",0,null,0,"",false,0,0,0,0,10,50,5,0.5,4,null,5,0.5,null,4,2.5,0.5]
[null,null,"",0,null,0,"",false,0,0,0,0,10,50,5,0.5,4,null,5,0.5,null,4,2.5,0.5]
[null,null,"",0,null,0,"",false,0,0,0,0,10,50,5,0.5,4,null,5,0.5,null,4,2.5,0.5]
[null,null,"",0,null,0,"",false,0,0,0,0,10,50,5,0.5,4,null,5,0.5,null,4,2.5,0.5]
[null,null,"",0,null,0,"",false,0,0,0,0,10,50,5,0.5,4,null,5,0.5,null,4,2.5,0.5]
[null,null,"",0,null,0,"",false,0,0,0,0,10,50,5,0.5,4,null,5,0.5,null,4,2.5,0.5]
[null,null,"",0,null,0,"",false,0,0,0,0,10,50,5,0.5,4,null,5,0.5,null,4,2.5,0.5]
[null,null,"",0,null,0,"",false,0,0,0,0,10,50,5,0.5,4,null,5,0.5,null,4,2.5,0.5]
[null,null,"",0,null,0,"",false,0,0,0,0,10,50,5,0.5,4,null,5,0.5,null,4,2.5,0.5]
[null,null,"",0,null,0,"",false,0,0,0,0,10,50,5,0.5,4,null,5,0.5,null,4,2.5,0.5]
[null,null,"",0,null,0,"",false,0,0,0,0,10,50,5,0.5,4,null,5,0.5,null,4,2.5,0.5]
[null,null,{"$f":"IF(I67>0,INDEX(DB,I67,8),\"\")","v":""},0,null,0,"",false,{"$f":"IF(OR(ISBLANK(A67),ISNA(MATCH(A67&\"\",AthleteNumbers,0))),0,MATCH(A67&\"\",AthleteNumbers,0))","v":0},{"$f":"IF(I67>0,INDEX(DB,$I67,6),0)","v":0},0,0,10,50,5,0.5,{"$f":"IF(I67>0,INDEX(DB,I67,9),EventIndex)","v":4},null,{"$f":"INDEX(MINVALUES,$Q67,$K$1)","v":5},{"$f":"INDEX(INCVALUES,$Q67,$K$1)","v":0.5},null,{"$f":"+J67+(4*(INDEX(MatchScoreTable,$Q67,20)-1))","v":4},{"$f":"INDEX(INC_MINVALUES,$V67,$K$1)","v":2.5},{"$f":"INDEX(INC_INCVALUES,$V67,$K$1)","v":0.5}]
[null,null,"",{"$f":"IF(AND(H68,B68<>0,ISNUMBER(B68)),IF(ISERR(M68),0,M68),0)","v":0},null,{"$f":"COUNTIF(A$3:A$1002,A68)","v":0},{"$f":"IF(AND(H68,OR(D68<=10,D68>=90)),\"CHECK\",\"\")","v":""},{"$f":"IF(AND(I68>0,LEN(C68)>0,B68<>0),TRUE,FALSE)","v":false},0,0,{"$f":"IF(ISNUMBER(B68),ROUND(+B68,2),0)","v":0},{"$f":"+K68","v":0},{"$f":"IF(L68<O68,MinPoints,IF(AND(L68>N68,O68>0),100,+INT(($L68-O68)/P68)+MinPoints))","v":10},{"$f":"+O68+(P68*90)","v":50},{"$f":"IF($J68=0,$S68,$W68)","v":5},{"$f":"IF($J68=0,$T68,$X68)","v":0.5},4,null,5,0.5,null,4,2.5,0.5]
[null,null,"",0,null,0,"",false,0,0,0,0,10,50,5,0.5,4,null,5,0.5,null,4,2.5,0.5]
[null,null,"",0,null,0,"",false,0,0,0,0,10,50,5,0.5,4,null,5,0.5,null,4,2.5,0.5]
[null,null,"",0,null,0,"",false,0,0,0,0,10,50,5,0.5,4,null,5,0.5,null,4,2.5,0.5]
[null,null,"",0,null,0,"",false,0,0,0,0,10,50,5,0.5,4,null,5,0.5,null,4,2.5,0.5]
[null,null,"",0,null,0,"",false,0,0,0,0,10,50,5,0.5,4,null,5,0.5,null,4,2.5,0.5]
[null,null,"",0,null,0,"",false,0,0,0,0,10,50,5,0.5,4,null,5,0.5,null,4,2.5,0.5]
[null,null,"",0,null,0,"",false,0,0,0,0,10,50,5,0.5,4,null,5,0.5,null,4,2.5,0.5]
[null,null,"",0,null,0,"",false,0,0,0,0,10,50,5,0.5,4,null,5,0.5,null,4,2.5,0.5]
[null,null,"",0,null,0,"",false,0,0,0,0,10,50,5,0.5,4,null,5,0.5,null,4,2.5,0.5]
[null,null,"",0,null,0,"",false,0,0,0,0,10,50,5,0.5,4,null,5,0.5,null,4,2.5,0.5]
[null,null,"",0,null,0,"",false,0,0,0,0,10,50,5,0.5,4,null,5,0.5,null,4,2.5,0.5]
[null,null,"",0,null,0,"",false,0,0,0,0,10,50,5,0.5,4,null,5,0.5,null,4,2.5,0.5]
[null,null,"",0,null,0,"",false,0,0,0,0,10,50,5,0.5,4,null,5,0.5,null,4,2.5,0.5]
[null,null,"",0,null,0,"",false,0,0,0,0,10,50,5,0.5,4,null,5,0.5,null,4,2.5,0.5]
[null,null,"",0,null,0,"",false,0,0,0,0,10,50,5,0.5,4,null,5,0.5,null,4,2.5,0.5]
[null,null,"",0,null,0,"",false,0,0,0,0,10,50,5,0.5,4,null,5,0.5,null,4,2.5,0.5]
[null,null,"",0,null,0,"",false,0,0,0,0,10,50,5,0.5,4,null,5,0.5,null,4,2.5,0.5]
[null,null,"",0,null,0,"",false,0,0,0,0,10,50,5,0.5,4,null,5,0.5,null,4,2.5,0.5]
[null,null,"",0,null,0,"",false,0,0,0,0,10,50,5,0.5,4,null,5,0.5,null,4,2.5,0.5]
[null,null,"",0,null,0,"",false,0,0,0,0,10,50,5,0.5,4,null,5,0.5,null,4,2.5,0.5]
[null,null,"",0,null,0,"",false,0,0,0,0,10,50,5,0.5,4,null,5,0.5,null,4,2.5,0.5]
[null,null,"",0,null,0,"",false,0,0,0,0,10,50,5,0.5,4,null,5,0.5,null,4,2.5,0.5]
[null,null,"",0,null,0,"",false,0,0,0,0,10,50,5,0.5,4,null,5,0.5,null,4,2.5,0.5]
[null,null,"",0,null,0,"",false,0,0,0,0,10,50,5,0.5,4,null,5,0.5,null,4,2.5,0.5]
[null,null,"",0,null,0,"",false,0,0,0,0,10,50,5,0.5,4,null,5,0.5,null,4,2.5,0.5]
[null,null,"",0,null,0,"",false,0,0,0,0,10,50,5,0.5,4,null,5,0.5,null,4,2.5,0.5]
[null,null,"",0,null,0,"",false,0,0,0,0,10,50,5,0.5,4,null,5,0.5,null,4,2.5,0.5]
[null,null,"",0,null,0,"",false,0,0,0,0,10,50,5,0.5,4,null,5,0.5,null,4,2.5,0.5]
[null,null,"",0,null,0,"",false,0,0,0,0,10,50,5,0.5,4,null,5,0.5,null,4,2.5,0.5]
[null,null,"",0,null,0,"",false,0,0,0,0,10,50,5,0.5,4,null,5,0.5,null,4,2.5,0.5]
[null,null,"",0,null,0,"",false,0,0,0,0,10,50,5,0.5,4,null,5,0.5,null,4,2.5,0.5]
[null,null,"",0,null,0,"",false,0,0,0,0,10,50,5,0.5,4,null,5,0.5,null,4,2.5,0.5]
[null,null,"",0,null,0,"",false,0,0,0,0,10,50,5,0.5,4,null,5,0.5,null,4,2.5,0.5]
[null,null,"",0,null,0,"",false,0,0,0,0,10,50,5,0.5,4,null,5,0.5,null,4,2.5,0.5]
[null,null,"",0,null,0,"",false,0,0,0,0,10,50,5,0.5,4,null,5,0.5,null,4,2.5,0.5]
[null,null,"",0,null,0,"",false,0,0,0,0,10,50,5,0.5,4,null,5,0.5,null,4,2.5,0.5]
[null,null,"",0,null,0,"",false,0,0,0,0,10,50,5,0.5,4,null,5,0.5,null,4,2.5,0.5]
[null,null,"",0,null,0,"",false,0,0,0,0,10,50,5,0.5,4,null,5,0.5,null,4,2.5,0.5]
[null,null,"",0,null,0,"",false,0,0,0,0,10,50,5,0.5,4,null,5,0.5,null,4,2.5,0.5]
[null,null,"",0,null,0,"",false,0,0,0,0,10,50,5,0.5,4,null,5,0.5,null,4,2.5,0.5]
[null,null,"",0,null,0,"",false,0,0,0,0,10,50,5,0.5,4,null,5,0.5,null,4,2.5,0.5]
[null,null,"",0,null,0,"",false,0,0,0,0,10,50,5,0.5,4,null,5,0.5,null,4,2.5,0.5]
[null,null,"",0,null,0,"",false,0,0,0,0,10,50,5,0.5,4,null,5,0.5,null,4,2.5,0.5]
[null,null,"",0,null,0,"",false,0,0,0,0,10,50,5,0.5,4,null,5,0.5,null,4,2.5,0.5]
[null,null,"",0,null,0,"",false,0,0,0,0,10,50,5,0.5,4,null,5,0.5,null,4,2.5,0.5]
[null,null,"",0,null,0,"",false,0,0,0,0,10,50,5,0.5,4,null,5,0.5,null,4,2.5,0.5]
[null,null,"",0,null,0,"",false,0,0,0,0,10,50,5,0.5,4,null,5,0.5,null,4,2.5,0.5]
[null,null,"",0,null,0,"",false,0,0,0,0,10,50,5,0.5,4,null,5,0.5,null,4,2.5,0.5]
[null,null,"",0,null,0,"",false,0,0,0,0,10,50,5,0.5,4,null,5,0.5,null,4,2.5,0.5]
[null,null,"",0,null,0,"",false,0,0,0,0,10,50,5,0.5,4,null,5,0.5,null,4,2.5,0.5]
[null,null,"",0,null,0,"",false,0,0,0,0,10,50,5,0.5,4,null,5,0.5,null,4,2.5,0.5]
[null,null,"",0,null,0,"",false,0,0,0,0,10,50,5,0.5,4,null,5,0.5,null,4,2.5,0.5]
[null,null,"",0,null,0,"",false,0,0,0,0,10,50,5,0.5,4,null,5,0.5,null,4,2.5,0.5]
[null,null,"",0,null,0,"",false,0,0,0,0,10,50,5,0.5,4,null,5,0.5,null,4,2.5,0.5]
[null,null,"",0,null,0,"",false,0,0,0,0,10,50,5,0.5,4,null,5,0.5,null,4,2.5,0.5]
[null,null,"",0,null,0,"",false,0,0,0,0,10,50,5,0.5,4,null,5,0.5,null,4,2.5,0.5]
[null,null,"",0,null,0,"",false,0,0,0,0,10,50,5,0.5,4,null,5,0.5,null,4,2.5,0.5]
[null,null,"",0,null,0,"",false,0,0,0,0,10,50,5,0.5,4,null,5,0.5,null,4,2.5,0.5]
[null,null,"",0,null,0,"",false,0,0,0,0,10,50,5,0.5,4,null,5,0.5,null,4,2.5,0.5]
[null,null,"",0,null,0,"",false,0,0,0,0,10,50,5,0.5,4,null,5,0.5,null,4,2.5,0.5]
[null,null,"",0,null,0,"",false,0,0,0,0,10,50,5,0.5,4,null,5,0.5,null,4,2.5,0.5]
[null,null,"",0,null,0,"",false,0,0,0,0,10,50,5,0.5,4,null,5,0.5,null,4,2.5,0.5]
[null,null,{"$f":"IF(I131>0,INDEX(DB,I131,8),\"\")","v":""},0,null,0,"",false,{"$f":"IF(OR(ISBLANK(A131),ISNA(MATCH(A131&\"\",AthleteNumbers,0))),0,MATCH(A131&\"\",AthleteNumbers,0))","v":0},{"$f":"IF(I131>0,INDEX(DB,$I131,6),0)","v":0},0,0,10,50,5,0.5,{"$f":"IF(I131>0,INDEX(DB,I131,9),EventIndex)","v":4},null,{"$f":"INDEX(MINVALUES,$Q131,$K$1)","v":5},{"$f":"INDEX(INCVALUES,$Q131,$K$1)","v":0.5},null,{"$f":"+J131+(4*(INDEX(MatchScoreTable,$Q131,20)-1))","v":4},{"$f":"INDEX(INC_MINVALUES,$V131,$K$1)","v":2.5},{"$f":"INDEX(INC_INCVALUES,$V131,$K$1)","v":0.5}]
[null,null,"",{"$f":"IF(AND(H132,B132<>0,ISNUMBER(B132)),IF(ISERR(M132),0,M132),0)","v":0},null,{"$f":"COUNTIF(A$3:A$1002,A132)","v":0},{"$f":"IF(AND(H132,OR(D132<=10,D132>=90)),\"CHECK\",\"\")","v":""},{"$f":"IF(AND(I132>0,LEN(C132)>0,B132<>0),TRUE,FALSE)","v":false},0,0,{"$f":"IF(ISNUMBER(B132),ROUND(+B132,2),0)","v":0},{"$f":"+K132","v":0},{"$f":"IF(L132<O132,MinPoints,IF(AND(L132>N132,O132>0),100,+INT(($L132-O132)/P132)+MinPoints))","v":10},{"$f":"+O132+(P132*90)","v":50},{"$f":"IF($J132=0,$S132,$W132)","v":5},{"$f":"IF($J132=0,$T132,$X132)","v":0.5},4,null,5,0.5,null,4,2.5,0.5]
[null,null,"",0,null,0,"",false,0,0,0,0,10,50,5,0.5,4,null,5,0.5,null,4,2.5,0.5]
[null,null,"",0,null,0,"",false,0,0,0,0,10,50,5,0.5,4,null,5,0.5,null,4,2.5,0.5]
[null,null,"",0,null,0,"",false,0,0,0,0,10,50,5,0.5,4,null,5,0.5,null,4,2.5,0.5]
[null,null,"",0,null,0,"",false,0,0,0,0,10,50,5,0.5,4,null,5,0.5,null,4,2.5,0.5]
[null,null,"",0,null,0,"",false,0,0,0,0,10,50,5,0.5,4,null,5,0.5,null,4,2.5,0.5]
[null,null,"",0,null,0,"",false,0,0,0,0,10,50,5,0.5,4,null,5,0.5,null,4,2.5,0.5]
[null,null,"",0,null,0,"",false,0,0,0,0,10,50,5,0.5,4,null,5,0.5,null,4,2.5,0.5]
[null,null,"",0,null,0,"",false,0,0,0,0,10,50,5,0.5,4,null,5,0.5,null,4,2.5,0.5]
[null,null,"",0,null,0,"",false,0,0,0,0,10,50,5,0.5,4,null,5,0.5,null,4,2.5,0.5]
[null,null,"",0,null,0,"",false,0,0,0,0,10,50,5,0.5,4,null,5,0.5,null,4,2.5,0.5]
[null,null,"",0,null,0,"",false,0,0,0,0,10,50,5,0.5,4,null,5,0.5,null,4,2.5,0.5]
[null,null,"",0,null,0,"",false,0,0,0,0,10,50,5,0.5,4,null,5,0.5,null,4,2.5,0.5]
[null,null,"",0,null,0,"",false,0,0,0,0,10,50,5,0.5,4,null,5,0.5,null,4,2.5,0.5]
[null,null,"",0,null,0,"",false,0,0,0,0,10,50,5,0.5,4,null,5,0.5,null,4,2.5,0.5]
[null,null,"",0,null,0,"",false,0,0,0,0,10,50,5,0.5,4,null,5,0.5,null,4,2.5,0.5]
[null,null,"",0,null,0,"",false,0,0,0,0,10,50,5,0.5,4,null,5,0.5,null,4,2.5,0.5]
[null,null,"",0,null,0,"",false,0,0,0,0,10,50,5,0.5,4,null,5,0.5,null,4,2.5,0.5]
[null,null,"",0,null,0,"",false,0,0,0,0,10,50,5,0.5,4,null,5,0.5,null,4,2.5,0.5]
[null,null,"",0,null,0,"",false,0,0,0,0,10,50,5,0.5,4,null,5,0.5,null,4,2.5,0.5]
[null,null,"",0,null,0,"",false,0,0,0,0,10,50,5,0.5,4,null,5,0.5,null,4,2.5,0.5]
[null,null,"",0,null,0,"",false,0,0,0,0,10,50,5,0.5,4,null,5,0.5,null,4,2.5,0.5]
[null,null,"",0,null,0,"",false,0,0,0,0,10,50,5,0.5,4,null,5,0.5,null,4,2.5,0.5]
[null,null,"",0,null,0,"",false,0,0,0,0,10,50,5,0.5,4,null,5,0.5,null,4,2.5,0.5]
[null,null,"",0,null,0,"",false,0,0,0,0,10,50,5,0.5,4,null,5,0.5,null,4,2.5,0.5]
[null,null,"",0,null,0,"",false,0,0,0,0,10,50,5,0.5,4,null,5,0.5,null,4,2.5,0.5]
[null,null,"",0,null,0,"",false,0,0,0,0,10,50,5,0.5,4,null,5,0.5,null,4,2.5,0.5]
[null,null,"",0,null,0,"",false,0,0,0,0,10,50,5,0.5,4,null,5,0.5,null,4,2.5,0.5]
[null,null,"",0,null,0,"",false,0,0,0,0,10,50,5,0.5,4,null,5,0.5,null,4,2.5,0.5]
[null,null,"",0,null,0,"",false,0,0,0,0,10,50,5,0.5,4,null,5,0.5,null,4,2.5,0.5]
[null,null,"",0,null,0,"",false,0,0,0,0,10,50,5,0.5,4,null,5,0.5,null,4,2.5,0.5]
[null,null,"",0,null,0,"",false,0,0,0,0,10,50,5,0.5,4,null,5,0.5,null,4,2.5,0.5]
[null,null,"",0,null,0,"",false,0,0,0,0,10,50,5,0.5,4,null,5,0.5,null,4,2.5,0.5]
[null,null,"",0,null,0,"",false,0,0,0,0,10,50,5,0.5,4,null,5,0.5,null,4,2.5,0.5]
[null,null,"",0,null,0,"",false,0,0,0,0,10,50,5,0.5,4,null,5,0.5,null,4,2.5,0.5]
[null,null,"",0,null,0,"",false,0,0,0,0,10,50,5,0.5,4,null,5,0.5,null,4,2.5,0.5]
[null,null,"",0,null,0,"",false,0,0,0,0,10,50,5,0.5,4,null,5,0.5,null,4,2.5,0.5]
[null,null,"",0,null,0,"",false,0,0,0,0,10,50,5,0.5,4,null,5,0.5,null,4,2.5,0.5]
[null,null,"",0,null,0,"",false,0,0,0,0,10,50,5,0.5,4,null,5,0.5,null,4,2.5,0.5]
[null,null,"",0,null,0,"",false,0,0,0,0,10,50,5,0.5,4,null,5,0.5,null,4,2.5,0.5]
[null,null,"",0,null,0,"",false,0,0,0,0,10,50,5,0.5,4,null,5,0.5,null,4,2.5,0.5]
[null,null,"",0,null,0,"",false,0,0,0,0,10,50,5,0.5,4,null,5,0.5,null,4,2.5,0.5]
[null,null,"",0,null,0,"",false,0,0,0,0,10,50,5,0.5,4,null,5,0.5,null,4,2.5,0.5]
[null,null,"",0,null,0,"",false,0,0,0,0,10,50,5,0.5,4,null,5,0.5,null,4,2.5,0.5]
[null,null,"",0,null,0,"",false,0,0,0,0,10,50,5,0.5,4,null,5,0.5,null,4,2.5,0.5]
[null,null,"",0,null,0,"",false,0,0,0,0,10,50,5,0.5,4,null,5,0.5,null,4,2.5,0.5]
[null,null,"",0,null,0,"",false,0,0,0,0,10,50,5,0.5,4,null,5,0.5,null,4,2.5,0.5]
[null,null,"",0,null,0,"",false,0,0,0,0,10,50,5,0.5,4,null,5,0.5,null,4,2.5,0.5]
[null,null,"",0,null,0,"",false,0,0,0,0,10,50,5,0.5,4,null,5,0.5,null,4,2.5,0.5]
[null,null,"",0,null,0,"",false,0,0,0,0,10,50,5,0.5,4,null,5,0.5,null,4,2.5,0.5]
[null,null,"",0,null,0,"",false,0,0,0,0,10,50,5,0.5,4,null,5,0.5,null,4,2.5,0.5]
[null,null,"",0,null,0,"",false,0,0,0,0,10,50,5,0.5,4,null,5,0.5,null,4,2.5,0.5]
[null,null,"",0,null,0,"",false,0,0,0,0,10,50,5,0.5,4,null,5,0.5,null,4,2.5,0.5]
[null,null,"",0,null,0,"",false,0,0,0,0,10,50,5,0.5,4,null,5,0.5,null,4,2.5,0.5]
[null,null,"",0,null,0,"",false,0,0,0,0,10,50,5,0.5,4,null,5,0.5,null,4,2.5,0.5]
[null,null,"",0,null,0,"",false,0,0,0,0,10,50,5,0.5,4,null,5,0.5,null,4,2.5,0.5]
[null,null,"",0,null,0,"",false,0,0,0,0,10,50,5,0.5,4,null,5,0.5,null,4,2.5,0.5]
[null,null,"",0,null,0,"",false,0,0,0,0,10,50,5,0.5,4,null,5,0.5,null,4,2.5,0.5]
[null,null,"",0,null,0,"",false,0,0,0,0,10,50,5,0.5,4,null,5,0.5,null,4,2.5,0.5]
[null,null,"",0,null,0,"",false,0,0,0,0,10,50,5,0.5,4,null,5,0.5,null,4,2.5,0.5]
[null,null,"",0,null,0,"",false,0,0,0,0,10,50,5,0.5,4,null,5,0.5,null,4,2.5,0.5]
[null,null,"",0,null,0,"",false,0,0,0,0,10,50,5,0.5,4,null,5,0.5,null,4,2.5,0.5]
[null,null,"",0,null,0,"",false,0,0,0,0,10,50,5,0.5,4,null,5,0.5,null,4,2.5,0.5]
[null,null,{"$f":"IF(I195>0,INDEX(DB,I195,8),\"\")","v":""},0,null,0,"",false,{"$f":"IF(OR(ISBLANK(A195),ISNA(MATCH(A195&\"\",AthleteNumbers,0))),0,MATCH(A195&\"\",AthleteNumbers,0))","v":0},{"$f":"IF(I195>0,INDEX(DB,$I195,6),0)","v":0},0,0,10,50,5,0.5,{"$f":"IF(I195>0,INDEX(DB,I195,9),EventIndex)","v":4},null,{"$f":"INDEX(MINVALUES,$Q195,$K$1)","v":5},{"$f":"INDEX(INCVALUES,$Q195,$K$1)","v":0.5},null,{"$f":"+J195+(4*(INDEX(MatchScoreTable,$Q195,20)-1))","v":4},{"$f":"INDEX(INC_MINVALUES,$V195,$K$1)","v":2.5},{"$f":"INDEX(INC_INCVALUES,$V195,$K$1)","v":0.5}]
[null,null,"",{"$f":"IF(AND(H196,B196<>0,ISNUMBER(B196)),IF(ISERR(M196),0,M196),0)","v":0},null,{"$f":"COUNTIF(A$3:A$1002,A196)","v":0},{"$f":"IF(AND(H196,OR(D196<=10,D196>=90)),\"CHECK\",\"\")","v":""},{"$f":"IF(AND(I196>0,LEN(C196)>0,B196<>0),TRUE,FALSE)","v":false},0,0,{"$f":"IF(ISNUMBER(B196),ROUND(+B196,2),0)","v":0},{"$f":"+K196","v":0},{"$f":"IF(L196<O196,MinPoints,IF(AND(L196>N196,O196>0),100,+INT(($L196-O196)/P196)+MinPoints))","v":10},{"$f":"+O196+(P196*90)","v":50},{"$f":"IF($J196=0,$S196,$W196)","v":5},{"$f":"IF($J196=0,$T196,$X196)","v":0.5},4,null,5,0.5,null,4,2.5,0.5]
[null,null,"",0,null,0,"",false,0,0,0,0,10,50,5,0.5,4,null,5,0.5,null,4,2.5,0.5]
[null,null,"",0,null,0,"",false,0,0,0,0,10,50,5,0.5,4,null,5,0.5,null,4,2.5,0.5]
[null,null,"",0,null,0,"",false,0,0,0,0,10,50,5,0.5,4,null,5,0.5,null,4,2.5,0.5]
[null,null,"",0,null,0,"",false,0,0,0,0,10,50,5,0.5,4,null,5,0.5,null,4,2.5,0.5]
[null,null,"",0,null,0,"",false,0,0,0,0,10,50,5,0.5,4,null,5,0.5,null,4,2.5,0.5]
[null,null,"",0,null,0,"",false,0,0,0,0,10,50,5,0.5,4,null,5,0.5,null,4,2.5,0.5]
[null,null,"",0,null,0,"",false,0,0,0,0,10,50,5,0.5,4,null,5,0.5,null,4,2.5,0.5]
[null,null,"",0,null,0,"",false,0,0,0,0,10,50,5,0.5,4,null,5,0.5,null,4,2.5,0.5]
[null,null,"",0,null,0,"",false,0,0,0,0,10,50,5,0.5,4,null,5,0.5,null,4,2.5,0.5]
[null,null,"",0,null,0,"",false,0,0,0,0,10,50,5,0.5,4,null,5,0.5,null,4,2.5,0.5]
[null,null,"",0,null,0,"",false,0,0,0,0,10,50,5,0.5,4,null,5,0.5,null,4,2.5,0.5]
[null,null,"",0,null,0,"",false,0,0,0,0,10,50,5,0.5,4,null,5,0.5,null,4,2.5,0.5]
[null,null,"",0,null,0,"",false,0,0,0,0,10,50,5,0.5,4,null,5,0.5,null,4,2.5,0.5]
[null,null,"",0,null,0,"",false,0,0,0,0,10,50,5,0.5,4,null,5,0.5,null,4,2.5,0.5]
[null,null,"",0,null,0,"",false,0,0,0,0,10,50,5,0.5,4,null,5,0.5,null,4,2.5,0.5]
[null,null,"",0,null,0,"",false,0,0,0,0,10,50,5,0.5,4,null,5,0.5,null,4,2.5,0.5]
[null,null,"",0,null,0,"",false,0,0,0,0,10,50,5,0.5,4,null,5,0.5,null,4,2.5,0.5]
[null,null,"",0,null,0,"",false,0,0,0,0,10,50,5,0.5,4,null,5,0.5,null,4,2.5,0.5]
[null,null,"",0,null,0,"",false,0,0,0,0,10,50,5,0.5,4,null,5,0.5,null,4,2.5,0.5]
[null,null,"",0,null,0,"",false,0,0,0,0,10,50,5,0.5,4,null,5,0.5,null,4,2.5,0.5]
[null,null,"",0,null,0,"",false,0,0,0,0,10,50,5,0.5,4,null,5,0.5,null,4,2.5,0.5]
[null,null,"",0,null,0,"",false,0,0,0,0,10,50,5,0.5,4,null,5,0.5,null,4,2.5,0.5]
[null,null,"",0,null,0,"",false,0,0,0,0,10,50,5,0.5,4,null,5,0.5,null,4,2.5,0.5]
[null,null,"",0,null,0,"",false,0,0,0,0,10,50,5,0.5,4,null,5,0.5,null,4,2.5,0.5]
[null,null,"",0,null,0,"",false,0,0,0,0,10,50,5,0.5,4,null,5,0.5,null,4,2.5,0.5]
[null,null,"",0,null,0,"",false,0,0,0,0,10,50,5,0.5,4,null,5,0.5,null,4,2.5,0.5]
[null,null,"",0,null,0,"",false,0,0,0,0,10,50,5,0.5,4,null,5,0.5,null,4,2.5,0.5]
[null,null,"",0,null,0,"",false,0,0,0,0,10,50,5,0.5,4,null,5,0.5,null,4,2.5,0.5]
[null,null,"",0,null,0,"",false,0,0,0,0,10,50,5,0.5,4,null,5,0.5,null,4,2.5,0.5]
[null,null,"",0,null,0,"",false,0,0,0,0,10,50,5,0.5,4,null,5,0.5,null,4,2.5,0.5]
[null,null,"",0,null,0,"",false,0,0,0,0,10,50,5,0.5,4,null,5,0.5,null,4,2.5,0.5]
[null,null,"",0,null,0,"",false,0,0,0,0,10,50,5,0.5,4,null,5,0.5,null,4,2.5,0.5]
[null,null,"",0,null,0,"",false,0,0,0,0,10,50,5,0.5,4,null,5,0.5,null,4,2.5,0.5]
[null,null,"",0,null,0,"",false,0,0,0,0,10,50,5,0.5,4,null,5,0.5,null,4,2.5,0.5]
[null,null,"",0,null,0,"",false,0,0,0,0,10,50,5,0.5,4,null,5,0.5,null,4,2.5,0.5]
[null,null,"",0,null,0,"",false,0,0,0,0,10,50,5,0.5,4,null,5,0.5,null,4,2.5,0.5]
[null,null,"",0,null,0,"",false,0,0,0,0,10,50,5,0.5,4,null,5,0.5,null,4,2.5,0.5]
[null,null,"",0,null,0,"",false,0,0,0,0,10,50,5,0.5,4,null,5,0.5,null,4,2.5,0.5]
[null,null,"",0,null,0,"",false,0,0,0,0,10,50,5,0.5,4,null,5,0.5,null,4,2.5,0.5]
[null,null,"",0,null,0,"",false,0,0,0,0,10,50,5,0.5,4,null,5,0.5,null,4,2.5,0.5]
[null,null,"",0,null,0,"",false,0,0,0,0,10,50,5,0.5,4,null,5,0.5,null,4,2.5,0.5]
[null,null,"",0,null,0,"",false,0,0,0,0,10,50,5,0.5,4,null,5,0.5,null,4,2.5,0.5]
[null,null,"",0,null,0,"",false,0,0,0,0,10,50,5,0.5,4,null,5,0.5,null,4,2.5,0.5]
[null,null,"",0,null,0,"",false,0,0,0,0,10,50,5,0.5,4,null,5,0.5,null,4,2.5,0.5]
[null,null,"",0,null,0,"",false,0,0,0,0,10,50,5,0.5,4,null,5,0.5,null,4,2.5,0.5]
[null,null,"",0,null,0,"",false,0,0,0,0,10,50,5,0.5,4,null,5,0.5,null,4,2.5,0.5]
[null,null,"",0,null,0,"",false,0,0,0,0,10,50,5,0.5,4,null,5,0.5,null,4,2.5,0.5]
[null,null,"",0,null,0,"",false,0,0,0,0,10,50,5,0.5,4,null,5,0.5,null,4,2.5,0.5]
[null,null,"",0,null,0,"",false,0,0,0,0,10,50,5,0.5,4,null,5,0.5,null,4,2.5,0.5]
[null,null,"",0,null,0,"",false,0,0,0,0,10,50,5,0.5,4,null,5,0.5,null,4,2.5,0.5]
[null,null,"",0,null,0,"",false,0,0,0,0,10,50,5,0.5,4,null,5,0.5,null,4,2.5,0.5]
[null,null,"",0,null,0,"",false,0,0,0,0,10,50,5,0.5,4,null,5,0.5,null,4,2.5,0.5]
[null,null,"",0,null,0,"",false,0,0,0,0,10,50,5,0.5,4,null,5,0.5,null,4,2.5,0.5]
[null,null,"",0,null,0,"",false,0,0,0,0,10,50,5,0.5,4,null,5,0.5,null,4,2.5,0.5]
[null,null,"",0,null,0,"",false,0,0,0,0,10,50,5,0.5,4,null,5,0.5,null,4,2.5,0.5]
[null,null,"",0,null,0,"",false,0,0,0,0,10,50,5,0.5,4,null,5,0.5,null,4,2.5,0.5]
[null,null,"",0,null,0,"",false,0,0,0,0,10,50,5,0.5,4,null,5,0.5,null,4,2.5,0.5]
[null,null,"",0,null,0,"",false,0,0,0,0,10,50,5,0.5,4,null,5,0.5,null,4,2.5,0.5]
[null,null,"",0,null,0,"",false,0,0,0,0,10,50,5,0.5,4,null,5,0.5,null,4,2.5,0.5]
[null,null,"",0,null,0,"",false,0,0,0,0,10,50,5,0.5,4,null,5,0.5,null,4,2.5,0.5]
[null,null,"",0,null,0,"",false,0,0,0,0,10,50,5,0.5,4,null,5,0.5,null,4,2.5,0.5]
[null,null,"",0,null,0,"",false,0,0,0,0,10,50,5,0.5,4,null,5,0.5,null,4,2.5,0.5]
[null,null,{"$f":"IF(I259>0,INDEX(DB,I259,8),\"\")","v":""},0,null,0,"",false,{"$f":"IF(OR(ISBLANK(A259),ISNA(MATCH(A259&\"\",AthleteNumbers,0))),0,MATCH(A259&\"\",AthleteNumbers,0))","v":0},{"$f":"IF(I259>0,INDEX(DB,$I259,6),0)","v":0},0,0,10,50,5,0.5,{"$f":"IF(I259>0,INDEX(DB,I259,9),EventIndex)","v":4},null,{"$f":"INDEX(MINVALUES,$Q259,$K$1)","v":5},{"$f":"INDEX(INCVALUES,$Q259,$K$1)","v":0.5},null,{"$f":"+J259+(4*(INDEX(MatchScoreTable,$Q259,20)-1))","v":4},{"$f":"INDEX(INC_MINVALUES,$V259,$K$1)","v":2.5},{"$f":"INDEX(INC_INCVALUES,$V259,$K$1)","v":0.5}]
[null,null,"",{"$f":"IF(AND(H260,B260<>0,ISNUMBER(B260)),IF(ISERR(M260),0,M260),0)","v":0},null,{"$f":"COUNTIF(A$3:A$1002,A260)","v":0},{"$f":"IF(AND(H260,OR(D260<=10,D260>=90)),\"CHECK\",\"\")","v":""},{"$f":"IF(AND(I260>0,LEN(C260)>0,B260<>0),TRUE,FALSE)","v":false},0,0,{"$f":"IF(ISNUMBER(B260),ROUND(+B260,2),0)","v":0},{"$f":"+K260","v":0},{"$f":"IF(L260<O260,MinPoints,IF(AND(L260>N260,O260>0),100,+INT(($L260-O260)/P260)+MinPoints))","v":10},{"$f":"+O260+(P260*90)","v":50},{"$f":"IF($J260=0,$S260,$W260)","v":5},{"$f":"IF($J260=0,$T260,$X260)","v":0.5},4,null,5,0.5,null,4,2.5,0.5]
[null,null,"",0,null,0,"",false,0,0,0,0,10,50,5,0.5,4,null,5,0.5,null,4,2.5,0.5]
[null,null,"",0,null,0,"",false,0,0,0,0,10,50,5,0.5,4,null,5,0.5,null,4,2.5,0.5]
[null,null,"",0,null,0,"",false,0,0,0,0,10,50,5,0.5,4,null,5,0.5,null,4,2.5,0.5]
[null,null,"",0,null,0,"",false,0,0,0,0,10,50,5,0.5,4,null,5,0.5,null,4,2.5,0.5]
[null,null,"",0,null,0,"",false,0,0,0,0,10,50,5,0.5,4,null,5,0.5,null,4,2.5,0.5]
[null,null,"",0,null,0,"",false,0,0,0,0,10,50,5,0.5,4,null,5,0.5,null,4,2.5,0.5]
[null,null,"",0,null,0,"",false,0,0,0,0,10,50,5,0.5,4,null,5,0.5,null,4,2.5,0.5]
[null,null,"",0,null,0,"",false,0,0,0,0,10,50,5,0.5,4,null,5,0.5,null,4,2.5,0.5]
[null,null,"",0,null,0,"",false,0,0,0,0,10,50,5,0.5,4,null,5,0.5,null,4,2.5,0.5]
[null,null,"",0,null,0,"",false,0,0,0,0,10,50,5,0.5,4,null,5,0.5,null,4,2.5,0.5]
[null,null,"",0,null,0,"",false,0,0,0,0,10,50,5,0.5,4,null,5,0.5,null,4,2.5,0.5]
[null,null,"",0,null,0,"",false,0,0,0,0,10,50,5,0.5,4,null,5,0.5,null,4,2.5,0.5]
[null,null,"",0,null,0,"",false,0,0,0,0,10,50,5,0.5,4,null,5,0.5,null,4,2.5,0.5]
[null,null,"",0,null,0,"",false,0,0,0,0,10,50,5,0.5,4,null,5,0.5,null,4,2.5,0.5]
[null,null,"",0,null,0,"",false,0,0,0,0,10,50,5,0.5,4,null,5,0.5,null,4,2.5,0.5]
[null,null,"",0,null,0,"",false,0,0,0,0,10,50,5,0.5,4,null,5,0.5,null,4,2.5,0.5]
[null,null,"",0,null,0,"",false,0,0,0,0,10,50,5,0.5,4,null,5,0.5,null,4,2.5,0.5]
[null,null,"",0,null,0,"",false,0,0,0,0,10,50,5,0.5,4,null,5,0.5,null,4,2.5,0.5]
[null,null,"",0,null,0,"",false,0,0,0,0,10,50,5,0.5,4,null,5,0.5,null,4,2.5,0.5]
[null,null,"",0,null,0,"",false,0,0,0,0,10,50,5,0.5,4,null,5,0.5,null,4,2.5,0.5]
[null,null,"",0,null,0,"",false,0,0,0,0,10,50,5,0.5,4,null,5,0.5,null,4,2.5,0.5]
[null,null,"",0,null,0,"",false,0,0,0,0,10,50,5,0.5,4,null,5,0.5,null,4,2.5,0.5]
[null,null,"",0,null,0,"",false,0,0,0,0,10,50,5,0.5,4,null,5,0.5,null,4,2.5,0.5]
[null,null,"",0,null,0,"",false,0,0,0,0,10,50,5,0.5,4,null,5,0.5,null,4,2.5,0.5]
[null,null,"",0,null,0,"",false,0,0,0,0,10,50,5,0.5,4,null,5,0.5,null,4,2.5,0.5]
[null,null,"",0,null,0,"",false,0,0,0,0,10,50,5,0.5,4,null,5,0.5,null,4,2.5,0.5]
[null,null,"",0,null,0,"",false,0,0,0,0,10,50,5,0.5,4,null,5,0.5,null,4,2.5,0.5]
[null,null,"",0,null,0,"",false,0,0,0,0,10,50,5,0.5,4,null,5,0.5,null,4,2.5,0.5]
[null,null,"",0,null,0,"",false,0,0,0,0,10,50,5,0.5,4,null,5,0.5,null,4,2.5,0.5]
[null,null,"",0,null,0,"",false,0,0,0,0,10,50,5,0.5,4,null,5,0.5,null,4,2.5,0.5]
[null,null,"",0,null,0,"",false,0,0,0,0,10,50,5,0.5,4,null,5,0.5,null,4,2.5,0.5]
[null,null,"",0,null,0,"",false,0,0,0,0,10,50,5,0.5,4,null,5,0.5,null,4,2.5,0.5]
[null,null,"",0,null,0,"",false,0,0,0,0,10,50,5,0.5,4,null,5,0.5,null,4,2.5,0.5]
[null,null,"",0,null,0,"",false,0,0,0,0,10,50,5,0.5,4,null,5,0.5,null,4,2.5,0.5]
[null,null,"",0,null,0,"",false,0,0,0,0,10,50,5,0.5,4,null,5,0.5,null,4,2.5,0.5]
[null,null,"",0,null,0,"",false,0,0,0,0,10,50,5,0.5,4,null,5,0.5,null,4,2.5,0.5]
[null,null,"",0,null,0,"",false,0,0,0,0,10,50,5,0.5,4,null,5,0.5,null,4,2.5,0.5]
[null,null,"",0,null,0,"",false,0,0,0,0,10,50,5,0.5,4,null,5,0.5,null,4,2.5,0.5]
[null,null,"",0,null,0,"",false,0,0,0,0,10,50,5,0.5,4,null,5,0.5,null,4,2.5,0.5]
[null,null,"",0,null,0,"",false,0,0,0,0,10,50,5,0.5,4,null,5,0.5,null,4,2.5,0.5]
[null,null,"",0,null,0,"",false,0,0,0,0,10,50,5,0.5,4,null,5,0.5,null,4,2.5,0.5]
[null,null,"",0,null,0,"",false,0,0,0,0,10,50,5,0.5,4,null,5,0.5,null,4,2.5,0.5]
[null,null,"",0,null,0,"",false,0,0,0,0,10,50,5,0.5,4,null,5,0.5,null,4,2.5,0.5]
[null,null,"",0,null,0,"",false,0,0,0,0,10,50,5,0.5,4,null,5,0.5,null,4,2.5,0.5]
[null,null,"",0,null,0,"",false,0,0,0,0,10,50,5,0.5,4,null,5,0.5,null,4,2.5,0.5]
[null,null,"",0,null,0,"",false,0,0,0,0,10,50,5,0.5,4,null,5,0.5,null,4,2.5,0.5]
[null,null,"",0,null,0,"",false,0,0,0,0,10,50,5,0.5,4,null,5,0.5,null,4,2.5,0.5]
[null,null,"",0,null,0,"",false,0,0,0,0,10,50,5,0.5,4,null,5,0.5,null,4,2.5,0.5]
[null,null,"",0,null,0,"",false,0,0,0,0,10,50,5,0.5,4,null,5,0.5,null,4,2.5,0.5]
[null,null,"",0,null,0,"",false,0,0,0,0,10,50,5,0.5,4,null,5,0.5,null,4,2.5,0.5]
[null,null,"",0,null,0,"",false,0,0,0,0,10,50,5,0.5,4,null,5,0.5,null,4,2.5,0.5]
[null,null,"",0,null,0,"",false,0,0,0,0,10,50,5,0.5,4,null,5,0.5,null,4,2.5,0.5]
[null,null,"",0,null,0,"",false,0,0,0,0,10,50,5,0.5,4,null,5,0.5,null,4,2.5,0.5]
[null,null,"",0,null,0,"",false,0,0,0,0,10,50,5,0.5,4,null,5,0.5,null,4,2.5,0.5]
[null,null,"",0,null,0,"",false,0,0,0,0,10,50,5,0.5,4,null,5,0.5,null,4,2.5,0.5]
[null,null,"",0,null,0,"",false,0,0,0,0,10,50,5,0.5,4,null,5,0.5,null,4,2.5,0.5]
[null,null,"",0,null,0,"",false,0,0,0,0,10,50,5,0.5,4,null,5,0.5,null,4,2.5,0.5]
[null,null,"",0,null,0,"",false,0,0,0,0,10,50,5,0.5,4,null,5,0.5,null,4,2.5,0.5]
[null,null,"",0,null,0,"",false,0,0,0,0,10,50,5,0.5,4,null,5,0.5,null,4,2.5,0.5]
[null,null,"",0,null,0,"",false,0,0,0,0,10,50,5,0.5,4,null,5,0.5,null,4,2.5,0.5]
[null,null,"",0,null,0,"",false,0,0,0,0,10,50,5,0.5,4,null,5,0.5,null,4,2.5,0.5]
[null,null,"",0,null,0,"",false,0,0,0,0,10,50,5,0.5,4,null,5,0.5,null,4,2.5,0.5]
[null,null,{"$f":"IF(I323>0,INDEX(DB,I323,8),\"\")","v":""},0,null,0,"",false,{"$f":"IF(OR(ISBLANK(A323),ISNA(MATCH(A323&\"\",AthleteNumbers,0))),0,MATCH(A323&\"\",AthleteNumbers,0))","v":0},{"$f":"IF(I323>0,INDEX(DB,$I323,6),0)","v":0},0,0,10,50,5,0.5,{"$f":"IF(I323>0,INDEX(DB,I323,9),EventIndex)","v":4},null,{"$f":"INDEX(MINVALUES,$Q323,$K$1)","v":5},{"$f":"INDEX(INCVALUES,$Q323,$K$1)","v":0.5},null,{"$f":"+J323+(4*(INDEX(MatchScoreTable,$Q323,20)-1))","v":4},{"$f":"INDEX(INC_MINVALUES,$V323,$K$1)","v":2.5},{"$f":"INDEX(INC_INCVALUES,$V323,$K$1)","v":0.5}]
[null,null,"",{"$f":"IF(AND(H324,B324<>0,ISNUMBER(B324)),IF(ISERR(M324),0,M324),0)","v":0},null,{"$f":"COUNTIF(A$3:A$1002,A324)","v":0},{"$f":"IF(AND(H324,OR(D324<=10,D324>=90)),\"CHECK\",\"\")","v":""},{"$f":"IF(AND(I324>0,LEN(C324)>0,B324<>0),TRUE,FALSE)","v":false},0,0,{"$f":"IF(ISNUMBER(B324),ROUND(+B324,2),0)","v":0},{"$f":"+K324","v":0},{"$f":"IF(L324<O324,MinPoints,IF(AND(L324>N324,O324>0),100,+INT(($L324-O324)/P324)+MinPoints))","v":10},{"$f":"+O324+(P324*90)","v":50},{"$f":"IF($J324=0,$S324,$W324)","v":5},{"$f":"IF($J324=0,$T324,$X324)","v":0.5},4,null,5,0.5,null,4,2.5,0.5]
[null,null,"",0,null,0,"",false,0,0,0,0,10,50,5,0.5,4,null,5,0.5,null,4,2.5,0.5]
[null,null,"",0,null,0,"",false,0,0,0,0,10,50,5,0.5,4,null,5,0.5,null,4,2.5,0.5]
[null,null,"",0,null,0,"",false,0,0,0,0,10,50,5,0.5,4,null,5,0.5,null,4,2.5,0.5]
[null,null,"",0,null,0,"",false,0,0,0,0,10,50,5,0.5,4,null,5,0.5,null,4,2.5,0.5]
[null,null,"",0,null,0,"",false,0,0,0,0,10,50,5,0.5,4,null,5,0.5,null,4,2.5,0.5]
[null,null,"",0,null,0,"",false,0,0,0,0,10,50,5,0.5,4,null,5,0.5,null,4,2.5,0.5]
[null,null,"",0,null,0,"",false,0,0,0,0,10,50,5,0.5,4,null,5,0.5,null,4,2.5,0.5]
[null,null,"",0,null,0,"",false,0,0,0,0,10,50,5,0.5,4,null,5,0.5,null,4,2.5,0.5]
[null,null,"",0,null,0,"",false,0,0,0,0,10,50,5,0.5,4,null,5,0.5,null,4,2.5,0.5]
[null,null,"",0,null,0,"",false,0,0,0,0,10,50,5,0.5,4,null,5,0.5,null,4,2.5,0.5]
[null,null,"",0,null,0,"",false,0,0,0,0,10,50,5,0.5,4,null,5,0.5,null,4,2.5,0.5]
[null,null,"",0,null,0,"",false,0,0,0,0,10,50,5,0.5,4,null,5,0.5,null,4,2.5,0.5]
[null,null,"",0,null,0,"",false,0,0,0,0,10,50,5,0.5,4,null,5,0.5,null,4,2.5,0.5]
[null,null,"",0,null,0,"",false,0,0,0,0,10,50,5,0.5,4,null,5,0.5,null,4,2.5,0.5]
[null,null,"",0,null,0,"",false,0,0,0,0,10,50,5,0.5,4,null,5,0.5,null,4,2.5,0.5]
[null,null,"",0,null,0,"",false,0,0,0,0,10,50,5,0.5,4,null,5,0.5,null,4,2.5,0.5]
[null,null,"",0,null,0,"",false,0,0,0,0,10,50,5,0.5,4,null,5,0.5,null,4,2.5,0.5]
[null,null,"",0,null,0,"",false,0,0,0,0,10,50,5,0.5,4,null,5,0.5,null,4,2.5,0.5]
[null,null,"",0,null,0,"",false,0,0,0,0,10,50,5,0.5,4,null,5,0.5,null,4,2.5,0.5]
[null,null,"",0,null,0,"",false,0,0,0,0,10,50,5,0.5,4,null,5,0.5,null,4,2.5,0.5]
[null,null,"",0,null,0,"",false,0,0,0,0,10,50,5,0.5,4,null,5,0.5,null,4,2.5,0.5]
[null,null,"",0,null,0,"",false,0,0,0,0,10,50,5,0.5,4,null,5,0.5,null,4,2.5,0.5]
[null,null,"",0,null,0,"",false,0,0,0,0,10,50,5,0.5,4,null,5,0.5,null,4,2.5,0.5]
[null,null,"",0,null,0,"",false,0,0,0,0,10,50,5,0.5,4,null,5,0.5,null,4,2.5,0.5]
[null,null,"",0,null,0,"",false,0,0,0,0,10,50,5,0.5,4,null,5,0.5,null,4,2.5,0.5]
[null,null,"",0,null,0,"",false,0,0,0,0,10,50,5,0.5,4,null,5,0.5,null,4,2.5,0.5]
[null,null,"",0,null,0,"",false,0,0,0,0,10,50,5,0.5,4,null,5,0.5,null,4,2.5,0.5]
[null,null,"",0,null,0,"",false,0,0,0,0,10,50,5,0.5,4,null,5,0.5,null,4,2.5,0.5]
[null,null,"",0,null,0,"",false,0,0,0,0,10,50,5,0.5,4,null,5,0.5,null,4,2.5,0.5]
[null,null,"",0,null,0,"",false,0,0,0,0,10,50,5,0.5,4,null,5,0.5,null,4,2.5,0.5]
[null,null,"",0,null,0,"",false,0,0,0,0,10,50,5,0.5,4,null,5,0.5,null,4,2.5,0.5]
[null,null,"",0,null,0,"",false,0,0,0,0,10,50,5,0.5,4,null,5,0.5,null,4,2.5,0.5]
[null,null,"",0,null,0,"",false,0,0,0,0,10,50,5,0.5,4,null,5,0.5,null,4,2.5,0.5]
[null,null,"",0,null,0,"",false,0,0,0,0,10,50,5,0.5,4,null,5,0.5,null,4,2.5,0.5]
[null,null,"",0,null,0,"",false,0,0,0,0,10,50,5,0.5,4,null,5,0.5,null,4,2.5,0.5]
[null,null,"",0,null,0,"",false,0,0,0,0,10,50,5,0.5,4,null,5,0.5,null,4,2.5,0.5]
[null,null,"",0,null,0,"",false,0,0,0,0,10,50,5,0.5,4,null,5,0.5,null,4,2.5,0.5]
[null,null,"",0,null,0,"",false,0,0,0,0,10,50,5,0.5,4,null,5,0.5,null,4,2.5,0.5]
[null,null,"",0,null,0,"",false,0,0,0,0,10,50,5,0.5,4,null,5,0.5,null,4,2.5,0.5]
[null,null,"",0,null,0,"",false,0,0,0,0,10,50,5,0.5,4,null,5,0.5,null,4,2.5,0.5]
[null,null,"",0,null,0,"",false,0,0,0,0,10,50,5,0.5,4,null,5,0.5,null,4,2.5,0.5]
[null,null,"",0,null,0,"",false,0,0,0,0,10,50,5,0.5,4,null,5,0.5,null,4,2.5,0.5]
[null,null,"",0,null,0,"",false,0,0,0,0,10,50,5,0.5,4,null,5,0.5,null,4,2.5,0.5]
[null,null,"",0,null,0,"",false,0,0,0,0,10,50,5,0.5,4,null,5,0.5,null,4,2.5,0.5]
[null,null,"",0,null,0,"",false,0,0,0,0,10,50,5,0.5,4,null,5,0.5,null,4,2.5,0.5]
[null,null,"",0,null,0,"",false,0,0,0,0,10,50,5,0.5,4,null,5,0.5,null,4,2.5,0.5]
[null,null,"",0,null,0,"",false,0,0,0,0,10,50,5,0.5,4,null,5,0.5,null,4,2.5,0.5]
[null,null,"",0,null,0,"",false,0,0,0,0,10,50,5,0.5,4,null,5,0.5,null,4,2.5,0.5]
[null,null,"",0,null,0,"",false,0,0,0,0,10,50,5,0.5,4,null,5,0.5,null,4,2.5,0.5]
[null,null,"",0,null,0,"",false,0,0,0,0,10,50,5,0.5,4,null,5,0.5,null,4,2.5,0.5]
[null,null,"",0,null,0,"",false,0,0,0,0,10,50,5,0.5,4,null,5,0.5,null,4,2.5,0.5]
[null,null,"",0,null,0,"",false,0,0,0,0,10,50,5,0.5,4,null,5,0.5,null,4,2.5,0.5]
[null,null,"",0,null,0,"",false,0,0,0,0,10,50,5,0.5,4,null,5,0.5,null,4,2.5,0.5]
[null,null,"",0,null,0,"",false,0,0,0,0,10,50,5,0.5,4,null,5,0.5,null,4,2.5,0.5]
[null,null,"",0,null,0,"",false,0,0,0,0,10,50,5,0.5,4,null,5,0.5,null,4,2.5,0.5]
[null,null,"",0,null,0,"",false,0,0,0,0,10,50,5,0.5,4,null,5,0.5,null,4,2.5,0.5]
[null,null,"",0,null,0,"",false,0,0,0,0,10,50,5,0.5,4,null,5,0.5,null,4,2.5,0.5]
[null,null,"",0,null,0,"",false,0,0,0,0,10,50,5,0.5,4,null,5,0.5,null,4,2.5,0.5]
[null,null,"",0,null,0,"",false,0,0,0,0,10,50,5,0.5,4,null,5,0.5,null,4,2.5,0.5]
[null,null,"",0,null,0,"",false,0,0,0,0,10,50,5,0.5,4,null,5,0.5,null,4,2.5,0.5]
[null,null,"",0,null,0,"",false,0,0,0,0,10,50,5,0.5,4,null,5,0.5,null,4,2.5,0.5]
[null,null,"",0,null,0,"",false,0,0,0,0,10,50,5,0.5,4,null,5,0.5,null,4,2.5,0.5]
[null,null,{"$f":"IF(I387>0,INDEX(DB,I387,8),\"\")","v":""},0,null,0,"",false,{"$f":"IF(OR(ISBLANK(A387),ISNA(MATCH(A387&\"\",AthleteNumbers,0))),0,MATCH(A387&\"\",AthleteNumbers,0))","v":0},{"$f":"IF(I387>0,INDEX(DB,$I387,6),0)","v":0},0,0,10,50,5,0.5,{"$f":"IF(I387>0,INDEX(DB,I387,9),EventIndex)","v":4},null,{"$f":"INDEX(MINVALUES,$Q387,$K$1)","v":5},{"$f":"INDEX(INCVALUES,$Q387,$K$1)","v":0.5},null,{"$f":"+J387+(4*(INDEX(MatchScoreTable,$Q387,20)-1))","v":4},{"$f":"INDEX(INC_MINVALUES,$V387,$K$1)","v":2.5},{"$f":"INDEX(INC_INCVALUES,$V387,$K$1)","v":0.5}]
[null,null,"",{"$f":"IF(AND(H388,B388<>0,ISNUMBER(B388)),IF(ISERR(M388),0,M388),0)","v":0},null,{"$f":"COUNTIF(A$3:A$1002,A388)","v":0},{"$f":"IF(AND(H388,OR(D388<=10,D388>=90)),\"CHECK\",\"\")","v":""},{"$f":"IF(AND(I388>0,LEN(C388)>0,B388<>0),TRUE,FALSE)","v":false},0,0,{"$f":"IF(ISNUMBER(B388),ROUND(+B388,2),0)","v":0},{"$f":"+K388","v":0},{"$f":"IF(L388<O388,MinPoints,IF(AND(L388>N388,O388>0),100,+INT(($L388-O388)/P388)+MinPoints))","v":10},{"$f":"+O388+(P388*90)","v":50},{"$f":"IF($J388=0,$S388,$W388)","v":5},{"$f":"IF($J388=0,$T388,$X388)","v":0.5},4,null,5,0.5,null,4,2.5,0.5]
[null,null,"",0,null,0,"",false,0,0,0,0,10,50,5,0.5,4,null,5,0.5,null,4,2.5,0.5]
[null,null,"",0,null,0,"",false,0,0,0,0,10,50,5,0.5,4,null,5,0.5,null,4,2.5,0.5]
[null,null,"",0,null,0,"",false,0,0,0,0,10,50,5,0.5,4,null,5,0.5,null,4,2.5,0.5]
[null,null,"",0,null,0,"",false,0,0,0,0,10,50,5,0.5,4,null,5,0.5,null,4,2.5,0.5]
[null,null,"",0,null,0,"",false,0,0,0,0,10,50,5,0.5,4,null,5,0.5,null,4,2.5,0.5]
[null,null,"",0,null,0,"",false,0,0,0,0,10,50,5,0.5,4,null,5,0.5,null,4,2.5,0.5]
[null,null,"",0,null,0,"",false,0,0,0,0,10,50,5,0.5,4,null,5,0.5,null,4,2.5,0.5]
[null,null,"",0,null,0,"",false,0,0,0,0,10,50,5,0.5,4,null,5,0.5,null,4,2.5,0.5]
[null,null,"",0,null,0,"",false,0,0,0,0,10,50,5,0.5,4,null,5,0.5,null,4,2.5,0.5]
[null,null,"",0,null,0,"",false,0,0,0,0,10,50,5,0.5,4,null,5,0.5,null,4,2.5,0.5]
[null,null,"",0,null,0,"",false,0,0,0,0,10,50,5,0.5,4,null,5,0.5,null,4,2.5,0.5]
[null,null,"",0,null,0,"",false,0,0,0,0,10,50,5,0.5,4,null,5,0.5,null,4,2.5,0.5]
[null,null,"",0,null,0,"",false,0,0,0,0,10,50,5,0.5,4,null,5,0.5,null,4,2.5,0.5]
[null,null,"",0,null,0,"",false,0,0,0,0,10,50,5,0.5,4,null,5,0.5,null,4,2.5,0.5]
[null,null,"",0,null,0,"",false,0,0,0,0,10,50,5,0.5,4,null,5,0.5,null,4,2.5,0.5]
[null,null,"",0,null,0,"",false,0,0,0,0,10,50,5,0.5,4,null,5,0.5,null,4,2.5,0.5]
[null,null,"",0,null,0,"",false,0,0,0,0,10,50,5,0.5,4,null,5,0.5,null,4,2.5,0.5]
[null,null,"",0,null,0,"",false,0,0,0,0,10,50,5,0.5,4,null,5,0.5,null,4,2.5,0.5]
[null,null,"",0,null,0,"",false,0,0,0,0,10,50,5,0.5,4,null,5,0.5,null,4,2.5,0.5]
[null,null,"",0,null,0,"",false,0,0,0,0,10,50,5,0.5,4,null,5,0.5,null,4,2.5,0.5]
[null,null,"",0,null,0,"",false,0,0,0,0,10,50,5,0.5,4,null,5,0.5,null,4,2.5,0.5]
[null,null,"",0,null,0,"",false,0,0,0,0,10,50,5,0.5,4,null,5,0.5,null,4,2.5,0.5]
[null,null,"",0,null,0,"",false,0,0,0,0,10,50,5,0.5,4,null,5,0.5,null,4,2.5,0.5]
[null,null,"",0,null,0,"",false,0,0,0,0,10,50,5,0.5,4,null,5,0.5,null,4,2.5,0.5]
[null,null,"",0,null,0,"",false,0,0,0,0,10,50,5,0.5,4,null,5,0.5,null,4,2.5,0.5]
[null,null,"",0,null,0,"",false,0,0,0,0,10,50,5,0.5,4,null,5,0.5,null,4,2.5,0.5]
[null,null,"",0,null,0,"",false,0,0,0,0,10,50,5,0.5,4,null,5,0.5,null,4,2.5,0.5]
[null,null,"",0,null,0,"",false,0,0,0,0,10,50,5,0.5,4,null,5,0.5,null,4,2.5,0.5]
[null,null,"",0,null,0,"",false,0,0,0,0,10,50,5,0.5,4,null,5,0.5,null,4,2.5,0.5]
[null,null,"",0,null,0,"",false,0,0,0,0,10,50,5,0.5,4,null,5,0.5,null,4,2.5,0.5]
[null,null,"",0,null,0,"",false,0,0,0,0,10,50,5,0.5,4,null,5,0.5,null,4,2.5,0.5]
[null,null,"",0,null,0,"",false,0,0,0,0,10,50,5,0.5,4,null,5,0.5,null,4,2.5,0.5]
[null,null,"",0,null,0,"",false,0,0,0,0,10,50,5,0.5,4,null,5,0.5,null,4,2.5,0.5]
[null,null,"",0,null,0,"",false,0,0,0,0,10,50,5,0.5,4,null,5,0.5,null,4,2.5,0.5]
[null,null,"",0,null,0,"",false,0,0,0,0,10,50,5,0.5,4,null,5,0.5,null,4,2.5,0.5]
[null,null,"",0,null,0,"",false,0,0,0,0,10,50,5,0.5,4,null,5,0.5,null,4,2.5,0.5]
[null,null,"",0,null,0,"",false,0,0,0,0,10,50,5,0.5,4,null,5,0.5,null,4,2.5,0.5]
[null,null,"",0,null,0,"",false,0,0,0,0,10,50,5,0.5,4,null,5,0.5,null,4,2.5,0.5]
[null,null,"",0,null,0,"",false,0,0,0,0,10,50,5,0.5,4,null,5,0.5,null,4,2.5,0.5]
[null,null,"",0,null,0,"",false,0,0,0,0,10,50,5,0.5,4,null,5,0.5,null,4,2.5,0.5]
[null,null,"",0,null,0,"",false,0,0,0,0,10,50,5,0.5,4,null,5,0.5,null,4,2.5,0.5]
[null,null,"",0,null,0,"",false,0,0,0,0,10,50,5,0.5,4,null,5,0.5,null,4,2.5,0.5]
[null,null,"",0,null,0,"",false,0,0,0,0,10,50,5,0.5,4,null,5,0.5,null,4,2.5,0.5]
[null,null,"",0,null,0,"",false,0,0,0,0,10,50,5,0.5,4,null,5,0.5,null,4,2.5,0.5]
[null,null,"",0,null,0,"",false,0,0,0,0,10,50,5,0.5,4,null,5,0.5,null,4,2.5,0.5]
[null,null,"",0,null,0,"",false,0,0,0,0,10,50,5,0.5,4,null,5,0.5,null,4,2.5,0.5]
[null,null,"",0,null,0,"",false,0,0,0,0,10,50,5,0.5,4,null,5,0.5,null,4,2.5,0.5]
[null,null,"",0,null,0,"",false,0,0,0,0,10,50,5,0.5,4,null,5,0.5,null,4,2.5,0.5]
[null,null,"",0,null,0,"",false,0,0,0,0,10,50,5,0.5,4,null,5,0.5,null,4,2.5,0.5]
[null,null,"",0,null,0,"",false,0,0,0,0,10,50,5,0.5,4,null,5,0.5,null,4,2.5,0.5]
[null,null,"",0,null,0,"",false,0,0,0,0,10,50,5,0.5,4,null,5,0.5,null,4,2.5,0.5]
[null,null,"",0,null,0,"",false,0,0,0,0,10,50,5,0.5,4,null,5,0.5,null,4,2.5,0.5]
[null,null,"",0,null,0,"",false,0,0,0,0,10,50,5,0.5,4,null,5,0.5,null,4,2.5,0.5]
[null,null,"",0,null,0,"",false,0,0,0,0,10,50,5,0.5,4,null,5,0.5,null,4,2.5,0.5]
[null,null,"",0,null,0,"",false,0,0,0,0,10,50,5,0.5,4,null,5,0.5,null,4,2.5,0.5]
[null,null,"",0,null,0,"",false,0,0,0,0,10,50,5,0.5,4,null,5,0.5,null,4,2.5,0.5]
[null,null,"",0,null,0,"",false,0,0,0,0,10,50,5,0.5,4,null,5,0.5,null,4,2.5,0.5]
[null,null,"",0,null,0,"",false,0,0,0,0,10,50,5,0.5,4,null,5,0.5,null,4,2.5,0.5]
[null,null,"",0,null,0,"",false,0,0,0,0,10,50,5,0.5,4,null,5,0.5,null,4,2.5,0.5]
[null,null,"",0,null,0,"",false,0,0,0,0,10,50,5,0.5,4,null,5,0.5,null,4,2.5,0.5]
[null,null,"",0,null,0,"",false,0,0,0,0,10,50,5,0.5,4,null,5,0.5,null,4,2.5,0.5]
[null,null,"",0,null,0,"",false,0,0,0,0,10,50,5,0.5,4,null,5,0.5,null,4,2.5,0.5]
[null,null,{"$f":"IF(I451>0,INDEX(DB,I451,8),\"\")","v":""},0,null,0,"",false,{"$f":"IF(OR(ISBLANK(A451),ISNA(MATCH(A451&\"\",AthleteNumbers,0))),0,MATCH(A451&\"\",AthleteNumbers,0))","v":0},{"$f":"IF(I451>0,INDEX(DB,$I451,6),0)","v":0},0,0,10,50,5,0.5,{"$f":"IF(I451>0,INDEX(DB,I451,9),EventIndex)","v":4},null,{"$f":"INDEX(MINVALUES,$Q451,$K$1)","v":5},{"$f":"INDEX(INCVALUES,$Q451,$K$1)","v":0.5},null,{"$f":"+J451+(4*(INDEX(MatchScoreTable,$Q451,20)-1))","v":4},{"$f":"INDEX(INC_MINVALUES,$V451,$K$1)","v":2.5},{"$f":"INDEX(INC_INCVALUES,$V451,$K$1)","v":0.5}]
[null,null,"",{"$f":"IF(AND(H452,B452<>0,ISNUMBER(B452)),IF(ISERR(M452),0,M452),0)","v":0},null,{"$f":"COUNTIF(A$3:A$1002,A452)","v":0},{"$f":"IF(AND(H452,OR(D452<=10,D452>=90)),\"CHECK\",\"\")","v":""},{"$f":"IF(AND(I452>0,LEN(C452)>0,B452<>0),TRUE,FALSE)","v":false},0,0,{"$f":"IF(ISNUMBER(B452),ROUND(+B452,2),0)","v":0},{"$f":"+K452","v":0},{"$f":"IF(L452<O452,MinPoints,IF(AND(L452>N452,O452>0),100,+INT(($L452-O452)/P452)+MinPoints))","v":10},{"$f":"+O452+(P452*90)","v":50},{"$f":"IF($J452=0,$S452,$W452)","v":5},{"$f":"IF($J452=0,$T452,$X452)","v":0.5},4,null,5,0.5,null,4,2.5,0.5]
[null,null,"",0,null,0,"",false,0,0,0,0,10,50,5,0.5,4,null,5,0.5,null,4,2.5,0.5]
[null,null,"",0,null,0,"",false,0,0,0,0,10,50,5,0.5,4,null,5,0.5,null,4,2.5,0.5]
[null,null,"",0,null,0,"",false,0,0,0,0,10,50,5,0.5,4,null,5,0.5,null,4,2.5,0.5]
[null,null,"",0,null,0,"",false,0,0,0,0,10,50,5,0.5,4,null,5,0.5,null,4,2.5,0.5]
[null,null,"",0,null,0,"",false,0,0,0,0,10,50,5,0.5,4,null,5,0.5,null,4,2.5,0.5]
[null,null,"",0,null,0,"",false,0,0,0,0,10,50,5,0.5,4,null,5,0.5,null,4,2.5,0.5]
[null,null,"",0,null,0,"",false,0,0,0,0,10,50,5,0.5,4,null,5,0.5,null,4,2.5,0.5]
[null,null,"",0,null,0,"",false,0,0,0,0,10,50,5,0.5,4,null,5,0.5,null,4,2.5,0.5]
[null,null,"",0,null,0,"",false,0,0,0,0,10,50,5,0.5,4,null,5,0.5,null,4,2.5,0.5]
[null,null,"",0,null,0,"",false,0,0,0,0,10,50,5,0.5,4,null,5,0.5,null,4,2.5,0.5]
[null,null,"",0,null,0,"",false,0,0,0,0,10,50,5,0.5,4,null,5,0.5,null,4,2.5,0.5]
[null,null,"",0,null,0,"",false,0,0,0,0,10,50,5,0.5,4,null,5,0.5,null,4,2.5,0.5]
[null,null,"",0,null,0,"",false,0,0,0,0,10,50,5,0.5,4,null,5,0.5,null,4,2.5,0.5]
[null,null,"",0,null,0,"",false,0,0,0,0,10,50,5,0.5,4,null,5,0.5,null,4,2.5,0.5]
[null,null,"",0,null,0,"",false,0,0,0,0,10,50,5,0.5,4,null,5,0.5,null,4,2.5,0.5]
[null,null,"",0,null,0,"",false,0,0,0,0,10,50,5,0.5,4,null,5,0.5,null,4,2.5,0.5]
[null,null,"",0,null,0,"",false,0,0,0,0,10,50,5,0.5,4,null,5,0.5,null,4,2.5,0.5]
[null,null,"",0,null,0,"",false,0,0,0,0,10,50,5,0.5,4,null,5,0.5,null,4,2.5,0.5]
[null,null,"",0,null,0,"",false,0,0,0,0,10,50,5,0.5,4,null,5,0.5,null,4,2.5,0.5]
[null,null,"",0,null,0,"",false,0,0,0,0,10,50,5,0.5,4,null,5,0.5,null,4,2.5,0.5]
[null,null,"",0,null,0,"",false,0,0,0,0,10,50,5,0.5,4,null,5,0.5,null,4,2.5,0.5]
[null,null,"",0,null,0,"",false,0,0,0,0,10,50,5,0.5,4,null,5,0.5,null,4,2.5,0.5]
[null,null,"",0,null,0,"",false,0,0,0,0,10,50,5,0.5,4,null,5,0.5,null,4,2.5,0.5]
[null,null,"",0,null,0,"",false,0,0,0,0,10,50,5,0.5,4,null,5,0.5,null,4,2.5,0.5]
[null,null,"",0,null,0,"",false,0,0,0,0,10,50,5,0.5,4,null,5,0.5,null,4,2.5,0.5]
[null,null,"",0,null,0,"",false,0,0,0,0,10,50,5,0.5,4,null,5,0.5,null,4,2.5,0.5]
[null,null,"",0,null,0,"",false,0,0,0,0,10,50,5,0.5,4,null,5,0.5,null,4,2.5,0.5]
[null,null,"",0,null,0,"",false,0,0,0,0,10,50,5,0.5,4,null,5,0.5,null,4,2.5,0.5]
[null,null,"",0,null,0,"",false,0,0,0,0,10,50,5,0.5,4,null,5,0.5,null,4,2.5,0.5]
[null,null,"",0,null,0,"",false,0,0,0,0,10,50,5,0.5,4,null,5,0.5,null,4,2.5,0.5]
[null,null,"",0,null,0,"",false,0,0,0,0,10,50,5,0.5,4,null,5,0.5,null,4,2.5,0.5]
[null,null,"",0,null,0,"",false,0,0,0,0,10,50,5,0.5,4,null,5,0.5,null,4,2.5,0.5]
[null,null,"",0,null,0,"",false,0,0,0,0,10,50,5,0.5,4,null,5,0.5,null,4,2.5,0.5]
[null,null,"",0,null,0,"",false,0,0,0,0,10,50,5,0.5,4,null,5,0.5,null,4,2.5,0.5]
[null,null,"",0,null,0,"",false,0,0,0,0,10,50,5,0.5,4,null,5,0.5,null,4,2.5,0.5]
[null,null,"",0,null,0,"",false,0,0,0,0,10,50,5,0.5,4,null,5,0.5,null,4,2.5,0.5]
[null,null,"",0,null,0,"",false,0,0,0,0,10,50,5,0.5,4,null,5,0.5,null,4,2.5,0.5]
[null,null,"",0,null,0,"",false,0,0,0,0,10,50,5,0.5,4,null,5,0.5,null,4,2.5,0.5]
[null,null,"",0,null,0,"",false,0,0,0,0,10,50,5,0.5,4,null,5,0.5,null,4,2.5,0.5]
[null,null,"",0,null,0,"",false,0,0,0,0,10,50,5,0.5,4,null,5,0.5,null,4,2.5,0.5]
[null,null,"",0,null,0,"",false,0,0,0,0,10,50,5,0.5,4,null,5,0.5,null,4,2.5,0.5]
[null,null,"",0,null,0,"",false,0,0,0,0,10,50,5,0.5,4,null,5,0.5,null,4,2.5,0.5]
[null,null,"",0,null,0,"",false,0,0,0,0,10,50,5,0.5,4,null,5,0.5,null,4,2.5,0.5]
[null,null,"",0,null,0,"",false,0,0,0,0,10,50,5,0.5,4,null,5,0.5,null,4,2.5,0.5]
[null,null,"",0,null,0,"",false,0,0,0,0,10,50,5,0.5,4,null,5,0.5,null,4,2.5,0.5]
[null,null,"",0,null,0,"",false,0,0,0,0,10,50,5,0.5,4,null,5,0.5,null,4,2.5,0.5]
[null,null,"",0,null,0,"",false,0,0,0,0,10,50,5,0.5,4,null,5,0.5,null,4,2.5,0.5]
[null,null,"",0,null,0,"",false,0,0,0,0,10,50,5,0.5,4,null,5,0.5,null,4,2.5,0.5]
[null,null,"",0,null,0,"",false,0,0,0,0,10,50,5,0.5,4,null,5,0.5,null,4,2.5,0.5]
[null,null,"",0,null,0,"",false,0,0,0,0,10,50,5,0.5,4,null,5,0.5,null,4,2.5,0.5]
[null,null,"",0,null,0,"",false,0,0,0,0,10,50,5,0.5,4,null,5,0.5,null,4,2.5,0.5]
[null,null,"",0,null,0,"",false,0,0,0,0,10,50,5,0.5,4,null,5,0.5,null,4,2.5,0.5]
[null,null,"",0,null,0,"",false,0,0,0,0,10,50,5,0.5,4,null,5,0.5,null,4,2.5,0.5]
[null,null,"",0,null,0,"",false,0,0,0,0,10,50,5,0.5,4,null,5,0.5,null,4,2.5,0.5]
[null,null,"",0,null,0,"",false,0,0,0,0,10,50,5,0.5,4,null,5,0.5,null,4,2.5,0.5]
[null,null,"",0,null,0,"",false,0,0,0,0,10,50,5,0.5,4,null,5,0.5,null,4,2.5,0.5]
[null,null,"",0,null,0,"",false,0,0,0,0,10,50,5,0.5,4,null,5,0.5,null,4,2.5,0.5]
[null,null,"",0,null,0,"",false,0,0,0,0,10,50,5,0.5,4,null,5,0.5,null,4,2.5,0.5]
[null,null,"",0,null,0,"",false,0,0,0,0,10,50,5,0.5,4,null,5,0.5,null,4,2.5,0.5]
[null,null,"",0,null,0,"",false,0,0,0,0,10,50,5,0.5,4,null,5,0.5,null,4,2.5,0.5]
[null,null,"",0,null,0,"",false,0,0,0,0,10,50,5,0.5,4,null,5,0.5,null,4,2.5,0.5]
[null,null,"",0,null,0,"",false,0,0,0,0,10,50,5,0.5,4,null,5,0.5,null,4,2.5,0.5]
[null,null,{"$f":"IF(I515>0,INDEX(DB,I515,8),\"\")","v":""},0,null,0,"",false,{"$f":"IF(OR(ISBLANK(A515),ISNA(MATCH(A515&\"\",AthleteNumbers,0))),0,MATCH(A515&\"\",AthleteNumbers,0))","v":0},{"$f":"IF(I515>0,INDEX(DB,$I515,6),0)","v":0},0,0,10,50,5,0.5,{"$f":"IF(I515>0,INDEX(DB,I515,9),EventIndex)","v":4},null,{"$f":"INDEX(MINVALUES,$Q515,$K$1)","v":5},{"$f":"INDEX(INCVALUES,$Q515,$K$1)","v":0.5},null,{"$f":"+J515+(4*(INDEX(MatchScoreTable,$Q515,20)-1))","v":4},{"$f":"INDEX(INC_MINVALUES,$V515,$K$1)","v":2.5},{"$f":"INDEX(INC_INCVALUES,$V515,$K$1)","v":0.5}]
[null,null,"",{"$f":"IF(AND(H516,B516<>0,ISNUMBER(B516)),IF(ISERR(M516),0,M516),0)","v":0},null,{"$f":"COUNTIF(A$3:A$1002,A516)","v":0},{"$f":"IF(AND(H516,OR(D516<=10,D516>=90)),\"CHECK\",\"\")","v":""},{"$f":"IF(AND(I516>0,LEN(C516)>0,B516<>0),TRUE,FALSE)","v":false},0,0,{"$f":"IF(ISNUMBER(B516),ROUND(+B516,2),0)","v":0},{"$f":"+K516","v":0},{"$f":"IF(L516<O516,MinPoints,IF(AND(L516>N516,O516>0),100,+INT(($L516-O516)/P516)+MinPoints))","v":10},{"$f":"+O516+(P516*90)","v":50},{"$f":"IF($J516=0,$S516,$W516)","v":5},{"$f":"IF($J516=0,$T516,$X516)","v":0.5},4,null,5,0.5,null,4,2.5,0.5]
[null,null,"",0,null,0,"",false,0,0,0,0,10,50,5,0.5,4,null,5,0.5,null,4,2.5,0.5]
[null,null,"",0,null,0,"",false,0,0,0,0,10,50,5,0.5,4,null,5,0.5,null,4,2.5,0.5]
[null,null,"",0,null,0,"",false,0,0,0,0,10,50,5,0.5,4,null,5,0.5,null,4,2.5,0.5]
[null,null,"",0,null,0,"",false,0,0,0,0,10,50,5,0.5,4,null,5,0.5,null,4,2.5,0.5]
[null,null,"",0,null,0,"",false,0,0,0,0,10,50,5,0.5,4,null,5,0.5,null,4,2.5,0.5]
[null,null,"",0,null,0,"",false,0,0,0,0,10,50,5,0.5,4,null,5,0.5,null,4,2.5,0.5]
[null,null,"",0,null,0,"",false,0,0,0,0,10,50,5,0.5,4,null,5,0.5,null,4,2.5,0.5]
[null,null,"",0,null,0,"",false,0,0,0,0,10,50,5,0.5,4,null,5,0.5,null,4,2.5,0.5]
[null,null,"",0,null,0,"",false,0,0,0,0,10,50,5,0.5,4,null,5,0.5,null,4,2.5,0.5]
[null,null,"",0,null,0,"",false,0,0,0,0,10,50,5,0.5,4,null,5,0.5,null,4,2.5,0.5]
[null,null,"",0,null,0,"",false,0,0,0,0,10,50,5,0.5,4,null,5,0.5,null,4,2.5,0.5]
[null,null,"",0,null,0,"",false,0,0,0,0,10,50,5,0.5,4,null,5,0.5,null,4,2.5,0.5]
[null,null,"",0,null,0,"",false,0,0,0,0,10,50,5,0.5,4,null,5,0.5,null,4,2.5,0.5]
[null,null,"",0,null,0,"",false,0,0,0,0,10,50,5,0.5,4,null,5,0.5,null,4,2.5,0.5]
[null,null,"",0,null,0,"",false,0,0,0,0,10,50,5,0.5,4,null,5,0.5,null,4,2.5,0.5]
[null,null,"",0,null,0,"",false,0,0,0,0,10,50,5,0.5,4,null,5,0.5,null,4,2.5,0.5]
[null,null,"",0,null,0,"",false,0,0,0,0,10,50,5,0.5,4,null,5,0.5,null,4,2.5,0.5]
[null,null,"",0,null,0,"",false,0,0,0,0,10,50,5,0.5,4,null,5,0.5,null,4,2.5,0.5]
[null,null,"",0,null,0,"",false,0,0,0,0,10,50,5,0.5,4,null,5,0.5,null,4,2.5,0.5]
[null,null,"",0,null,0,"",false,0,0,0,0,10,50,5,0.5,4,null,5,0.5,null,4,2.5,0.5]
[null,null,"",0,null,0,"",false,0,0,0,0,10,50,5,0.5,4,null,5,0.5,null,4,2.5,0.5]
[null,null,"",0,null,0,"",false,0,0,0,0,10,50,5,0.5,4,null,5,0.5,null,4,2.5,0.5]
[null,null,"",0,null,0,"",false,0,0,0,0,10,50,5,0.5,4,null,5,0.5,null,4,2.5,0.5]
[null,null,"",0,null,0,"",false,0,0,0,0,10,50,5,0.5,4,null,5,0.5,null,4,2.5,0.5]
[null,null,"",0,null,0,"",false,0,0,0,0,10,50,5,0.5,4,null,5,0.5,null,4,2.5,0.5]
[null,null,"",0,null,0,"",false,0,0,0,0,10,50,5,0.5,4,null,5,0.5,null,4,2.5,0.5]
[null,null,"",0,null,0,"",false,0,0,0,0,10,50,5,0.5,4,null,5,0.5,null,4,2.5,0.5]
[null,null,"",0,null,0,"",false,0,0,0,0,10,50,5,0.5,4,null,5,0.5,null,4,2.5,0.5]
[null,null,"",0,null,0,"",false,0,0,0,0,10,50,5,0.5,4,null,5,0.5,null,4,2.5,0.5]
[null,null,"",0,null,0,"",false,0,0,0,0,10,50,5,0.5,4,null,5,0.5,null,4,2.5,0.5]
[null,null,"",0,null,0,"",false,0,0,0,0,10,50,5,0.5,4,null,5,0.5,null,4,2.5,0.5]
[null,null,"",0,null,0,"",false,0,0,0,0,10,50,5,0.5,4,null,5,0.5,null,4,2.5,0.5]
[null,null,"",0,null,0,"",false,0,0,0,0,10,50,5,0.5,4,null,5,0.5,null,4,2.5,0.5]
[null,null,"",0,null,0,"",false,0,0,0,0,10,50,5,0.5,4,null,5,0.5,null,4,2.5,0.5]
[null,null,"",0,null,0,"",false,0,0,0,0,10,50,5,0.5,4,null,5,0.5,null,4,2.5,0.5]
[null,null,"",0,null,0,"",false,0,0,0,0,10,50,5,0.5,4,null,5,0.5,null,4,2.5,0.5]
[null,null,"",0,null,0,"",false,0,0,0,0,10,50,5,0.5,4,null,5,0.5,null,4,2.5,0.5]
[null,null,"",0,null,0,"",false,0,0,0,0,10,50,5,0.5,4,null,5,0.5,null,4,2.5,0.5]
[null,null,"",0,null,0,"",false,0,0,0,0,10,50,5,0.5,4,null,5,0.5,null,4,2.5,0.5]
[null,null,"",0,null,0,"",false,0,0,0,0,10,50,5,0.5,4,null,5,0.5,null,4,2.5,0.5]
[null,null,"",0,null,0,"",false,0,0,0,0,10,50,5,0.5,4,null,5,0.5,null,4,2.5,0.5]
[null,null,"",0,null,0,"",false,0,0,0,0,10,50,5,0.5,4,null,5,0.5,null,4,2.5,0.5]
[null,null,"",0,null,0,"",false,0,0,0,0,10,50,5,0.5,4,null,5,0.5,null,4,2.5,0.5]
[null,null,"",0,null,0,"",false,0,0,0,0,10,50,5,0.5,4,null,5,0.5,null,4,2.5,0.5]
[null,null,"",0,null,0,"",false,0,0,0,0,10,50,5,0.5,4,null,5,0.5,null,4,2.5,0.5]
[null,null,"",0,null,0,"",false,0,0,0,0,10,50,5,0.5,4,null,5,0.5,null,4,2.5,0.5]
[null,null,"",0,null,0,"",false,0,0,0,0,10,50,5,0.5,4,null,5,0.5,null,4,2.5,0.5]
[null,null,"",0,null,0,"",false,0,0,0,0,10,50,5,0.5,4,null,5,0.5,null,4,2.5,0.5]
[null,null,"",0,null,0,"",false,0,0,0,0,10,50,5,0.5,4,null,5,0.5,null,4,2.5,0.5]
[null,null,"",0,null,0,"",false,0,0,0,0,10,50,5,0.5,4,null,5,0.5,null,4,2.5,0.5]
[null,null,"",0,null,0,"",false,0,0,0,0,10,50,5,0.5,4,null,5,0.5,null,4,2.5,0.5]
[null,null,"",0,null,0,"",false,0,0,0,0,10,50,5,0.5,4,null,5,0.5,null,4,2.5,0.5]
[null,null,"",0,null,0,"",false,0,0,0,0,10,50,5,0.5,4,null,5,0.5,null,4,2.5,0.5]
[null,null,"",0,null,0,"",false,0,0,0,0,10,50,5,0.5,4,null,5,0.5,null,4,2.5,0.5]
[null,null,"",0,null,0,"",false,0,0,0,0,10,50,5,0.5,4,null,5,0.5,null,4,2.5,0.5]
[null,null,"",0,null,0,"",false,0,0,0,0,10,50,5,0.5,4,null,5,0.5,null,4,2.5,0.5]
[null,null,"",0,null,0,"",false,0,0,0,0,10,50,5,0.5,4,null,5,0.5,null,4,2.5,0.5]
[null,null,"",0,null,0,"",false,0,0,0,0,10,50,5,0.5,4,null,5,0.5,null,4,2.5,0.5]
[null,null,"",0,null,0,"",false,0,0,0,0,10,50,5,0.5,4,null,5,0.5,null,4,2.5,0.5]
[null,null,"",0,null,0,"",false,0,0,0,0,10,50,5,0.5,4,null,5,0.5,null,4,2.5,0.5]
[null,null,"",0,null,0,"",false,0,0,0,0,10,50,5,0.5,4,null,5,0.5,null,4,2.5,0.5]
[null,null,"",0,null,0,"",false,0,0,0,0,10,50,5,0.5,4,null,5,0.5,null,4,2.5,0.5]
[null,null,{"$f":"IF(I579>0,INDEX(DB,I579,8),\"\")","v":""},0,null,0,"",false,{"$f":"IF(OR(ISBLANK(A579),ISNA(MATCH(A579&\"\",AthleteNumbers,0))),0,MATCH(A579&\"\",AthleteNumbers,0))","v":0},{"$f":"IF(I579>0,INDEX(DB,$I579,6),0)","v":0},0,0,10,50,5,0.5,{"$f":"IF(I579>0,INDEX(DB,I579,9),EventIndex)","v":4},null,{"$f":"INDEX(MINVALUES,$Q579,$K$1)","v":5},{"$f":"INDEX(INCVALUES,$Q579,$K$1)","v":0.5},null,{"$f":"+J579+(4*(INDEX(MatchScoreTable,$Q579,20)-1))","v":4},{"$f":"INDEX(INC_MINVALUES,$V579,$K$1)","v":2.5},{"$f":"INDEX(INC_INCVALUES,$V579,$K$1)","v":0.5}]
[null,null,"",{"$f":"IF(AND(H580,B580<>0,ISNUMBER(B580)),IF(ISERR(M580),0,M580),0)","v":0},null,{"$f":"COUNTIF(A$3:A$1002,A580)","v":0},{"$f":"IF(AND(H580,OR(D580<=10,D580>=90)),\"CHECK\",\"\")","v":""},{"$f":"IF(AND(I580>0,LEN(C580)>0,B580<>0),TRUE,FALSE)","v":false},0,0,{"$f":"IF(ISNUMBER(B580),ROUND(+B580,2),0)","v":0},{"$f":"+K580","v":0},{"$f":"IF(L580<O580,MinPoints,IF(AND(L580>N580,O580>0),100,+INT(($L580-O580)/P580)+MinPoints))","v":10},{"$f":"+O580+(P580*90)","v":50},{"$f":"IF($J580=0,$S580,$W580)","v":5},{"$f":"IF($J580=0,$T580,$X580)","v":0.5},4,null,5,0.5,null,4,2.5,0.5]
[null,null,"",0,null,0,"",false,0,0,0,0,10,50,5,0.5,4,null,5,0.5,null,4,2.5,0.5]
[null,null,"",0,null,0,"",false,0,0,0,0,10,50,5,0.5,4,null,5,0.5,null,4,2.5,0.5]
[null,null,"",0,null,0,"",false,0,0,0,0,10,50,5,0.5,4,null,5,0.5,null,4,2.5,0.5]
[null,null,"",0,null,0,"",false,0,0,0,0,10,50,5,0.5,4,null,5,0.5,null,4,2.5,0.5]
[null,null,"",0,null,0,"",false,0,0,0,0,10,50,5,0.5,4,null,5,0.5,null,4,2.5,0.5]
[null,null,"",0,null,0,"",false,0,0,0,0,10,50,5,0.5,4,null,5,0.5,null,4,2.5,0.5]
[null,null,"",0,null,0,"",false,0,0,0,0,10,50,5,0.5,4,null,5,0.5,null,4,2.5,0.5]
[null,null,"",0,null,0,"",false,0,0,0,0,10,50,5,0.5,4,null,5,0.5,null,4,2.5,0.5]
[null,null,"",0,null,0,"",false,0,0,0,0,10,50,5,0.5,4,null,5,0.5,null,4,2.5,0.5]
[null,null,"",0,null,0,"",false,0,0,0,0,10,50,5,0.5,4,null,5,0.5,null,4,2.5,0.5]
[null,null,"",0,null,0,"",false,0,0,0,0,10,50,5,0.5,4,null,5,0.5,null,4,2.5,0.5]
[null,null,"",0,null,0,"",false,0,0,0,0,10,50,5,0.5,4,null,5,0.5,null,4,2.5,0.5]
[null,null,"",0,null,0,"",false,0,0,0,0,10,50,5,0.5,4,null,5,0.5,null,4,2.5,0.5]
[null,null,"",0,null,0,"",false,0,0,0,0,10,50,5,0.5,4,null,5,0.5,null,4,2.5,0.5]
[null,null,"",0,null,0,"",false,0,0,0,0,10,50,5,0.5,4,null,5,0.5,null,4,2.5,0.5]
[null,null,"",0,null,0,"",false,0,0,0,0,10,50,5,0.5,4,null,5,0.5,null,4,2.5,0.5]
[null,null,"",0,null,0,"",false,0,0,0,0,10,50,5,0.5,4,null,5,0.5,null,4,2.5,0.5]
[null,null,"",0,null,0,"",false,0,0,0,0,10,50,5,0.5,4,null,5,0.5,null,4,2.5,0.5]
[null,null,"",0,null,0,"",false,0,0,0,0,10,50,5,0.5,4,null,5,0.5,null,4,2.5,0.5]
[null,null,"",0,null,0,"",false,0,0,0,0,10,50,5,0.5,4,null,5,0.5,null,4,2.5,0.5]
[null,null,"",0,null,0,"",false,0,0,0,0,10,50,5,0.5,4,null,5,0.5,null,4,2.5,0.5]
[null,null,"",0,null,0,"",false,0,0,0,0,10,50,5,0.5,4,null,5,0.5,null,4,2.5,0.5]
[null,null,"",0,null,0,"",false,0,0,0,0,10,50,5,0.5,4,null,5,0.5,null,4,2.5,0.5]
[null,null,"",0,null,0,"",false,0,0,0,0,10,50,5,0.5,4,null,5,0.5,null,4,2.5,0.5]
[null,null,"",0,null,0,"",false,0,0,0,0,10,50,5,0.5,4,null,5,0.5,null,4,2.5,0.5]
[null,null,"",0,null,0,"",false,0,0,0,0,10,50,5,0.5,4,null,5,0.5,null,4,2.5,0.5]
[null,null,"",0,null,0,"",false,0,0,0,0,10,50,5,0.5,4,null,5,0.5,null,4,2.5,0.5]
[null,null,"",0,null,0,"",false,0,0,0,0,10,50,5,0.5,4,null,5,0.5,null,4,2.5,0.5]
[null,null,"",0,null,0,"",false,0,0,0,0,10,50,5,0.5,4,null,5,0.5,null,4,2.5,0.5]
[null,null,"",0,null,0,"",false,0,0,0,0,10,50,5,0.5,4,null,5,0.5,null,4,2.5,0.5]
[null,null,"",0,null,0,"",false,0,0,0,0,10,50,5,0.5,4,null,5,0.5,null,4,2.5,0.5]
[null,null,"",0,null,0,"",false,0,0,0,0,10,50,5,0.5,4,null,5,0.5,null,4,2.5,0.5]
[null,null,"",0,null,0,"",false,0,0,0,0,10,50,5,0.5,4,null,5,0.5,null,4,2.5,0.5]
[null,null,"",0,null,0,"",false,0,0,0,0,10,50,5,0.5,4,null,5,0.5,null,4,2.5,0.5]
[null,null,"",0,null,0,"",false,0,0,0,0,10,50,5,0.5,4,null,5,0.5,null,4,2.5,0.5]
[null,null,"",0,null,0,"",false,0,0,0,0,10,50,5,0.5,4,null,5,0.5,null,4,2.5,0.5]
[null,null,"",0,null,0,"",false,0,0,0,0,10,50,5,0.5,4,null,5,0.5,null,4,2.5,0.5]
[null,null,"",0,null,0,"",false,0,0,0,0,10,50,5,0.5,4,null,5,0.5,null,4,2.5,0.5]
[null,null,"",0,null,0,"",false,0,0,0,0,10,50,5,0.5,4,null,5,0.5,null,4,2.5,0.5]
[null,null,"",0,null,0,"",false,0,0,0,0,10,50,5,0.5,4,null,5,0.5,null,4,2.5,0.5]
[null,null,"",0,null,0,"",false,0,0,0,0,10,50,5,0.5,4,null,5,0.5,null,4,2.5,0.5]
[null,null,"",0,null,0,"",false,0,0,0,0,10,50,5,0.5,4,null,5,0.5,null,4,2.5,0.5]
[null,null,"",0,null,0,"",false,0,0,0,0,10,50,5,0.5,4,null,5,0.5,null,4,2.5,0.5]
[null,null,"",0,null,0,"",false,0,0,0,0,10,50,5,0.5,4,null,5,0.5,null,4,2.5,0.5]
[null,null,"",0,null,0,"",false,0,0,0,0,10,50,5,0.5,4,null,5,0.5,null,4,2.5,0.5]
[null,null,"",0,null,0,"",false,0,0,0,0,10,50,5,0.5,4,null,5,0.5,null,4,2.5,0.5]
[null,null,"",0,null,0,"",false,0,0,0,0,10,50,5,0.5,4,null,5,0.5,null,4,2.5,0.5]
[null,null,"",0,null,0,"",false,0,0,0,0,10,50,5,0.5,4,null,5,0.5,null,4,2.5,0.5]
[null,null,"",0,null,0,"",false,0,0,0,0,10,50,5,0.5,4,null,5,0.5,null,4,2.5,0.5]
[null,null,"",0,null,0,"",false,0,0,0,0,10,50,5,0.5,4,null,5,0.5,null,4,2.5,0.5]
[null,null,"",0,null,0,"",false,0,0,0,0,10,50,5,0.5,4,null,5,0.5,null,4,2.5,0.5]
[null,null,"",0,null,0,"",false,0,0,0,0,10,50,5,0.5,4,null,5,0.5,null,4,2.5,0.5]
[null,null,"",0,null,0,"",false,0,0,0,0,10,50,5,0.5,4,null,5,0.5,null,4,2.5,0.5]
[null,null,"",0,null,0,"",false,0,0,0,0,10,50,5,0.5,4,null,5,0.5,null,4,2.5,0.5]
[null,null,"",0,null,0,"",false,0,0,0,0,10,50,5,0.5,4,null,5,0.5,null,4,2.5,0.5]
[null,null,"",0,null,0,"",false,0,0,0,0,10,50,5,0.5,4,null,5,0.5,null,4,2.5,0.5]
[null,null,"",0,null,0,"",false,0,0,0,0,10,50,5,0.5,4,null,5,0.5,null,4,2.5,0.5]
[null,null,"",0,null,0,"",false,0,0,0,0,10,50,5,0.5,4,null,5,0.5,null,4,2.5,0.5]
[null,null,"",0,null,0,"",false,0,0,0,0,10,50,5,0.5,4,null,5,0.5,null,4,2.5,0.5]
[null,null,"",0,null,0,"",false,0,0,0,0,10,50,5,0.5,4,null,5,0.5,null,4,2.5,0.5]
[null,null,"",0,null,0,"",false,0,0,0,0,10,50,5,0.5,4,null,5,0.5,null,4,2.5,0.5]
[null,null,"",0,null,0,"",false,0,0,0,0,10,50,5,0.5,4,null,5,0.5,null,4,2.5,0.5]
[null,null,{"$f":"IF(I643>0,INDEX(DB,I643,8),\"\")","v":""},0,null,0,"",false,{"$f":"IF(OR(ISBLANK(A643),ISNA(MATCH(A643&\"\",AthleteNumbers,0))),0,MATCH(A643&\"\",AthleteNumbers,0))","v":0},{"$f":"IF(I643>0,INDEX(DB,$I643,6),0)","v":0},0,0,10,50,5,0.5,{"$f":"IF(I643>0,INDEX(DB,I643,9),EventIndex)","v":4},null,{"$f":"INDEX(MINVALUES,$Q643,$K$1)","v":5},{"$f":"INDEX(INCVALUES,$Q643,$K$1)","v":0.5},null,{"$f":"+J643+(4*(INDEX(MatchScoreTable,$Q643,20)-1))","v":4},{"$f":"INDEX(INC_MINVALUES,$V643,$K$1)","v":2.5},{"$f":"INDEX(INC_INCVALUES,$V643,$K$1)","v":0.5}]
[null,null,"",{"$f":"IF(AND(H644,B644<>0,ISNUMBER(B644)),IF(ISERR(M644),0,M644),0)","v":0},null,{"$f":"COUNTIF(A$3:A$1002,A644)","v":0},{"$f":"IF(AND(H644,OR(D644<=10,D644>=90)),\"CHECK\",\"\")","v":""},{"$f":"IF(AND(I644>0,LEN(C644)>0,B644<>0),TRUE,FALSE)","v":false},0,0,{"$f":"IF(ISNUMBER(B644),ROUND(+B644,2),0)","v":0},{"$f":"+K644","v":0},{"$f":"IF(L644<O644,MinPoints,IF(AND(L644>N644,O644>0),100,+INT(($L644-O644)/P644)+MinPoints))","v":10},{"$f":"+O644+(P644*90)","v":50},{"$f":"IF($J644=0,$S644,$W644)","v":5},{"$f":"IF($J644=0,$T644,$X644)","v":0.5},4,null,5,0.5,null,4,2.5,0.5]
[null,null,"",0,null,0,"",false,0,0,0,0,10,50,5,0.5,4,null,5,0.5,null,4,2.5,0.5]
[null,null,"",0,null,0,"",false,0,0,0,0,10,50,5,0.5,4,null,5,0.5,null,4,2.5,0.5]
[null,null,"",0,null,0,"",false,0,0,0,0,10,50,5,0.5,4,null,5,0.5,null,4,2.5,0.5]
[null,null,"",0,null,0,"",false,0,0,0,0,10,50,5,0.5,4,null,5,0.5,null,4,2.5,0.5]
[null,null,"",0,null,0,"",false,0,0,0,0,10,50,5,0.5,4,null,5,0.5,null,4,2.5,0.5]
[null,null,"",0,null,0,"",false,0,0,0,0,10,50,5,0.5,4,null,5,0.5,null,4,2.5,0.5]
[null,null,"",0,null,0,"",false,0,0,0,0,10,50,5,0.5,4,null,5,0.5,null,4,2.5,0.5]
[null,null,"",0,null,0,"",false,0,0,0,0,10,50,5,0.5,4,null,5,0.5,null,4,2.5,0.5]
[null,null,"",0,null,0,"",false,0,0,0,0,10,50,5,0.5,4,null,5,0.5,null,4,2.5,0.5]
[null,null,"",0,null,0,"",false,0,0,0,0,10,50,5,0.5,4,null,5,0.5,null,4,2.5,0.5]
[null,null,"",0,null,0,"",false,0,0,0,0,10,50,5,0.5,4,null,5,0.5,null,4,2.5,0.5]
[null,null,"",0,null,0,"",false,0,0,0,0,10,50,5,0.5,4,null,5,0.5,null,4,2.5,0.5]
[null,null,"",0,null,0,"",false,0,0,0,0,10,50,5,0.5,4,null,5,0.5,null,4,2.5,0.5]
[null,null,"",0,null,0,"",false,0,0,0,0,10,50,5,0.5,4,null,5,0.5,null,4,2.5,0.5]
[null,null,"",0,null,0,"",false,0,0,0,0,10,50,5,0.5,4,null,5,0.5,null,4,2.5,0.5]
[null,null,"",0,null,0,"",false,0,0,0,0,10,50,5,0.5,4,null,5,0.5,null,4,2.5,0.5]
[null,null,"",0,null,0,"",false,0,0,0,0,10,50,5,0.5,4,null,5,0.5,null,4,2.5,0.5]
[null,null,"",0,null,0,"",false,0,0,0,0,10,50,5,0.5,4,null,5,0.5,null,4,2.5,0.5]
[null,null,"",0,null,0,"",false,0,0,0,0,10,50,5,0.5,4,null,5,0.5,null,4,2.5,0.5]
[null,null,"",0,null,0,"",false,0,0,0,0,10,50,5,0.5,4,null,5,0.5,null,4,2.5,0.5]
[null,null,"",0,null,0,"",false,0,0,0,0,10,50,5,0.5,4,null,5,0.5,null,4,2.5,0.5]
[null,null,"",0,null,0,"",false,0,0,0,0,10,50,5,0.5,4,null,5,0.5,null,4,2.5,0.5]
[null,null,"",0,null,0,"",false,0,0,0,0,10,50,5,0.5,4,null,5,0.5,null,4,2.5,0.5]
[null,null,"",0,null,0,"",false,0,0,0,0,10,50,5,0.5,4,null,5,0.5,null,4,2.5,0.5]
[null,null,"",0,null,0,"",false,0,0,0,0,10,50,5,0.5,4,null,5,0.5,null,4,2.5,0.5]
[null,null,"",0,null,0,"",false,0,0,0,0,10,50,5,0.5,4,null,5,0.5,null,4,2.5,0.5]
[null,null,"",0,null,0,"",false,0,0,0,0,10,50,5,0.5,4,null,5,0.5,null,4,2.5,0.5]
[null,null,"",0,null,0,"",false,0,0,0,0,10,50,5,0.5,4,null,5,0.5,null,4,2.5,0.5]
[null,null,"",0,null,0,"",false,0,0,0,0,10,50,5,0.5,4,null,5,0.5,null,4,2.5,0.5]
[null,null,"",0,null,0,"",false,0,0,0,0,10,50,5,0.5,4,null,5,0.5,null,4,2.5,0.5]
[null,null,"",0,null,0,"",false,0,0,0,0,10,50,5,0.5,4,null,5,0.5,null,4,2.5,0.5]
[null,null,"",0,null,0,"",false,0,0,0,0,10,50,5,0.5,4,null,5,0.5,null,4,2.5,0.5]
[null,null,"",0,null,0,"",false,0,0,0,0,10,50,5,0.5,4,null,5,0.5,null,4,2.5,0.5]
[null,null,"",0,null,0,"",false,0,0,0,0,10,50,5,0.5,4,null,5,0.5,null,4,2.5,0.5]
[null,null,"",0,null,0,"",false,0,0,0,0,10,50,5,0.5,4,null,5,0.5,null,4,2.5,0.5]
[null,null,"",0,null,0,"",false,0,0,0,0,10,50,5,0.5,4,null,5,0.5,null,4,2.5,0.5]
[null,null,"",0,null,0,"",false,0,0,0,0,10,50,5,0.5,4,null,5,0.5,null,4,2.5,0.5]
[null,null,"",0,null,0,"",false,0,0,0,0,10,50,5,0.5,4,null,5,0.5,null,4,2.5,0.5]
[null,null,"",0,null,0,"",false,0,0,0,0,10,50,5,0.5,4,null,5,0.5,null,4,2.5,0.5]
[null,null,"",0,null,0,"",false,0,0,0,0,10,50,5,0.5,4,null,5,0.5,null,4,2.5,0.5]
[null,null,"",0,null,0,"",false,0,0,0,0,10,50,5,0.5,4,null,5,0.5,null,4,2.5,0.5]
[null,null,"",0,null,0,"",false,0,0,0,0,10,50,5,0.5,4,null,5,0.5,null,4,2.5,0.5]
[null,null,"",0,null,0,"",false,0,0,0,0,10,50,5,0.5,4,null,5,0.5,null,4,2.5,0.5]
[null,null,"",0,null,0,"",false,0,0,0,0,10,50,5,0.5,4,null,5,0.5,null,4,2.5,0.5]
[null,null,"",0,null,0,"",false,0,0,0,0,10,50,5,0.5,4,null,5,0.5,null,4,2.5,0.5]
[null,null,"",0,null,0,"",false,0,0,0,0,10,50,5,0.5,4,null,5,0.5,null,4,2.5,0.5]
[null,null,"",0,null,0,"",false,0,0,0,0,10,50,5,0.5,4,null,5,0.5,null,4,2.5,0.5]
[null,null,"",0,null,0,"",false,0,0,0,0,10,50,5,0.5,4,null,5,0.5,null,4,2.5,0.5]
[null,null,"",0,null,0,"",false,0,0,0,0,10,50,5,0.5,4,null,5,0.5,null,4,2.5,0.5]
[null,null,"",0,null,0,"",false,0,0,0,0,10,50,5,0.5,4,null,5,0.5,null,4,2.5,0.5]
[null,null,"",0,null,0,"",false,0,0,0,0,10,50,5,0.5,4,null,5,0.5,null,4,2.5,0.5]
[null,null,"",0,null,0,"",false,0,0,0,0,10,50,5,0.5,4,null,5,0.5,null,4,2.5,0.5]
[null,null,"",0,null,0,"",false,0,0,0,0,10,50,5,0.5,4,null,5,0.5,null,4,2.5,0.5]
[null,null,"",0,null,0,"",false,0,0,0,0,10,50,5,0.5,4,null,5,0.5,null,4,2.5,0.5]
[null,null,"",0,null,0,"",false,0,0,0,0,10,50,5,0.5,4,null,5,0.5,null,4,2.5,0.5]
[null,null,"",0,null,0,"",false,0,0,0,0,10,50,5,0.5,4,null,5,0.5,null,4,2.5,0.5]
[null,null,"",0,null,0,"",false,0,0,0,0,10,50,5,0.5,4,null,5,0.5,null,4,2.5,0.5]
[null,null,"",0,null,0,"",false,0,0,0,0,10,50,5,0.5,4,null,5,0.5,null,4,2.5,0.5]
[null,null,"",0,null,0,"",false,0,0,0,0,10,50,5,0.5,4,null,5,0.5,null,4,2.5,0.5]
[null,null,"",0,null,0,"",false,0,0,0,0,10,50,5,0.5,4,null,5,0.5,null,4,2.5,0.5]
[null,null,"",0,null,0,"",false,0,0,0,0,10,50,5,0.5,4,null,5,0.5,null,4,2.5,0.5]
[null,null,"",0,null,0,"",false,0,0,0,0,10,50,5,0.5,4,null,5,0.5,null,4,2.5,0.5]
[null,null,{"$f":"IF(I707>0,INDEX(DB,I707,8),\"\")","v":""},0,null,0,"",false,{"$f":"IF(OR(ISBLANK(A707),ISNA(MATCH(A707&\"\",AthleteNumbers,0))),0,MATCH(A707&\"\",AthleteNumbers,0))","v":0},{"$f":"IF(I707>0,INDEX(DB,$I707,6),0)","v":0},0,0,10,50,5,0.5,{"$f":"IF(I707>0,INDEX(DB,I707,9),EventIndex)","v":4},null,{"$f":"INDEX(MINVALUES,$Q707,$K$1)","v":5},{"$f":"INDEX(INCVALUES,$Q707,$K$1)","v":0.5},null,{"$f":"+J707+(4*(INDEX(MatchScoreTable,$Q707,20)-1))","v":4},{"$f":"INDEX(INC_MINVALUES,$V707,$K$1)","v":2.5},{"$f":"INDEX(INC_INCVALUES,$V707,$K$1)","v":0.5}]
[null,null,"",{"$f":"IF(AND(H708,B708<>0,ISNUMBER(B708)),IF(ISERR(M708),0,M708),0)","v":0},null,{"$f":"COUNTIF(A$3:A$1002,A708)","v":0},{"$f":"IF(AND(H708,OR(D708<=10,D708>=90)),\"CHECK\",\"\")","v":""},{"$f":"IF(AND(I708>0,LEN(C708)>0,B708<>0),TRUE,FALSE)","v":false},0,0,{"$f":"IF(ISNUMBER(B708),ROUND(+B708,2),0)","v":0},{"$f":"+K708","v":0},{"$f":"IF(L708<O708,MinPoints,IF(AND(L708>N708,O708>0),100,+INT(($L708-O708)/P708)+MinPoints))","v":10},{"$f":"+O708+(P708*90)","v":50},{"$f":"IF($J708=0,$S708,$W708)","v":5},{"$f":"IF($J708=0,$T708,$X708)","v":0.5},4,null,5,0.5,null,4,2.5,0.5]
[null,null,"",0,null,0,"",false,0,0,0,0,10,50,5,0.5,4,null,5,0.5,null,4,2.5,0.5]
[null,null,"",0,null,0,"",false,0,0,0,0,10,50,5,0.5,4,null,5,0.5,null,4,2.5,0.5]
[null,null,"",0,null,0,"",false,0,0,0,0,10,50,5,0.5,4,null,5,0.5,null,4,2.5,0.5]
[null,null,"",0,null,0,"",false,0,0,0,0,10,50,5,0.5,4,null,5,0.5,null,4,2.5,0.5]
[null,null,"",0,null,0,"",false,0,0,0,0,10,50,5,0.5,4,null,5,0.5,null,4,2.5,0.5]
[null,null,"",0,null,0,"",false,0,0,0,0,10,50,5,0.5,4,null,5,0.5,null,4,2.5,0.5]
[null,null,"",0,null,0,"",false,0,0,0,0,10,50,5,0.5,4,null,5,0.5,null,4,2.5,0.5]
[null,null,"",0,null,0,"",false,0,0,0,0,10,50,5,0.5,4,null,5,0.5,null,4,2.5,0.5]
[null,null,"",0,null,0,"",false,0,0,0,0,10,50,5,0.5,4,null,5,0.5,null,4,2.5,0.5]
[null,null,"",0,null,0,"",false,0,0,0,0,10,50,5,0.5,4,null,5,0.5,null,4,2.5,0.5]
[null,null,"",0,null,0,"",false,0,0,0,0,10,50,5,0.5,4,null,5,0.5,null,4,2.5,0.5]
[null,null,"",0,null,0,"",false,0,0,0,0,10,50,5,0.5,4,null,5,0.5,null,4,2.5,0.5]
[null,null,"",0,null,0,"",false,0,0,0,0,10,50,5,0.5,4,null,5,0.5,null,4,2.5,0.5]
[null,null,"",0,null,0,"",false,0,0,0,0,10,50,5,0.5,4,null,5,0.5,null,4,2.5,0.5]
[null,null,"",0,null,0,"",false,0,0,0,0,10,50,5,0.5,4,null,5,0.5,null,4,2.5,0.5]
[null,null,"",0,null,0,"",false,0,0,0,0,10,50,5,0.5,4,null,5,0.5,null,4,2.5,0.5]
[null,null,"",0,null,0,"",false,0,0,0,0,10,50,5,0.5,4,null,5,0.5,null,4,2.5,0.5]
[null,null,"",0,null,0,"",false,0,0,0,0,10,50,5,0.5,4,null,5,0.5,null,4,2.5,0.5]
[null,null,"",0,null,0,"",false,0,0,0,0,10,50,5,0.5,4,null,5,0.5,null,4,2.5,0.5]
[null,null,"",0,null,0,"",false,0,0,0,0,10,50,5,0.5,4,null,5,0.5,null,4,2.5,0.5]
[null,null,"",0,null,0,"",false,0,0,0,0,10,50,5,0.5,4,null,5,0.5,null,4,2.5,0.5]
[null,null,"",0,null,0,"",false,0,0,0,0,10,50,5,0.5,4,null,5,0.5,null,4,2.5,0.5]
[null,null,"",0,null,0,"",false,0,0,0,0,10,50,5,0.5,4,null,5,0.5,null,4,2.5,0.5]
[null,null,"",0,null,0,"",false,0,0,0,0,10,50,5,0.5,4,null,5,0.5,null,4,2.5,0.5]
[null,null,"",0,null,0,"",false,0,0,0,0,10,50,5,0.5,4,null,5,0.5,null,4,2.5,0.5]
[null,null,"",0,null,0,"",false,0,0,0,0,10,50,5,0.5,4,null,5,0.5,null,4,2.5,0.5]
[null,null,"",0,null,0,"",false,0,0,0,0,10,50,5,0.5,4,null,5,0.5,null,4,2.5,0.5]
[null,null,"",0,null,0,"",false,0,0,0,0,10,50,5,0.5,4,null,5,0.5,null,4,2.5,0.5]
[null,null,"",0,null,0,"",false,0,0,0,0,10,50,5,0.5,4,null,5,0.5,null,4,2.5,0.5]
[null,null,"",0,null,0,"",false,0,0,0,0,10,50,5,0.5,4,null,5,0.5,null,4,2.5,0.5]
[null,null,"",0,null,0,"",false,0,0,0,0,10,50,5,0.5,4,null,5,0.5,null,4,2.5,0.5]
[null,null,"",0,null,0,"",false,0,0,0,0,10,50,5,0.5,4,null,5,0.5,null,4,2.5,0.5]
[null,null,"",0,null,0,"",false,0,0,0,0,10,50,5,0.5,4,null,5,0.5,null,4,2.5,0.5]
[null,null,"",0,null,0,"",false,0,0,0,0,10,50,5,0.5,4,null,5,0.5,null,4,2.5,0.5]
[null,null,"",0,null,0,"",false,0,0,0,0,10,50,5,0.5,4,null,5,0.5,null,4,2.5,0.5]
[null,null,"",0,null,0,"",false,0,0,0,0,10,50,5,0.5,4,null,5,0.5,null,4,2.5,0.5]
[null,null,"",0,null,0,"",false,0,0,0,0,10,50,5,0.5,4,null,5,0.5,null,4,2.5,0.5]
[null,null,"",0,null,0,"",false,0,0,0,0,10,50,5,0.5,4,null,5,0.5,null,4,2.5,0.5]
[null,null,"",0,null,0,"",false,0,0,0,0,10,50,5,0.5,4,null,5,0.5,null,4,2.5,0.5]
[null,null,"",0,null,0,"",false,0,0,0,0,10,50,5,0.5,4,null,5,0.5,null,4,2.5,0.5]
[null,null,"",0,null,0,"",false,0,0,0,0,10,50,5,0.5,4,null,5,0.5,null,4,2.5,0.5]
[null,null,"",0,null,0,"",false,0,0,0,0,10,50,5,0.5,4,null,5,0.5,null,4,2.5,0.5]
[null,null,"",0,null,0,"",false,0,0,0,0,10,50,5,0.5,4,null,5,0.5,null,4,2.5,0.5]
[null,null,"",0,null,0,"",false,0,0,0,0,10,50,5,0.5,4,null,5,0.5,null,4,2.5,0.5]
[null,null,"",0,null,0,"",false,0,0,0,0,10,50,5,0.5,4,null,5,0.5,null,4,2.5,0.5]
[null,null,"",0,null,0,"",false,0,0,0,0,10,50,5,0.5,4,null,5,0.5,null,4,2.5,0.5]
[null,null,"",0,null,0,"",false,0,0,0,0,10,50,5,0.5,4,null,5,0.5,null,4,2.5,0.5]
[null,null,"",0,null,0,"",false,0,0,0,0,10,50,5,0.5,4,null,5,0.5,null,4,2.5,0.5]
[null,null,"",0,null,0,"",false,0,0,0,0,10,50,5,0.5,4,null,5,0.5,null,4,2.5,0.5]
[null,null,"",0,null,0,"",false,0,0,0,0,10,50,5,0.5,4,null,5,0.5,null,4,2.5,0.5]
[null,null,"",0,null,0,"",false,0,0,0,0,10,50,5,0.5,4,null,5,0.5,null,4,2.5,0.5]
[null,null,"",0,null,0,"",false,0,0,0,0,10,50,5,0.5,4,null,5,0.5,null,4,2.5,0.5]
[null,null,"",0,null,0,"",false,0,0,0,0,10,50,5,0.5,4,null,5,0.5,null,4,2.5,0.5]
[null,null,"",0,null,0,"",false,0,0,0,0,10,50,5,0.5,4,null,5,0.5,null,4,2.5,0.5]
[null,null,"",0,null,0,"",false,0,0,0,0,10,50,5,0.5,4,null,5,0.5,null,4,2.5,0.5]
[null,null,"",0,null,0,"",false,0,0,0,0,10,50,5,0.5,4,null,5,0.5,null,4,2.5,0.5]
[null,null,"",0,null,0,"",false,0,0,0,0,10,50,5,0.5,4,null,5,0.5,null,4,2.5,0.5]
[null,null,"",0,null,0,"",false,0,0,0,0,10,50,5,0.5,4,null,5,0.5,null,4,2.5,0.5]
[null,null,"",0,null,0,"",false,0,0,0,0,10,50,5,0.5,4,null,5,0.5,null,4,2.5,0.5]
[null,null,"",0,null,0,"",false,0,0,0,0,10,50,5,0.5,4,null,5,0.5,null,4,2.5,0.5]
[null,null,"",0,null,0,"",false,0,0,0,0,10,50,5,0.5,4,null,5,0.5,null,4,2.5,0.5]
[null,null,"",0,null,0,"",false,0,0,0,0,10,50,5,0.5,4,null,5,0.5,null,4,2.5,0.5]
[null,null,{"$f":"IF(I771>0,INDEX(DB,I771,8),\"\")","v":""},0,null,0,"",false,{"$f":"IF(OR(ISBLANK(A771),ISNA(MATCH(A771&\"\",AthleteNumbers,0))),0,MATCH(A771&\"\",AthleteNumbers,0))","v":0},{"$f":"IF(I771>0,INDEX(DB,$I771,6),0)","v":0},0,0,10,50,5,0.5,{"$f":"IF(I771>0,INDEX(DB,I771,9),EventIndex)","v":4},null,{"$f":"INDEX(MINVALUES,$Q771,$K$1)","v":5},{"$f":"INDEX(INCVALUES,$Q771,$K$1)","v":0.5},null,{"$f":"+J771+(4*(INDEX(MatchScoreTable,$Q771,20)-1))","v":4},{"$f":"INDEX(INC_MINVALUES,$V771,$K$1)","v":2.5},{"$f":"INDEX(INC_INCVALUES,$V771,$K$1)","v":0.5}]
[null,null,"",{"$f":"IF(AND(H772,B772<>0,ISNUMBER(B772)),IF(ISERR(M772),0,M772),0)","v":0},null,{"$f":"COUNTIF(A$3:A$1002,A772)","v":0},{"$f":"IF(AND(H772,OR(D772<=10,D772>=90)),\"CHECK\",\"\")","v":""},{"$f":"IF(AND(I772>0,LEN(C772)>0,B772<>0),TRUE,FALSE)","v":false},0,0,{"$f":"IF(ISNUMBER(B772),ROUND(+B772,2),0)","v":0},{"$f":"+K772","v":0},{"$f":"IF(L772<O772,MinPoints,IF(AND(L772>N772,O772>0),100,+INT(($L772-O772)/P772)+MinPoints))","v":10},{"$f":"+O772+(P772*90)","v":50},{"$f":"IF($J772=0,$S772,$W772)","v":5},{"$f":"IF($J772=0,$T772,$X772)","v":0.5},4,null,5,0.5,null,4,2.5,0.5]
[null,null,"",0,null,0,"",false,0,0,0,0,10,50,5,0.5,4,null,5,0.5,null,4,2.5,0.5]
[null,null,"",0,null,0,"",false,0,0,0,0,10,50,5,0.5,4,null,5,0.5,null,4,2.5,0.5]
[null,null,"",0,null,0,"",false,0,0,0,0,10,50,5,0.5,4,null,5,0.5,null,4,2.5,0.5]
[null,null,"",0,null,0,"",false,0,0,0,0,10,50,5,0.5,4,null,5,0.5,null,4,2.5,0.5]
[null,null,"",0,null,0,"",false,0,0,0,0,10,50,5,0.5,4,null,5,0.5,null,4,2.5,0.5]
[null,null,"",0,null,0,"",false,0,0,0,0,10,50,5,0.5,4,null,5,0.5,null,4,2.5,0.5]
[null,null,"",0,null,0,"",false,0,0,0,0,10,50,5,0.5,4,null,5,0.5,null,4,2.5,0.5]
[null,null,"",0,null,0,"",false,0,0,0,0,10,50,5,0.5,4,null,5,0.5,null,4,2.5,0.5]
[null,null,"",0,null,0,"",false,0,0,0,0,10,50,5,0.5,4,null,5,0.5,null,4,2.5,0.5]
[null,null,"",0,null,0,"",false,0,0,0,0,10,50,5,0.5,4,null,5,0.5,null,4,2.5,0.5]
[null,null,"",0,null,0,"",false,0,0,0,0,10,50,5,0.5,4,null,5,0.5,null,4,2.5,0.5]
[null,null,"",0,null,0,"",false,0,0,0,0,10,50,5,0.5,4,null,5,0.5,null,4,2.5,0.5]
[null,null,"",0,null,0,"",false,0,0,0,0,10,50,5,0.5,4,null,5,0.5,null,4,2.5,0.5]
[null,null,"",0,null,0,"",false,0,0,0,0,10,50,5,0.5,4,null,5,0.5,null,4,2.5,0.5]
[null,null,"",0,null,0,"",false,0,0,0,0,10,50,5,0.5,4,null,5,0.5,null,4,2.5,0.5]
[null,null,"",0,null,0,"",false,0,0,0,0,10,50,5,0.5,4,null,5,0.5,null,4,2.5,0.5]
[null,null,"",0,null,0,"",false,0,0,0,0,10,50,5,0.5,4,null,5,0.5,null,4,2.5,0.5]
[null,null,"",0,null,0,"",false,0,0,0,0,10,50,5,0.5,4,null,5,0.5,null,4,2.5,0.5]
[null,null,"",0,null,0,"",false,0,0,0,0,10,50,5,0.5,4,null,5,0.5,null,4,2.5,0.5]
[null,null,"",0,null,0,"",false,0,0,0,0,10,50,5,0.5,4,null,5,0.5,null,4,2.5,0.5]
[null,null,"",0,null,0,"",false,0,0,0,0,10,50,5,0.5,4,null,5,0.5,null,4,2.5,0.5]
[null,null,"",0,null,0,"",false,0,0,0,0,10,50,5,0.5,4,null,5,0.5,null,4,2.5,0.5]
[null,null,"",0,null,0,"",false,0,0,0,0,10,50,5,0.5,4,null,5,0.5,null,4,2.5,0.5]
[null,null,"",0,null,0,"",false,0,0,0,0,10,50,5,0.5,4,null,5,0.5,null,4,2.5,0.5]
[null,null,"",0,null,0,"",false,0,0,0,0,10,50,5,0.5,4,null,5,0.5,null,4,2.5,0.5]
[null,null,"",0,null,0,"",false,0,0,0,0,10,50,5,0.5,4,null,5,0.5,null,4,2.5,0.5]
[null,null,"",0,null,0,"",false,0,0,0,0,10,50,5,0.5,4,null,5,0.5,null,4,2.5,0.5]
[null,null,"",0,null,0,"",false,0,0,0,0,10,50,5,0.5,4,null,5,0.5,null,4,2.5,0.5]
[null,null,"",0,null,0,"",false,0,0,0,0,10,50,5,0.5,4,null,5,0.5,null,4,2.5,0.5]
[null,null,"",0,null,0,"",false,0,0,0,0,10,50,5,0.5,4,null,5,0.5,null,4,2.5,0.5]
[null,null,"",0,null,0,"",false,0,0,0,0,10,50,5,0.5,4,null,5,0.5,null,4,2.5,0.5]
[null,null,"",0,null,0,"",false,0,0,0,0,10,50,5,0.5,4,null,5,0.5,null,4,2.5,0.5]
[null,null,"",0,null,0,"",false,0,0,0,0,10,50,5,0.5,4,null,5,0.5,null,4,2.5,0.5]
[null,null,"",0,null,0,"",false,0,0,0,0,10,50,5,0.5,4,null,5,0.5,null,4,2.5,0.5]
[null,null,"",0,null,0,"",false,0,0,0,0,10,50,5,0.5,4,null,5,0.5,null,4,2.5,0.5]
[null,null,"",0,null,0,"",false,0,0,0,0,10,50,5,0.5,4,null,5,0.5,null,4,2.5,0.5]
[null,null,"",0,null,0,"",false,0,0,0,0,10,50,5,0.5,4,null,5,0.5,null,4,2.5,0.5]
[null,null,"",0,null,0,"",false,0,0,0,0,10,50,5,0.5,4,null,5,0.5,null,4,2.5,0.5]
[null,null,"",0,null,0,"",false,0,0,0,0,10,50,5,0.5,4,null,5,0.5,null,4,2.5,0.5]
[null,null,"",0,null,0,"",false,0,0,0,0,10,50,5,0.5,4,null,5,0.5,null,4,2.5,0.5]
[null,null,"",0,null,0,"",false,0,0,0,0,10,50,5,0.5,4,null,5,0.5,null,4,2.5,0.5]
[null,null,"",0,null,0,"",false,0,0,0,0,10,50,5,0.5,4,null,5,0.5,null,4,2.5,0.5]
[null,null,"",0,null,0,"",false,0,0,0,0,10,50,5,0.5,4,null,5,0.5,null,4,2.5,0.5]
[null,null,"",0,null,0,"",false,0,0,0,0,10,50,5,0.5,4,null,5,0.5,null,4,2.5,0.5]
[null,null,"",0,null,0,"",false,0,0,0,0,10,50,5,0.5,4,null,5,0.5,null,4,2.5,0.5]
[null,null,"",0,null,0,"",false,0,0,0,0,10,50,5,0.5,4,null,5,0.5,null,4,2.5,0.5]
[null,null,"",0,null,0,"",false,0,0,0,0,10,50,5,0.5,4,null,5,0.5,null,4,2.5,0.5]
[null,null,"",0,null,0,"",false,0,0,0,0,10,50,5,0.5,4,null,5,0.5,null,4,2.5,0.5]
[null,null,"",0,null,0,"",false,0,0,0,0,10,50,5,0.5,4,null,5,0.5,null,4,2.5,0.5]
[null,null,"",0,null,0,"",false,0,0,0,0,10,50,5,0.5,4,null,5,0.5,null,4,2.5,0.5]
[null,null,"",0,null,0,"",false,0,0,0,0,10,50,5,0.5,4,null,5,0.5,null,4,2.5,0.5]
[null,null,"",0,null,0,"",false,0,0,0,0,10,50,5,0.5,4,null,5,0.5,null,4,2.5,0.5]
[null,null,"",0,null,0,"",false,0,0,0,0,10,50,5,0.5,4,null,5,0.5,null,4,2.5,0.5]
[null,null,"",0,null,0,"",false,0,0,0,0,10,50,5,0.5,4,null,5,0.5,null,4,2.5,0.5]
[null,null,"",0,null,0,"",false,0,0,0,0,10,50,5,0.5,4,null,5,0.5,null,4,2.5,0.5]
[null,null,"",0,null,0,"",false,0,0,0,0,10,50,5,0.5,4,null,5,0.5,null,4,2.5,0.5]
[null,null,"",0,null,0,"",false,0,0,0,0,10,50,5,0.5,4,null,5,0.5,null,4,2.5,0.5]
[null,null,"",0,null,0,"",false,0,0,0,0,10,50,5,0.5,4,null,5,0.5,null,4,2.5,0.5]
[null,null,"",0,null,0,"",false,0,0,0,0,10,50,5,0.5,4,null,5,0.5,null,4,2.5,0.5]
[null,null,"",0,null,0,"",false,0,0,0,0,10,50,5,0.5,4,null,5,0.5,null,4,2.5,0.5]
[null,null,"",0,null,0,"",false,0,0,0,0,10,50,5,0.5,4,null,5,0.5,null,4,2.5,0.5]
[null,null,"",0,null,0,"",false,0,0,0,0,10,50,5,0.5,4,null,5,0.5,null,4,2.5,0.5]
[null,null,{"$f":"IF(I835>0,INDEX(DB,I835,8),\"\")","v":""},0,null,0,"",false,{"$f":"IF(OR(ISBLANK(A835),ISNA(MATCH(A835&\"\",AthleteNumbers,0))),0,MATCH(A835&\"\",AthleteNumbers,0))","v":0},{"$f":"IF(I835>0,INDEX(DB,$I835,6),0)","v":0},0,0,10,50,5,0.5,{"$f":"IF(I835>0,INDEX(DB,I835,9),EventIndex)","v":4},null,{"$f":"INDEX(MINVALUES,$Q835,$K$1)","v":5},{"$f":"INDEX(INCVALUES,$Q835,$K$1)","v":0.5},null,{"$f":"+J835+(4*(INDEX(MatchScoreTable,$Q835,20)-1))","v":4},{"$f":"INDEX(INC_MINVALUES,$V835,$K$1)","v":2.5},{"$f":"INDEX(INC_INCVALUES,$V835,$K$1)","v":0.5}]
[null,null,"",{"$f":"IF(AND(H836,B836<>0,ISNUMBER(B836)),IF(ISERR(M836),0,M836),0)","v":0},null,{"$f":"COUNTIF(A$3:A$1002,A836)","v":0},{"$f":"IF(AND(H836,OR(D836<=10,D836>=90)),\"CHECK\",\"\")","v":""},{"$f":"IF(AND(I836>0,LEN(C836)>0,B836<>0),TRUE,FALSE)","v":false},0,0,{"$f":"IF(ISNUMBER(B836),ROUND(+B836,2),0)","v":0},{"$f":"+K836","v":0},{"$f":"IF(L836<O836,MinPoints,IF(AND(L836>N836,O836>0),100,+INT(($L836-O836)/P836)+MinPoints))","v":10},{"$f":"+O836+(P836*90)","v":50},{"$f":"IF($J836=0,$S836,$W836)","v":5},{"$f":"IF($J836=0,$T836,$X836)","v":0.5},4,null,5,0.5,null,4,2.5,0.5]
[null,null,"",0,null,0,"",false,0,0,0,0,10,50,5,0.5,4,null,5,0.5,null,4,2.5,0.5]
[null,null,"",0,null,0,"",false,0,0,0,0,10,50,5,0.5,4,null,5,0.5,null,4,2.5,0.5]
[null,null,"",0,null,0,"",false,0,0,0,0,10,50,5,0.5,4,null,5,0.5,null,4,2.5,0.5]
[null,null,"",0,null,0,"",false,0,0,0,0,10,50,5,0.5,4,null,5,0.5,null,4,2.5,0.5]
[null,null,"",0,null,0,"",false,0,0,0,0,10,50,5,0.5,4,null,5,0.5,null,4,2.5,0.5]
[null,null,"",0,null,0,"",false,0,0,0,0,10,50,5,0.5,4,null,5,0.5,null,4,2.5,0.5]
[null,null,"",0,null,0,"",false,0,0,0,0,10,50,5,0.5,4,null,5,0.5,null,4,2.5,0.5]
[null,null,"",0,null,0,"",false,0,0,0,0,10,50,5,0.5,4,null,5,0.5,null,4,2.5,0.5]
[null,null,"",0,null,0,"",false,0,0,0,0,10,50,5,0.5,4,null,5,0.5,null,4,2.5,0.5]
[null,null,"",0,null,0,"",false,0,0,0,0,10,50,5,0.5,4,null,5,0.5,null,4,2.5,0.5]
[null,null,"",0,null,0,"",false,0,0,0,0,10,50,5,0.5,4,null,5,0.5,null,4,2.5,0.5]
[null,null,"",0,null,0,"",false,0,0,0,0,10,50,5,0.5,4,null,5,0.5,null,4,2.5,0.5]
[null,null,"",0,null,0,"",false,0,0,0,0,10,50,5,0.5,4,null,5,0.5,null,4,2.5,0.5]
[null,null,"",0,null,0,"",false,0,0,0,0,10,50,5,0.5,4,null,5,0.5,null,4,2.5,0.5]
[null,null,"",0,null,0,"",false,0,0,0,0,10,50,5,0.5,4,null,5,0.5,null,4,2.5,0.5]
[null,null,"",0,null,0,"",false,0,0,0,0,10,50,5,0.5,4,null,5,0.5,null,4,2.5,0.5]
[null,null,"",0,null,0,"",false,0,0,0,0,10,50,5,0.5,4,null,5,0.5,null,4,2.5,0.5]
[null,null,"",0,null,0,"",false,0,0,0,0,10,50,5,0.5,4,null,5,0.5,null,4,2.5,0.5]
[null,null,"",0,null,0,"",false,0,0,0,0,10,50,5,0.5,4,null,5,0.5,null,4,2.5,0.5]
[null,null,"",0,null,0,"",false,0,0,0,0,10,50,5,0.5,4,null,5,0.5,null,4,2.5,0.5]
[null,null,"",0,null,0,"",false,0,0,0,0,10,50,5,0.5,4,null,5,0.5,null,4,2.5,0.5]
[null,null,"",0,null,0,"",false,0,0,0,0,10,50,5,0.5,4,null,5,0.5,null,4,2.5,0.5]
[null,null,"",0,null,0,"",false,0,0,0,0,10,50,5,0.5,4,null,5,0.5,null,4,2.5,0.5]
[null,null,"",0,null,0,"",false,0,0,0,0,10,50,5,0.5,4,null,5,0.5,null,4,2.5,0.5]
[null,null,"",0,null,0,"",false,0,0,0,0,10,50,5,0.5,4,null,5,0.5,null,4,2.5,0.5]
[null,null,"",0,null,0,"",false,0,0,0,0,10,50,5,0.5,4,null,5,0.5,null,4,2.5,0.5]
[null,null,"",0,null,0,"",false,0,0,0,0,10,50,5,0.5,4,null,5,0.5,null,4,2.5,0.5]
[null,null,"",0,null,0,"",false,0,0,0,0,10,50,5,0.5,4,null,5,0.5,null,4,2.5,0.5]
[null,null,"",0,null,0,"",false,0,0,0,0,10,50,5,0.5,4,null,5,0.5,null,4,2.5,0.5]
[null,null,"",0,null,0,"",false,0,0,0,0,10,50,5,0.5,4,null,5,0.5,null,4,2.5,0.5]
[null,null,"",0,null,0,"",false,0,0,0,0,10,50,5,0.5,4,null,5,0.5,null,4,2.5,0.5]
[null,null,"",0,null,0,"",false,0,0,0,0,10,50,5,0.5,4,null,5,0.5,null,4,2.5,0.5]
[null,null,"",0,null,0,"",false,0,0,0,0,10,50,5,0.5,4,null,5,0.5,null,4,2.5,0.5]
[null,null,"",0,null,0,"",false,0,0,0,0,10,50,5,0.5,4,null,5,0.5,null,4,2.5,0.5]
[null,null,"",0,null,0,"",false,0,0,0,0,10,50,5,0.5,4,null,5,0.5,null,4,2.5,0.5]
[null,null,"",0,null,0,"",false,0,0,0,0,10,50,5,0.5,4,null,5,0.5,null,4,2.5,0.5]
[null,null,"",0,null,0,"",false,0,0,0,0,10,50,5,0.5,4,null,5,0.5,null,4,2.5,0.5]
[null,null,"",0,null,0,"",false,0,0,0,0,10,50,5,0.5,4,null,5,0.5,null,4,2.5,0.5]
[null,null,"",0,null,0,"",false,0,0,0,0,10,50,5,0.5,4,null,5,0.5,null,4,2.5,0.5]
[null,null,"",0,null,0,"",false,0,0,0,0,10,50,5,0.5,4,null,5,0.5,null,4,2.5,0.5]
[null,null,"",0,null,0,"",false,0,0,0,0,10,50,5,0.5,4,null,5,0.5,null,4,2.5,0.5]
[null,null,"",0,null,0,"",false,0,0,0,0,10,50,5,0.5,4,null,5,0.5,null,4,2.5,0.5]
[null,null,"",0,null,0,"",false,0,0,0,0,10,50,5,0.5,4,null,5,0.5,null,4,2.5,0.5]
[null,null,"",0,null,0,"",false,0,0,0,0,10,50,5,0.5,4,null,5,0.5,null,4,2.5,0.5]
[null,null,"",0,null,0,"",false,0,0,0,0,10,50,5,0.5,4,null,5,0.5,null,4,2.5,0.5]
[null,null,"",0,null,0,"",false,0,0,0,0,10,50,5,0.5,4,null,5,0.5,null,4,2.5,0.5]
[null,null,"",0,null,0,"",false,0,0,0,0,10,50,5,0.5,4,null,5,0.5,null,4,2.5,0.5]
[null,null,"",0,null,0,"",false,0,0,0,0,10,50,5,0.5,4,null,5,0.5,null,4,2.5,0.5]
[null,null,"",0,null,0,"",false,0,0,0,0,10,50,5,0.5,4,null,5,0.5,null,4,2.5,0.5]
[null,null,"",0,null,0,"",false,0,0,0,0,10,50,5,0.5,4,null,5,0.5,null,4,2.5,0.5]
[null,null,"",0,null,0,"",false,0,0,0,0,10,50,5,0.5,4,null,5,0.5,null,4,2.5,0.5]
[null,null,"",0,null,0,"",false,0,0,0,0,10,50,5,0.5,4,null,5,0.5,null,4,2.5,0.5]
[null,null,"",0,null,0,"",false,0,0,0,0,10,50,5,0.5,4,null,5,0.5,null,4,2.5,0.5]
[null,null,"",0,null,0,"",false,0,0,0,0,10,50,5,0.5,4,null,5,0.5,null,4,2.5,0.5]
[null,null,"",0,null,0,"",false,0,0,0,0,10,50,5,0.5,4,null,5,0.5,null,4,2.5,0.5]
[null,null,"",0,null,0,"",false,0,0,0,0,10,50,5,0.5,4,null,5,0.5,null,4,2.5,0.5]
[null,null,"",0,null,0,"",false,0,0,0,0,10,50,5,0.5,4,null,5,0.5,null,4,2.5,0.5]
[null,null,"",0,null,0,"",false,0,0,0,0,10,50,5,0.5,4,null,5,0.5,null,4,2.5,0.5]
[null,null,"",0,null,0,"",false,0,0,0,0,10,50,5,0.5,4,null,5,0.5,null,4,2.5,0.5]
[null,null,"",0,null,0,"",false,0,0,0,0,10,50,5,0.5,4,null,5,0.5,null,4,2.5,0.5]
[null,null,"",0,null,0,"",false,0,0,0,0,10,50,5,0.5,4,null,5,0.5,null,4,2.5,0.5]
[null,null,"",0,null,0,"",false,0,0,0,0,10,50,5,0.5,4,null,5,0.5,null,4,2.5,0.5]
[null,null,{"$f":"IF(I899>0,INDEX(DB,I899,8),\"\")","v":""},0,null,0,"",false,{"$f":"IF(OR(ISBLANK(A899),ISNA(MATCH(A899&\"\",AthleteNumbers,0))),0,MATCH(A899&\"\",AthleteNumbers,0))","v":0},{"$f":"IF(I899>0,INDEX(DB,$I899,6),0)","v":0},0,0,10,50,5,0.5,{"$f":"IF(I899>0,INDEX(DB,I899,9),EventIndex)","v":4},null,{"$f":"INDEX(MINVALUES,$Q899,$K$1)","v":5},{"$f":"INDEX(INCVALUES,$Q899,$K$1)","v":0.5},null,{"$f":"+J899+(4*(INDEX(MatchScoreTable,$Q899,20)-1))","v":4},{"$f":"INDEX(INC_MINVALUES,$V899,$K$1)","v":2.5},{"$f":"INDEX(INC_INCVALUES,$V899,$K$1)","v":0.5}]
[null,null,"",{"$f":"IF(AND(H900,B900<>0,ISNUMBER(B900)),IF(ISERR(M900),0,M900),0)","v":0},null,{"$f":"COUNTIF(A$3:A$1002,A900)","v":0},{"$f":"IF(AND(H900,OR(D900<=10,D900>=90)),\"CHECK\",\"\")","v":""},{"$f":"IF(AND(I900>0,LEN(C900)>0,B900<>0),TRUE,FALSE)","v":false},0,0,{"$f":"IF(ISNUMBER(B900),ROUND(+B900,2),0)","v":0},{"$f":"+K900","v":0},{"$f":"IF(L900<O900,MinPoints,IF(AND(L900>N900,O900>0),100,+INT(($L900-O900)/P900)+MinPoints))","v":10},{"$f":"+O900+(P900*90)","v":50},{"$f":"IF($J900=0,$S900,$W900)","v":5},{"$f":"IF($J900=0,$T900,$X900)","v":0.5},4,null,5,0.5,null,4,2.5,0.5]
[null,null,"",0,null,0,"",false,0,0,0,0,10,50,5,0.5,4,null,5,0.5,null,4,2.5,0.5]
[null,null,"",0,null,0,"",false,0,0,0,0,10,50,5,0.5,4,null,5,0.5,null,4,2.5,0.5]
[null,null,"",0,null,0,"",false,0,0,0,0,10,50,5,0.5,4,null,5,0.5,null,4,2.5,0.5]
[null,null,"",0,null,0,"",false,0,0,0,0,10,50,5,0.5,4,null,5,0.5,null,4,2.5,0.5]
[null,null,"",0,null,0,"",false,0,0,0,0,10,50,5,0.5,4,null,5,0.5,null,4,2.5,0.5]
[null,null,"",0,null,0,"",false,0,0,0,0,10,50,5,0.5,4,null,5,0.5,null,4,2.5,0.5]
[null,null,"",0,null,0,"",false,0,0,0,0,10,50,5,0.5,4,null,5,0.5,null,4,2.5,0.5]
[null,null,"",0,null,0,"",false,0,0,0,0,10,50,5,0.5,4,null,5,0.5,null,4,2.5,0.5]
[null,null,"",0,null,0,"",false,0,0,0,0,10,50,5,0.5,4,null,5,0.5,null,4,2.5,0.5]
[null,null,"",0,null,0,"",false,0,0,0,0,10,50,5,0.5,4,null,5,0.5,null,4,2.5,0.5]
[null,null,"",0,null,0,"",false,0,0,0,0,10,50,5,0.5,4,null,5,0.5,null,4,2.5,0.5]
[null,null,"",0,null,0,"",false,0,0,0,0,10,50,5,0.5,4,null,5,0.5,null,4,2.5,0.5]
[null,null,"",0,null,0,"",false,0,0,0,0,10,50,5,0.5,4,null,5,0.5,null,4,2.5,0.5]
[null,null,"",0,null,0,"",false,0,0,0,0,10,50,5,0.5,4,null,5,0.5,null,4,2.5,0.5]
[null,null,"",0,null,0,"",false,0,0,0,0,10,50,5,0.5,4,null,5,0.5,null,4,2.5,0.5]
[null,null,"",0,null,0,"",false,0,0,0,0,10,50,5,0.5,4,null,5,0.5,null,4,2.5,0.5]
[null,null,"",0,null,0,"",false,0,0,0,0,10,50,5,0.5,4,null,5,0.5,null,4,2.5,0.5]
[null,null,"",0,null,0,"",false,0,0,0,0,10,50,5,0.5,4,null,5,0.5,null,4,2.5,0.5]
[null,null,"",0,null,0,"",false,0,0,0,0,10,50,5,0.5,4,null,5,0.5,null,4,2.5,0.5]
[null,null,"",0,null,0,"",false,0,0,0,0,10,50,5,0.5,4,null,5,0.5,null,4,2.5,0.5]
[null,null,"",0,null,0,"",false,0,0,0,0,10,50,5,0.5,4,null,5,0.5,null,4,2.5,0.5]
[null,null,"",0,null,0,"",false,0,0,0,0,10,50,5,0.5,4,null,5,0.5,null,4,2.5,0.5]
[null,null,"",0,null,0,"",false,0,0,0,0,10,50,5,0.5,4,null,5,0.5,null,4,2.5,0.5]
[null,null,"",0,null,0,"",false,0,0,0,0,10,50,5,0.5,4,null,5,0.5,null,4,2.5,0.5]
[null,null,"",0,null,0,"",false,0,0,0,0,10,50,5,0.5,4,null,5,0.5,null,4,2.5,0.5]
[null,null,"",0,null,0,"",false,0,0,0,0,10,50,5,0.5,4,null,5,0.5,null,4,2.5,0.5]
[null,null,"",0,null,0,"",false,0,0,0,0,10,50,5,0.5,4,null,5,0.5,null,4,2.5,0.5]
[null,null,"",0,null,0,"",false,0,0,0,0,10,50,5,0.5,4,null,5,0.5,null,4,2.5,0.5]
[null,null,"",0,null,0,"",false,0,0,0,0,10,50,5,0.5,4,null,5,0.5,null,4,2.5,0.5]
[null,null,"",0,null,0,"",false,0,0,0,0,10,50,5,0.5,4,null,5,0.5,null,4,2.5,0.5]
[null,null,"",0,null,0,"",false,0,0,0,0,10,50,5,0.5,4,null,5,0.5,null,4,2.5,0.5]
[null,null,"",0,null,0,"",false,0,0,0,0,10,50,5,0.5,4,null,5,0.5,null,4,2.5,0.5]
[null,null,"",0,null,0,"",false,0,0,0,0,10,50,5,0.5,4,null,5,0.5,null,4,2.5,0.5]
[null,null,"",0,null,0,"",false,0,0,0,0,10,50,5,0.5,4,null,5,0.5,null,4,2.5,0.5]
[null,null,"",0,null,0,"",false,0,0,0,0,10,50,5,0.5,4,null,5,0.5,null,4,2.5,0.5]
[null,null,"",0,null,0,"",false,0,0,0,0,10,50,5,0.5,4,null,5,0.5,null,4,2.5,0.5]
[null,null,"",0,null,0,"",false,0,0,0,0,10,50,5,0.5,4,null,5,0.5,null,4,2.5,0.5]
[null,null,"",0,null,0,"",false,0,0,0,0,10,50,5,0.5,4,null,5,0.5,null,4,2.5,0.5]
[null,null,"",0,null,0,"",false,0,0,0,0,10,50,5,0.5,4,null,5,0.5,null,4,2.5,0.5]
[null,null,"",0,null,0,"",false,0,0,0,0,10,50,5,0.5,4,null,5,0.5,null,4,2.5,0.5]
[null,null,"",0,null,0,"",false,0,0,0,0,10,50,5,0.5,4,null,5,0.5,null,4,2.5,0.5]
[null,null,"",0,null,0,"",false,0,0,0,0,10,50,5,0.5,4,null,5,0.5,null,4,2.5,0.5]
[null,null,"",0,null,0,"",false,0,0,0,0,10,50,5,0.5,4,null,5,0.5,null,4,2.5,0.5]
[null,null,"",0,null,0,"",false,0,0,0,0,10,50,5,0.5,4,null,5,0.5,null,4,2.5,0.5]
[null,null,"",0,null,0,"",false,0,0,0,0,10,50,5,0.5,4,null,5,0.5,null,4,2.5,0.5]
[null,null,"",0,null,0,"",false,0,0,0,0,10,50,5,0.5,4,null,5,0.5,null,4,2.5,0.5]
[null,null,"",0,null,0,"",false,0,0,0,0,10,50,5,0.5,4,null,5,0.5,null,4,2.5,0.5]
[null,null,"",0,null,0,"",false,0,0,0,0,10,50,5,0.5,4,null,5,0.5,null,4,2.5,0.5]
[null,null,"",0,null,0,"",false,0,0,0,0,10,50,5,0.5,4,null,5,0.5,null,4,2.5,0.5]
[null,null,"",0,null,0,"",false,0,0,0,0,10,50,5,0.5,4,null,5,0.5,null,4,2.5,0.5]
[null,null,"",0,null,0,"",false,0,0,0,0,10,50,5,0.5,4,null,5,0.5,null,4,2.5,0.5]
[null,null,"",0,null,0,"",false,0,0,0,0,10,50,5,0.5,4,null,5,0.5,null,4,2.5,0.5]
[null,null,"",0,null,0,"",false,0,0,0,0,10,50,5,0.5,4,null,5,0.5,null,4,2.5,0.5]
[null,null,"",0,null,0,"",false,0,0,0,0,10,50,5,0.5,4,null,5,0.5,null,4,2.5,0.5]
[null,null,"",0,null,0,"",false,0,0,0,0,10,50,5,0.5,4,null,5,0.5,null,4,2.5,0.5]
[null,null,"",0,null,0,"",false,0,0,0,0,10,50,5,0.5,4,null,5,0.5,null,4,2.5,0.5]
[null,null,"",0,null,0,"",false,0,0,0,0,10,50,5,0.5,4,null,5,0.5,null,4,2.5,0.5]
[null,null,"",0,null,0,"",false,0,0,0,0,10,50,5,0.5,4,null,5,0.5,null,4,2.5,0.5]
[null,null,"",0,null,0,"",false,0,0,0,0,10,50,5,0.5,4,null,5,0.5,null,4,2.5,0.5]
[null,null,"",0,null,0,"",false,0,0,0,0,10,50,5,0.5,4,null,5,0.5,null,4,2.5,0.5]
[null,null,"",0,null,0,"",false,0,0,0,0,10,50,5,0.5,4,null,5,0.5,null,4,2.5,0.5]
[null,null,"",0,null,0,"",false,0,0,0,0,10,50,5,0.5,4,null,5,0.5,null,4,2.5,0.5]
[null,null,{"$f":"IF(I963>0,INDEX(DB,I963,8),\"\")","v":""},0,null,0,"",false,{"$f":"IF(OR(ISBLANK(A963),ISNA(MATCH(A963&\"\",AthleteNumbers,0))),0,MATCH(A963&\"\",AthleteNumbers,0))","v":0},{"$f":"IF(I963>0,INDEX(DB,$I963,6),0)","v":0},0,0,10,50,5,0.5,{"$f":"IF(I963>0,INDEX(DB,I963,9),EventIndex)","v":4},null,{"$f":"INDEX(MINVALUES,$Q963,$K$1)","v":5},{"$f":"INDEX(INCVALUES,$Q963,$K$1)","v":0.5},null,{"$f":"+J963+(4*(INDEX(MatchScoreTable,$Q963,20)-1))","v":4},{"$f":"INDEX(INC_MINVALUES,$V963,$K$1)","v":2.5},{"$f":"INDEX(INC_INCVALUES,$V963,$K$1)","v":0.5}]
[null,null,"",{"$f":"IF(AND(H964,B964<>0,ISNUMBER(B964)),IF(ISERR(M964),0,M964),0)","v":0},null,{"$f":"COUNTIF(A$3:A$1002,A964)","v":0},{"$f":"IF(AND(H964,OR(D964<=10,D964>=90)),\"CHECK\",\"\")","v":""},{"$f":"IF(AND(I964>0,LEN(C964)>0,B964<>0),TRUE,FALSE)","v":false},0,0,{"$f":"IF(ISNUMBER(B964),ROUND(+B964,2),0)","v":0},{"$f":"+K964","v":0},{"$f":"IF(L964<O964,MinPoints,IF(AND(L964>N964,O964>0),100,+INT(($L964-O964)/P964)+MinPoints))","v":10},{"$f":"+O964+(P964*90)","v":50},{"$f":"IF($J964=0,$S964,$W964)","v":5},{"$f":"IF($J964=0,$T964,$X964)","v":0.5},4,null,5,0.5,null,4,2.5,0.5]
[null,null,"",0,null,0,"",false,0,0,0,0,10,50,5,0.5,4,null,5,0.5,null,4,2.5,0.5]
[null,null,"",0,null,0,"",false,0,0,0,0,10,50,5,0.5,4,null,5,0.5,null,4,2.5,0.5]
[null,null,"",0,null,0,"",false,0,0,0,0,10,50,5,0.5,4,null,5,0.5,null,4,2.5,0.5]
[null,null,"",0,null,0,"",false,0,0,0,0,10,50,5,0.5,4,null,5,0.5,null,4,2.5,0.5]
[null,null,"",0,null,0,"",false,0,0,0,0,10,50,5,0.5,4,null,5,0.5,null,4,2.5,0.5]
[null,null,"",0,null,0,"",false,0,0,0,0,10,50,5,0.5,4,null,5,0.5,null,4,2.5,0.5]
[null,null,"",0,null,0,"",false,0,0,0,0,10,50,5,0.5,4,null,5,0.5,null,4,2.5,0.5]
[null,null,"",0,null,0,"",false,0,0,0,0,10,50,5,0.5,4,null,5,0.5,null,4,2.5,0.5]
[null,null,"",0,null,0,"",false,0,0,0,0,10,50,5,0.5,4,null,5,0.5,null,4,2.5,0.5]
[null,null,"",0,null,0,"",false,0,0,0,0,10,50,5,0.5,4,null,5,0.5,null,4,2.5,0.5]
[null,null,"",0,null,0,"",false,0,0,0,0,10,50,5,0.5,4,null,5,0.5,null,4,2.5,0.5]
[null,null,"",0,null,0,"",false,0,0,0,0,10,50,5,0.5,4,null,5,0.5,null,4,2.5,0.5]
[null,null,"",0,null,0,"",false,0,0,0,0,10,50,5,0.5,4,null,5,0.5,null,4,2.5,0.5]
[null,null,"",0,null,0,"",false,0,0,0,0,10,50,5,0.5,4,null,5,0.5,null,4,2.5,0.5]
[null,null,"",0,null,0,"",false,0,0,0,0,10,50,5,0.5,4,null,5,0.5,null,4,2.5,0.5]
[null,null,"",0,null,0,"",false,0,0,0,0,10,50,5,0.5,4,null,5,0.5,null,4,2.5,0.5]
[null,null,"",0,null,0,"",false,0,0,0,0,10,50,5,0.5,4,null,5,0.5,null,4,2.5,0.5]
[null,null,"",0,null,0,"",false,0,0,0,0,10,50,5,0.5,4,null,5,0.5,null,4,2.5,0.5]
[null,null,"",0,null,0,"",false,0,0,0,0,10,50,5,0.5,4,null,5,0.5,null,4,2.5,0.5]
[null,null,"",0,null,0,"",false,0,0,0,0,10,50,5,0.5,4,null,5,0.5,null,4,2.5,0.5]
[null,null,"",0,null,0,"",false,0,0,0,0,10,50,5,0.5,4,null,5,0.5,null,4,2.5,0.5]
[null,null,"",0,null,0,"",false,0,0,0,0,10,50,5,0.5,4,null,5,0.5,null,4,2.5,0.5]
[null,null,"",0,null,0,"",false,0,0,0,0,10,50,5,0.5,4,null,5,0.5,null,4,2.5,0.5]
[null,null,"",0,null,0,"",false,0,0,0,0,10,50,5,0.5,4,null,5,0.5,null,4,2.5,0.5]
[null,null,"",0,null,0,"",false,0,0,0,0,10,50,5,0.5,4,null,5,0.5,null,4,2.5,0.5]
[null,null,"",0,null,0,"",false,0,0,0,0,10,50,5,0.5,4,null,5,0.5,null,4,2.5,0.5]
[null,null,"",0,null,0,"",false,0,0,0,0,10,50,5,0.5,4,null,5,0.5,null,4,2.5,0.5]
[null,null,"",0,null,0,"",false,0,0,0,0,10,50,5,0.5,4,null,5,0.5,null,4,2.5,0.5]
[null,null,"",0,null,0,"",false,0,0,0,0,10,50,5,0.5,4,null,5,0.5,null,4,2.5,0.5]
[null,null,"",0,null,0,"",false,0,0,0,0,10,50,5,0.5,4,null,5,0.5,null,4,2.5,0.5]
[null,null,"",0,null,0,"",false,0,0,0,0,10,50,5,0.5,4,null,5,0.5,null,4,2.5,0.5]
[null,null,"",0,null,0,"",false,0,0,0,0,10,50,5,0.5,4,null,5,0.5,null,4,2.5,0.5]
[null,null,"",0,null,0,"",false,0,0,0,0,10,50,5,0.5,4,null,5,0.5,null,4,2.5,0.5]
[null,null,"",0,null,0,"",false,0,0,0,0,10,50,5,0.5,4,null,5,0.5,null,4,2.5,0.5]
[null,null,"",0,null,0,"",false,0,0,0,0,10,50,5,0.5,4,null,5,0.5,null,4,2.5,0.5]
[null,null,"",0,null,0,"",false,0,0,0,0,10,50,5,0.5,4,null,5,0.5,null,4,2.5,0.5]
[null,null,"",0,null,0,"",false,0,0,0,0,10,50,5,0.5,4,null,5,0.5,null,4,2.5,0.5]
[null,null,"",0]

{"sheet":"EVENT-RELAY","index":12,"n_rows":38,"n_cols":18,"rows_kept":38,"cut":false,"hidden":true,"merged":[[0,0,0,1]]}
[{"$f":"\"Event:\"","v":"Event:"},null,"Relay",null,null,{"$f":"COUNTIF(D4:D38,\">0\")/COUNTA(B4:B38)","v":0},null,null,null,"EvtIdx",5,"Min",{"$f":"+INDEX(ScoreValues,2,$K$1)","v":94},"Inc",{"$f":"+INDEX(ScoreValues,4,$K$1)","v":0.5},null,"Max",{"$f":"+INDEX(ScoreValues,3,$K$1)","v":49}]
[]
[null,"Team","Time","Points",null,null,null,null,"CheckPoint","ValidAthlete","AthleteIdx","Dgroup","Seconds","Adjusted","Points"]
[1,{"$f":"IF(ISERR(INDEX(teamnames,G4)),\"\",INDEX(teamnames,G4))","v":0},null,{"$f":"IF(AND(C4>0,ISNUMBER(C4)),O4,0)","v":0},{"$f":"IF(I4,\"CHECK\",\"\")","v":""},null,1,null,{"$f":"IF(AND(ISNUMBER(C4),OR(D4<=10,D4>=90)),TRUE,FALSE)","v":false},{"$f":"IF(AND(LEN(C4)>0,LEN(E4)>0,D4<>0),TRUE,FALSE)","v":false},{"$f":"IF(ISNA(MATCH(C4,AthleteNumbers,0)),0,MATCH(C4,AthleteNumbers,0))","v":0},{"$f":"IF(K4>0,INDEX(DB,$I4,6),0)","v":0},{"$f":"IF(ISNUMBER(C4),ROUND(+C4,1),0)","v":0},{"$f":"ROUND(+M4,1)","v":0},{"$f":"IF(M4>$M$1,MinPoints,IF(M4<$R$1,100,+INT(($M$1-$M4)/$O$1)+MinPoints))","v":100}]
[2,0,null,{"$f":"IF(AND(C5>0,ISNUMBER(C5)),O5,0)","v":0},{"$f":"IF(I5,\"CHECK\",\"\")","v":""},null,{"$f":"+G4+16","v":17},null,{"$f":"IF(AND(ISNUMBER(C5),OR(D5<=10,D5>=90)),TRUE,FALSE)","v":false},{"$f":"IF(AND(LEN(C5)>0,LEN(E5)>0,D5<>0),TRUE,FALSE)","v":false},{"$f":"IF(ISNA(MATCH(C5,AthleteNumbers,0)),0,MATCH(C5,AthleteNumbers,0))","v":0},{"$f":"IF(K5>0,INDEX(DB,$I5,6),0)","v":0},{"$f":"IF(ISNUMBER(C5),ROUND(+C5,1),0)","v":0},{"$f":"ROUND(+M5,1)","v":0},100]
[3,0,null,0,"",null,{"$f":"+G5+16","v":33},null,false,false,0,0,0,0,100]
[4,0,null,0,"",null,49,null,false,false,0,0,0,0,100]
[5,0,null,0,"",null,65,null,false,false,0,0,0,0,100]
[6,0,null,0,"",null,81,null,false,false,0,0,0,0,100]
[7,0,null,0,"",null,97,null,false,false,0,0,0,0,100]
[8,0,null,0,"",null,113,null,false,false,0,0,0,0,100]
[9,0,null,0,"",null,129,null,false,false,0,0,0,0,100]
[10,0,null,0,"",null,145,null,false,false,0,0,0,0,100]
[11,0,null,0,"",null,161,null,false,false,0,0,0,0,100]
[12,0,null,0,"",null,177,null,false,false,0,0,0,0,100]
[13,0,null,0,"",null,193,null,false,false,0,0,0,0,100]
[14,0,null,0,"",null,209,null,false,false,0,0,0,0,100]
[15,0,null,0,"",null,225,null,false,false,0,0,0,0,100]
[16,0,null,0,"",null,241,null,false,false,0,0,0,0,100]
[17,0,null,0,"",null,257,null,false,false,0,0,0,0,100]
[18,0,null,0,"",null,273,null,false,false,0,0,0,0,100]
[19,0,null,0,"",null,289,null,false,false,0,0,0,0,100]
[20,"",null,0,"",null,305,null,false,false,0,0,0,0,100]
[21,{"$f":"IF(ISERR(INDEX(teamnames,G24)),\"\",INDEX(teamnames,G24))","v":0},null,{"$f":"IF(AND(C24>0,ISNUMBER(C24)),O24,0)","v":0},{"$f":"IF(I24,\"CHECK\",\"\")","v":""},null,321,null,{"$f":"IF(AND(ISNUMBER(C24),OR(D24<=10,D24>=90)),TRUE,FALSE)","v":false},{"$f":"IF(AND(LEN(C24)>0,LEN(E24)>0,D24<>0),TRUE,FALSE)","v":false},{"$f":"IF(ISNA(MATCH(C24,AthleteNumbers,0)),0,MATCH(C24,AthleteNumbers,0))","v":0},{"$f":"IF(K24>0,INDEX(DB,$I24,6),0)","v":0},{"$f":"IF(ISNUMBER(C24),ROUND(+C24,1),0)","v":0},{"$f":"ROUND(+M24,1)","v":0},{"$f":"IF(M24>$M$1,MinPoints,IF(M24<$R$1,100,+INT(($M$1-$M24)/$O$1)+MinPoints))","v":100}]
[22,"",null,0,"",null,337,null,false,false,0,0,0,0,100]
[23,0,null,0,"",null,353,null,false,false,0,0,0,0,100]
[24,0,null,0,"",null,369,null,false,false,0,0,0,0,100]
[25,0,null,0,"",null,385,null,false,false,0,0,0,0,100]
[26,0,null,0,"",null,401,null,false,false,0,0,0,0,100]
[27,0,null,0,"",null,417,null,false,false,0,0,0,0,100]
[28,0,null,0,"",null,433,null,false,false,0,0,0,0,100]
[29,0,null,0,"",null,449,null,false,false,0,0,0,0,100]
[30,0,null,0,"",null,465,null,false,false,0,0,0,0,100]
[31,{"$f":"IF(ISERR(INDEX(teamnames,G34)),\"\",INDEX(teamnames,G34))","v":0},null,{"$f":"IF(AND(C34>0,ISNUMBER(C34)),O34,0)","v":0},{"$f":"IF(I34,\"CHECK\",\"\")","v":""},null,481,null,{"$f":"IF(AND(ISNUMBER(C34),OR(D34<=10,D34>=90)),TRUE,FALSE)","v":false},{"$f":"IF(AND(LEN(C34)>0,LEN(E34)>0,D34<>0),TRUE,FALSE)","v":false},{"$f":"IF(ISNA(MATCH(C34,AthleteNumbers,0)),0,MATCH(C34,AthleteNumbers,0))","v":0},{"$f":"IF(K34>0,INDEX(DB,$I34,6),0)","v":0},{"$f":"IF(ISNUMBER(C34),ROUND(+C34,1),0)","v":0},{"$f":"ROUND(+M34,1)","v":0},{"$f":"IF(M34>$M$1,MinPoints,IF(M34<$R$1,100,+INT(($M$1-$M34)/$O$1)+MinPoints))","v":100}]
[32,{"$f":"IF(ISERR(INDEX(teamnames,G35)),\"\",INDEX(teamnames,G35))","v":0},null,{"$f":"IF(AND(C35>0,ISNUMBER(C35)),O35,0)","v":0},{"$f":"IF(I35,\"CHECK\",\"\")","v":""},null,497,null,{"$f":"IF(AND(ISNUMBER(C35),OR(D35<=10,D35>=90)),TRUE,FALSE)","v":false},{"$f":"IF(AND(LEN(C35)>0,LEN(E35)>0,D35<>0),TRUE,FALSE)","v":false},{"$f":"IF(ISNA(MATCH(C35,AthleteNumbers,0)),0,MATCH(C35,AthleteNumbers,0))","v":0},{"$f":"IF(K35>0,INDEX(DB,$I35,6),0)","v":0},{"$f":"IF(ISNUMBER(C35),ROUND(+C35,1),0)","v":0},{"$f":"ROUND(+M35,1)","v":0},{"$f":"IF(M35>$M$1,MinPoints,IF(M35<$R$1,100,+INT(($M$1-$M35)/$O$1)+MinPoints))","v":100}]
[33,{"$f":"IF(ISERR(INDEX(teamnames,G36)),\"\",INDEX(teamnames,G36))","v":0},null,{"$f":"IF(AND(C36>0,ISNUMBER(C36)),O36,0)","v":0},{"$f":"IF(I36,\"CHECK\",\"\")","v":""},null,513,null,{"$f":"IF(AND(ISNUMBER(C36),OR(D36<=10,D36>=90)),TRUE,FALSE)","v":false},{"$f":"IF(AND(LEN(C36)>0,LEN(E36)>0,D36<>0),TRUE,FALSE)","v":false},{"$f":"IF(ISNA(MATCH(C36,AthleteNumbers,0)),0,MATCH(C36,AthleteNumbers,0))","v":0},{"$f":"IF(K36>0,INDEX(DB,$I36,6),0)","v":0},{"$f":"IF(ISNUMBER(C36),ROUND(+C36,1),0)","v":0},{"$f":"ROUND(+M36,1)","v":0},{"$f":"IF(M36>$M$1,MinPoints,IF(M36<$R$1,100,+INT(($M$1-$M36)/$O$1)+MinPoints))","v":100}]
[34,{"$f":"IF(ISERR(INDEX(teamnames,G37)),\"\",INDEX(teamnames,G37))","v":0},null,{"$f":"IF(AND(C37>0,ISNUMBER(C37)),O37,0)","v":0},{"$f":"IF(I37,\"CHECK\",\"\")","v":""},null,529,null,{"$f":"IF(AND(ISNUMBER(C37),OR(D37<=10,D37>=90)),TRUE,FALSE)","v":false},{"$f":"IF(AND(LEN(C37)>0,LEN(E37)>0,D37<>0),TRUE,FALSE)","v":false},{"$f":"IF(ISNA(MATCH(C37,AthleteNumbers,0)),0,MATCH(C37,AthleteNumbers,0))","v":0},{"$f":"IF(K37>0,INDEX(DB,$I37,6),0)","v":0},{"$f":"IF(ISNUMBER(C37),ROUND(+C37,1),0)","v":0},{"$f":"ROUND(+M37,1)","v":0},{"$f":"IF(M37>$M$1,MinPoints,IF(M37<$R$1,100,+INT(($M$1-$M37)/$O$1)+MinPoints))","v":100}]
[35,{"$f":"IF(ISERR(INDEX(teamnames,G38)),\"\",INDEX(teamnames,G38))","v":0},null,{"$f":"IF(AND(C38>0,ISNUMBER(C38)),O38,0)","v":0},{"$f":"IF(I38,\"CHECK\",\"\")","v":""},null,545,null,{"$f":"IF(AND(ISNUMBER(C38),OR(D38<=10,D38>=90)),TRUE,FALSE)","v":false},{"$f":"IF(AND(LEN(C38)>0,LEN(E38)>0,D38<>0),TRUE,FALSE)","v":false},{"$f":"IF(ISNA(MATCH(C38,AthleteNumbers,0)),0,MATCH(C38,AthleteNumbers,0))","v":0},{"$f":"IF(K38>0,INDEX(DB,$I38,6),0)","v":0},{"$f":"IF(ISNUMBER(C38),ROUND(+C38,1),0)","v":0},{"$f":"ROUND(+M38,1)","v":0},{"$f":"IF(M38>$M$1,MinPoints,IF(M38<$R$1,100,+INT(($M$1-$M38)/$O$1)+MinPoints))","v":100}]

{"sheet":"InclusiveScorngTable","index":13,"n_rows":97,"n_cols":7,"rows_kept":97,"cut":false,"hidden":true,"merged":[[0,0,0,6],[1,1,1,4]]}
[{"$f":"+Setup!B27","v":"QuadKids Primary"}]
[null,"Group #2"]
["Points",{"$f":"+Setup!B30","v":"75m"},{"$f":"+Setup!C30","v":"600m"},{"$f":"+Setup!D30","v":"SLJ"},{"$f":"+Setup!E30","v":"Howler"},null,"Points"]
["INC",{"$f":"+Setup!B33","v":0.1},{"$f":"+Setup!C33","v":0.01},{"$f":"+Setup!D33","v":0.02},{"$f":"+Setup!E33","v":0.5},null,{"$f":"+A4","v":"INC"}]
["MIN",{"$f":"+Setup!B31","v":16},{"$f":"+Setup!C31","v":3},{"$f":"+Setup!D31","v":1.02},{"$f":"+Setup!E31","v":5},null,{"$f":"+A5","v":"MIN"}]
["MAX",{"$f":"+B97","v":7.000000000000032},{"$f":"+C97","v":1.3000000000000123},{"$f":"+D97","v":2.8200000000000016},{"$f":"+E97","v":50},null,"MAX"]
[{"$f":"+MinPoints","v":10},{"$f":"+B5","v":16},{"$f":"+C5","v":3},{"$f":"+D5","v":1.02},{"$f":"+E5","v":5},null,10]
[{"$f":"+A7+1","v":11},{"$f":"+B7-$B$4","v":15.9},{"$f":"IF(MOD(C7-$C$4,1)>0.59,C7-0.41,C7-$C$4)","v":2.59},{"$f":"+D7+$D$4","v":1.04},{"$f":"+E7+$E$4","v":5.5},null,11]
[{"$f":"+A8+1","v":12},{"$f":"+B8-$B$4","v":15.8},{"$f":"IF(MOD(C8-$C$4,1)>0.59,C8-0.41,C8-$C$4)","v":2.58},{"$f":"+D8+$D$4","v":1.06},{"$f":"+E8+$E$4","v":6},null,12]
[13,15.700000000000001,2.5700000000000003,1.08,6.5,null,13]
[14,15.600000000000001,2.5600000000000005,1.1000000000000001,7,null,14]
[15,15.500000000000002,2.5500000000000007,1.1200000000000001,7.5,null,15]
[16,15.400000000000002,2.5400000000000009,1.1400000000000001,8,null,16]
[17,15.300000000000002,2.5300000000000011,1.1600000000000001,8.5,null,17]
[18,15.200000000000003,2.5200000000000014,1.1800000000000002,9,null,18]
[19,15.100000000000003,2.5100000000000016,1.2000000000000002,9.5,null,19]
[20,15.000000000000004,2.5000000000000018,1.2200000000000002,10,null,20]
[21,14.900000000000004,2.490000000000002,1.2400000000000002,10.5,null,21]
[22,14.800000000000004,2.4800000000000022,1.2600000000000002,11,null,22]
[23,14.700000000000005,2.4700000000000024,1.2800000000000002,11.5,null,23]
[24,14.600000000000005,2.4600000000000026,1.3000000000000003,12,null,24]
[25,14.500000000000005,2.4500000000000028,1.3200000000000003,12.5,null,25]
[26,14.400000000000006,2.4400000000000031,1.3400000000000003,13,null,26]
[27,14.300000000000006,2.4300000000000033,1.3600000000000003,13.5,null,27]
[28,14.200000000000006,2.4200000000000035,1.3800000000000003,14,null,28]
[29,14.100000000000007,2.4100000000000037,1.4000000000000004,14.5,null,29]
[30,14.000000000000007,2.4000000000000039,1.4200000000000004,15,null,30]
[31,13.900000000000007,2.3900000000000041,1.4400000000000004,15.5,null,31]
[32,13.800000000000008,2.3800000000000043,1.4600000000000004,16,null,32]
[33,13.700000000000008,2.3700000000000045,1.4800000000000004,16.5,null,33]
[34,13.600000000000009,2.3600000000000048,1.5000000000000004,17,null,34]
[35,13.500000000000009,2.350000000000005,1.5200000000000005,17.5,null,35]
[36,13.400000000000009,2.3400000000000052,1.5400000000000005,18,null,36]
[37,13.30000000000001,2.3300000000000054,1.5600000000000005,18.5,null,37]
[38,13.20000000000001,2.3200000000000056,1.5800000000000005,19,null,38]
[39,13.10000000000001,2.3100000000000058,1.6000000000000005,19.5,null,39]
[40,13.000000000000011,2.300000000000006,1.6200000000000006,20,null,40]
[41,12.900000000000011,2.2900000000000063,1.6400000000000006,20.5,null,41]
[42,12.800000000000011,2.2800000000000065,1.6600000000000006,21,null,42]
[43,12.700000000000012,2.2700000000000067,1.6800000000000006,21.5,null,43]
[44,12.600000000000012,2.2600000000000069,1.7000000000000006,22,null,44]
[45,12.500000000000012,2.2500000000000071,1.7200000000000006,22.5,null,45]
[46,12.400000000000013,2.2400000000000073,1.7400000000000007,23,null,46]
[47,12.300000000000013,2.2300000000000075,1.7600000000000007,23.5,null,47]
[48,12.200000000000014,2.2200000000000077,1.7800000000000007,24,null,48]
[49,12.100000000000014,2.210000000000008,1.8000000000000007,24.5,null,49]
[50,12.000000000000014,2.2000000000000082,1.8200000000000007,25,null,50]
[51,11.900000000000015,2.1900000000000084,1.8400000000000007,25.5,null,51]
[52,11.800000000000015,2.1800000000000086,1.8600000000000008,26,null,52]
[53,11.700000000000015,2.1700000000000088,1.8800000000000008,26.5,null,53]
[54,11.600000000000016,2.160000000000009,1.9000000000000008,27,null,54]
[55,11.500000000000016,2.1500000000000092,1.9200000000000008,27.5,null,55]
[56,11.400000000000016,2.1400000000000095,1.9400000000000008,28,null,56]
[57,11.300000000000017,2.1300000000000097,1.9600000000000009,28.5,null,57]
[58,11.200000000000017,2.1200000000000099,1.9800000000000009,29,null,58]
[59,11.100000000000017,2.1100000000000101,2.0000000000000009,29.5,null,59]
[60,11.000000000000018,2.1000000000000103,2.0200000000000009,30,null,60]
[61,10.900000000000018,2.0900000000000105,2.0400000000000009,30.5,null,61]
[62,10.800000000000018,2.0800000000000107,2.0600000000000009,31,null,62]
[63,10.700000000000019,2.0700000000000109,2.080000000000001,31.5,null,63]
[64,10.600000000000019,2.0600000000000112,2.100000000000001,32,null,64]
[65,10.50000000000002,2.0500000000000114,2.120000000000001,32.5,null,65]
[66,10.40000000000002,2.0400000000000116,2.140000000000001,33,null,66]
[67,10.30000000000002,2.0300000000000118,2.160000000000001,33.5,null,67]
[68,10.200000000000021,2.020000000000012,2.180000000000001,34,null,68]
[69,10.100000000000021,2.0100000000000122,2.2000000000000011,34.5,null,69]
[70,10.000000000000021,2.0000000000000124,2.2200000000000011,35,null,70]
[71,9.9000000000000217,1.5900000000000125,2.2400000000000011,35.5,null,71]
[72,9.800000000000022,1.5800000000000125,2.2600000000000011,36,null,{"$f":"+A69","v":72}]
[73,9.7000000000000224,1.5700000000000125,2.2800000000000011,36.5,null,73]
[74,9.6000000000000227,1.5600000000000125,2.3000000000000012,37,null,74]
[75,9.5000000000000231,1.5500000000000125,2.3200000000000012,37.5,null,75]
[{"$f":"+A72+1","v":76},{"$f":"+B72-$B$4","v":9.4000000000000234},{"$f":"IF(MOD(C72-$C$4,1)>0.59,C72-0.41,C72-$C$4)","v":1.5400000000000125},{"$f":"+D72+$D$4","v":2.3400000000000012},{"$f":"+E72+$E$4","v":38},null,76]
[77,9.3000000000000238,1.5300000000000125,2.3600000000000012,38.5,null,77]
[78,9.2000000000000242,1.5200000000000125,2.3800000000000012,39,null,78]
[79,9.1000000000000245,1.5100000000000124,2.4000000000000012,39.5,null,79]
[80,9.0000000000000249,1.5000000000000124,2.4200000000000013,40,null,80]
[81,8.9000000000000252,1.4900000000000124,2.4400000000000013,40.5,null,81]
[82,8.8000000000000256,1.4800000000000124,2.4600000000000013,41,null,82]
[83,8.7000000000000259,1.4700000000000124,2.4800000000000013,41.5,null,83]
[84,8.6000000000000263,1.4600000000000124,2.5000000000000013,42,null,84]
[85,8.5000000000000266,1.4500000000000124,2.5200000000000014,42.5,null,85]
[86,8.400000000000027,1.4400000000000124,2.5400000000000014,43,null,86]
[87,8.3000000000000274,1.4300000000000124,2.5600000000000014,43.5,null,87]
[88,8.2000000000000277,1.4200000000000124,2.5800000000000014,44,null,88]
[89,8.1000000000000281,1.4100000000000124,2.6000000000000014,44.5,null,89]
[90,8.0000000000000284,1.4000000000000123,2.6200000000000014,45,null,90]
[91,7.9000000000000288,1.3900000000000123,2.6400000000000015,45.5,null,91]
[92,7.8000000000000291,1.3800000000000123,2.6600000000000015,46,null,92]
[93,7.7000000000000295,1.3700000000000123,2.6800000000000015,46.5,null,93]
[94,7.6000000000000298,1.3600000000000123,2.7000000000000015,47,null,94]
[95,7.5000000000000302,1.3500000000000123,2.7200000000000015,47.5,null,95]
[96,7.4000000000000306,1.3400000000000123,2.7400000000000015,48,null,96]
[97,7.3000000000000309,1.3300000000000123,2.7600000000000016,48.5,null,97]
[98,7.2000000000000313,1.3200000000000123,2.7800000000000016,49,null,98]
[99,7.1000000000000316,1.3100000000000123,2.8000000000000016,49.5,null,99]
[100,7.000000000000032,1.3000000000000123,2.8200000000000016,50,null,100]

{"sheet":"_template","index":14,"n_rows":0,"n_cols":0,"rows_kept":0,"cut":false,"hidden":true,"merged":[]}